{"text_format":"3","workbook":"xlsx","n_sheets":11,"sheets":["Inicio_Keynes","Consumo","Ahorro","Inversión","Dinero","Importaciones","Demanda_Agregada","Sistema","Sistema_Ampliado","Sistema_Gráficas","SK_Oculto"],"not_rendered":{"charts":9,"images":11,"macros":1,"defined_names":1,"comments":2},"read":"whole","date_system":"1900"}

{"sheet":"Inicio_Keynes","index":0,"n_rows":33,"n_cols":12,"rows_kept":33,"merged":[[24,0,24,2]]}
{"$rows_empty":24}
["    Descargue la versión Kindle"]
{"$rows_empty":7}
[{"$nulls":11},"Miguel Cervantes Jiménez"]

{"sheet":"Consumo","index":1,"n_rows":27,"n_cols":4,"rows_kept":27,"hidden":true,"merged":[[0,1,0,3],[1,1,1,3]]}
[null,"MODELO KEYNESIANO"]
[null,"FUNCIONES CONSUMO Y AHORRO"]
[]
[]
[]
[null,"FUNCIÓN CONSUMO","CASO 1","CASO 2"]
[null,"Consumo",{"$f":"SK_Oculto!B27","v":{"v":154,"d":"154.00"}},{"v":60,"d":"60.00"}]
[null,"b0",{"v":40,"d":"40.00"},{"$f":"C8","v":{"v":40,"d":"40.00"}}]
[null,"b1",{"v":0.6,"d":"0.60"},{"$f":"C9","v":{"v":0.6,"d":"0.60"}}]
[null,"Y",{"v":200,"d":"200.00"},{"$f":"C10","v":{"v":200,"d":"200.00"}}]
[null,"T0",{"v":10,"d":"10.00"},{"$f":"C11","v":{"v":10,"d":"10.00"}}]
[null,null,"Inserte los datos correspondientes"]
[]
[null,"FUNCIÓN AHORRO","CASO 1","CASO 2"]
[null,"Ahorro",{"$f":"SK_Oculto!Q27","v":{"v":36,"d":"36.00"}},{"v":130,"d":"130.00"}]
[null,"-b0",{"$f":"SK_Oculto!Q28","v":{"v":-40,"d":"-40.00"}},{"$f":"SK_Oculto!R28","v":{"v":-40,"d":"-40.00"}}]
[null,"1-b1",{"$f":"SK_Oculto!Q29","v":{"v":0.4,"d":"0.40"}},{"$f":"SK_Oculto!R29","v":{"v":0.4,"d":"0.40"}}]
[null,"Y",{"$f":"SK_Oculto!Q30","v":{"v":200,"d":"200.00"}},{"v":73.6,"d":"73.60"}]
[null,"T0",{"$f":"SK_Oculto!Q31","v":{"v":10,"d":"10.00"}},{"$f":"SK_Oculto!R31","v":{"v":10,"d":"10.00"}}]
[]
[]
[]
[]
[]
[null,"Títulos"]
[null,"Resultados"]
[null,"Insertar datos"]

{"sheet":"Ahorro","index":2,"n_rows":26,"n_cols":3,"rows_kept":26,"hidden":true,"merged":[[0,1,0,3],[1,0,1,3]]}
[null,"KEYNES"]
["FUNCIÓN DE AHORRO"]
[]
[]
[null,"FUNCIÓN AHORRO"]
[null,"Ahorro",{"$f":"SK_Oculto!Q27","v":{"v":36,"d":"36.00"}}]
[null,"-b0",{"v":-10,"d":"-10.00"}]
[null,"1-b1",{"v":0.2,"d":"0.20"}]
[null,"Y",{"v":200,"d":"200.00"}]
[null,"t0",{"v":0,"d":"0.00"}]
[null,null,"Inserte los datos correspondientes"]
{"$rows_empty":12}
[null,"Títulos"]
[null,"Resultados"]
[null,"Insertar Datos"]

{"sheet":"Inversión","index":3,"n_rows":26,"n_cols":4,"rows_kept":26,"hidden":true,"merged":[[0,1,0,3],[1,1,1,3]]}
[null,"MODELO KEYNESIANO"]
[null,"FUNCIÓN INVERSIÓN"]
[]
[]
[null,"FUNCIÓN INVERSIÓN","CASO 1","CASO 2"]
[null,"Inversión",{"$f":"SK_Oculto!AF27","v":{"v":220,"d":"220.00"}},{"$f":"SK_Oculto!AG27","v":{"v":220,"d":"220.00"}}]
[null,"i0",{"v":40,"d":"40.00"},{"$f":"C7","v":{"v":40,"d":"40.00"}}]
[null,"i1",{"v":-300,"d":"-300.00"},{"$f":"C8","v":{"v":-300,"d":"-300.00"}}]
[null,"r",{"v":0.4,"d":"40%"},{"$f":"C9","v":{"v":0.4,"d":"40%"}}]
[null,"r trampa liquidez",{"v":0.15,"d":"15%"},{"$f":"C10","v":{"v":0.15,"d":"15%"}}]
[null,"i2",{"v":50,"d":"50.00"},{"$f":"C11","v":{"v":50,"d":"50.00"}}]
[null,"Emk0",{"v":6,"d":"600%"},{"$f":"C12","v":{"v":6,"d":"600%"}}]
[null,null,"Inserte los datos correspondientes"]
{"$rows_empty":10}
[null,"Títulos"]
[null,"Resultados"]
[null,"Insertar datos"]

{"sheet":"Dinero","index":4,"n_rows":27,"n_cols":4,"rows_kept":27,"hidden":true,"merged":[[0,1,0,3],[1,0,1,4]]}
[null,"MODELO KEYNESIANO"]
["MERCADO DE DINERO"]
[]
[null,"FUNCIÓN DEMANDA DE DINERO"]
[null,null,"CASO 1","CASO 2"]
[null,"Md",{"$f":"SK_Oculto!AU27","v":{"v":500,"d":"500.0"}},{"$f":"SK_Oculto!AV27","v":{"v":500,"d":"500.0"}}]
[null,"m0",{"v":30,"d":"30.0"},{"$f":"C7","v":{"v":30,"d":"30.0"}}]
[null,"m1",0.5,{"$f":"C8","v":0.5}]
[null,"Y",{"v":1500,"d":"1,500.0"},{"$f":"C9","v":{"v":1500,"d":"1,500.0"}}]
[null,"m2",{"v":-2000,"d":"-2,000.0"},{"$f":"C10","v":{"v":-2000,"d":"-2,000.0"}}]
[null,"r Trampa de Liquidez",{"v":0.1,"d":"10%"},{"$f":"SK_Oculto!AV32","v":{"v":0.1,"d":"10%"}}]
[null,null,"Inserte los datos correspondientes"]
[null,"FUNCIÓN OFERTA DE DINERO"]
[null,"Ms",{"v":500,"d":"500.0"},{"$f":"C14","v":{"v":500,"d":"500.0"}}]
[null,null,"Inserte los datos correspondientes"]
[]
[null,"Tasa de Interés",{"$f":"SK_Oculto!AU41","v":{"v":0.14,"d":"14.00%"}},{"$f":"SK_Oculto!AV41","v":{"v":0.14,"d":"14.00%"}}]
[]
[]
[null," "]
[]
[]
[]
[null,"Títulos"]
[null,"Resultados"]
[null,"Insertar datos"]
[null,"Equilibrio "]

{"sheet":"Importaciones","index":5,"n_rows":26,"n_cols":4,"rows_kept":26,"hidden":true,"merged":[[0,1,0,4],[1,1,1,4],[3,1,3,3]]}
[null,"MODELO KEYNESIANO"]
[null,"FUNCIÓN IMPORTACIONES"]
[]
[null,"FUNCIÓN IMPORTACIONES"]
[null,null,"CASO 1","CASO 2"]
[null,"Importaciones",{"$f":"SK_Oculto!BG27","v":{"v":210,"d":"210.00"}},{"$f":"SK_Oculto!BH27","v":{"v":210,"d":"210.00"}}]
[null,"q0",{"v":60,"d":"60.00"},{"$f":"C7","v":{"v":60,"d":"60.00"}}]
[null,"q1",{"v":0.3,"d":"0.30"},{"$f":"C8","v":{"v":0.3,"d":"0.30"}}]
[null,"Y",{"v":500,"d":"500.00"},{"$f":"C9","v":{"v":500,"d":"500.00"}}]
[null,null,"Inserte los datos correspondientes"]
{"$rows_empty":13}
[null,"Títulos"]
[null,"Resultados"]
[null,"Insertar datos"]

{"sheet":"Demanda_Agregada","index":6,"n_rows":42,"n_cols":4,"rows_kept":42,"hidden":true,"merged":[[0,0,0,4],[1,0,1,4],[3,1,3,2],[6,1,6,2],[7,1,7,2],[8,1,8,2],[9,1,9,2],[12,1,12,2],[15,1,15,2],[18,1,18,2],[21,1,21,2],[22,1,22,2],[23,1,23,2],[25,1,25,2],[26,1,26,2],[27,1,27,2],[28,1,28,2],[29,1,29,2],[30,1,30,2],[31,1,31,2],[32,1,32,2],[33,1,33,2],[34,1,34,2],[38,1,38,2],[39,1,39,2],[40,1,40,2],[41,1,41,2]]}
["MODELO KEYNESIANO"]
["Demanda efectiva"]
[]
[null,"Y",null,{"$f":"SK_Oculto!BV26","v":{"v":1300.0000000000002,"d":"1,300.00"}}]
[]
[null,"FUNCIÓN CONSUMO"]
[null,"b0",null,{"v":90,"d":"90.00"}]
[null,"b1",null,{"v":0.8,"d":"0.80"}]
[null,"T0",null,{"v":100,"d":"100.00"}]
[null,"C",null,{"$f":"SK_Oculto!BV32","v":{"v":1050.0000000000002,"d":"1,050.00"}}]
[]
[null,"INVERSIÓN"]
[null,"I0",null,{"v":150,"d":"150.00"}]
[]
[null,"GASTO DE GOBIERNO"]
[null,"G0",null,{"v":100,"d":"100.00"}]
[]
[null,"EXPORTACIONES"]
[null,"X0",null,{"v":200,"d":"200.00"}]
[]
[null,"FUNCIÓN IMPORTACIONES"]
[null,"q0",null,{"v":70,"d":"70.00"}]
[null,"q1",null,{"v":0.1,"d":"0.10"}]
[null,"Q",null,{"$f":"SK_Oculto!BV45","v":{"v":200.00000000000003,"d":"200.00"}}]
[null,"Inserte los datos correspondientes"]
[null,"Demanda Efectiva",null,{"$f":"SK_Oculto!BY37","v":{"v":1300.0000000000002,"d":"1,300.00"}}]
[null,"Consumo",null,{"$f":"SK_Oculto!BY28","v":{"v":1050.0000000000002,"d":"1,050.00"}}]
[null,"Inversión",null,{"$f":"SK_Oculto!BY29","v":{"v":150,"d":"150.00"}}]
[null,"Ahorro",null,{"$f":"SK_Oculto!BY33","v":{"v":150,"d":"150.00"}}]
[null,"Gasto de Gobierno",null,{"$f":"SK_Oculto!BY30","v":{"v":100,"d":"100.00"}}]
[null,"Impuestos",null,{"$f":"SK_Oculto!BV31","v":{"v":100,"d":"100.00"}}]
[null,"Exportaciones",null,{"$f":"SK_Oculto!BY31","v":{"v":200,"d":"200.00"}}]
[null,"Importaciones",null,{"$f":"SK_Oculto!BY32","v":{"v":200.00000000000003,"d":"200.00"}}]
[null,"I+G+X",null,{"$f":"SK_Oculto!BY34","v":{"v":450,"d":"450.00"}}]
[null,"S+T+Q",null,{"$f":"SK_Oculto!BY35","v":{"v":450,"d":"450.00"}}]
[]
[]
[]
[null,"Títulos"]
[null,"Resultados"]
[null,"Insertar datos"]
[null,"Valores de equilibrio"]

{"sheet":"Sistema","index":7,"n_rows":41,"n_cols":6,"rows_kept":41,"hidden":true,"merged":[[0,0,0,6],[5,1,5,4],[9,1,9,5],[13,1,13,2],[17,1,17,2],[25,1,25,2],[29,1,29,4],[33,1,33,3],[34,1,34,3],[37,1,37,2],[38,1,38,2],[39,1,39,2],[40,1,40,2]]}
["EL MODELO KEYNESIANO"]
[]
[null,"INGRESO"]
[null,"Y",{"$f":"SK_Oculto!DA5","v":{"v":243.33333333333331,"d":"243.33"}}]
[]
[null,"FUNCIÓN CONSUMO",{"$nulls":3},"IMPUESTOS"]
[null,"C","b0","b1","Y","T0"]
[null,{"$f":"SK_Oculto!CZ9","v":{"v":215,"d":"215.0"}},{"v":70,"d":"70.00"},0.75,{"$f":"SK_Oculto!DC9","v":{"v":243.33333333333331,"d":"243.33"}},{"v":50,"d":"50.00"}]
[null,"Inserte los datos correspondientes"]
[null,"FUNCIÓN AHORRO"]
[null,"S","-b0","1-b1","Y","T0"]
[null,{"$f":"SK_Oculto!CZ13","v":{"v":-21.66666666666667,"d":"(21.7)"}},{"$f":"SK_Oculto!DA13","v":{"v":-70,"d":"-70.00"}},{"$f":"SK_Oculto!DB13","v":0.25},{"$f":"SK_Oculto!DC13","v":{"v":243.33333333333331,"d":"243.33"}},{"$f":"F8","v":{"v":50,"d":"50.00"}}]
[]
[null,"INVERSIÓN"]
[null,"I","I0"]
[null,{"$f":"SK_Oculto!CZ17","v":{"v":100,"d":"100.0"}},{"v":100,"d":"100.00"}]
[null,"Inserte los datos correspondientes"]
[null,"GASTO DEL GOBIERNO"]
[null,"G","G0"]
[null,{"v":200,"d":"200.0"},{"v":200,"d":"200.00"}]
[null,"Inserte los datos correspondientes"]
[null,"SALDO PÚBLICO"]
[null,"T-G"]
[null,{"$f":"F12-B20","v":-150}]
[]
[null,"EXPORTACIONES"]
[null,"X","X0"]
[null,{"$f":"SK_Oculto!CZ25","v":{"v":50,"d":"50.0"}},{"v":50,"d":"50.00"}]
[null,"Inserte los datos correspondientes"]
[null,"FUNCIÓN IMPORTACIONES"]
[null,"Q","q0","q1","Y"]
[null,{"$f":"SK_Oculto!CZ29","v":{"v":321.66666666666663,"d":"321.7"}},{"v":200,"d":"200.00"},{"v":0.5,"d":"0.50"},{"$f":"SK_Oculto!DC29","v":{"v":243.33333333333331,"d":"243.33"}}]
[null,"Inserte los datos correspondientes"]
[null,"SALDO DE LA BALANZA COMERCIAL"]
[null,"SBC"]
[null,{"$f":"SK_Oculto!CZ32","v":{"v":-271.66666666666663,"d":"(271.7)"}}]
[]
[null,"Títulos"]
[null,"Resultados"]
[null,"Insertar datos"]
[null,"Valores de equilibrio"]

{"sheet":"Sistema_Ampliado","index":8,"n_rows":54,"n_cols":19,"rows_kept":54,"hidden":true,"merged":[[0,0,0,18],[1,0,1,18],[3,15,3,17],[4,8,4,11],[6,1,6,5],[7,9,7,10],[8,9,8,10],[9,9,9,10],[10,1,10,5],[11,9,11,10],[12,15,12,18],[13,15,14,15],[13,16,14,16],[13,17,14,17],[13,18,14,18],[14,1,14,2],[15,9,15,10],[18,1,18,2],[22,1,22,2],[30,1,30,2],[34,1,34,4],[38,1,38,2],[39,1,39,2],[40,1,40,2],[49,1,49,2],[50,1,50,2],[51,1,51,2],[52,1,52,2]]}
[]
["EFECTOS DE POLÍTICA ECONÓMICA EN EL MODELO KEYNESIANO"]
[]
[null,"INGRESO",{"$nulls":13},"CHOQUES DE POLÍTICA ECONÓMICA"]
[null,"Y",{"$f":"SK_Oculto!DI5","v":{"v":1516.666666666667,"d":"1,516.67"}},{"$nulls":5},"CONDICIONES DE EQUILIBRIO",{"$nulls":6},"G0","T0","I0"]
[{"$nulls":15},{"$f":"SK_Oculto!DW14","v":{"v":100,"d":"100.00"}},{"$f":"SK_Oculto!DX14","v":{"v":100,"d":"100.00"}},{"$f":"SK_Oculto!DY14","v":{"v":235,"d":"235.00"}}]
[null,"FUNCIÓN CONSUMO",{"$nulls":13},{"v":0,"d":"0%"},{"v":0,"d":"0%"},{"v":0,"d":"0%"}]
[null,"C","b0","b1","Y","T0",{"$nulls":3},"MULTIPLICADOR"]
[null,{"$f":"SK_Oculto!DH9","v":{"v":1193.3333333333337,"d":"1,193.3"}},{"v":60,"d":"60.00"},{"v":0.8,"d":"0.80"},{"$f":"SK_Oculto!DK9","v":{"v":1516.666666666667,"d":"1,516.67"}},{"$f":"SK_Oculto!DL9","v":{"v":100,"d":"100.00"}},{"$nulls":3},"Multiplicador",{"$nulls":5},"X0","q0","q1"]
[null,null,"Inserte los datos correspondientes",{"$nulls":6},{"$f":"SK_Oculto!DK37","v":{"v":3.333333333333334,"d":"3.3"}},{"$nulls":5},{"$f":"SK_Oculto!DX18","v":{"v":150,"d":"150.00"}},{"$f":"SK_Oculto!DY18","v":{"v":10,"d":"10.00"}},{"$f":"SK_Oculto!DZ18","v":{"v":0.1,"d":"0.10"}}]
[null,"FUNCIÓN AHORRO",{"$nulls":13},{"v":0,"d":"0%"},{"v":0,"d":"0%"},{"v":0,"d":"0%"}]
[null,"S","-b0","1-b1","Y","T0",{"$nulls":3},"INGRESO = DEM. AGREG."]
[null,{"$f":"SK_Oculto!DH13","v":{"v":223.33333333333331,"d":"223.3"}},{"$f":"SK_Oculto!DI13","v":{"v":-60,"d":"-60.00"}},{"v":0.2,"d":"0.20"},{"$f":"SK_Oculto!DK13","v":{"v":1516.666666666667,"d":"1,516.67"}},{"$f":"F9","v":{"v":100,"d":"100.00"}},{"$nulls":3},"Y","DA",{"$nulls":4},"Muestra los efectos de política económica"]
[{"$nulls":9},{"$f":"SK_Oculto!DH40","v":{"v":1516.666666666667,"d":"1,516.7"}},{"$f":"SK_Oculto!DI40","v":{"v":1516.666666666667,"d":"1,516.7"}},{"$nulls":4},"FUNCIÓN ORIGINAL","CHOQUE","VARIACIÓN ABS","VARIACIÓN REL"]
[null,"INVERSIÓN"]
[null,"I","I0",{"$nulls":6},"INYECCIONES = FILTRACIONES",{"$nulls":4},"Y",{"$f":"SK_Oculto!DX26","v":{"v":1516.666666666667,"d":"1,516.67"}},{"$f":"SK_Oculto!DY26","v":{"v":1516.666666666667,"d":"1,516.67"}},{"$f":"SK_Oculto!DZ26","v":0},{"$f":"SK_Oculto!EA26","v":{"v":0,"d":"0.0%"}}]
[null,{"$f":"SK_Oculto!DH17","v":{"v":235,"d":"235.0"}},{"v":235,"d":"235.00"},{"$nulls":6},"I+G+X","S+T+Q",{"$nulls":3},"C",{"$f":"SK_Oculto!DX27","v":{"v":1193.3333333333337,"d":"1,193.33"}},{"$f":"SK_Oculto!DY27","v":{"v":1193.3333333333337,"d":"1,193.33"}},{"$f":"SK_Oculto!DZ27","v":0},{"$f":"SK_Oculto!EA27","v":{"v":0,"d":"0.0%"}}]
[{"$nulls":9},{"$f":"SK_Oculto!DH42","v":{"v":485,"d":"485.0"}},{"$f":"SK_Oculto!DI42","v":{"v":485,"d":"485.0"}},{"$nulls":3},"S",{"$f":"SK_Oculto!DX28","v":{"v":223.33333333333331,"d":"223.33"}},{"$f":"SK_Oculto!DY28","v":{"v":223.33333333333331,"d":"223.33"}},{"$f":"SK_Oculto!DZ28","v":0},{"$f":"SK_Oculto!EA28","v":{"v":0,"d":"0.0%"}}]
[null,"IMPUESTOS",{"$nulls":12},"I",{"$f":"SK_Oculto!DX29","v":{"v":235,"d":"235.00"}},{"$f":"SK_Oculto!DY29","v":{"v":235,"d":"235.00"}},{"$f":"SK_Oculto!DZ29","v":0},{"$f":"SK_Oculto!EA29","v":{"v":0,"d":"0.0%"}}]
[null,"T","T0",{"$nulls":11},"G",{"$f":"SK_Oculto!DX31","v":{"v":100,"d":"100.00"}},{"$f":"SK_Oculto!DY31","v":{"v":100,"d":"100.00"}},{"$f":"SK_Oculto!DZ31","v":0},{"$f":"SK_Oculto!EA31","v":{"v":0,"d":"0.0%"}}]
[null,{"$f":"C21","v":{"v":100,"d":"100.0"}},{"v":100,"d":"100.00"},{"$nulls":11},"SF",{"$f":"SK_Oculto!DX32","v":0},{"$f":"SK_Oculto!DY32","v":0},{"$f":"SK_Oculto!DZ32","v":0},{"$f":"SK_Oculto!EA32","v":{"v":0,"d":"0.0%"}}]
[{"$nulls":14},"X",{"$f":"SK_Oculto!DX33","v":{"v":150,"d":"150.00"}},{"$f":"SK_Oculto!DY33","v":{"v":150,"d":"150.00"}},{"$f":"SK_Oculto!DZ33","v":0},{"$f":"SK_Oculto!EA33","v":{"v":0,"d":"0.0%"}}]
[null,"GASTO DE GOBIERNO",{"$nulls":12},"M",{"$f":"SK_Oculto!DX34","v":{"v":161.6666666666667,"d":"161.67"}},{"$f":"SK_Oculto!DY34","v":{"v":161.6666666666667,"d":"161.67"}},{"$f":"SK_Oculto!DZ34","v":0},{"$f":"SK_Oculto!EA34","v":{"v":0,"d":"0.0%"}}]
[null,"G","G0",{"$nulls":11},"SBC",{"$f":"SK_Oculto!DX35","v":{"v":-11.666666666666714,"d":"-11.67"}},{"$f":"SK_Oculto!DY35","v":{"v":-11.666666666666714,"d":"-11.67"}},{"$f":"SK_Oculto!DZ35","v":0},{"$f":"SK_Oculto!EA35","v":{"v":0,"d":"0.0%"}}]
[null,{"$f":"SK_Oculto!DH25","v":{"v":100,"d":"100.0"}},{"v":100,"d":"100.00"},{"$nulls":11},"Mult.",{"$f":"SK_Oculto!DX36","v":{"v":3.333333333333334,"d":"3.33"}},{"$f":"SK_Oculto!DY36","v":{"v":3.333333333333334,"d":"3.33"}},{"$f":"SK_Oculto!DZ36","v":0},{"$f":"SK_Oculto!EA36","v":{"v":0,"d":"0.0%"}}]
[]
[null,"SALDO FISCAL"]
[null,"T-G"]
[null,{"$f":"G22-C34","v":0}]
[]
[null,"EXPORTACIONES"]
[null,"X","X0"]
[null,{"$f":"SK_Oculto!DH29","v":{"v":150,"d":"150.0"}},{"v":150,"d":"150.00"}]
[]
[null,"FUNCIÓN IMPORTACIONES"]
[null,"Q","q0","q1","Y"]
[null,{"$f":"SK_Oculto!DH33","v":{"v":161.6666666666667,"d":"161.7"}},{"v":10,"d":"10.00"},{"v":0.1,"d":"0.10"},{"$f":"SK_Oculto!DK33","v":{"v":1516.666666666667,"d":"1,516.67"}}]
[]
[null,"SALDO BALANZA COMERCIAL"]
[null,"SBC"]
[null,{"$f":"SK_Oculto!DH37","v":{"v":-11.666666666666714,"d":"(11.7)"}}]
{"$rows_empty":8}
[null,"Títulos"]
[null,"Resultados"]
[null,"Insertar datos"]
[null,"Valores de equilibrio"]
[null,"Política económica"]

{"sheet":"Sistema_Gráficas","index":9,"n_rows":30,"n_cols":17,"rows_kept":30,"hidden":true,"merged":[[1,0,1,4],[2,0,2,4],[4,13,5,13],[4,14,5,14],[4,15,5,15],[4,16,5,16],[25,0,25,1],[26,0,26,1],[28,0,28,1]]}
[]
["EFECTOS DE POLÍTICA ECONÓMICA",{"$nulls":12},"G0","T0","I0"]
["     MODELO KEYNESIANO",{"$nulls":12},{"$f":"SK_Oculto!Q69","v":{"v":100,"d":"100.00"}},{"$f":"SK_Oculto!R69","v":{"v":100,"d":"100.00"}},{"$f":"SK_Oculto!S69","v":{"v":100,"d":"100.00"}}]
[{"$nulls":13},{"v":0,"d":"0.00%"},{"v":0,"d":"0.00%"},{"v":0,"d":"0.00%"}]
["Y",{"$f":"SK_Oculto!B53","v":{"v":583.3333333333334,"d":"583.33"}},{"$nulls":11},"FUNCIÓN ORIGINAL","CHOQUE","VARIACIÓN ABS","VARIACIÓN REL"]
["CONSUMO"]
["C","b0","b1","Y","T0",{"$nulls":7},"Y",{"$f":"SK_Oculto!Q74","v":{"v":583.3333333333334,"d":"583.33"}},{"$f":"SK_Oculto!R74","v":{"v":583.3333333333334,"d":"583.3"}},{"$f":"SK_Oculto!S74","v":0},{"$f":"SK_Oculto!T74","v":{"v":0,"d":"0.0%"}}]
[{"$f":"SK_Oculto!A57","v":{"v":446.66666666666674,"d":"446.7"}},{"v":60,"d":"60.00"},{"v":0.8,"d":"0.80"},{"$f":"SK_Oculto!D57","v":{"v":583.3333333333334,"d":"583.33"}},{"$f":"SK_Oculto!E57","v":{"v":100,"d":"100.00"}},{"$nulls":7},"C",{"$f":"SK_Oculto!Q75","v":{"v":446.66666666666674,"d":"446.67"}},{"$f":"SK_Oculto!R75","v":{"v":446.66666666666674,"d":"446.7"}},{"$f":"SK_Oculto!S75","v":0},{"$f":"SK_Oculto!T75","v":{"v":0,"d":"0.0%"}}]
["AHORRO","Inserte los datos correspondientes",{"$nulls":10},"S",{"$f":"SK_Oculto!Q76","v":{"v":36.66666666666666,"d":"36.67"}},{"$f":"SK_Oculto!R76","v":{"v":36.66666666666666,"d":"36.7"}},{"$f":"SK_Oculto!S76","v":0},{"$f":"SK_Oculto!T76","v":{"v":0,"d":"0.0%"}}]
["S","-b0","1-b1","Y","T0",{"$nulls":7},"I",{"$f":"SK_Oculto!Q77","v":{"v":100,"d":"100.00"}},{"$f":"SK_Oculto!R77","v":{"v":100,"d":"100.0"}},{"$f":"SK_Oculto!S77","v":0},{"$f":"SK_Oculto!T77","v":{"v":0,"d":"0.0%"}}]
[{"$f":"SK_Oculto!A61","v":{"v":36.66666666666666,"d":"36.7"}},{"v":-60,"d":"-60.0"},0.2,{"$f":"SK_Oculto!D61","v":{"v":583.3333333333334,"d":"583.33"}},{"$f":"SK_Oculto!E61","v":{"v":100,"d":"100.00"}},{"$nulls":7},"G",{"$f":"SK_Oculto!Q81","v":{"v":100,"d":"100.00"}},{"$f":"SK_Oculto!R81","v":{"v":100,"d":"100.0"}},{"$f":"SK_Oculto!S81","v":0},{"$f":"SK_Oculto!T81","v":{"v":0,"d":"0.0%"}}]
["INVERSIÓN",{"$nulls":11},"X",{"$f":"SK_Oculto!Q82","v":{"v":200,"d":"200.00"}},{"$f":"SK_Oculto!R82","v":{"v":200,"d":"200.0"}},{"$f":"SK_Oculto!S82","v":0},{"$f":"SK_Oculto!T82","v":{"v":0,"d":"0.0%"}}]
["I","I0",{"$nulls":10},"M",{"$f":"SK_Oculto!Q83","v":{"v":263.33333333333337,"d":"263.33"}},{"$f":"SK_Oculto!R83","v":{"v":263.33333333333337,"d":"263.3"}},{"$f":"SK_Oculto!S83","v":0},{"$f":"SK_Oculto!T83","v":{"v":0,"d":"0.0%"}}]
[{"$f":"SK_Oculto!A65","v":{"v":100,"d":"100.0"}},{"v":100,"d":"100.00"},{"$nulls":10},"SBC",{"$f":"SK_Oculto!Q84","v":{"v":-63.33333333333337,"d":"-63.33"}},{"$f":"SK_Oculto!R84","v":{"v":-63.33333333333337,"d":"-63.3"}},{"$f":"SK_Oculto!S84","v":0},{"$f":"SK_Oculto!T84","v":{"v":0,"d":"0.0%"}}]
["GASTO DEL GOBIERNO",null,null,"IMPUESTOS"]
["G","G0",null,"T","T0"]
[{"$f":"SK_Oculto!A69","v":{"v":100,"d":"100.0"}},{"v":100,"d":"100.00"},null,{"$f":"SK_Oculto!D69","v":{"v":100,"d":"100.0"}},{"v":100,"d":"100.00"}]
["EXPORTACIONES"]
["X","X0",null,"T-G","SBC"]
[{"$f":"SK_Oculto!D77","v":{"v":200,"d":"200.0"}},{"v":200,"d":"200.00"},null,{"$f":"D17-A17","v":0},{"$f":"SK_Oculto!F81","v":{"v":-63.33333333333337,"d":"-63.3"}}]
["IMPORTACIONES"]
["Q","q0","q1","Y"]
[{"$f":"SK_Oculto!A81","v":{"v":263.33333333333337,"d":"263.3"}},{"v":30,"d":"30.00"},{"v":0.4,"d":"0.40"},{"$f":"SK_Oculto!D81","v":{"v":583.3333333333334,"d":"583.33"}}]
[]
[]
["Títulos"]
["Resultados"]
["Insertar Datos"]
["Equilibrio"]
["Política económica"]

{"sheet":"SK_Oculto","index":10,"n_rows":92,"n_cols":139,"rows_kept":92,"hidden":true,"merged":[[0,0,0,12],[0,15,0,27],[0,30,0,42],[0,45,0,54],[0,57,0,69],[0,72,0,100],[0,103,0,108],[0,111,0,130],[2,103,2,108],[2,111,2,116],[2,118,2,123],[23,127,24,127],[23,128,24,128],[23,129,24,129],[23,130,24,130],[48,0,48,118],[50,0,50,5],[50,7,50,12],[71,16,72,16],[71,17,72,17],[71,18,72,18],[71,19,72,19]]}
["CONSUMO",{"$nulls":14},"AHORRO",{"$nulls":14},"INVERSIÒN",{"$nulls":14},"MERCADO DE DINERO",{"$nulls":11},"IMPORTACIONES",{"$nulls":14},"SISTEMA COMPLETO",{"$nulls":30},"SISTEMA",{"$nulls":7},"SISTEMA CON CHOQUES"]
[]
["Unidades","Ponderador","Ingreso","Consumo","plin1",null,"xlin1",null,"Ingreso","Consumo 2","plin2",null,"xlin2",null,null,"Unidades","Ponderador","Ingreso","Ahorro","plin",null,"xlin",null,"Ahorro 2","plin",null,"xlin",{"$nulls":3},"Ponderador","Inversión","Interés","plin",null,"xlin",null,"Inversión 2","Interés 2","plin",null,"xlin",{"$nulls":3},"Ponderador","Md","Interés","Ms","Interés","plin",null,"Md2","Interés","plin",null,null,"Unidades","Ponderador","Ingreso","Importaciones","plin",null,"xlin",null,"Ing2","Consumo 2","plin",null,"xlin",null,null,"Unidades","Ponderador","Ingreso","Consumo","plin",null,"xlin",null,"Inversión","I+G+X","S+T+Q","S","Q",null,"G","Exportaciones","Importaciones","plin",null,"xlin",null,"C+I+G+X-M","plin",null,"xlin",null,"DA","plin",{"$nulls":3},"SISTEMA ORIGINAL",{"$nulls":7},"SISTEMA ORIGINAL",{"$nulls":6},"SISTEMA CON CHOQUES"]
[0,0,{"$f":"$B$30*A4","v":0},{"$f":"B$28+(B$29*(C4-B$31))","v":34},{"$f":"B4*$B$30","v":0},{"$f":"$B$27","v":154},{"$f":"$B$30","v":200},{"$f":"B4*$B$27","v":0},{"$f":"$C$30*A4","v":0},{"$f":"C$28+(C$29*(I4-C$31))","v":34},{"$f":"B4*$C$30","v":0},{"$f":"$C$27","v":154},{"$f":"$C$30","v":200},{"$f":"B4*$C$27","v":0},null,0,0,{"$f":"MAX(C4,I4)","v":0},{"$f":"$Q$28+($Q$29*(R4-$Q$31))","v":{"v":-44,"d":"(44)"}},{"$f":"Q4*$Q$30","v":0},{"$f":"$Q$27","v":36},{"$f":"$Q$30","v":200},{"$f":"Q4*$Q$27","v":0},{"$f":"$R$28+($R$29*(R4-$R$31))","v":{"v":-44,"d":"(44)"}},{"$f":"$Q4*$R$30","v":0},{"$f":"$R$27","v":36},{"$f":"$R$30","v":200},{"$f":"$Q4*$R$27","v":0},null,null,0,{"$f":"AE4*$AF$26","v":{"v":0,"d":"0.00"}},{"$f":"IF(((AF4-$AF$28-($AF$32*$AF$33))/$AF$29)>$AF$31,((AF4-$AF$28-($AF$32*$AF$33))/$AF$29),$AF$31)","v":{"v":1.1333333333333333,"d":"1.13"}},{"$f":"AE4*$AF$27","v":{"v":0,"d":"0.00"}},{"$f":"$AF$30","v":{"v":0.4,"d":"0.40"}},{"$f":"$AF$27","v":{"v":220,"d":"220.00"}},{"$f":"$AF$30*AE4","v":{"v":0,"d":"0.00"}},{"$f":"AE4*$AF$26","v":{"v":0,"d":"0.00"}},{"$f":"IF(((AL4-$AG$28-($AG$32*$AG$33))/$AG$29)>$AG$31,((AL4-$AG$28-($AG$32*$AG$33))/$AG$29),$AG$31)","v":{"v":1.1333333333333333,"d":"1.13"}},{"$f":"AE4*$AG$27","v":{"v":0,"d":"0.00"}},{"$f":"$AG$30","v":{"v":0.4,"d":"0.40"}},{"$f":"$AG$27","v":{"v":220,"d":"220.00"}},{"$f":"AE4*$AG$30","v":{"v":0,"d":"0.00"}},null,null,0,{"$f":"AT4*$AU$26","v":{"v":0,"d":"0.00"}},{"$f":"IF(((AU4-$AU$28-($AU$29*$AU$30))/$AU$31)>$AU$32,((AU4-$AU$28-($AU$29*$AU$30))/$AU$31),$AU$32)","v":0.39},{"$f":"$AU$35","v":{"v":500,"d":"500.00"}},{"$f":"MAX($AV$4:$AV$24)*AT4","v":{"v":0,"d":"0.00"}},{"$f":"$AU$35*AT4","v":{"v":0,"d":"0.00"}},{"$f":"$AU$41","v":0.14},{"$f":"AT4*$AU$26","v":{"v":0,"d":"0.00"}},{"$f":"IF(((BA4-$AV$28-($AV$29*$AV$30))/$AV$31)>$AV$32,((BA4-$AV$28-($AV$29*$AV$30))/$AV$31),$AV$32)","v":0.39},{"$f":"$AV$35*AT4","v":{"v":0,"d":"0.00"}},{"$f":"$AV$41","v":0.14},null,0,0,{"$f":"$BG$30*BF4","v":0},{"$f":"BG$28+(BG$29*BH4)","v":60},{"$f":"BG4*$BG$30","v":0},{"$f":"BG27","v":210},{"$f":"$BG$30","v":500},{"$f":"BG4*$BG$27","v":0},{"$f":"BF4*$BH$30","v":0},{"$f":"BH$28+(BH$29*BN4)","v":60},{"$f":"BG4*$BH$30","v":0},{"$f":"$BH$27","v":210},{"$f":"$BH$30","v":500},{"$f":"BG4*$BH$27","v":0},null,0,0,{"$f":"MAX($BV$26,$BY$37)*BU4","v":0},{"$f":"$BV$29+($BV$30*(BW4-$BV$31))","v":10},{"$f":"BV4*$BV$26","v":0},{"$f":"$BY$28","v":{"v":1050.0000000000002,"d":"1,050"}},{"$f":"$BV$26","v":{"v":1300.0000000000002,"d":"1,300"}},{"$f":"BV4*$BY$28","v":0},{"$f":"$BV$34","v":150},{"$f":"$BY$29+$BY$30+$BY$31","v":450},{"$f":"(-$BV$29+((1-$BV$30)*(BW4-$BV$31)))+$BV$31+($BV$43+$BV$44*BW4)","v":60},{"$f":"(-$BV$29+((1-$BV$30)*(BW4-$BV$31)))","v":{"v":-110,"d":"(110)"}},{"$f":"$BV$31+($BV$43+$BV$44*BW4)","v":170},null,{"$f":"$BV$37","v":100},{"$f":"$BY$31","v":200},{"$f":"$BV$43+($BV$44*BW4)","v":{"v":70,"d":"70.00"}},{"$f":"BV4*$BV$26","v":0},{"$f":"$BY$32","v":{"v":200.00000000000003,"d":"200.00"}},{"$f":"$BV$26","v":{"v":1300.0000000000002,"d":"1,300.00"}},{"$f":"BV4*$BY$32","v":0},{"$f":"($BV$29+($BV$30*(BW4-$BV$31)))+$BY$29+$BY$30+$BY$31-($BV$43+($BV$44*BW4))","v":{"v":390,"d":"390.00"}},{"$f":"BV4*$BV$26","v":0},{"$f":"$BY$35","v":{"v":450,"d":"450.00"}},{"$f":"$BV$26","v":{"v":1300.0000000000002,"d":"1,300.00"}},{"$f":"BV4*$BY$35","v":0},{"$f":"BW4","v":0},{"$f":"BV4*$BY$37","v":0},{"$f":"BY37","v":{"v":1300.0000000000002,"d":"1,300.00"}}]
[0.1,0.05,20,{"$f":"$B$28+($B$29*(C5-$B$31))","v":46},{"$f":"B5*$B$30","v":10},154,200,{"v":7.7,"d":"8"},{"$f":"$C$30*A5","v":20},{"$f":"C$28+(C$29*(I5-C$31))","v":46},{"$f":"B5*$C$30","v":10},154,{"$f":"$C$30","v":200},{"v":7.7,"d":"8"},null,0.1,0.05,{"$f":"MAX(C5,I5)","v":20},{"v":-36,"d":"(36)"},10,36,{"$f":"$Q$30","v":200},{"v":1.8,"d":"2"},{"$f":"$R$28+($R$29*(R5-$R$31))","v":{"v":-36,"d":"(36)"}},{"$f":"$Q5*$R$30","v":10},{"$f":"$R$27","v":36},{"$f":"$R$30","v":200},{"$f":"$Q5*$R$27","v":{"v":1.8,"d":"2"}},null,null,0.05,{"$f":"AE5*$AF$26","v":{"v":17,"d":"17.00"}},{"$f":"IF(((AF5-$AF$28-($AF$32*$AF$33))/$AF$29)>$AF$31,((AF5-$AF$28-($AF$32*$AF$33))/$AF$29),$AF$31)","v":{"v":1.0766666666666667,"d":"1.08"}},{"v":11,"d":"11.00"},{"$f":"$AF$30","v":{"v":0.4,"d":"0.40"}},{"v":220,"d":"220.00"},{"$f":"$AF$30*AE5","v":{"v":0.020000000000000004,"d":"0.02"}},{"$f":"AE5*$AF$26","v":{"v":17,"d":"17.00"}},{"$f":"IF(((AL5-$AG$28-($AG$32*$AG$33))/$AG$29)>$AG$31,((AL5-$AG$28-($AG$32*$AG$33))/$AG$29),$AG$31)","v":{"v":1.0766666666666667,"d":"1.08"}},{"v":11,"d":"11.00"},{"$f":"$AG$30","v":{"v":0.4,"d":"0.40"}},{"v":220,"d":"220.00"},{"$f":"AE5*$AG$30","v":{"v":0.020000000000000004,"d":"0.02"}},null,null,0.05,{"$f":"AT5*$AU$26","v":{"v":39,"d":"39.00"}},{"v":0.3705,"d":"0.37"},{"v":500,"d":"500.00"},{"v":0.019500000000000003,"d":"0.02"},{"v":25,"d":"25.00"},{"$f":"$AU$41","v":0.14},{"$f":"AT5*$AU$26","v":{"v":39,"d":"39.00"}},{"v":0.3705,"d":"0.37"},{"$f":"$AV$35*AT5","v":{"v":25,"d":"25.00"}},{"$f":"$AV$41","v":0.14},null,0.1,0.05,{"$f":"$BG$30*BF5","v":50},{"$f":"BG$28+(BG$29*BH5)","v":75},25,{"$f":"$BG$27","v":210},500,{"$f":"BG5*$BG$27","v":{"v":10.5,"d":"11"}},50,75,25,210,{"$f":"$BH$30","v":500},{"v":10.5,"d":"11"},null,0.1,0.05,{"v":130.00000000000003,"d":"130"},{"$f":"$BV$29+($BV$30*(BW5-$BV$31))","v":{"v":114.00000000000003,"d":"114"}},{"$f":"BV5*$BV$26","v":{"v":65.00000000000001,"d":"65"}},{"v":1050.0000000000002,"d":"1,050"},{"$f":"$BV$26","v":{"v":1300.0000000000002,"d":"1,300"}},{"v":52.500000000000014,"d":"53"},150,{"$f":"$BY$29+$BY$30+$BY$31","v":450},{"$f":"(-$BV$29+((1-$BV$30)*(BW5-$BV$31)))+$BV$31+($BV$43+$BV$44*BW5)","v":99},{"$f":"(-$BV$29+((1-$BV$30)*(BW5-$BV$31)))","v":{"v":-84,"d":"(84)"}},{"$f":"$BV$31+($BV$43+$BV$44*BW5)","v":183},null,{"$f":"$BV$37","v":100},200,{"v":83,"d":"83.00"},{"v":65.00000000000001,"d":"65.00"},{"v":200.00000000000003,"d":"200.00"},{"$f":"$BV$26","v":{"v":1300.0000000000002,"d":"1,300.00"}},{"v":10.000000000000002,"d":"10.00"},{"v":481,"d":"481.00"},{"v":65.00000000000001,"d":"65.00"},{"v":450,"d":"450.00"},{"v":1300.0000000000002,"d":"1,300.00"},{"v":22.5,"d":"22.50"},{"$f":"BW5","v":{"v":130.00000000000003,"d":"130"}},{"v":65.00000000000001,"d":"65.00"},{"$f":"$BY$37","v":{"v":1300.0000000000002,"d":"1,300.00"}},null,null,"Y",{"$f":"(1/(1-DB9+DB29))*(DA9-(DB9*DD9)+CZ17+CZ21+CZ25-DA29)","v":{"v":243.33333333333331,"d":"243.33"}},{"$nulls":6},"Y",{"$f":"(1/(1-DJ9+DJ33))*(DI9-(DJ9*DL9)+DH17+DH25+DH29-DI33)","v":{"v":1516.666666666667,"d":"1,516.67"}},{"$nulls":5},"Y",{"$f":"(1/(1-DQ9+DQ33))*(DP9-(DQ9*DS9)+DO17+DO25+DO29-DP33)","v":{"v":1516.666666666667,"d":"1,516.67"}}]
[0.2,0.1,40,58,20,154,200,{"v":15.4,"d":"15"},40,58,20,154,200,{"v":15.4,"d":"15"},null,0.2,0.1,40,{"v":-28,"d":"(28)"},20,36,200,{"v":3.6,"d":"4"},{"v":-28,"d":"(28)"},20,36,200,{"v":3.6,"d":"4"},null,null,0.1,{"v":34,"d":"34.00"},1.02,{"v":22,"d":"22.00"},{"v":0.4,"d":"0.40"},{"v":220,"d":"220.00"},{"v":0.04000000000000001,"d":"0.04"},{"v":34,"d":"34.00"},1.02,{"v":22,"d":"22.00"},{"v":0.4,"d":"0.40"},{"v":220,"d":"220.00"},{"v":0.04000000000000001,"d":"0.04"},null,null,0.1,{"v":78,"d":"78.00"},{"v":0.351,"d":"0.35"},{"v":500,"d":"500.00"},{"v":0.03900000000000001,"d":"0.04"},{"v":50,"d":"50.00"},0.14,{"v":78,"d":"78.00"},{"v":0.351,"d":"0.35"},{"v":50,"d":"50.00"},0.14,null,0.2,0.1,100,90,50,210,500,21,100,90,50,210,500,21,null,0.2,0.1,{"v":260.00000000000006,"d":"260"},{"v":218.00000000000006,"d":"218"},{"v":130.00000000000003,"d":"130"},{"v":1050.0000000000002,"d":"1,050"},{"v":1300.0000000000002,"d":"1,300"},{"v":105.00000000000003,"d":"105"},150,450,138,{"v":-57.99999999999999,"d":"(58)"},196,null,100,200,{"v":96,"d":"96.00"},{"v":130.00000000000003,"d":"130.00"},{"v":200.00000000000003,"d":"200.00"},{"v":1300.0000000000002,"d":"1,300.00"},{"v":20.000000000000004,"d":"20.00"},{"v":572,"d":"572.00"},{"v":130.00000000000003,"d":"130.00"},{"v":450,"d":"450.00"},{"v":1300.0000000000002,"d":"1,300.00"},{"v":45,"d":"45.00"},{"v":260.00000000000006,"d":"260"},{"v":130.00000000000003,"d":"130.00"},{"v":1300.0000000000002,"d":"1,300.00"}]
[0.3,0.15,60,70,30,154,200,{"v":23.099999999999998,"d":"23"},60,70,30,154,200,{"v":23.099999999999998,"d":"23"},null,0.3,0.15,60,{"v":-20,"d":"(20)"},30,36,200,{"v":5.3999999999999995,"d":"5"},{"v":-20,"d":"(20)"},30,36,200,{"v":5.3999999999999995,"d":"5"},null,null,0.15,{"$f":"AE7*$AF$26","v":{"v":51,"d":"51.00"}},{"v":0.9633333333333334,"d":"0.96"},{"v":33,"d":"33.00"},{"v":0.4,"d":"0.40"},{"v":220,"d":"220.00"},0.06,{"v":51,"d":"51.00"},{"v":0.9633333333333334,"d":"0.96"},{"v":33,"d":"33.00"},{"v":0.4,"d":"0.40"},{"v":220,"d":"220.00"},0.06,null,null,0.15,{"v":117,"d":"117.00"},{"v":0.3315,"d":"0.33"},{"v":500,"d":"500.00"},{"v":0.058499999999999996,"d":"0.06"},{"v":75,"d":"75.00"},0.14,{"v":117,"d":"117.00"},{"v":0.3315,"d":"0.33"},{"v":75,"d":"75.00"},0.14,null,0.3,0.15,150,105,75,210,500,{"v":31.5,"d":"32"},150,105,75,210,500,{"v":31.5,"d":"32"},null,0.3,0.15,{"v":390.00000000000006,"d":"390"},{"v":322.00000000000006,"d":"322"},{"v":195.00000000000003,"d":"195"},{"v":1050.0000000000002,"d":"1,050"},{"v":1300.0000000000002,"d":"1,300"},{"v":157.50000000000003,"d":"158"},150,450,177,{"v":-32,"d":"(32)"},209,null,100,200,{"v":109,"d":"109.00"},{"v":195.00000000000003,"d":"195.00"},{"v":200.00000000000003,"d":"200.00"},{"v":1300.0000000000002,"d":"1,300.00"},{"v":30.000000000000004,"d":"30.00"},{"v":663,"d":"663.00"},{"v":195.00000000000003,"d":"195.00"},{"v":450,"d":"450.00"},{"v":1300.0000000000002,"d":"1,300.00"},{"v":67.5,"d":"67.50"},{"v":390.00000000000006,"d":"390"},{"v":195.00000000000003,"d":"195.00"},{"v":1300.0000000000002,"d":"1,300.00"},null,null,"CONSUMO",{"$nulls":3},"IMPUESTOS",{"$nulls":3},"CONSUMO",{"$nulls":6},"CONSUMO"]
[0.4,0.2,80,82,40,154,200,{"v":30.8,"d":"31"},80,82,40,154,200,{"v":30.8,"d":"31"},null,0.4,0.2,80,{"v":-12,"d":"(12)"},40,36,200,{"v":7.2,"d":"7"},{"v":-12,"d":"(12)"},40,36,200,{"v":7.2,"d":"7"},null,null,0.2,{"v":68,"d":"68.00"},{"v":0.9066666666666666,"d":"0.91"},{"v":44,"d":"44.00"},{"v":0.4,"d":"0.40"},{"v":220,"d":"220.00"},{"v":0.08000000000000002,"d":"0.08"},{"v":68,"d":"68.00"},{"v":0.9066666666666666,"d":"0.91"},{"v":44,"d":"44.00"},{"v":0.4,"d":"0.40"},{"v":220,"d":"220.00"},{"v":0.08000000000000002,"d":"0.08"},null,null,0.2,{"v":156,"d":"156.00"},{"v":0.312,"d":"0.31"},{"v":500,"d":"500.00"},{"v":0.07800000000000001,"d":"0.08"},{"v":100,"d":"100.00"},0.14,{"v":156,"d":"156.00"},{"v":0.312,"d":"0.31"},{"v":100,"d":"100.00"},0.14,null,0.4,0.2,200,120,100,210,500,42,200,120,100,210,500,42,null,0.4,0.2,{"v":520.0000000000001,"d":"520"},{"v":426.0000000000001,"d":"426"},{"v":260.00000000000006,"d":"260"},{"v":1050.0000000000002,"d":"1,050"},{"v":1300.0000000000002,"d":"1,300"},{"v":210.00000000000006,"d":"210"},150,450,216,{"v":-6,"d":"(6)"},222,null,100,200,{"v":122.00000000000001,"d":"122.00"},{"v":260.00000000000006,"d":"260.00"},{"v":200.00000000000003,"d":"200.00"},{"v":1300.0000000000002,"d":"1,300.00"},{"v":40.00000000000001,"d":"40.00"},{"v":754.0000000000001,"d":"754.00"},{"v":260.00000000000006,"d":"260.00"},{"v":450,"d":"450.00"},{"v":1300.0000000000002,"d":"1,300.00"},{"v":90,"d":"90.00"},{"v":520.0000000000001,"d":"520"},{"v":260.00000000000006,"d":"260.00"},{"v":1300.0000000000002,"d":"1,300.00"},null,null,"C","b0","b1","Y","T","T0",null,null,"C","b0","b1","Y","T0",null,null,"C","b0","b1","Y","T0"]
[0.5,0.25,100,94,50,154,200,{"v":38.5,"d":"39"},100,94,50,154,200,{"v":38.5,"d":"39"},null,0.5,0.25,100,{"v":-4,"d":"(4)"},50,36,200,9,{"v":-4,"d":"(4)"},50,36,200,9,null,null,0.25,{"v":85,"d":"85.00"},0.85,{"v":55,"d":"55.00"},{"v":0.4,"d":"0.40"},{"v":220,"d":"220.00"},{"v":0.1,"d":"0.10"},{"v":85,"d":"85.00"},0.85,{"v":55,"d":"55.00"},{"v":0.4,"d":"0.40"},{"v":220,"d":"220.00"},{"v":0.1,"d":"0.10"},null,null,0.25,{"v":195,"d":"195.00"},{"v":0.2925,"d":"0.29"},{"v":500,"d":"500.00"},{"v":0.0975,"d":"0.10"},{"v":125,"d":"125.00"},0.14,{"v":195,"d":"195.00"},{"v":0.2925,"d":"0.29"},{"v":125,"d":"125.00"},0.14,null,0.5,0.25,250,135,125,210,500,{"v":52.5,"d":"53"},250,135,125,210,500,{"v":52.5,"d":"53"},null,0.5,0.25,{"v":650.0000000000001,"d":"650"},{"v":530.0000000000001,"d":"530"},{"v":325.00000000000006,"d":"325"},{"v":1050.0000000000002,"d":"1,050"},{"v":1300.0000000000002,"d":"1,300"},{"v":262.50000000000006,"d":"263"},150,450,255,20,235,null,100,200,{"v":135,"d":"135.00"},{"v":325.00000000000006,"d":"325.00"},{"v":200.00000000000003,"d":"200.00"},{"v":1300.0000000000002,"d":"1,300.00"},{"v":50.00000000000001,"d":"50.00"},{"v":845.0000000000001,"d":"845.00"},{"v":325.00000000000006,"d":"325.00"},{"v":450,"d":"450.00"},{"v":1300.0000000000002,"d":"1,300.00"},{"v":112.5,"d":"112.50"},{"v":650.0000000000001,"d":"650"},{"v":325.00000000000006,"d":"325.00"},{"v":1300.0000000000002,"d":"1,300.00"},null,null,{"$f":"DA9+(DB9*(DC9-DD9))","v":{"v":215,"d":"215.0"}},{"$f":"Sistema!C8","v":{"v":70,"d":"70.00"}},{"$f":"Sistema!D8","v":0.75},{"$f":"DA5","v":{"v":243.33333333333331,"d":"243.33"}},{"$f":"DE9","v":{"v":50,"d":"50.00"}},{"$f":"Sistema!F8","v":{"v":50,"d":"50.00"}},null,null,{"$f":"DI9+(DJ9*(DK9-DL9))","v":{"v":1193.3333333333337,"d":"1,193.3"}},{"$f":"Sistema_Ampliado!C9","v":{"v":60,"d":"60.00"}},{"$f":"Sistema_Ampliado!D9","v":{"v":0.8,"d":"0.80"}},{"$f":"DI5","v":{"v":1516.666666666667,"d":"1,516.67"}},{"$f":"DL25","v":{"v":100,"d":"100.00"}},null,null,{"$f":"DP9+(DQ9*(DR9-DS9))","v":{"v":1193.3333333333337,"d":"1,193.3"}},{"$f":"DI9","v":{"v":60,"d":"60.00"}},{"$f":"DJ9","v":{"v":0.8,"d":"0.80"}},{"$f":"DP5","v":{"v":1516.666666666667,"d":"1,516.67"}},{"$f":"DX14","v":{"v":100,"d":"100.00"}}]
[0.6,0.3,120,106,60,154,200,{"v":46.199999999999996,"d":"46"},120,106,60,154,200,{"v":46.199999999999996,"d":"46"},null,0.6,0.3,120,4,60,36,200,{"v":10.799999999999999,"d":"11"},4,60,36,200,{"v":10.799999999999999,"d":"11"},null,null,0.3,{"v":102,"d":"102.00"},{"v":0.7933333333333333,"d":"0.79"},{"v":66,"d":"66.00"},{"$f":"$AF$30","v":{"v":0.4,"d":"0.40"}},{"v":220,"d":"220.00"},0.12,{"v":102,"d":"102.00"},{"v":0.7933333333333333,"d":"0.79"},{"v":66,"d":"66.00"},{"v":0.4,"d":"0.40"},{"v":220,"d":"220.00"},0.12,null,null,0.3,{"v":234,"d":"234.00"},{"v":0.273,"d":"0.27"},{"v":500,"d":"500.00"},{"v":0.11699999999999999,"d":"0.12"},{"v":150,"d":"150.00"},0.14,{"v":234,"d":"234.00"},{"v":0.273,"d":"0.27"},{"v":150,"d":"150.00"},0.14,null,0.6,0.3,300,150,150,210,500,63,300,150,150,210,500,63,null,0.6,0.3,{"v":780.0000000000001,"d":"780"},{"v":634.0000000000001,"d":"634"},{"v":390.00000000000006,"d":"390"},{"v":1050.0000000000002,"d":"1,050"},{"v":1300.0000000000002,"d":"1,300"},{"v":315.00000000000006,"d":"315"},150,450,294,46,248,null,100,200,{"v":148,"d":"148.00"},{"v":390.00000000000006,"d":"390.00"},{"v":200.00000000000003,"d":"200.00"},{"v":1300.0000000000002,"d":"1,300.00"},{"v":60.00000000000001,"d":"60.00"},{"v":936,"d":"936.00"},{"v":390.00000000000006,"d":"390.00"},{"v":450,"d":"450.00"},{"v":1300.0000000000002,"d":"1,300.00"},{"v":135,"d":"135.00"},{"v":780.0000000000001,"d":"780"},{"v":390.00000000000006,"d":"390.00"},{"v":1300.0000000000002,"d":"1,300.00"}]
[0.7,0.35,140,118,70,154,200,{"v":53.9,"d":"54"},140,118,70,154,200,{"v":53.9,"d":"54"},null,0.7,0.35,140,12,70,36,200,{"v":12.6,"d":"13"},12,70,36,200,{"v":12.6,"d":"13"},null,null,0.35,{"v":118.99999999999999,"d":"119.00"},{"v":0.7366666666666667,"d":"0.74"},{"v":77,"d":"77.00"},{"v":0.4,"d":"0.40"},{"v":220,"d":"220.00"},{"v":0.13999999999999999,"d":"0.14"},{"v":118.99999999999999,"d":"119.00"},{"v":0.7366666666666667,"d":"0.74"},{"v":77,"d":"77.00"},{"v":0.4,"d":"0.40"},{"v":220,"d":"220.00"},{"v":0.13999999999999999,"d":"0.14"},null,null,0.35,{"v":273,"d":"273.00"},{"v":0.2535,"d":"0.25"},{"v":500,"d":"500.00"},{"v":0.13649999999999998,"d":"0.14"},{"v":175,"d":"175.00"},0.14,{"v":273,"d":"273.00"},{"v":0.2535,"d":"0.25"},{"v":175,"d":"175.00"},0.14,null,0.7,0.35,350,165,175,210,500,{"v":73.5,"d":"74"},350,165,175,210,500,{"v":73.5,"d":"74"},null,0.7,0.35,{"v":910.0000000000001,"d":"910"},{"v":738.0000000000001,"d":"738"},{"v":455.00000000000006,"d":"455"},{"v":1050.0000000000002,"d":"1,050"},{"v":1300.0000000000002,"d":"1,300"},{"v":367.50000000000006,"d":"368"},150,450,333,72,261,null,100,200,{"v":161,"d":"161.00"},{"v":455.00000000000006,"d":"455.00"},{"v":200.00000000000003,"d":"200.00"},{"v":1300.0000000000002,"d":"1,300.00"},{"v":70,"d":"70.00"},{"v":1027,"d":"1,027.00"},{"v":455.00000000000006,"d":"455.00"},{"v":450,"d":"450.00"},{"v":1300.0000000000002,"d":"1,300.00"},{"v":157.5,"d":"157.50"},{"v":910.0000000000001,"d":"910"},{"v":455.00000000000006,"d":"455.00"},{"v":1300.0000000000002,"d":"1,300.00"},null,null,"AHORRO",{"$nulls":7},"AHORRO",{"$nulls":6},"AHORRO"]
[0.8,0.4,160,130,80,154,200,{"v":61.6,"d":"62"},160,130,80,154,200,{"v":61.6,"d":"62"},null,0.8,0.4,160,20,80,36,200,{"v":14.4,"d":"14"},20,80,36,200,{"v":14.4,"d":"14"},null,null,0.4,{"v":136,"d":"136.00"},0.68,{"v":88,"d":"88.00"},{"v":0.4,"d":"0.40"},{"v":220,"d":"220.00"},{"$f":"$AF$30*AE12","v":{"v":0.16000000000000003,"d":"0.16"}},{"v":136,"d":"136.00"},0.68,{"v":88,"d":"88.00"},{"v":0.4,"d":"0.40"},{"v":220,"d":"220.00"},{"v":0.16000000000000003,"d":"0.16"},null,null,0.4,{"v":312,"d":"312.00"},{"v":0.234,"d":"0.23"},{"v":500,"d":"500.00"},{"v":0.15600000000000003,"d":"0.16"},{"v":200,"d":"200.00"},0.14,{"v":312,"d":"312.00"},{"v":0.234,"d":"0.23"},{"v":200,"d":"200.00"},0.14,null,0.8,0.4,400,180,200,210,500,84,400,180,200,210,500,84,null,0.8,0.4,{"v":1040.0000000000002,"d":"1,040"},{"v":842.0000000000002,"d":"842"},{"v":520.0000000000001,"d":"520"},{"v":1050.0000000000002,"d":"1,050"},{"v":1300.0000000000002,"d":"1,300"},{"v":420.0000000000001,"d":"420"},150,450,372,98,274,null,100,200,{"v":174.00000000000003,"d":"174.00"},{"v":520.0000000000001,"d":"520.00"},{"v":200.00000000000003,"d":"200.00"},{"v":1300.0000000000002,"d":"1,300.00"},{"v":80.00000000000001,"d":"80.00"},{"v":1118.0000000000002,"d":"1,118.00"},{"v":520.0000000000001,"d":"520.00"},{"v":450,"d":"450.00"},{"v":1300.0000000000002,"d":"1,300.00"},{"v":180,"d":"180.00"},{"v":1040.0000000000002,"d":"1,040"},{"v":520.0000000000001,"d":"520.00"},{"v":1300.0000000000002,"d":"1,300.00"},null,null,"S","-b0","1-b1","Y","T",{"$nulls":3},"S","s0","s1","Y",{"$nulls":3},"S","s0","s1","Y"]
[0.9,0.45,180,142,90,154,200,{"v":69.3,"d":"69"},180,142,90,154,200,{"v":69.3,"d":"69"},null,0.9,0.45,180,28,90,36,200,{"v":16.2,"d":"16"},28,90,36,200,{"v":16.2,"d":"16"},null,null,0.45,{"v":153,"d":"153.00"},{"v":0.6233333333333333,"d":"0.62"},{"v":99,"d":"99.00"},{"v":0.4,"d":"0.40"},{"v":220,"d":"220.00"},{"v":0.18000000000000002,"d":"0.18"},{"v":153,"d":"153.00"},{"v":0.6233333333333333,"d":"0.62"},{"v":99,"d":"99.00"},{"v":0.4,"d":"0.40"},{"v":220,"d":"220.00"},{"v":0.18000000000000002,"d":"0.18"},null,null,0.45,{"v":351,"d":"351.00"},{"v":0.2145,"d":"0.21"},{"v":500,"d":"500.00"},{"v":0.17550000000000002,"d":"0.18"},{"v":225,"d":"225.00"},0.14,{"v":351,"d":"351.00"},{"v":0.2145,"d":"0.21"},{"v":225,"d":"225.00"},0.14,null,0.9,0.45,450,195,225,210,500,{"v":94.5,"d":"95"},450,195,225,210,500,{"v":94.5,"d":"95"},null,0.9,0.45,{"v":1170.0000000000002,"d":"1,170"},{"v":946.0000000000002,"d":"946"},{"v":585.0000000000001,"d":"585"},{"v":1050.0000000000002,"d":"1,050"},{"v":1300.0000000000002,"d":"1,300"},{"v":472.5000000000001,"d":"473"},150,450,411,124,287,null,100,200,{"v":187.00000000000003,"d":"187.00"},{"v":585.0000000000001,"d":"585.00"},{"v":200.00000000000003,"d":"200.00"},{"v":1300.0000000000002,"d":"1,300.00"},{"v":90.00000000000001,"d":"90.00"},{"v":1209.0000000000002,"d":"1,209.00"},{"v":585.0000000000001,"d":"585.00"},{"v":450,"d":"450.00"},{"v":1300.0000000000002,"d":"1,300.00"},{"v":202.5,"d":"202.50"},{"v":1170.0000000000002,"d":"1,170"},{"v":585.0000000000001,"d":"585.00"},{"v":1300.0000000000002,"d":"1,300.00"},null,null,{"$f":"DA13+(DB13*(DC13-DD13))","v":{"v":-21.66666666666667,"d":"(21.7)"}},{"$f":"DA9*-1","v":{"v":-70,"d":"-70.00"}},{"$f":"1-DB9","v":0.25},{"$f":"DA5","v":{"v":243.33333333333331,"d":"243.33"}},{"$f":"DE9","v":{"v":50,"d":"50.00"}},{"$nulls":3},{"$f":"DI13+(DJ13*(DK13-DL9))","v":{"v":223.33333333333331,"d":"223.3"}},{"$f":"-DI9","v":{"v":-60,"d":"-60.00"}},{"$f":"1-DJ9","v":{"v":0.19999999999999996,"d":"0.20"}},{"$f":"DI5","v":{"v":1516.666666666667,"d":"1,516.67"}},{"$nulls":3},{"$f":"DP13+(DQ13*(DR13-DS9))","v":{"v":223.33333333333331,"d":"223.3"}},{"$f":"DI13","v":{"v":-60,"d":"-60.00"}},{"$f":"DJ13","v":{"v":0.19999999999999996,"d":"0.20"}},{"$f":"DP5","v":{"v":1516.666666666667,"d":"1,516.67"}},{"$nulls":4},"G","T","i0","r"]
[1,0.5,200,154,100,154,200,77,200,154,100,154,200,77,null,1,0.5,200,36,100,36,200,18,36,100,36,200,18,null,null,0.5,{"v":170,"d":"170.00"},{"v":0.5666666666666667,"d":"0.57"},{"v":110,"d":"110.00"},{"v":0.4,"d":"0.40"},{"v":220,"d":"220.00"},{"v":0.2,"d":"0.20"},{"v":170,"d":"170.00"},{"v":0.5666666666666667,"d":"0.57"},{"v":110,"d":"110.00"},{"v":0.4,"d":"0.40"},{"v":220,"d":"220.00"},{"v":0.2,"d":"0.20"},null,null,0.5,{"v":390,"d":"390.00"},{"v":0.195,"d":"0.20"},{"v":500,"d":"500.00"},{"v":0.195,"d":"0.20"},{"v":250,"d":"250.00"},0.14,{"v":390,"d":"390.00"},{"v":0.195,"d":"0.20"},{"v":250,"d":"250.00"},0.14,null,1,0.5,500,210,250,210,500,105,500,210,250,210,500,105,null,1,0.5,{"v":1300.0000000000002,"d":"1,300"},{"v":1050.0000000000002,"d":"1,050"},{"v":650.0000000000001,"d":"650"},{"v":1050.0000000000002,"d":"1,050"},{"v":1300.0000000000002,"d":"1,300"},{"v":525.0000000000001,"d":"525"},150,450,450,150,300,null,100,200,{"v":200.00000000000003,"d":"200.00"},{"v":650.0000000000001,"d":"650.00"},{"v":200.00000000000003,"d":"200.00"},{"v":1300.0000000000002,"d":"1,300.00"},{"v":100.00000000000001,"d":"100.00"},{"v":1300.0000000000002,"d":"1,300.00"},{"v":650.0000000000001,"d":"650.00"},{"v":450,"d":"450.00"},{"v":1300.0000000000002,"d":"1,300.00"},{"v":225,"d":"225.00"},{"v":1300.0000000000002,"d":"1,300"},{"v":650.0000000000001,"d":"650.00"},{"v":1300.0000000000002,"d":"1,300.00"},{"$nulls":25},{"$f":"DI25+(DI25*DW15)","v":{"v":100,"d":"100.00"}},{"$f":"DL9+(DL9*DX15)","v":{"v":100,"d":"100.00"}},{"$f":"DI17+(DI17*DY15)","v":{"v":235,"d":"235.00"}},{"$f":"DH21+DZ15","v":{"v":0,"d":"0%"}}]
[1.1,0.55,{"v":220.00000000000003,"d":"220"},166,{"v":110.00000000000001,"d":"110"},154,200,{"v":84.7,"d":"85"},{"v":220.00000000000003,"d":"220"},166,{"v":110.00000000000001,"d":"110"},154,200,{"v":84.7,"d":"85"},null,1.1,0.55,{"v":220.00000000000003,"d":"220"},{"v":44.000000000000014,"d":"44"},{"v":110.00000000000001,"d":"110"},36,200,{"v":19.8,"d":"20"},{"v":44.000000000000014,"d":"44"},{"v":110.00000000000001,"d":"110"},36,200,{"v":19.8,"d":"20"},null,null,0.55,{"v":187.00000000000003,"d":"187.00"},{"v":0.5099999999999999,"d":"0.51"},{"v":121.00000000000001,"d":"121.00"},{"v":0.4,"d":"0.40"},{"v":220,"d":"220.00"},{"v":0.22000000000000003,"d":"0.22"},{"v":187.00000000000003,"d":"187.00"},{"v":0.5099999999999999,"d":"0.51"},{"v":121.00000000000001,"d":"121.00"},{"v":0.4,"d":"0.40"},{"v":220,"d":"220.00"},{"v":0.22000000000000003,"d":"0.22"},null,null,0.55,{"v":429.00000000000006,"d":"429.00"},{"v":0.17549999999999996,"d":"0.18"},{"v":500,"d":"500.00"},{"v":0.21450000000000002,"d":"0.21"},{"v":275,"d":"275.00"},0.14,{"v":429.00000000000006,"d":"429.00"},{"v":0.17549999999999996,"d":"0.18"},{"v":275,"d":"275.00"},0.14,null,1.1,0.55,550,225,275,210,500,{"v":115.50000000000001,"d":"116"},550,225,275,210,500,{"v":115.50000000000001,"d":"116"},null,1.1,0.55,{"v":1430.0000000000005,"d":"1,430"},{"v":1154.0000000000005,"d":"1,154"},{"v":715.0000000000002,"d":"715"},{"v":1050.0000000000002,"d":"1,050"},{"v":1300.0000000000002,"d":"1,300"},{"v":577.5000000000002,"d":"578"},150,450,{"v":489.0000000000001,"d":"489"},{"v":176.00000000000006,"d":"176"},{"v":313.00000000000006,"d":"313"},null,100,200,{"v":213.00000000000006,"d":"213.00"},{"v":715.0000000000002,"d":"715.00"},{"v":200.00000000000003,"d":"200.00"},{"v":1300.0000000000002,"d":"1,300.00"},{"v":110.00000000000003,"d":"110.00"},{"v":1391.0000000000005,"d":"1,391.00"},{"v":715.0000000000002,"d":"715.00"},{"v":450,"d":"450.00"},{"v":1300.0000000000002,"d":"1,300.00"},{"v":247.50000000000003,"d":"247.50"},{"v":1430.0000000000005,"d":"1,430"},{"v":715.0000000000002,"d":"715.00"},{"v":1300.0000000000002,"d":"1,300.00"},null,null,"INVERSIÓN",{"$nulls":7},"INVERSIÓN",{"$nulls":6},"INVERSIÓN",{"$nulls":7},{"$f":"Sistema_Ampliado!P7","v":{"v":0,"d":"0.00%"}},{"$f":"Sistema_Ampliado!Q7","v":{"v":0,"d":"0.00%"}},{"$f":"Sistema_Ampliado!R7","v":{"v":0,"d":"0.00%"}},{"$f":"Sistema_Ampliado!S7","v":{"v":0,"d":"0.00%"}}]
[1.2,0.6,240,178,120,154,200,{"v":92.39999999999999,"d":"92"},240,178,120,154,200,{"v":92.39999999999999,"d":"92"},null,1.2,0.6,240,52,120,36,200,{"v":21.599999999999998,"d":"22"},52,120,36,200,{"v":21.599999999999998,"d":"22"},null,null,0.6,{"v":204,"d":"204.00"},{"v":0.4533333333333333,"d":"0.45"},{"v":132,"d":"132.00"},{"v":0.4,"d":"0.40"},{"v":220,"d":"220.00"},0.24,{"v":204,"d":"204.00"},{"v":0.4533333333333333,"d":"0.45"},{"v":132,"d":"132.00"},{"v":0.4,"d":"0.40"},{"v":220,"d":"220.00"},0.24,null,null,0.6,{"v":468,"d":"468.00"},{"v":0.156,"d":"0.16"},{"v":500,"d":"500.00"},{"v":0.23399999999999999,"d":"0.23"},{"v":300,"d":"300.00"},0.14,{"v":468,"d":"468.00"},{"v":0.156,"d":"0.16"},{"v":300,"d":"300.00"},0.14,null,1.2,0.6,600,240,300,210,500,126,600,240,300,210,500,126,null,1.2,0.6,{"v":1560.0000000000002,"d":"1,560"},{"v":1258.0000000000002,"d":"1,258"},{"v":780.0000000000001,"d":"780"},{"v":1050.0000000000002,"d":"1,050"},{"v":1300.0000000000002,"d":"1,300"},{"v":630.0000000000001,"d":"630"},150,450,528,202,326,null,100,200,{"v":226.00000000000003,"d":"226.00"},{"v":780.0000000000001,"d":"780.00"},{"v":200.00000000000003,"d":"200.00"},{"v":1300.0000000000002,"d":"1,300.00"},{"v":120.00000000000001,"d":"120.00"},{"v":1482.0000000000002,"d":"1,482.00"},{"v":780.0000000000001,"d":"780.00"},{"v":450,"d":"450.00"},{"v":1300.0000000000002,"d":"1,300.00"},{"v":270,"d":"270.00"},{"v":1560.0000000000002,"d":"1,560"},{"v":780.0000000000001,"d":"780.00"},{"v":1300.0000000000002,"d":"1,300.00"},null,null,"I","i0",{"$nulls":6},"I","i0",{"$nulls":5},"I","i0","i1","r*","i2","Emk0"]
[1.3,0.65,260,190,130,154,200,{"v":100.10000000000001,"d":"100"},260,190,130,154,200,{"v":100.10000000000001,"d":"100"},null,1.3,0.65,260,60,130,36,200,{"v":23.400000000000002,"d":"23"},60,130,36,200,{"v":23.400000000000002,"d":"23"},null,null,0.65,{"v":221,"d":"221.00"},{"v":0.39666666666666667,"d":"0.40"},{"v":143,"d":"143.00"},{"v":0.4,"d":"0.40"},{"v":220,"d":"220.00"},0.26,{"v":221,"d":"221.00"},{"v":0.39666666666666667,"d":"0.40"},{"v":143,"d":"143.00"},{"v":0.4,"d":"0.40"},{"v":220,"d":"220.00"},0.26,null,null,0.65,{"v":507,"d":"507.00"},{"v":0.1365,"d":"0.14"},{"v":500,"d":"500.00"},{"v":0.2535,"d":"0.25"},{"v":325,"d":"325.00"},0.14,{"v":507,"d":"507.00"},{"v":0.1365,"d":"0.14"},{"v":325,"d":"325.00"},0.14,null,1.3,0.65,650,255,325,210,500,{"v":136.5,"d":"137"},650,255,325,210,500,{"v":136.5,"d":"137"},null,1.3,0.65,{"v":1690.0000000000005,"d":"1,690"},{"v":1362.0000000000005,"d":"1,362"},{"v":845.0000000000002,"d":"845"},{"v":1050.0000000000002,"d":"1,050"},{"v":1300.0000000000002,"d":"1,300"},{"v":682.5000000000002,"d":"683"},150,450,567,228,{"v":339.00000000000006,"d":"339"},null,100,200,{"v":239.00000000000006,"d":"239.00"},{"v":845.0000000000002,"d":"845.00"},{"v":200.00000000000003,"d":"200.00"},{"v":1300.0000000000002,"d":"1,300.00"},{"v":130.00000000000003,"d":"130.00"},{"v":1573.0000000000005,"d":"1,573.00"},{"v":845.0000000000002,"d":"845.00"},{"v":450,"d":"450.00"},{"v":1300.0000000000002,"d":"1,300.00"},{"v":292.5,"d":"292.50"},{"v":1690.0000000000005,"d":"1,690"},{"v":845.0000000000002,"d":"845.00"},{"v":1300.0000000000002,"d":"1,300.00"},null,null,{"$f":"DA17","v":{"v":100,"d":"100.0"}},{"$f":"Sistema!C16","v":{"v":100,"d":"100.00"}},{"$nulls":6},{"$f":"DI17","v":{"v":235,"d":"235.0"}},{"$f":"Sistema_Ampliado!C17","v":{"v":235,"d":"235.00"}},{"$nulls":5},{"$f":"DP17+(DQ17*DR17)+(DS17*DT17)","v":{"v":235,"d":"235.00"}},{"$f":"DY14","v":{"v":235,"d":"235.00"}},{"$f":"DJ17","v":{"v":0,"d":"0.00"}},{"$f":"IF(DO21>DQ21,DO21,DQ21)","v":{"v":0,"d":"0%"}},{"$f":"DL17","v":{"v":0,"d":"0.00"}},{"$f":"DW18","v":0},null,null,"EMK","X","q0","q1"]
[1.4,0.7,280,202,140,154,200,{"v":107.8,"d":"108"},280,202,140,154,200,{"v":107.8,"d":"108"},null,1.4,0.7,280,68,140,36,200,{"v":25.2,"d":"25"},68,140,36,200,{"v":25.2,"d":"25"},null,null,0.7,{"v":237.99999999999997,"d":"238.00"},{"v":0.3400000000000001,"d":"0.34"},{"v":154,"d":"154.00"},{"v":0.4,"d":"0.40"},{"v":220,"d":"220.00"},{"v":0.27999999999999997,"d":"0.28"},{"v":237.99999999999997,"d":"238.00"},{"v":0.3400000000000001,"d":"0.34"},{"v":154,"d":"154.00"},{"v":0.4,"d":"0.40"},{"v":220,"d":"220.00"},{"v":0.27999999999999997,"d":"0.28"},null,null,0.7,{"v":546,"d":"546.00"},{"v":0.117,"d":"0.12"},{"v":500,"d":"500.00"},{"v":0.27299999999999996,"d":"0.27"},{"v":350,"d":"350.00"},0.14,{"v":546,"d":"546.00"},{"v":0.117,"d":"0.12"},{"v":350,"d":"350.00"},0.14,null,1.4,0.7,700,270,350,210,500,147,700,270,350,210,500,147,null,1.4,0.7,{"v":1820.0000000000002,"d":"1,820"},{"v":1466.0000000000002,"d":"1,466"},{"v":910.0000000000001,"d":"910"},{"v":1050.0000000000002,"d":"1,050"},{"v":1300.0000000000002,"d":"1,300"},{"v":735.0000000000001,"d":"735"},150,450,606,{"v":253.99999999999994,"d":"254"},352,null,100,200,{"v":252.00000000000003,"d":"252.00"},{"v":910.0000000000001,"d":"910.00"},{"v":200.00000000000003,"d":"200.00"},{"v":1300.0000000000002,"d":"1,300.00"},{"v":140,"d":"140.00"},{"v":1664.0000000000002,"d":"1,664.00"},{"v":910.0000000000001,"d":"910.00"},{"v":450,"d":"450.00"},{"v":1300.0000000000002,"d":"1,300.00"},{"v":315,"d":"315.00"},{"v":1820.0000000000002,"d":"1,820"},{"v":910.0000000000001,"d":"910.00"},{"v":1300.0000000000002,"d":"1,300.00"},{"$nulls":25},{"$f":"DM17+DW19","v":{"v":0,"d":"0%"}},{"$f":"DI29*(1+DX19)","v":{"v":150,"d":"150.00"}},{"$f":"DI33*(1+DY19)","v":{"v":10,"d":"10.00"}},{"$f":"DJ33+DZ19","v":{"v":0.1,"d":"0.10"}}]
[1.5,0.75,300,214,150,154,200,{"v":115.5,"d":"116"},300,214,150,154,200,{"v":115.5,"d":"116"},null,1.5,0.75,300,76,150,36,200,27,76,150,36,200,27,null,null,0.75,{"v":255,"d":"255.00"},{"v":0.2833333333333333,"d":"0.28"},{"v":165,"d":"165.00"},{"v":0.4,"d":"0.40"},{"v":220,"d":"220.00"},{"v":0.30000000000000004,"d":"0.30"},{"v":255,"d":"255.00"},{"v":0.2833333333333333,"d":"0.28"},{"v":165,"d":"165.00"},{"v":0.4,"d":"0.40"},{"v":220,"d":"220.00"},{"v":0.30000000000000004,"d":"0.30"},null,null,0.75,{"v":585,"d":"585.00"},{"v":0.1,"d":"0.10"},{"v":500,"d":"500.00"},{"v":0.2925,"d":"0.29"},{"v":375,"d":"375.00"},0.14,{"v":585,"d":"585.00"},{"v":0.1,"d":"0.10"},{"v":375,"d":"375.00"},0.14,null,1.5,0.75,750,285,375,210,500,{"v":157.5,"d":"158"},750,285,375,210,500,{"v":157.5,"d":"158"},null,1.5,0.75,{"v":1950.0000000000005,"d":"1,950"},{"v":1570.0000000000005,"d":"1,570"},{"v":975.0000000000002,"d":"975"},{"v":1050.0000000000002,"d":"1,050"},{"v":1300.0000000000002,"d":"1,300"},{"v":787.5000000000002,"d":"788"},150,450,645,280,{"v":365.00000000000006,"d":"365"},null,100,200,{"v":265.00000000000006,"d":"265.00"},{"v":975.0000000000002,"d":"975.00"},{"v":200.00000000000003,"d":"200.00"},{"v":1300.0000000000002,"d":"1,300.00"},{"v":150.00000000000003,"d":"150.00"},{"v":1755.0000000000005,"d":"1,755.00"},{"v":975.0000000000002,"d":"975.00"},{"v":450,"d":"450.00"},{"v":1300.0000000000002,"d":"1,300.00"},{"v":337.5,"d":"337.50"},{"v":1950.0000000000005,"d":"1,950"},{"v":975.0000000000002,"d":"975.00"},{"v":1300.0000000000002,"d":"1,300.00"},null,null,"GASTO DEL GOBIERNO",{"$nulls":7},"TASA DE INTERÉS",null,"TRAMPA DE LIQUIDEZ",{"$nulls":4},"TASA DE INTERÉS",null,"TRAMPA DE LIQUIDEZ",{"$nulls":5},{"$f":"Sistema_Ampliado!O11","v":{"v":0,"d":"0.00%"}},{"$f":"Sistema_Ampliado!P11","v":{"v":0,"d":"0.00%"}},{"$f":"Sistema_Ampliado!Q11","v":{"v":0,"d":"0.00%"}},{"$f":"Sistema_Ampliado!R11","v":{"v":0,"d":"0.00%"}}]
[1.6,0.8,320,226,160,154,200,{"v":123.2,"d":"123"},320,226,160,154,200,{"v":123.2,"d":"123"},null,1.6,0.8,320,84,160,36,200,{"v":28.8,"d":"29"},84,160,36,200,{"v":28.8,"d":"29"},null,null,0.8,{"v":272,"d":"272.00"},{"v":0.22666666666666666,"d":"0.23"},{"v":176,"d":"176.00"},{"v":0.4,"d":"0.40"},{"v":220,"d":"220.00"},{"v":0.32000000000000006,"d":"0.32"},{"v":272,"d":"272.00"},{"v":0.22666666666666666,"d":"0.23"},{"v":176,"d":"176.00"},{"v":0.4,"d":"0.40"},{"v":220,"d":"220.00"},{"v":0.32000000000000006,"d":"0.32"},null,null,0.8,{"v":624,"d":"624.00"},{"v":0.1,"d":"0.10"},{"v":500,"d":"500.00"},{"v":0.31200000000000006,"d":"0.31"},{"v":400,"d":"400.00"},0.14,{"v":624,"d":"624.00"},{"v":0.1,"d":"0.10"},{"v":400,"d":"400.00"},0.14,null,1.6,0.8,800,300,400,210,500,168,800,300,400,210,500,168,null,1.6,0.8,{"v":2080.0000000000005,"d":"2,080"},{"v":1674.0000000000005,"d":"1,674"},{"v":1040.0000000000002,"d":"1,040"},{"v":1050.0000000000002,"d":"1,050"},{"v":1300.0000000000002,"d":"1,300"},{"v":840.0000000000002,"d":"840"},150,450,684,306,{"v":378.00000000000006,"d":"378"},null,100,200,{"v":278.00000000000006,"d":"278.00"},{"v":1040.0000000000002,"d":"1,040.00"},{"v":200.00000000000003,"d":"200.00"},{"v":1300.0000000000002,"d":"1,300.00"},{"v":160.00000000000003,"d":"160.00"},{"v":1846.0000000000005,"d":"1,846.00"},{"v":1040.0000000000002,"d":"1,040.00"},{"v":450,"d":"450.00"},{"v":1300.0000000000002,"d":"1,300.00"},{"v":360,"d":"360.00"},{"v":2080.0000000000005,"d":"2,080"},{"v":1040.0000000000002,"d":"1,040.00"},{"v":1300.0000000000002,"d":"1,300.00"},null,null,"G","g0",{"$nulls":6},"r",null,"r minima",{"$nulls":4},"r",null,"r minima"]
[1.7,0.85,340,238,170,154,200,{"v":130.9,"d":"131"},340,238,170,154,200,{"v":130.9,"d":"131"},null,1.7,0.85,340,92,170,36,200,{"v":30.599999999999998,"d":"31"},92,170,36,200,{"v":30.599999999999998,"d":"31"},null,null,0.85,{"v":289,"d":"289.00"},0.17,{"v":187,"d":"187.00"},{"v":0.4,"d":"0.40"},{"v":220,"d":"220.00"},0.34,{"v":289,"d":"289.00"},0.17,{"v":187,"d":"187.00"},{"v":0.4,"d":"0.40"},{"v":220,"d":"220.00"},0.34,null,null,0.85,{"v":663,"d":"663.00"},{"v":0.1,"d":"0.10"},{"v":500,"d":"500.00"},{"v":0.3315,"d":"0.33"},{"v":425,"d":"425.00"},0.14,{"v":663,"d":"663.00"},{"v":0.1,"d":"0.10"},{"v":425,"d":"425.00"},0.14,null,1.7,0.85,850,315,425,210,500,{"v":178.5,"d":"179"},850,315,425,210,500,{"v":178.5,"d":"179"},null,1.7,0.85,{"v":2210.0000000000005,"d":"2,210"},{"v":1778.0000000000005,"d":"1,778"},{"v":1105.0000000000002,"d":"1,105"},{"v":1050.0000000000002,"d":"1,050"},{"v":1300.0000000000002,"d":"1,300"},{"v":892.5000000000001,"d":"893"},150,450,723,332,{"v":391.00000000000006,"d":"391"},null,100,200,{"v":291.00000000000006,"d":"291.00"},{"v":1105.0000000000002,"d":"1,105.00"},{"v":200.00000000000003,"d":"200.00"},{"v":1300.0000000000002,"d":"1,300.00"},{"v":170.00000000000003,"d":"170.00"},{"v":1937.0000000000005,"d":"1,937.00"},{"v":1105.0000000000002,"d":"1,105.00"},{"v":450,"d":"450.00"},{"v":1300.0000000000002,"d":"1,300.00"},{"v":382.5,"d":"382.50"},{"v":2210.0000000000005,"d":"2,210"},{"v":1105.0000000000002,"d":"1,105.00"},{"v":1300.0000000000002,"d":"1,300.00"},null,null,{"$f":"DA21","v":{"v":200,"d":"200.0"}},{"$f":"Sistema!C20","v":{"v":200,"d":"200.00"}},{"$nulls":6},{"$f":"Sistema_Ampliado!B18","v":{"v":0,"d":"0%"}},null,{"$f":"Sistema_Ampliado!D18","v":{"v":0,"d":"0%"}},{"$nulls":4},{"$f":"DZ14","v":{"v":0,"d":"0%"}},null,{"$f":"DJ21","v":{"v":0,"d":"0%"}}]
[1.8,0.9,360,250,180,154,200,{"v":138.6,"d":"139"},360,250,180,154,200,{"v":138.6,"d":"139"},null,1.8,0.9,360,100,180,36,200,{"v":32.4,"d":"32"},100,180,36,200,{"v":32.4,"d":"32"},null,null,0.9,{"v":306,"d":"306.00"},0.15,{"v":198,"d":"198.00"},{"v":0.4,"d":"0.40"},{"v":220,"d":"220.00"},{"v":0.36000000000000004,"d":"0.36"},{"v":306,"d":"306.00"},0.15,{"v":198,"d":"198.00"},{"v":0.4,"d":"0.40"},{"v":220,"d":"220.00"},{"v":0.36000000000000004,"d":"0.36"},null,null,0.9,{"v":702,"d":"702.00"},{"v":0.1,"d":"0.10"},{"v":500,"d":"500.00"},{"v":0.35100000000000003,"d":"0.35"},{"v":450,"d":"450.00"},0.14,{"v":702,"d":"702.00"},{"v":0.1,"d":"0.10"},{"v":450,"d":"450.00"},0.14,null,1.8,0.9,900,330,450,210,500,189,900,330,450,210,500,189,null,1.8,0.9,{"v":2340.0000000000005,"d":"2,340"},{"v":1882.0000000000005,"d":"1,882"},{"v":1170.0000000000002,"d":"1,170"},{"v":1050.0000000000002,"d":"1,050"},{"v":1300.0000000000002,"d":"1,300"},{"v":945.0000000000002,"d":"945"},150,450,762,358,{"v":404.00000000000006,"d":"404"},null,100,200,{"v":304.00000000000006,"d":"304.00"},{"v":1170.0000000000002,"d":"1,170.00"},{"v":200.00000000000003,"d":"200.00"},{"v":1300.0000000000002,"d":"1,300.00"},{"v":180.00000000000003,"d":"180.00"},{"v":2028.0000000000005,"d":"2,028.00"},{"v":1170.0000000000002,"d":"1,170.00"},{"v":450,"d":"450.00"},{"v":1300.0000000000002,"d":"1,300.00"},{"v":405,"d":"405.00"},{"v":2340.0000000000005,"d":"2,340"},{"v":1170.0000000000002,"d":"1,170.00"},{"v":1300.0000000000002,"d":"1,300.00"}]
[1.9,0.95,380,262,190,154,200,{"v":146.29999999999998,"d":"146"},380,262,190,154,200,{"v":146.29999999999998,"d":"146"},null,1.9,0.95,380,108,190,36,200,{"v":34.199999999999996,"d":"34"},108,190,36,200,{"v":34.199999999999996,"d":"34"},null,null,0.95,{"v":323,"d":"323.00"},0.15,{"v":209,"d":"209.00"},{"v":0.4,"d":"0.40"},{"v":220,"d":"220.00"},0.38,{"v":323,"d":"323.00"},0.15,{"v":209,"d":"209.00"},{"v":0.4,"d":"0.40"},{"v":220,"d":"220.00"},0.38,null,null,0.95,{"v":741,"d":"741.00"},{"v":0.1,"d":"0.10"},{"v":500,"d":"500.00"},{"v":0.3705,"d":"0.37"},{"v":475,"d":"475.00"},0.14,{"v":741,"d":"741.00"},{"v":0.1,"d":"0.10"},{"v":475,"d":"475.00"},0.14,null,1.9,0.95,950,345,475,210,{"$f":"$BG$30","v":500},{"v":199.5,"d":"200"},950,345,475,210,500,{"v":199.5,"d":"200"},null,1.9,0.95,{"v":2470.0000000000005,"d":"2,470"},{"v":1986.0000000000005,"d":"1,986"},{"v":1235.0000000000002,"d":"1,235"},{"v":1050.0000000000002,"d":"1,050"},{"v":1300.0000000000002,"d":"1,300"},{"v":997.5000000000001,"d":"998"},150,450,801,384,{"v":417.00000000000006,"d":"417"},null,100,200,{"v":317.00000000000006,"d":"317.00"},{"v":1235.0000000000002,"d":"1,235.00"},{"v":200.00000000000003,"d":"200.00"},{"v":1300.0000000000002,"d":"1,300.00"},{"v":190.00000000000003,"d":"190.00"},{"v":2119.0000000000005,"d":"2,119.00"},{"v":1235.0000000000002,"d":"1,235.00"},{"v":450,"d":"450.00"},{"v":1300.0000000000002,"d":"1,300.00"},{"v":427.5,"d":"427.50"},{"v":2470.0000000000005,"d":"2,470"},{"v":1235.0000000000002,"d":"1,235.00"},{"v":1300.0000000000002,"d":"1,300.00"},null,null,"EXPORTACIONES",{"$nulls":7},"GASTO DEL GOBIERNO",{"$nulls":3},"IMPUESTOS",null,null,"GASTO DEL GOBIERNO"]
[2,1,400,274,200,154,200,154,400,274,200,154,200,154,null,2,1,400,116,200,36,200,36,116,200,36,200,36,null,null,1,{"$f":"AE24*$AF$26","v":{"v":340,"d":"340.00"}},{"$f":"IF(((AF24-$AF$28-($AF$32*$AF$33))/$AF$29)>$AF$31,((AF24-$AF$28-($AF$32*$AF$33))/$AF$29),$AF$31)","v":0.15},{"v":220,"d":"220.00"},{"v":0.4,"d":"0.40"},{"v":220,"d":"220.00"},{"v":0.4,"d":"0.40"},{"v":340,"d":"340.00"},0.15,{"v":220,"d":"220.00"},{"v":0.4,"d":"0.40"},{"v":220,"d":"220.00"},{"v":0.4,"d":"0.40"},null,null,1,{"v":780,"d":"780.00"},{"$f":"IF(((AU24-$AU$28-($AU$29*$AU$30))/$AU$31)>$AU$32,((AU24-$AU$28-($AU$29*$AU$30))/$AU$31),$AU$32)","v":{"v":0.1,"d":"0.10"}},{"v":500,"d":"500.00"},0.39,{"v":500,"d":"500.00"},0.14,{"v":780,"d":"780.00"},{"$f":"IF(((BA24-$AV$28-($AV$29*$AV$30))/$AV$31)>$AV$32,((BA24-$AV$28-($AV$29*$AV$30))/$AV$31),$AV$32)","v":{"v":0.1,"d":"0.10"}},{"v":500,"d":"500.00"},0.14,null,2,1,{"v":1000,"d":"1,000"},360,500,210,{"$f":"$BG$30","v":500},210,{"v":1000,"d":"1,000"},360,500,210,500,210,null,2,1,{"v":2600.0000000000005,"d":"2,600"},{"v":2090.0000000000005,"d":"2,090"},{"v":1300.0000000000002,"d":"1,300"},{"v":1050.0000000000002,"d":"1,050"},{"v":1300.0000000000002,"d":"1,300"},{"v":1050.0000000000002,"d":"1,050"},150,450,840,410,{"v":430.00000000000006,"d":"430"},null,100,200,{"v":330.00000000000006,"d":"330.00"},{"v":1300.0000000000002,"d":"1,300.00"},{"v":200.00000000000003,"d":"200.00"},{"v":1300.0000000000002,"d":"1,300.00"},{"v":200.00000000000003,"d":"200.00"},{"v":2210.0000000000005,"d":"2,210.00"},{"v":1300.0000000000002,"d":"1,300.00"},{"v":450,"d":"450.00"},{"v":1300.0000000000002,"d":"1,300.00"},{"v":450,"d":"450.00"},{"v":2600.0000000000005,"d":"2,600"},{"v":1300.0000000000002,"d":"1,300.00"},{"v":1300.0000000000002,"d":"1,300.00"},null,null,"X","x0",{"$nulls":6},"G","g0",null,"SF","T","t0",null,"G","g0",null,"SF",{"$nulls":5},"FUNCIÓN ORIGINAL","CHOQUE","VARIACIÓN ABS","VARIACIÓN REL"]
[{"$nulls":103},{"$f":"DA25","v":{"v":50,"d":"50.0"}},{"$f":"Sistema!C28","v":{"v":50,"d":"50.00"}},{"$nulls":6},{"$f":"DI25","v":{"v":100,"d":"100.0"}},{"$f":"Sistema_Ampliado!C25","v":{"v":100,"d":"100.00"}},null,{"$f":"DL9-DH25","v":0},{"$f":"DM25","v":{"v":100,"d":"100.0"}},{"$f":"Sistema_Ampliado!C21","v":{"v":100,"d":"100.00"}},null,{"$f":"DP25","v":{"v":100,"d":"100.0"}},{"$f":"DW14","v":{"v":100,"d":"100.00"}},null,{"$f":"DS9-DO25","v":0}]
[{"$nulls":30},"COTA",{"$f":"MAX(AF34:AG34)","v":{"v":340,"d":"340.00"}},{"$nulls":5},{"$f":"AF28+(AF32*AF37)","v":{"v":40,"d":"40.00"}},{"$nulls":7},"COTA",{"$f":"MAX(AU40:AV40)","v":{"v":780,"d":"780.00"}},{"$nulls":3},"Ms","Interés",null,"Interés",{"$nulls":18},"Y",{"$f":"(1/(1-BV30+BV44))*(BV29-(BV30*BV31)+BV34+BV37+BV40-BV43)","v":{"v":1300.0000000000002,"d":"1,300.00"}},{"$nulls":52},"Y",{"$f":"DI5","v":{"v":1516.666666666667,"d":"1,516.67"}},{"$f":"DP5","v":{"v":1516.666666666667,"d":"1,516.67"}},{"$f":"DY26-DX26","v":0},{"$f":"(DY26/DX26)-1","v":{"v":0,"d":"0.00%"}}]
["C1",{"$f":"B28+(B29*(B30-B31))","v":{"v":154,"d":"154.00"}},{"$f":"C28+(C29*(C30-C31))","v":{"v":154,"d":"154.00"}},{"$nulls":12},"S1",{"$f":"Q28+(Q29*(Q30-Q31))","v":{"v":36,"d":"36.00"}},{"$f":"R28+(R29*(R30-R31))","v":{"v":36,"d":"36.00"}},{"$nulls":12},"I1",{"$f":"$AF$28+($AF$29*$AF$30)+($AF$32*$AF$33)","v":{"v":220,"d":"220.00"}},{"$f":"$AG$28+($AG$29*$AG$30)+($AG$32*$AG$33)","v":{"v":220,"d":"220.00"}},{"$nulls":12},"Md",{"$f":"AU28+(AU29*AU30)+(AU31*AU41)","v":{"v":500,"d":"500.00"}},{"$f":"AV28+(AV29*AV30)+(AV31*AV41)","v":{"v":500,"d":"500.00"}},null,null,{"$f":"$AV$35","v":{"v":500,"d":"500.00"}},{"$f":"MAX($BB$4:$BB$24)*AT4","v":{"v":0,"d":"0.00"}},null,{"$f":"MAX(AX4:AX24,AZ27:AZ47)*AT4","v":{"v":0,"d":"0.00"}},{"$nulls":3},"M1",{"$f":"BG28+(BG29*BG30)","v":{"v":210,"d":"210.00"}},{"$f":"BH28+(BH29*BH30)","v":{"v":210,"d":"210.00"}},{"$nulls":15},"da",{"$f":"BV29+(BV30*(BY37-BV31))+BV34+BV40-(BV43+(BV44*BY37))+BV37","v":{"v":1300.0000000000002,"d":"1,300.00"}},{"$nulls":26},"IMPORTACIONES",{"$nulls":7},"EXPORTACIONES",{"$nulls":6},"EXPORTACIONES",{"$nulls":7},"C",{"$f":"DH9","v":{"v":1193.3333333333337,"d":"1,193.33"}},{"$f":"DO9","v":{"v":1193.3333333333337,"d":"1,193.33"}},{"$f":"DY27-DX27","v":0},{"$f":"(DY27/DX27)-1","v":{"v":0,"d":"0.00%"}}]
["b0",{"$f":"Consumo!C8","v":{"v":40,"d":"40.00"}},{"$f":"Consumo!D8","v":{"v":40,"d":"40.00"}},{"$nulls":12},"s0",{"$f":"B28*-1","v":{"v":-40,"d":"-40.00"}},{"$f":"C28*-1","v":{"v":-40,"d":"-40.00"}},{"$nulls":12},"i0",{"$f":"Inversión!C7","v":{"v":40,"d":"40.00"}},{"$f":"Inversión!D7","v":{"v":40,"d":"40.00"}},{"$nulls":12},"m0",{"$f":"Dinero!C7","v":{"v":30,"d":"30.00"}},{"$f":"Dinero!D7","v":{"v":30,"d":"30.00"}},null,null,{"$f":"$AV$35","v":{"v":500,"d":"500.00"}},{"$f":"MAX($BB$4:$BB$24)*AT5","v":{"v":0.019500000000000003,"d":"0.02"}},null,{"$f":"MAX(AX5:AX25,AZ28:AZ48)*AT5","v":{"v":0.019500000000000003,"d":"0.02"}},{"$nulls":3},"m0",{"$f":"Importaciones!C7","v":{"v":60,"d":"60.00"}},{"$f":"Importaciones!D7","v":{"v":60,"d":"60.00"}},{"$nulls":12},"FUNCIÓN CONSUMO",null,null,"C",{"$f":"BV29+(BV30*(BV26-BV31))","v":{"v":1050.0000000000002,"d":"1,050.00"}},{"$nulls":26},"M","m0","m1","Y",{"$nulls":4},"X","x0",{"$nulls":5},"X","x0",{"$nulls":6},"S",{"$f":"DH13","v":{"v":223.33333333333331,"d":"223.33"}},{"$f":"DO13","v":{"v":223.33333333333331,"d":"223.33"}},0,{"$f":"(DY28/DX28)-1","v":{"v":0,"d":"0.00%"}}]
["b1",{"$f":"Consumo!C9","v":{"v":0.6,"d":"0.60"}},{"$f":"Consumo!D9","v":{"v":0.6,"d":"0.60"}},{"$nulls":12},"s1",{"$f":"1-B29","v":{"v":0.4,"d":"0.40"}},{"$f":"1-C29","v":{"v":0.4,"d":"0.40"}},{"$nulls":12},"i1",{"$f":"Inversión!C8","v":{"v":-300,"d":"-300.00"}},{"$f":"Inversión!D8","v":{"v":-300,"d":"-300.00"}},null,{"$f":"IF(((AF24-$AF$28-($AF$32*$AF$33))/$AF$29)>$AF$31,((AF24-$AF$28-($AF$32*$AF$33))/$AF$29),$AF$31)","v":0.15},{"$nulls":10},"m1",{"$f":"Dinero!C8","v":{"v":0.5,"d":"0.50"}},{"$f":"Dinero!D8","v":{"v":0.5,"d":"0.50"}},null,null,{"v":500,"d":"500.00"},{"v":0.03900000000000001,"d":"0.04"},null,{"v":0.03900000000000001,"d":"0.04"},{"$nulls":3},"m1",{"$f":"Importaciones!C8","v":{"v":0.3,"d":"0.30"}},{"$f":"Importaciones!D8","v":{"v":0.3,"d":"0.30"}},{"$nulls":12},"b0",{"$f":"Demanda_Agregada!D7","v":{"v":90,"d":"90.00"}},null,"I",{"$f":"BV34","v":{"v":150,"d":"150.00"}},{"$nulls":26},{"$f":"DA29+(DB29*DC29)","v":{"v":321.66666666666663,"d":"321.7"}},{"$f":"Sistema!C32","v":{"v":200,"d":"200.00"}},{"$f":"Sistema!D32","v":{"v":0.5,"d":"0.50"}},{"$f":"DA5","v":{"v":243.33333333333331,"d":"243.33"}},{"$nulls":4},{"$f":"DI29","v":{"v":150,"d":"150.0"}},{"$f":"Sistema_Ampliado!C33","v":{"v":150,"d":"150.00"}},{"$nulls":5},{"$f":"DP29","v":{"v":150,"d":"150.0"}},{"$f":"DX18","v":{"v":150,"d":"150.00"}},{"$nulls":6},"I",{"$f":"DH17","v":{"v":235,"d":"235.00"}},{"$f":"DO17","v":{"v":235,"d":"235.00"}},0,{"$f":"(DY29/DX29)-1","v":{"v":0,"d":"0.00%"}}]
["Y",{"$f":"Consumo!C10","v":{"v":200,"d":"200.00"}},{"$f":"Consumo!D10","v":{"v":200,"d":"200.00"}},{"$nulls":12},"Y",{"$f":"B30","v":{"v":200,"d":"200.00"}},{"$f":"C30","v":{"v":200,"d":"200.00"}},{"$nulls":12},"r",{"$f":"IF(Inversión!C9>Inversión!C10,Inversión!C9,Inversión!C10)","v":{"v":0.4,"d":"0.40"}},{"$f":"IF(Inversión!D9>Inversión!D10,Inversión!D9,Inversión!D10)","v":{"v":0.4,"d":"0.40"}},{"$nulls":12},"Y",{"$f":"Dinero!C9","v":{"v":1500,"d":"1,500.00"}},{"$f":"Dinero!D9","v":{"v":1500,"d":"1,500.00"}},null,null,{"v":500,"d":"500.00"},{"v":0.058499999999999996,"d":"0.06"},null,{"v":0.058499999999999996,"d":"0.06"},{"$nulls":3},"Y",{"$f":"Importaciones!C9","v":{"v":500,"d":"500.00"}},{"$f":"Importaciones!D9","v":{"v":500,"d":"500.00"}},{"$nulls":12},"b1",{"$f":"Demanda_Agregada!D8","v":{"v":0.8,"d":"0.80"}},null,"G",{"$f":"$BV$37","v":{"v":100,"d":"100.00"}},{"$nulls":49},"r",{"$f":"DK17","v":{"v":0,"d":"0%"}},{"$f":"DR17","v":{"v":0,"d":"0%"}},0,"nd"]
["t0",{"$f":"Consumo!C11","v":{"v":10,"d":"10.00"}},{"$f":"Consumo!D11","v":{"v":10,"d":"10.00"}},{"$nulls":12},"t0",{"$f":"B31","v":{"v":10,"d":"10.00"}},{"$f":"C31","v":{"v":10,"d":"10.00"}},{"$nulls":12},"r trampa",{"$f":"Inversión!C10","v":0.15},{"$f":"Inversión!D10","v":0.15},null,{"$f":"((AF24-$AF$28-($AF$32*$AF$33))/$AF$29)","v":{"v":0,"d":"0.00"}},{"$nulls":10},"m2",{"$f":"Dinero!C10","v":{"v":-2000,"d":"-2,000.00"}},{"$f":"Dinero!D10","v":{"v":-2000,"d":"-2,000.00"}},null,null,{"v":500,"d":"500.00"},{"v":0.07800000000000001,"d":"0.08"},null,{"v":0.07800000000000001,"d":"0.08"},{"$nulls":18},"t0",{"$f":"Demanda_Agregada!D9","v":{"v":100,"d":"100.00"}},null,"X",{"$f":"BV40","v":{"v":200,"d":"200.00"}},{"$nulls":26},"SBC",{"$nulls":7},"IMPORTACIONES",{"$nulls":6},"IMPORTACIONES",{"$nulls":7},"G",{"$f":"DH25","v":{"v":100,"d":"100.00"}},{"$f":"DO25","v":{"v":100,"d":"100.00"}},{"$f":"DY31-DX31","v":0},{"$f":"(DY31/DX31)-1","v":{"v":0,"d":"0.00%"}}]
[{"$nulls":30},"i2",{"$f":"Inversión!C11","v":{"v":50,"d":"50.00"}},{"$f":"Inversión!D11","v":{"v":50,"d":"50.00"}},{"$nulls":12},"r Trampa de Liquidez",{"$f":"Dinero!C11","v":{"v":0.1,"d":"10%"}},{"$f":"AU32","v":{"v":0.1,"d":"10%"}},null,null,{"v":500,"d":"500.00"},{"v":0.0975,"d":"0.10"},null,{"v":0.0975,"d":"0.10"},{"$nulls":18},"C",{"$f":"BY28","v":{"v":1050.0000000000002,"d":"1,050.00"}},null,"Q",{"$f":"BV43+(BV44*BV26)","v":{"v":200.00000000000003,"d":"200.00"}},{"$nulls":26},{"$f":"CZ25-CZ29","v":{"v":-271.66666666666663,"d":"(271.7)"}},{"$nulls":7},"Q","q0","q1","Y",{"$nulls":3},"Q","q0","q1","Y",{"$nulls":4},"SF",{"$f":"DK25","v":0},{"$f":"DR25","v":0},0,{"$f":"(DZ32/DY26)","v":{"v":0,"d":"0.00%"}}]
["NUEVO NIVEL DE IMPUESTOS",{"$nulls":14},"NUEVO NIVEL DE IMPUESTOS",{"$nulls":14},"Emk0",{"$f":"Inversión!C12","v":{"v":6,"d":"6.00"}},{"$f":"Inversión!D12","v":{"v":6,"d":"6.00"}},{"$nulls":12},"r equilibrio",{"$f":"(AU35-AU28-(AU29*AU30))/AU31","v":0.14},{"$f":"(AV35-AV28-(AV29*AV30))/AV31","v":0.14},null,null,{"v":500,"d":"500.00"},{"v":0.11699999999999999,"d":"0.12"},null,{"v":0.11699999999999999,"d":"0.12"},{"$nulls":3},"NUEVA PROPENSIÓN MARGINAL A IMPORTAR",{"$nulls":14},"INVERSIÓN",null,null,"S",{"$f":"-BV29+((1-BV30)*(BV26-BV31))","v":150},{"$nulls":34},{"$f":"DI33+(DJ33*DK33)","v":{"v":161.6666666666667,"d":"161.7"}},{"$f":"Sistema_Ampliado!C37","v":{"v":10,"d":"10.00"}},{"$f":"Sistema_Ampliado!D37","v":{"v":0.1,"d":"0.10"}},{"$f":"DI5","v":{"v":1516.666666666667,"d":"1,516.67"}},{"$nulls":3},{"$f":"DP33+(DQ33*DR33)","v":{"v":161.6666666666667,"d":"161.7"}},{"$f":"DY18","v":{"v":10,"d":"10.00"}},{"$f":"DZ18","v":{"v":0.1,"d":"0.10"}},{"$f":"DP5","v":{"v":1516.666666666667,"d":"1,516.67"}},{"$nulls":4},"x",{"$f":"DH29","v":{"v":150,"d":"150.00"}},{"$f":"DO29","v":{"v":150,"d":"150.00"}},{"$f":"DY33-DX33","v":0},{"v":0,"d":"0.00%"}]
["t1",{"v":50,"d":"50.00"},{"v":50,"d":"50.00"},{"$nulls":12},"t1",{"v":50,"d":"50.00"},{"$nulls":14},{"$f":"AF28+(AF32*AF33)","v":340},{"$f":"AG28+(AG32*AG33)","v":340},{"$nulls":12},"FUNCIÓN DE OFERTA DE DINERO",{"$nulls":4},{"v":500,"d":"500.00"},{"v":0.13649999999999998,"d":"0.14"},null,{"v":0.13649999999999998,"d":"0.14"},{"$nulls":3},"m1'",{"v":0.2,"d":"0.20"},{"$nulls":13},"I",{"$f":"Demanda_Agregada!D13","v":{"v":150,"d":"150.00"}},null,"I+G+X",{"$f":"BY29+BY30+BY31","v":{"v":450,"d":"450.00"}},{"$nulls":49},"Q",{"$f":"DH33","v":{"v":161.6666666666667,"d":"161.67"}},{"$f":"DO33","v":{"v":161.6666666666667,"d":"161.67"}},{"$f":"DY34-DX34","v":0},{"v":0,"d":"0.00%"}]
[{"$nulls":45},"Ms",{"$f":"Dinero!C14","v":{"v":500,"d":"500.00"}},{"$f":"Dinero!D14","v":{"v":500,"d":"500.00"}},null,null,{"v":500,"d":"500.00"},{"v":0.15600000000000003,"d":"0.16"},null,{"v":0.15600000000000003,"d":"0.16"},{"$nulls":21},"S+T+Q",{"$f":"BY33+BV31+BY32","v":{"v":450,"d":"450.00"}},{"$nulls":26},"DEMANDA DE DINERO",{"$nulls":10},"MULTIPLICADOR",{"$nulls":6},"MULTIPLICADOR",{"$nulls":4},"SBC",{"$f":"DH37","v":{"v":-11.666666666666714,"d":"-11.67"}},{"$f":"DO37","v":{"v":-11.666666666666714,"d":"-11.67"}},{"$f":"DY35-DX35","v":0},{"v":0,"d":"0.00%"}]
[{"$nulls":30},"NUEVO NIVEL EFICIENCIA MARGINAL DEL CAPITAL",{"$nulls":14},"NUEVO NIVEL DE m2",{"$nulls":4},{"v":500,"d":"500.00"},{"v":0.17550000000000002,"d":"0.18"},null,{"v":0.17550000000000002,"d":"0.18"},{"$nulls":18},"GOBIERNO",{"$nulls":30},"MD","m0","m1","Y","m2","r",null,null,"SBC",{"$nulls":6},"SBC",{"$nulls":7},"Multiplicador",{"$f":"DK37","v":{"v":3.333333333333334,"d":"3.33"}},{"$f":"DR37","v":{"v":3.333333333333334,"d":"3.33"}},{"$f":"DY36-DX36","v":0},{"v":0,"d":"0.00%"}]
["C2",{"$f":"B28+(B29*(B30-B34))","v":{"v":130,"d":"130.00"}},{"$nulls":13},"S2",{"$f":"Q28+(Q29*(Q30-Q34))","v":{"v":20,"d":"20.00"}},{"$nulls":13},"Emk1",{"v":0,"d":"0.00"},{"$nulls":13},"m2",{"v":80,"d":"80.00"},{"$nulls":3},{"v":500,"d":"500.00"},{"v":0.195,"d":"0.20"},null,{"v":0.195,"d":"0.20"},{"$nulls":3},"M2",{"$nulls":14},"G",{"$f":"Demanda_Agregada!D16","v":{"v":100,"d":"100.00"}},null,"y",{"$f":"(BV29-(BV30*BV31)+BV34+BV40-BV43+BV37)/(1-BV30+BV44)","v":{"v":1300.0000000000002,"d":"1,300.00"}},{"$nulls":26},{"$f":"DA37+(DB37*DC37)+(DD37*DE37)","v":{"$error":"#DIV/0!"}},{"$f":"Sistema!C37","v":{"v":0,"d":"0.00"}},{"$f":"Sistema!D37","v":{"v":0,"d":"0.00"}},{"$f":"DA5","v":{"v":243.33333333333331,"d":"243.33"}},{"$f":"Sistema!F37","v":{"v":0,"d":"0.00"}},{"$f":"(DA41-DA37-(DB37*DC37))/DD37","v":{"$error":"#DIV/0!"}},null,null,{"$f":"DH29-DH33","v":{"v":-11.666666666666714,"d":"(11.7)"}},null,null,{"$f":"1/(1-DJ9+DJ33)","v":{"v":3.333333333333334,"d":"3.3"}},{"$nulls":3},{"$f":"DO29-DO33","v":{"v":-11.666666666666714,"d":"(11.7)"}},null,null,{"$f":"1/(1-DQ9+DQ33)","v":{"v":3.333333333333334,"d":"3.3"}}]
["Var",{"$f":"B37-B27","v":{"v":-24,"d":"-24.00"}},{"$nulls":13},"Var",{"$f":"Q37-Q27","v":{"v":-16,"d":"-16.00"}},{"$nulls":13},"I2",{"$nulls":19},{"v":500,"d":"500.00"},{"v":0.21450000000000002,"d":"0.21"},null,{"v":0.21450000000000002,"d":"0.21"},{"$nulls":3},"Var",{"$f":"BH27-BG27","v":{"v":0,"d":"0.00"}}]
[{"$nulls":30},"Var",{"$f":"AG27-AF27","v":{"v":0,"d":"0.00"}},{"$nulls":13},"Resultados","INICIAL","FINAL",null,null,{"v":500,"d":"500.00"},{"v":0.23399999999999999,"d":"0.23"},null,{"v":0.23399999999999999,"d":"0.23"},{"$nulls":18},"EXPORTACIONES",{"$nulls":30},"OFERTA DE DINERO",null,null,"TRAMPA DE LIQUIDEZ",{"$nulls":4},"Y","DA",{"$nulls":13},"DEMANDA DE DINERO",{"$nulls":6},"DEMANDA DE DINERO"]
[{"$nulls":46},{"$f":"AU28+(AU29*AU30)","v":780},{"$f":"AV28+(AV29*AV30)","v":780},null,null,{"v":500,"d":"500.00"},{"v":0.2535,"d":"0.25"},null,{"v":0.2535,"d":"0.25"},{"$nulls":18},"X",{"$f":"Demanda_Agregada!D19","v":{"v":200,"d":"200.00"}},{"$nulls":29},"Ms","Ms",null,"Ms","Ms",{"$nulls":3},{"$f":"DI5","v":{"v":1516.666666666667,"d":"1,516.67"}},{"$f":"DH9+DH17+DH25+DH29-DH33","v":{"v":1516.666666666667,"d":"1,516.7"}},{"$f":"DH40-DI40","v":0},null,"S",{"$nulls":10},"MD","m0","m1","Y","m2","r",null,"MD","m0","m1","Y","m2","r"]
[{"$nulls":45},"r",{"$f":"IF(AU33>AU32,AU33,AU32)","v":{"v":0.14,"d":"14%"}},{"$f":"IF(AV33>AV32,AV33,AV32)","v":{"v":0.14,"d":"14%"}},null,null,{"v":500,"d":"500.00"},{"v":0.27299999999999996,"d":"0.27"},null,{"v":0.27299999999999996,"d":"0.27"},{"$nulls":49},{"$f":"DA41","v":0},{"$f":"Sistema!C41","v":{"v":0,"d":"0.00"}},null,{"$f":"DD41","v":0},{"$f":"Sistema!F41","v":{"v":0,"d":"0.00"}},{"$nulls":3},"i+g+x","s+t+q",null,null,"I",{"$nulls":10},{"$f":"DX41+(DY41*DZ41)+(EA41*EB41)","v":{"$error":"#DIV/0!"}},{"$f":"Sistema_Ampliado!O47","v":{"v":0,"d":"0.00"}},{"$f":"Sistema_Ampliado!P47","v":{"v":0,"d":"0.00"}},{"$f":"DI5","v":{"v":1516.666666666667,"d":"1,516.67"}},{"$f":"Sistema_Ampliado!R49","v":{"v":0,"d":"0.00"}},{"$f":"(DH44-DX41-(DY41*DZ41))/EA41","v":{"$error":"#DIV/0!"}},null,{"$f":"EE41+(EF41*EG41)+(EH41*EI41)","v":{"$error":"#DIV/0!"}},{"$f":"DX41","v":{"v":0,"d":"0.00"}},{"$f":"DY41","v":{"v":0,"d":"0.00"}},{"$f":"DP5","v":{"v":1516.666666666667,"d":"1,516.67"}},{"$f":"EA41","v":{"v":0,"d":"0.00"}},{"$f":"(DO44-EE41-(EF41*EG41))/EH41","v":{"$error":"#DIV/0!"}}]
[{"$nulls":50},{"v":500,"d":"500.00"},{"v":0.2925,"d":"0.29"},null,{"v":0.2925,"d":"0.29"},{"$nulls":18},"IMPORTACIONES",{"$nulls":38},{"$f":"DH17+DH25+DH29","v":{"v":485,"d":"485.0"}},{"$f":"DH13+DL9+DH33","v":{"v":485,"d":"485.00"}},{"$f":"DH42-DI42","v":0},{"$nulls":4},"TRAMPA DE LIQUIDEZ"]
[{"$nulls":50},{"v":500,"d":"500.00"},{"v":0.31200000000000006,"d":"0.31"},null,{"v":0.31200000000000006,"d":"0.31"},{"$nulls":18},"m0",{"$f":"Demanda_Agregada!D22","v":{"v":70,"d":"70.00"}},{"$nulls":44},"Ms"]
[{"$nulls":50},{"v":500,"d":"500.00"},{"v":0.3315,"d":"0.33"},null,{"v":0.3315,"d":"0.33"},{"$nulls":18},"m1",{"$f":"Demanda_Agregada!D23","v":{"v":0.1,"d":"0.10"}},{"$nulls":44},{"$f":"DH44","v":{"v":0,"d":"0.00"}}]
[{"$nulls":50},{"v":500,"d":"500.00"},{"v":0.35100000000000003,"d":"0.35"},null,{"v":0.35100000000000003,"d":"0.35"},{"$nulls":18},"Q",{"$f":"BY32","v":{"v":200.00000000000003,"d":"200.00"}}]
[{"$nulls":50},{"v":500,"d":"500.00"},{"v":0.3705,"d":"0.37"},null,{"v":0.3705,"d":"0.37"}]
[{"$nulls":50},{"v":500,"d":"500.00"},0.39,null,0.39]
[]
["SISTEMA CON GRÀFICAS"]
[{"$nulls":22},"CONSUMO",{"$nulls":14},"AHORRO",{"$nulls":14},"INVERSIÓN",{"$nulls":13},"IMPORTACIONES",{"$nulls":14},"MERCADO DE DINERO",{"$nulls":7},"ORIGINAL",{"$nulls":30},"AMPLIADO"]
["SISTEMA ORIGINAL",{"$nulls":6},"SISTEMA CON CHOQUES",{"$nulls":14},"Unidades","Ponderador","Ingreso","Consumo","plin",null,"xlin",null,"Ingreso 2","Consumo 2","plin",null,"xlin",null,null,"Unidades","Ponderador","Ingreso","Ahorro","plin",null,"xlin",null,"Ingreso 2","Ahorro 2","plin",null,"xlin",null,null,"Ponderador","Inversión","Interés","plin",null,"xlin",null,"Inversión 2","Interés 2","plin",null,"xlin",null,null,"Unidades","Ponderador","Ingreso","Importaciones","plin",null,"xlin",null,"Ingreso 2","Importaciones 2","plin",null,"xlin",null,null,"Ponderador","Md","Interés","Ms","Interés","plin",null,null,"Unidades","Ponderador","Ingreso","Consumo","Inversión","C + I Inicial","plin",null,"xlin",null,"G","Exportaciones","Importaciones","C+I+G+X-M Inicial","plin",null,"xlin",null,"DA","plin",{"$nulls":3},"Unidades","Ponderador","Ingreso","Consumo","Inversión","C + I Final","plin",null,"xlin",null,"G","Exportaciones","Importaciones","C+I+G+X-M Final","plin",null,"xlin",null,"DA","plin"]
[{"$nulls":22},0,0,{"$f":"$X$78*W52","v":0},{"$f":"X$76+(X$77*(Y52-X$79))","v":{"v":-20,"d":"(20)"}},{"$f":"X52*$X$78","v":0},{"$f":"$X$84","v":{"v":446.66666666666674,"d":"447"}},{"$f":"$X$78","v":{"v":583.3333333333334,"d":"583"}},{"$f":"X52*$X$84","v":0},{"$f":"$Y$78*W52","v":0},{"$f":"Y$76+(Y$77*(AE52-Y$79))","v":{"v":-20,"d":"(20)"}},{"$f":"X52*$Y$78","v":0},{"$f":"$Y$84","v":{"v":446.66666666666674,"d":"447"}},{"$f":"$Y$78","v":{"v":583.3333333333334,"d":"583"}},{"$f":"X52*$Y$84","v":0},null,0,0,{"$f":"$AM$78*AL52","v":0},{"$f":"$AM$76+($AM$77*(AN52-$AM$79))","v":{"v":-80,"d":"(80)"}},{"$f":"AM52*$AM$78","v":0},{"$f":"$AM$84","v":{"v":36.66666666666666,"d":"37"}},{"$f":"$AM$78","v":{"v":583.3333333333334,"d":"583"}},{"$f":"AM52*$AM$84","v":0},{"$f":"$AN$78*AL52","v":0},{"$f":"$AN$76+($AN$77*(AT52-$AN$79))","v":{"v":-80,"d":"(80)"}},{"$f":"AM52*$AN$78","v":0},{"$f":"$AN$84","v":{"v":36.66666666666666,"d":"37"}},{"$f":"$AN$78","v":{"v":583.3333333333334,"d":"583"}},{"$f":"AM52*$AN$84","v":0},null,0,{"$f":"BA52*$BB$74","v":{"v":0,"d":"0.00"}},{"v":5,"d":"5.00"},{"$f":"BA52*$BB$85","v":{"v":0,"d":"0.00"}},{"$f":"$BB$78","v":{"v":0,"d":"0.00"}},{"$f":"$BB$85","v":{"v":100,"d":"100.00"}},{"$f":"$BB$78*BA52","v":{"v":0,"d":"0.00"}},{"$f":"BA52*$BH$74","v":{"v":0,"d":"0.00"}},{"$f":"(BH52-$BC$76-($BC$79*$BC$80))/$BC$77","v":{"$error":"#DIV/0!"}},{"$f":"BA52*$BC$85","v":{"v":0,"d":"0.00"}},{"$f":"$BC$78","v":{"v":0,"d":"0.00"}},{"$f":"$BC$85","v":{"v":100,"d":"100.00"}},{"$f":"$BC$78*BA52","v":{"v":0,"d":"0.00"}},null,0,0,{"$f":"$BP$78*BO52","v":0},{"$f":"$BP$76+($BP$77*BQ52)","v":30},{"$f":"BP52*$BP$78","v":0},{"$f":"$BP$84","v":{"v":263.33333333333337,"d":"263"}},{"$f":"$BP$78","v":{"v":583.3333333333334,"d":"583"}},{"$f":"BP52*$BP$84","v":0},{"$f":"$BQ$78*BO52","v":0},{"$f":"$BQ$76+($BQ$77*BW52)","v":30},{"$f":"BP52*$BQ$78","v":0},{"$f":"$BQ$84","v":{"v":263.33333333333337,"d":"263"}},{"$f":"$BQ$78","v":{"v":583.3333333333334,"d":"583"}},{"$f":"BP52*$BQ$84","v":0},null,0,{"$f":"AT4*$CF$74","v":{"$error":"#REF!"}},{"$f":"($CF$76-CE52+($CF$77*$CF$78))/($CF$79*-1)","v":{"$error":"#REF!"}},{"$f":"$CF$82","v":{"$error":"#REF!"}},{"$f":"MAX($CF$52:$CF$72)*CD52","v":{"$error":"#REF!"}},{"$f":"$CF$82*CD52","v":{"$error":"#REF!"}},{"$f":"$CF$89","v":{"$error":"#REF!"}},null,0,0,{"$f":"MAX($CM$74,$CP$83)*CL52","v":0},{"$f":"CM77+(CM78*(CN52-CM79))","v":{"v":-20,"d":"(20)"}},{"$f":"$CM$82","v":100},{"$f":"CO52+CP52","v":80},{"$f":"$CM$74*CM52","v":0},{"$f":"$CP$74","v":{"v":446.66666666666674,"d":"447"}},{"$f":"$CM$74","v":{"v":583.3333333333334,"d":"583"}},{"$f":"CM52*$CP$80","v":0},{"$f":"$CM$85","v":100},{"$f":"$CM$88","v":200},{"$f":"$CM$91+($CM$92*CN52)","v":{"v":30,"d":"30.00"}},{"$f":"($CM$77+($CM$78*(CN52-$CM$79)))+$CP$75+$CP$76+$CP$77-($CM$91+($CM$92*CN52))","v":{"v":350,"d":"350.00"}},{"$f":"CM52*$CM$74","v":0},{"$f":"$CP$81","v":{"v":583.3333333333334,"d":"583.33"}},{"$f":"$CM$74","v":{"v":583.3333333333334,"d":"583.33"}},{"$f":"CM52*$CP$81","v":0},{"$f":"CN52","v":0},{"$f":"CM52*$CP$83","v":0},{"$f":"$CP$83","v":{"v":583.3333333333334,"d":"583.33"}},null,null,0,0,{"$f":"MAX($DJ$74,$DM$83)*DI52","v":0},{"$f":"$DJ$77+($DJ$78*(DK52-$DJ$79))","v":{"v":-20,"d":"(20)"}},{"$f":"$DJ$82","v":100},{"$f":"DL52+DM52","v":80},{"$f":"$DJ$74*DJ52","v":0},{"$f":"$DM$80","v":{"v":546.6666666666667,"d":"547"}},{"$f":"$DJ$74","v":{"v":583.3333333333334,"d":"583"}},{"$f":"DJ52*$DM$80","v":0},{"$f":"$DJ$85","v":100},{"$f":"$DJ$88","v":200},{"$f":"$DJ$91+($DJ$92*DK52)","v":{"v":30,"d":"30.00"}},{"$f":"($DJ$77+($DJ$78*(DK52-$DJ$79)))+$DM$75+$DM$76+$DM$77-($DJ$91+($DJ$92*DK52))","v":{"v":350,"d":"350.00"}},{"$f":"DJ52*$DJ$74","v":0},{"$f":"$DM$81","v":{"v":583.3333333333334,"d":"583.33"}},{"$f":"$DJ$74","v":{"v":583.3333333333334,"d":"583.33"}},{"$f":"DJ52*$DM$81","v":0},{"$f":"DK52","v":0},{"$f":"DJ52*$DM$83","v":0},{"$f":"$DM$83","v":{"v":583.3333333333334,"d":"583.33"}}]
["Y",{"$f":"(1/(1-C57+C81))*(B57-(C57*E57)+A65+A69+D77-B81)","v":{"v":583.3333333333334,"d":"583.33"}},{"$nulls":5},"Y",{"$f":"(1/(1-J57+J81))*(I57-(J57*L57)+H65+H77+K77-I81)","v":{"v":583.3333333333334,"d":"583.33"}},{"$nulls":13},0.1,0.05,{"$f":"$X$78*W53","v":{"v":58.33333333333334,"d":"58"}},{"$f":"X$76+(X$77*(Y53-X$79))","v":{"v":26.66666666666667,"d":"27"}},{"v":29.16666666666667,"d":"29"},{"v":446.66666666666674,"d":"447"},{"v":583.3333333333334,"d":"583"},{"v":22.33333333333334,"d":"22"},{"$f":"$Y$78*W53","v":{"v":58.33333333333334,"d":"58"}},{"$f":"Y$76+(Y$77*(AE53-Y$79))","v":{"v":26.66666666666667,"d":"27"}},{"v":29.16666666666667,"d":"29"},{"v":446.66666666666674,"d":"447"},{"v":583.3333333333334,"d":"583"},{"v":22.33333333333334,"d":"22"},null,0.1,0.05,{"v":58.33333333333334,"d":"58"},{"v":-68.33333333333333,"d":"(68)"},{"v":29.16666666666667,"d":"29"},{"v":36.66666666666666,"d":"37"},{"v":583.3333333333334,"d":"583"},{"v":1.833333333333333,"d":"2"},{"v":58.33333333333334,"d":"58"},{"v":-68.33333333333333,"d":"(68)"},{"v":29.16666666666667,"d":"29"},{"v":36.66666666666666,"d":"37"},{"v":583.3333333333334,"d":"583"},{"v":1.833333333333333,"d":"2"},null,0.05,{"v":5,"d":"5.00"},{"$f":"(BB53-$BB$76-($BB$79*$BB$80))/$BB$77","v":{"$error":"#DIV/0!"}},{"v":5,"d":"5.00"},{"v":0,"d":"0.00"},{"v":100,"d":"100.00"},{"v":0,"d":"0.00"},{"$f":"BA53*$BH$74","v":{"v":5,"d":"5.00"}},{"$f":"(BH53-$BC$76-($BC$79*$BC$80))/$BC$77","v":{"$error":"#DIV/0!"}},{"v":5,"d":"5.00"},{"v":0,"d":"0.00"},{"v":100,"d":"100.00"},{"v":0,"d":"0.00"},null,0.1,0.05,{"v":58.33333333333334,"d":"58"},{"v":53.33333333333334,"d":"53"},{"v":29.16666666666667,"d":"29"},{"v":263.33333333333337,"d":"263"},{"v":583.3333333333334,"d":"583"},{"v":13.16666666666667,"d":"13"},{"v":58.33333333333334,"d":"58"},{"$f":"$BQ$76+($BQ$77*BW53)","v":{"v":53.33333333333334,"d":"53"}},{"v":29.16666666666667,"d":"29"},{"v":263.33333333333337,"d":"263"},{"v":583.3333333333334,"d":"583"},{"v":13.16666666666667,"d":"13"},null,0.05,{"$error":"#REF!"},{"$f":"($CF$76-CE53+($CF$77*$CF$78))/($CF$79*-1)","v":{"$error":"#REF!"}},{"$error":"#REF!"},{"$f":"MAX($CF$52:$CF$72)*CD53","v":{"$error":"#REF!"}},{"$error":"#REF!"},{"$error":"#REF!"},null,0.1,0.05,{"$f":"MAX($CM$74,$CP$83)*CL53","v":{"v":58.33333333333334,"d":"58"}},{"$f":"$CM$77+($CM$78*(CN53-$CM$79))","v":{"v":26.66666666666667,"d":"27"}},100,{"v":126.66666666666667,"d":"127"},{"v":29.16666666666667,"d":"29"},{"$f":"$CP$74","v":{"v":446.66666666666674,"d":"447"}},{"v":583.3333333333334,"d":"583"},{"v":27.33333333333334,"d":"27"},100,200,{"v":53.33333333333334,"d":"53.33"},{"$f":"($CM$77+($CM$78*(CN53-$CM$79)))+$CP$75+$CP$76+$CP$77-($CM$91+($CM$92*CN53))","v":{"v":373.33333333333337,"d":"373.33"}},{"v":29.16666666666667,"d":"29.17"},{"v":583.3333333333334,"d":"583.33"},{"v":583.3333333333334,"d":"583.33"},{"v":29.16666666666667,"d":"29.17"},{"$f":"CN53","v":{"v":58.33333333333334,"d":"58"}},{"v":29.16666666666667,"d":"29.17"},{"v":583.3333333333334,"d":"583.33"},null,null,0.1,0.05,{"$f":"MAX($DJ$74,$DM$83)*DI53","v":{"v":58.33333333333334,"d":"58"}},{"$f":"$DJ$77+($DJ$78*(DK53-$DJ$79))","v":{"v":26.66666666666667,"d":"27"}},{"$f":"$DJ$82","v":100},{"$f":"DL53+DM53","v":{"v":126.66666666666667,"d":"127"}},{"$f":"$DJ$74*DJ53","v":{"v":29.16666666666667,"d":"29"}},{"$f":"$DM$80","v":{"v":546.6666666666667,"d":"547"}},{"$f":"$DJ$74","v":{"v":583.3333333333334,"d":"583"}},{"$f":"DJ53*$DM$80","v":{"v":27.33333333333334,"d":"27"}},{"$f":"$DJ$85","v":100},{"$f":"$DJ$88","v":200},{"$f":"$DJ$91+($DJ$92*DK53)","v":{"v":53.33333333333334,"d":"53.33"}},{"$f":"($DJ$77+($DJ$78*(DK53-$DJ$79)))+$DM$75+$DM$76+$DM$77-($DJ$91+($DJ$92*DK53))","v":{"v":373.33333333333337,"d":"373.33"}},{"$f":"DJ53*$DJ$74","v":{"v":29.16666666666667,"d":"29.17"}},{"$f":"$DM$81","v":{"v":583.3333333333334,"d":"583.33"}},{"$f":"$DJ$74","v":{"v":583.3333333333334,"d":"583.33"}},{"v":29.16666666666667,"d":"29.17"},{"$f":"DK53","v":{"v":58.33333333333334,"d":"58"}},{"v":29.16666666666667,"d":"29.17"},{"$f":"$DM$83","v":{"v":583.3333333333334,"d":"583.33"}}]
[{"$nulls":22},0.2,0.1,{"$f":"$X$78*W54","v":{"v":116.66666666666669,"d":"117"}},{"v":73.33333333333334,"d":"73"},{"v":58.33333333333334,"d":"58"},{"v":446.66666666666674,"d":"447"},{"v":583.3333333333334,"d":"583"},{"v":44.66666666666668,"d":"45"},{"$f":"$Y$78*W54","v":{"v":116.66666666666669,"d":"117"}},{"v":73.33333333333334,"d":"73"},{"v":58.33333333333334,"d":"58"},{"v":446.66666666666674,"d":"447"},{"v":583.3333333333334,"d":"583"},{"v":44.66666666666668,"d":"45"},null,0.2,0.1,{"v":116.66666666666669,"d":"117"},{"v":-56.666666666666664,"d":"(57)"},{"v":58.33333333333334,"d":"58"},{"v":36.66666666666666,"d":"37"},{"v":583.3333333333334,"d":"583"},{"v":3.666666666666666,"d":"4"},{"v":116.66666666666669,"d":"117"},{"v":-56.666666666666664,"d":"(57)"},{"v":58.33333333333334,"d":"58"},{"v":36.66666666666666,"d":"37"},{"v":583.3333333333334,"d":"583"},{"v":3.666666666666666,"d":"4"},null,0.1,{"v":10,"d":"10.00"},{"$error":"#DIV/0!"},{"v":10,"d":"10.00"},{"v":0,"d":"0.00"},{"v":100,"d":"100.00"},{"v":0,"d":"0.00"},{"v":10,"d":"10.00"},{"$error":"#DIV/0!"},{"v":10,"d":"10.00"},{"v":0,"d":"0.00"},{"v":100,"d":"100.00"},{"v":0,"d":"0.00"},null,0.2,0.1,{"v":116.66666666666669,"d":"117"},{"v":76.66666666666669,"d":"77"},{"v":58.33333333333334,"d":"58"},{"v":263.33333333333337,"d":"263"},{"v":583.3333333333334,"d":"583"},{"v":26.33333333333334,"d":"26"},{"v":116.66666666666669,"d":"117"},{"v":76.66666666666669,"d":"77"},{"v":58.33333333333334,"d":"58"},{"v":263.33333333333337,"d":"263"},{"v":583.3333333333334,"d":"583"},{"v":26.33333333333334,"d":"26"},null,0.1,{"$error":"#REF!"},{"$error":"#REF!"},{"$error":"#REF!"},{"$error":"#REF!"},{"$error":"#REF!"},{"$error":"#REF!"},null,0.2,0.1,{"v":116.66666666666669,"d":"117"},{"v":73.33333333333334,"d":"73"},100,{"v":173.33333333333334,"d":"173"},{"v":58.33333333333334,"d":"58"},{"v":446.66666666666674,"d":"447"},{"v":583.3333333333334,"d":"583"},{"v":54.66666666666668,"d":"55"},100,200,{"v":76.66666666666669,"d":"76.67"},{"v":396.6666666666667,"d":"396.67"},{"v":58.33333333333334,"d":"58.33"},{"v":583.3333333333334,"d":"583.33"},{"v":583.3333333333334,"d":"583.33"},{"v":58.33333333333334,"d":"58.33"},{"v":116.66666666666669,"d":"117"},{"v":58.33333333333334,"d":"58.33"},{"v":583.3333333333334,"d":"583.33"},null,null,0.2,0.1,{"v":116.66666666666669,"d":"117"},{"v":73.33333333333334,"d":"73"},100,{"v":173.33333333333334,"d":"173"},{"v":58.33333333333334,"d":"58"},{"v":546.6666666666667,"d":"547"},{"v":583.3333333333334,"d":"583"},{"v":54.66666666666668,"d":"55"},100,200,{"v":76.66666666666669,"d":"76.67"},{"v":396.6666666666667,"d":"396.67"},{"v":58.33333333333334,"d":"58.33"},{"v":583.3333333333334,"d":"583.33"},{"v":583.3333333333334,"d":"583.33"},{"v":58.33333333333334,"d":"58.33"},{"v":116.66666666666669,"d":"117"},{"v":58.33333333333334,"d":"58.33"},{"v":583.3333333333334,"d":"583.33"}]
["CONSUMO",{"$nulls":6},"CONSUMO",{"$nulls":14},0.3,0.15,175,120,{"v":87.5,"d":"88"},{"v":446.66666666666674,"d":"447"},{"v":583.3333333333334,"d":"583"},{"v":67.00000000000001,"d":"67"},175,120,{"v":87.5,"d":"88"},{"v":446.66666666666674,"d":"447"},{"v":583.3333333333334,"d":"583"},{"v":67.00000000000001,"d":"67"},null,0.3,0.15,175,{"v":-45,"d":"(45)"},{"v":87.5,"d":"88"},{"v":36.66666666666666,"d":"37"},{"v":583.3333333333334,"d":"583"},{"v":5.499999999999998,"d":"6"},175,{"v":-45,"d":"(45)"},{"v":87.5,"d":"88"},{"v":36.66666666666666,"d":"37"},{"v":583.3333333333334,"d":"583"},{"v":5.499999999999998,"d":"6"},null,0.15,{"v":15,"d":"15.00"},{"$error":"#DIV/0!"},{"v":15,"d":"15.00"},{"v":0,"d":"0.00"},{"v":100,"d":"100.00"},{"v":0,"d":"0.00"},{"v":15,"d":"15.00"},{"$error":"#DIV/0!"},{"v":15,"d":"15.00"},{"v":0,"d":"0.00"},{"v":100,"d":"100.00"},{"v":0,"d":"0.00"},null,0.3,0.15,175,100,{"v":87.5,"d":"88"},{"v":263.33333333333337,"d":"263"},{"v":583.3333333333334,"d":"583"},{"v":39.50000000000001,"d":"40"},175,100,{"v":87.5,"d":"88"},{"v":263.33333333333337,"d":"263"},{"v":583.3333333333334,"d":"583"},{"v":39.50000000000001,"d":"40"},null,0.15,{"$error":"#REF!"},{"$error":"#REF!"},{"$error":"#REF!"},{"$error":"#REF!"},{"$error":"#REF!"},{"$error":"#REF!"},null,0.3,0.15,175,120,100,220,{"v":87.5,"d":"88"},{"v":446.66666666666674,"d":"447"},{"v":583.3333333333334,"d":"583"},{"v":82.00000000000001,"d":"82"},100,200,{"v":100,"d":"100.00"},{"v":420,"d":"420.00"},{"v":87.5,"d":"87.50"},{"v":583.3333333333334,"d":"583.33"},{"v":583.3333333333334,"d":"583.33"},{"v":87.5,"d":"87.50"},175,{"v":87.5,"d":"87.50"},{"v":583.3333333333334,"d":"583.33"},null,null,0.3,0.15,175,120,100,220,{"v":87.5,"d":"88"},{"v":546.6666666666667,"d":"547"},{"v":583.3333333333334,"d":"583"},{"v":82.00000000000001,"d":"82"},100,200,{"v":100,"d":"100.00"},{"v":420,"d":"420.00"},{"v":87.5,"d":"87.50"},{"v":583.3333333333334,"d":"583.33"},{"v":583.3333333333334,"d":"583.33"},{"v":87.5,"d":"87.50"},175,{"v":87.5,"d":"87.50"},{"v":583.3333333333334,"d":"583.33"}]
["C","b0","b1","Y","T",null,null,"C","b0","b1","Y","T",{"$nulls":10},0.4,0.2,{"v":233.33333333333337,"d":"233"},{"v":166.66666666666669,"d":"167"},{"v":116.66666666666669,"d":"117"},{"v":446.66666666666674,"d":"447"},{"v":583.3333333333334,"d":"583"},{"v":89.33333333333336,"d":"89"},{"v":233.33333333333337,"d":"233"},{"v":166.66666666666669,"d":"167"},{"v":116.66666666666669,"d":"117"},{"v":446.66666666666674,"d":"447"},{"v":583.3333333333334,"d":"583"},{"v":89.33333333333336,"d":"89"},null,0.4,0.2,{"v":233.33333333333337,"d":"233"},{"v":-33.33333333333333,"d":"(33)"},{"v":116.66666666666669,"d":"117"},{"v":36.66666666666666,"d":"37"},{"v":583.3333333333334,"d":"583"},{"v":7.333333333333332,"d":"7"},{"v":233.33333333333337,"d":"233"},{"v":-33.33333333333333,"d":"(33)"},{"v":116.66666666666669,"d":"117"},{"v":36.66666666666666,"d":"37"},{"v":583.3333333333334,"d":"583"},{"v":7.333333333333332,"d":"7"},null,0.2,{"v":20,"d":"20.00"},{"$error":"#DIV/0!"},{"v":20,"d":"20.00"},{"v":0,"d":"0.00"},{"v":100,"d":"100.00"},{"v":0,"d":"0.00"},{"v":20,"d":"20.00"},{"$error":"#DIV/0!"},{"v":20,"d":"20.00"},{"v":0,"d":"0.00"},{"v":100,"d":"100.00"},{"v":0,"d":"0.00"},null,0.4,0.2,{"v":233.33333333333337,"d":"233"},{"v":123.33333333333336,"d":"123"},{"v":116.66666666666669,"d":"117"},{"v":263.33333333333337,"d":"263"},{"v":583.3333333333334,"d":"583"},{"v":52.66666666666668,"d":"53"},{"v":233.33333333333337,"d":"233"},{"v":123.33333333333336,"d":"123"},{"v":116.66666666666669,"d":"117"},{"v":263.33333333333337,"d":"263"},{"v":583.3333333333334,"d":"583"},{"v":52.66666666666668,"d":"53"},null,0.2,{"$error":"#REF!"},{"$error":"#REF!"},{"$error":"#REF!"},{"$error":"#REF!"},{"$error":"#REF!"},{"$error":"#REF!"},null,0.4,0.2,{"v":233.33333333333337,"d":"233"},{"v":166.66666666666669,"d":"167"},100,{"v":266.6666666666667,"d":"267"},{"v":116.66666666666669,"d":"117"},{"v":446.66666666666674,"d":"447"},{"v":583.3333333333334,"d":"583"},{"v":109.33333333333336,"d":"109"},100,200,{"v":123.33333333333336,"d":"123.33"},{"v":443.33333333333337,"d":"443.33"},{"v":116.66666666666669,"d":"116.67"},{"v":583.3333333333334,"d":"583.33"},{"v":583.3333333333334,"d":"583.33"},{"v":116.66666666666669,"d":"116.67"},{"v":233.33333333333337,"d":"233"},{"v":116.66666666666669,"d":"116.67"},{"v":583.3333333333334,"d":"583.33"},null,null,0.4,0.2,{"v":233.33333333333337,"d":"233"},{"v":166.66666666666669,"d":"167"},100,{"v":266.6666666666667,"d":"267"},{"v":116.66666666666669,"d":"117"},{"v":546.6666666666667,"d":"547"},{"v":583.3333333333334,"d":"583"},{"v":109.33333333333336,"d":"109"},100,200,{"v":123.33333333333336,"d":"123.33"},{"v":443.33333333333337,"d":"443.33"},{"v":116.66666666666669,"d":"116.67"},{"v":583.3333333333334,"d":"583.33"},{"v":583.3333333333334,"d":"583.33"},{"v":116.66666666666669,"d":"116.67"},{"v":233.33333333333337,"d":"233"},{"v":116.66666666666669,"d":"116.67"},{"v":583.3333333333334,"d":"583.33"}]
[{"$f":"B57+(C57*(D57-E57))","v":{"v":446.66666666666674,"d":"446.7"}},{"$f":"Sistema_Gráficas!B8","v":{"v":60,"d":"60.00"}},{"$f":"Sistema_Gráficas!C8","v":{"v":0.8,"d":"0.80"}},{"$f":"B53","v":{"v":583.3333333333334,"d":"583.33"}},{"$f":"E69","v":{"v":100,"d":"100.00"}},null,null,{"$f":"I57+(J57*(K57-L57))","v":{"v":446.66666666666674,"d":"446.7"}},{"$f":"B57","v":{"v":60,"d":"60.00"}},{"$f":"C57","v":{"v":0.8,"d":"0.80"}},{"$f":"I53","v":{"v":583.3333333333334,"d":"583.33"}},{"$f":"L73","v":{"v":100,"d":"100.00"}},{"$nulls":10},0.5,0.25,{"v":291.6666666666667,"d":"292"},{"v":213.33333333333334,"d":"213"},{"v":145.83333333333334,"d":"146"},{"v":446.66666666666674,"d":"447"},{"v":583.3333333333334,"d":"583"},{"v":111.66666666666669,"d":"112"},{"v":291.6666666666667,"d":"292"},{"v":213.33333333333334,"d":"213"},{"v":145.83333333333334,"d":"146"},{"v":446.66666666666674,"d":"447"},{"v":583.3333333333334,"d":"583"},{"v":111.66666666666669,"d":"112"},null,0.5,0.25,{"v":291.6666666666667,"d":"292"},{"v":-21.66666666666667,"d":"(22)"},{"v":145.83333333333334,"d":"146"},{"v":36.66666666666666,"d":"37"},{"v":583.3333333333334,"d":"583"},{"v":9.166666666666664,"d":"9"},{"v":291.6666666666667,"d":"292"},{"v":-21.66666666666667,"d":"(22)"},{"v":145.83333333333334,"d":"146"},{"v":36.66666666666666,"d":"37"},{"v":583.3333333333334,"d":"583"},{"v":9.166666666666664,"d":"9"},null,0.25,{"v":25,"d":"25.00"},{"$error":"#DIV/0!"},{"v":25,"d":"25.00"},{"v":0,"d":"0.00"},{"v":100,"d":"100.00"},{"v":0,"d":"0.00"},{"v":25,"d":"25.00"},{"$error":"#DIV/0!"},{"v":25,"d":"25.00"},{"v":0,"d":"0.00"},{"v":100,"d":"100.00"},{"v":0,"d":"0.00"},null,0.5,0.25,{"v":291.6666666666667,"d":"292"},{"v":146.66666666666669,"d":"147"},{"v":145.83333333333334,"d":"146"},{"v":263.33333333333337,"d":"263"},{"v":583.3333333333334,"d":"583"},{"v":65.83333333333334,"d":"66"},{"v":291.6666666666667,"d":"292"},{"v":146.66666666666669,"d":"147"},{"v":145.83333333333334,"d":"146"},{"v":263.33333333333337,"d":"263"},{"v":583.3333333333334,"d":"583"},{"v":65.83333333333334,"d":"66"},null,0.25,{"$error":"#REF!"},{"$error":"#REF!"},{"$error":"#REF!"},{"$error":"#REF!"},{"$error":"#REF!"},{"$error":"#REF!"},null,0.5,0.25,{"v":291.6666666666667,"d":"292"},{"v":213.33333333333334,"d":"213"},100,{"v":313.33333333333337,"d":"313"},{"v":145.83333333333334,"d":"146"},{"v":446.66666666666674,"d":"447"},{"v":583.3333333333334,"d":"583"},{"v":136.66666666666669,"d":"137"},100,200,{"v":146.66666666666669,"d":"146.67"},{"v":466.6666666666667,"d":"466.67"},{"v":145.83333333333334,"d":"145.83"},{"v":583.3333333333334,"d":"583.33"},{"v":583.3333333333334,"d":"583.33"},{"v":145.83333333333334,"d":"145.83"},{"v":291.6666666666667,"d":"292"},{"v":145.83333333333334,"d":"145.83"},{"v":583.3333333333334,"d":"583.33"},null,null,0.5,0.25,{"v":291.6666666666667,"d":"292"},{"v":213.33333333333334,"d":"213"},100,{"v":313.33333333333337,"d":"313"},{"v":145.83333333333334,"d":"146"},{"v":546.6666666666667,"d":"547"},{"v":583.3333333333334,"d":"583"},{"v":136.66666666666669,"d":"137"},100,200,{"v":146.66666666666669,"d":"146.67"},{"v":466.6666666666667,"d":"466.67"},{"v":145.83333333333334,"d":"145.83"},{"v":583.3333333333334,"d":"583.33"},{"v":583.3333333333334,"d":"583.33"},{"v":145.83333333333334,"d":"145.83"},{"v":291.6666666666667,"d":"292"},{"v":145.83333333333334,"d":"145.83"},{"v":583.3333333333334,"d":"583.33"}]
[{"$nulls":22},0.6,0.3,350,260,175,{"v":446.66666666666674,"d":"447"},{"v":583.3333333333334,"d":"583"},{"v":134.00000000000003,"d":"134"},350,260,175,{"v":446.66666666666674,"d":"447"},{"v":583.3333333333334,"d":"583"},{"v":134.00000000000003,"d":"134"},null,0.6,0.3,350,{"v":-10.000000000000014,"d":"(10)"},175,{"v":36.66666666666666,"d":"37"},{"v":583.3333333333334,"d":"583"},{"v":10.999999999999996,"d":"11"},350,{"v":-10.000000000000014,"d":"(10)"},175,{"v":36.66666666666666,"d":"37"},{"v":583.3333333333334,"d":"583"},{"v":10.999999999999996,"d":"11"},null,0.3,{"v":30,"d":"30.00"},{"$error":"#DIV/0!"},{"v":30,"d":"30.00"},{"v":0,"d":"0.00"},{"v":100,"d":"100.00"},{"v":0,"d":"0.00"},{"v":30,"d":"30.00"},{"$error":"#DIV/0!"},{"v":30,"d":"30.00"},{"v":0,"d":"0.00"},{"v":100,"d":"100.00"},{"v":0,"d":"0.00"},null,0.6,0.3,350,170,175,{"v":263.33333333333337,"d":"263"},{"v":583.3333333333334,"d":"583"},{"v":79.00000000000001,"d":"79"},350,170,175,{"v":263.33333333333337,"d":"263"},{"v":583.3333333333334,"d":"583"},{"v":79.00000000000001,"d":"79"},null,0.3,{"$error":"#REF!"},{"$error":"#REF!"},{"$error":"#REF!"},{"$error":"#REF!"},{"$error":"#REF!"},{"$error":"#REF!"},null,0.6,0.3,350,260,100,360,175,{"v":446.66666666666674,"d":"447"},{"v":583.3333333333334,"d":"583"},{"v":164.00000000000003,"d":"164"},100,200,{"v":170,"d":"170.00"},{"v":490,"d":"490.00"},{"v":175,"d":"175.00"},{"v":583.3333333333334,"d":"583.33"},{"v":583.3333333333334,"d":"583.33"},{"v":175,"d":"175.00"},350,{"v":175,"d":"175.00"},{"v":583.3333333333334,"d":"583.33"},null,null,0.6,0.3,350,260,100,360,175,{"v":546.6666666666667,"d":"547"},{"v":583.3333333333334,"d":"583"},{"v":164.00000000000003,"d":"164"},100,200,{"v":170,"d":"170.00"},{"v":490,"d":"490.00"},{"v":175,"d":"175.00"},{"v":583.3333333333334,"d":"583.33"},{"v":583.3333333333334,"d":"583.33"},{"v":175,"d":"175.00"},350,{"v":175,"d":"175.00"},{"v":583.3333333333334,"d":"583.33"}]
["AHORRO",{"$nulls":6},"AHORRO",{"$nulls":14},0.7,0.35,{"v":408.3333333333333,"d":"408"},{"v":306.66666666666663,"d":"307"},{"v":204.16666666666666,"d":"204"},{"v":446.66666666666674,"d":"447"},{"v":583.3333333333334,"d":"583"},{"v":156.33333333333334,"d":"156"},{"v":408.3333333333333,"d":"408"},{"v":306.66666666666663,"d":"307"},{"v":204.16666666666666,"d":"204"},{"v":446.66666666666674,"d":"447"},{"v":583.3333333333334,"d":"583"},{"v":156.33333333333334,"d":"156"},null,0.7,0.35,{"v":408.3333333333333,"d":"408"},{"v":1.66666666666665,"d":"2"},{"v":204.16666666666666,"d":"204"},{"v":36.66666666666666,"d":"37"},{"v":583.3333333333334,"d":"583"},{"v":12.833333333333329,"d":"13"},{"v":408.3333333333333,"d":"408"},{"v":1.66666666666665,"d":"2"},{"v":204.16666666666666,"d":"204"},{"v":36.66666666666666,"d":"37"},{"v":583.3333333333334,"d":"583"},{"v":12.833333333333329,"d":"13"},null,0.35,{"v":35,"d":"35.00"},{"$error":"#DIV/0!"},{"v":35,"d":"35.00"},{"v":0,"d":"0.00"},{"v":100,"d":"100.00"},{"v":0,"d":"0.00"},{"v":35,"d":"35.00"},{"$error":"#DIV/0!"},{"v":35,"d":"35.00"},{"v":0,"d":"0.00"},{"v":100,"d":"100.00"},{"v":0,"d":"0.00"},null,0.7,0.35,{"v":408.3333333333333,"d":"408"},{"v":193.33333333333334,"d":"193"},{"v":204.16666666666666,"d":"204"},{"v":263.33333333333337,"d":"263"},{"v":583.3333333333334,"d":"583"},{"v":92.16666666666667,"d":"92"},{"v":408.3333333333333,"d":"408"},{"v":193.33333333333334,"d":"193"},{"v":204.16666666666666,"d":"204"},{"v":263.33333333333337,"d":"263"},{"v":583.3333333333334,"d":"583"},{"v":92.16666666666667,"d":"92"},null,0.35,{"$error":"#REF!"},{"$error":"#REF!"},{"$error":"#REF!"},{"$error":"#REF!"},{"$error":"#REF!"},{"$error":"#REF!"},null,0.7,0.35,{"v":408.3333333333333,"d":"408"},{"v":306.66666666666663,"d":"307"},100,{"v":406.66666666666663,"d":"407"},{"v":204.16666666666666,"d":"204"},{"v":446.66666666666674,"d":"447"},{"v":583.3333333333334,"d":"583"},{"v":191.33333333333334,"d":"191"},100,200,{"v":193.33333333333334,"d":"193.33"},{"v":513.3333333333333,"d":"513.33"},{"v":204.16666666666666,"d":"204.17"},{"v":583.3333333333334,"d":"583.33"},{"v":583.3333333333334,"d":"583.33"},{"v":204.16666666666666,"d":"204.17"},{"v":408.3333333333333,"d":"408"},{"v":204.16666666666666,"d":"204.17"},{"v":583.3333333333334,"d":"583.33"},null,null,0.7,0.35,{"v":408.3333333333333,"d":"408"},{"v":306.66666666666663,"d":"307"},100,{"v":406.66666666666663,"d":"407"},{"v":204.16666666666666,"d":"204"},{"v":546.6666666666667,"d":"547"},{"v":583.3333333333334,"d":"583"},{"v":191.33333333333334,"d":"191"},100,200,{"v":193.33333333333334,"d":"193.33"},{"v":513.3333333333333,"d":"513.33"},{"v":204.16666666666666,"d":"204.17"},{"v":583.3333333333334,"d":"583.33"},{"v":583.3333333333334,"d":"583.33"},{"v":204.16666666666666,"d":"204.17"},{"v":408.3333333333333,"d":"408"},{"v":204.16666666666666,"d":"204.17"},{"v":583.3333333333334,"d":"583.33"}]
["S","s0","s1","Y","T",null,null,"S","s0","s1","Y","T",{"$nulls":10},0.8,0.4,{"v":466.66666666666674,"d":"467"},{"v":353.3333333333334,"d":"353"},{"v":233.33333333333337,"d":"233"},{"v":446.66666666666674,"d":"447"},{"v":583.3333333333334,"d":"583"},{"v":178.6666666666667,"d":"179"},{"v":466.66666666666674,"d":"467"},{"v":353.3333333333334,"d":"353"},{"v":233.33333333333337,"d":"233"},{"v":446.66666666666674,"d":"447"},{"v":583.3333333333334,"d":"583"},{"v":178.6666666666667,"d":"179"},null,0.8,0.4,{"v":466.66666666666674,"d":"467"},{"v":13.333333333333329,"d":"13"},{"v":233.33333333333337,"d":"233"},{"v":36.66666666666666,"d":"37"},{"v":583.3333333333334,"d":"583"},{"v":14.666666666666664,"d":"15"},{"v":466.66666666666674,"d":"467"},{"v":13.333333333333329,"d":"13"},{"v":233.33333333333337,"d":"233"},{"v":36.66666666666666,"d":"37"},{"v":583.3333333333334,"d":"583"},{"v":14.666666666666664,"d":"15"},null,0.4,{"v":40,"d":"40.00"},{"$error":"#DIV/0!"},{"v":40,"d":"40.00"},{"v":0,"d":"0.00"},{"v":100,"d":"100.00"},{"v":0,"d":"0.00"},{"v":40,"d":"40.00"},{"$error":"#DIV/0!"},{"v":40,"d":"40.00"},{"v":0,"d":"0.00"},{"v":100,"d":"100.00"},{"v":0,"d":"0.00"},null,0.8,0.4,{"v":466.66666666666674,"d":"467"},{"v":216.6666666666667,"d":"217"},{"v":233.33333333333337,"d":"233"},{"v":263.33333333333337,"d":"263"},{"v":583.3333333333334,"d":"583"},{"v":105.33333333333336,"d":"105"},{"v":466.66666666666674,"d":"467"},{"v":216.6666666666667,"d":"217"},{"v":233.33333333333337,"d":"233"},{"v":263.33333333333337,"d":"263"},{"v":583.3333333333334,"d":"583"},{"v":105.33333333333336,"d":"105"},null,0.4,{"$error":"#REF!"},{"$error":"#REF!"},{"$error":"#REF!"},{"$error":"#REF!"},{"$error":"#REF!"},{"$error":"#REF!"},null,0.8,0.4,{"v":466.66666666666674,"d":"467"},{"v":353.3333333333334,"d":"353"},100,{"v":453.3333333333334,"d":"453"},{"v":233.33333333333337,"d":"233"},{"v":446.66666666666674,"d":"447"},{"v":583.3333333333334,"d":"583"},{"v":218.6666666666667,"d":"219"},100,200,{"v":216.6666666666667,"d":"216.67"},{"v":536.6666666666667,"d":"536.67"},{"v":233.33333333333337,"d":"233.33"},{"v":583.3333333333334,"d":"583.33"},{"v":583.3333333333334,"d":"583.33"},{"v":233.33333333333337,"d":"233.33"},{"v":466.66666666666674,"d":"467"},{"v":233.33333333333337,"d":"233.33"},{"v":583.3333333333334,"d":"583.33"},null,null,0.8,0.4,{"v":466.66666666666674,"d":"467"},{"v":353.3333333333334,"d":"353"},100,{"v":453.3333333333334,"d":"453"},{"v":233.33333333333337,"d":"233"},{"v":546.6666666666667,"d":"547"},{"v":583.3333333333334,"d":"583"},{"v":218.6666666666667,"d":"219"},100,200,{"v":216.6666666666667,"d":"216.67"},{"v":536.6666666666667,"d":"536.67"},{"v":233.33333333333337,"d":"233.33"},{"v":583.3333333333334,"d":"583.33"},{"v":583.3333333333334,"d":"583.33"},{"v":233.33333333333337,"d":"233.33"},{"v":466.66666666666674,"d":"467"},{"v":233.33333333333337,"d":"233.33"},{"v":583.3333333333334,"d":"583.33"}]
[{"$f":"B61+(C61*(D61-E61))","v":{"v":36.66666666666666,"d":"36.7"}},{"$f":"B57*-1","v":{"v":-60,"d":"-60.00"}},{"$f":"(1-C57)","v":{"v":0.19999999999999996,"d":"0.2"}},{"$f":"B53","v":{"v":583.3333333333334,"d":"583.33"}},{"$f":"E69","v":{"v":100,"d":"100.00"}},null,null,{"$f":"I61+(J61*(K61-L61))","v":{"v":36.66666666666666,"d":"36.7"}},{"$f":"B61","v":{"v":-60,"d":"-60.00"}},{"$f":"C61","v":{"v":0.19999999999999996,"d":"0.20"}},{"$f":"I53","v":{"v":583.3333333333334,"d":"583.33"}},{"$f":"L73","v":{"v":100,"d":"100.00"}},{"$nulls":10},0.9,0.45,525,400,{"v":262.5,"d":"263"},{"v":446.66666666666674,"d":"447"},{"v":583.3333333333334,"d":"583"},{"v":201.00000000000003,"d":"201"},525,400,{"v":262.5,"d":"263"},{"v":446.66666666666674,"d":"447"},{"v":583.3333333333334,"d":"583"},{"v":201.00000000000003,"d":"201"},null,0.9,0.45,525,{"v":24.999999999999986,"d":"25"},{"v":262.5,"d":"263"},{"v":36.66666666666666,"d":"37"},{"v":583.3333333333334,"d":"583"},{"v":16.499999999999996,"d":"17"},525,{"v":24.999999999999986,"d":"25"},{"v":262.5,"d":"263"},{"v":36.66666666666666,"d":"37"},{"v":583.3333333333334,"d":"583"},{"v":16.499999999999996,"d":"17"},null,0.45,{"v":45,"d":"45.00"},{"$error":"#DIV/0!"},{"v":45,"d":"45.00"},{"v":0,"d":"0.00"},{"v":100,"d":"100.00"},{"v":0,"d":"0.00"},{"v":45,"d":"45.00"},{"$error":"#DIV/0!"},{"v":45,"d":"45.00"},{"v":0,"d":"0.00"},{"v":100,"d":"100.00"},{"v":0,"d":"0.00"},null,0.9,0.45,525,240,{"v":262.5,"d":"263"},{"v":263.33333333333337,"d":"263"},{"v":583.3333333333334,"d":"583"},{"v":118.50000000000001,"d":"119"},525,240,{"v":262.5,"d":"263"},{"v":263.33333333333337,"d":"263"},{"v":583.3333333333334,"d":"583"},{"v":118.50000000000001,"d":"119"},null,0.45,{"$error":"#REF!"},{"$error":"#REF!"},{"$error":"#REF!"},{"$error":"#REF!"},{"$error":"#REF!"},{"$error":"#REF!"},null,0.9,0.45,525,400,100,500,{"v":262.5,"d":"263"},{"v":446.66666666666674,"d":"447"},{"v":583.3333333333334,"d":"583"},{"v":246.00000000000003,"d":"246"},100,200,{"v":240,"d":"240.00"},{"v":560,"d":"560.00"},{"v":262.5,"d":"262.50"},{"v":583.3333333333334,"d":"583.33"},{"v":583.3333333333334,"d":"583.33"},{"v":262.5,"d":"262.50"},525,{"v":262.5,"d":"262.50"},{"v":583.3333333333334,"d":"583.33"},null,null,0.9,0.45,525,400,100,500,{"v":262.5,"d":"263"},{"v":546.6666666666667,"d":"547"},{"v":583.3333333333334,"d":"583"},{"v":246.00000000000003,"d":"246"},100,200,{"v":240,"d":"240.00"},{"v":560,"d":"560.00"},{"v":262.5,"d":"262.50"},{"v":583.3333333333334,"d":"583.33"},{"v":583.3333333333334,"d":"583.33"},{"v":262.5,"d":"262.50"},525,{"v":262.5,"d":"262.50"},{"v":583.3333333333334,"d":"583.33"}]
[{"$nulls":22},1,0.5,{"v":583.3333333333334,"d":"583"},{"v":446.66666666666674,"d":"447"},{"v":291.6666666666667,"d":"292"},{"v":446.66666666666674,"d":"447"},{"v":583.3333333333334,"d":"583"},{"v":223.33333333333337,"d":"223"},{"v":583.3333333333334,"d":"583"},{"v":446.66666666666674,"d":"447"},{"v":291.6666666666667,"d":"292"},{"v":446.66666666666674,"d":"447"},{"v":583.3333333333334,"d":"583"},{"v":223.33333333333337,"d":"223"},null,1,0.5,{"v":583.3333333333334,"d":"583"},{"v":36.66666666666666,"d":"37"},{"v":291.6666666666667,"d":"292"},{"v":36.66666666666666,"d":"37"},{"v":583.3333333333334,"d":"583"},{"v":18.33333333333333,"d":"18"},{"v":583.3333333333334,"d":"583"},{"v":36.66666666666666,"d":"37"},{"v":291.6666666666667,"d":"292"},{"v":36.66666666666666,"d":"37"},{"v":583.3333333333334,"d":"583"},{"v":18.33333333333333,"d":"18"},null,0.5,{"v":50,"d":"50.00"},{"$error":"#DIV/0!"},{"v":50,"d":"50.00"},{"v":0,"d":"0.00"},{"v":100,"d":"100.00"},{"v":0,"d":"0.00"},{"v":50,"d":"50.00"},{"$error":"#DIV/0!"},{"v":50,"d":"50.00"},{"v":0,"d":"0.00"},{"v":100,"d":"100.00"},{"v":0,"d":"0.00"},null,1,0.5,{"v":583.3333333333334,"d":"583"},{"v":263.33333333333337,"d":"263"},{"v":291.6666666666667,"d":"292"},{"v":263.33333333333337,"d":"263"},{"v":583.3333333333334,"d":"583"},{"v":131.66666666666669,"d":"132"},{"v":583.3333333333334,"d":"583"},{"v":263.33333333333337,"d":"263"},{"v":291.6666666666667,"d":"292"},{"v":263.33333333333337,"d":"263"},{"v":583.3333333333334,"d":"583"},{"v":131.66666666666669,"d":"132"},null,0.5,{"$error":"#REF!"},{"$error":"#REF!"},{"$error":"#REF!"},{"$error":"#REF!"},{"$error":"#REF!"},{"$error":"#REF!"},null,1,0.5,{"v":583.3333333333334,"d":"583"},{"v":446.66666666666674,"d":"447"},100,{"v":546.6666666666667,"d":"547"},{"v":291.6666666666667,"d":"292"},{"v":446.66666666666674,"d":"447"},{"v":583.3333333333334,"d":"583"},{"v":273.33333333333337,"d":"273"},100,200,{"v":263.33333333333337,"d":"263.33"},{"v":583.3333333333334,"d":"583.33"},{"v":291.6666666666667,"d":"291.67"},{"v":583.3333333333334,"d":"583.33"},{"v":583.3333333333334,"d":"583.33"},{"v":291.6666666666667,"d":"291.67"},{"v":583.3333333333334,"d":"583"},{"v":291.6666666666667,"d":"291.67"},{"v":583.3333333333334,"d":"583.33"},null,null,1,0.5,{"v":583.3333333333334,"d":"583"},{"v":446.66666666666674,"d":"447"},100,{"v":546.6666666666667,"d":"547"},{"v":291.6666666666667,"d":"292"},{"v":546.6666666666667,"d":"547"},{"v":583.3333333333334,"d":"583"},{"v":273.33333333333337,"d":"273"},100,200,{"v":263.33333333333337,"d":"263.33"},{"v":583.3333333333334,"d":"583.33"},{"v":291.6666666666667,"d":"291.67"},{"v":583.3333333333334,"d":"583.33"},{"v":583.3333333333334,"d":"583.33"},{"v":291.6666666666667,"d":"291.67"},{"v":583.3333333333334,"d":"583"},{"v":291.6666666666667,"d":"291.67"},{"v":583.3333333333334,"d":"583.33"}]
["INVERSIÓN",{"$nulls":6},"INVERSIÓN",{"$nulls":14},1.1,0.55,{"v":641.6666666666667,"d":"642"},{"v":493.3333333333334,"d":"493"},{"v":320.83333333333337,"d":"321"},{"v":446.66666666666674,"d":"447"},{"v":583.3333333333334,"d":"583"},{"v":245.6666666666667,"d":"246"},{"v":641.6666666666667,"d":"642"},{"v":493.3333333333334,"d":"493"},{"v":320.83333333333337,"d":"321"},{"v":446.66666666666674,"d":"447"},{"v":583.3333333333334,"d":"583"},{"v":245.6666666666667,"d":"246"},null,1.1,0.55,{"v":641.6666666666667,"d":"642"},{"v":48.33333333333333,"d":"48"},{"v":320.83333333333337,"d":"321"},{"v":36.66666666666666,"d":"37"},{"v":583.3333333333334,"d":"583"},{"v":20.166666666666664,"d":"20"},{"v":641.6666666666667,"d":"642"},{"v":48.33333333333333,"d":"48"},{"v":320.83333333333337,"d":"321"},{"v":36.66666666666666,"d":"37"},{"v":583.3333333333334,"d":"583"},{"v":20.166666666666664,"d":"20"},null,0.55,{"v":55.00000000000001,"d":"55.00"},{"$error":"#DIV/0!"},{"v":55.00000000000001,"d":"55.00"},{"v":0,"d":"0.00"},{"v":100,"d":"100.00"},{"v":0,"d":"0.00"},{"v":55.00000000000001,"d":"55.00"},{"$error":"#DIV/0!"},{"v":55.00000000000001,"d":"55.00"},{"v":0,"d":"0.00"},{"v":100,"d":"100.00"},{"v":0,"d":"0.00"},null,1.1,0.55,{"v":641.6666666666667,"d":"642"},{"v":286.6666666666667,"d":"287"},{"v":320.83333333333337,"d":"321"},{"v":263.33333333333337,"d":"263"},{"v":583.3333333333334,"d":"583"},{"v":144.83333333333337,"d":"145"},{"v":641.6666666666667,"d":"642"},{"v":286.6666666666667,"d":"287"},{"v":320.83333333333337,"d":"321"},{"v":263.33333333333337,"d":"263"},{"v":583.3333333333334,"d":"583"},{"v":144.83333333333337,"d":"145"},null,0.55,{"$error":"#REF!"},{"$error":"#REF!"},{"$error":"#REF!"},{"$error":"#REF!"},{"$error":"#REF!"},{"$error":"#REF!"},null,1.1,0.55,{"v":641.6666666666667,"d":"642"},{"v":493.3333333333334,"d":"493"},100,{"v":593.3333333333335,"d":"593"},{"v":320.83333333333337,"d":"321"},{"v":446.66666666666674,"d":"447"},{"v":583.3333333333334,"d":"583"},{"v":300.66666666666674,"d":"301"},100,200,{"v":286.6666666666667,"d":"286.67"},{"v":606.6666666666667,"d":"606.67"},{"v":320.83333333333337,"d":"320.83"},{"v":583.3333333333334,"d":"583.33"},{"v":583.3333333333334,"d":"583.33"},{"v":320.83333333333337,"d":"320.83"},{"v":641.6666666666667,"d":"642"},{"v":320.83333333333337,"d":"320.83"},{"v":583.3333333333334,"d":"583.33"},null,null,1.1,0.55,{"v":641.6666666666667,"d":"642"},{"v":493.3333333333334,"d":"493"},100,{"v":593.3333333333335,"d":"593"},{"v":320.83333333333337,"d":"321"},{"v":546.6666666666667,"d":"547"},{"v":583.3333333333334,"d":"583"},{"v":300.66666666666674,"d":"301"},100,200,{"v":286.6666666666667,"d":"286.67"},{"v":606.6666666666667,"d":"606.67"},{"v":320.83333333333337,"d":"320.83"},{"v":583.3333333333334,"d":"583.33"},{"v":583.3333333333334,"d":"583.33"},{"v":320.83333333333337,"d":"320.83"},{"v":641.6666666666667,"d":"642"},{"v":320.83333333333337,"d":"320.83"},{"v":583.3333333333334,"d":"583.33"}]
["I","I0","i1","r*","i2","Emk0",null,"I","i0","i1","r*","i2","Emk0",{"$nulls":9},1.2,0.6,700,540,350,{"v":446.66666666666674,"d":"447"},{"v":583.3333333333334,"d":"583"},{"v":268.00000000000006,"d":"268"},700,540,350,{"v":446.66666666666674,"d":"447"},{"v":583.3333333333334,"d":"583"},{"v":268.00000000000006,"d":"268"},null,1.2,0.6,700,{"v":59.99999999999997,"d":"60"},350,{"v":36.66666666666666,"d":"37"},{"v":583.3333333333334,"d":"583"},{"v":21.999999999999993,"d":"22"},700,{"v":59.99999999999997,"d":"60"},350,{"v":36.66666666666666,"d":"37"},{"v":583.3333333333334,"d":"583"},{"v":21.999999999999993,"d":"22"},null,0.6,{"v":60,"d":"60.00"},{"$error":"#DIV/0!"},{"v":60,"d":"60.00"},{"v":0,"d":"0.00"},{"v":100,"d":"100.00"},{"v":0,"d":"0.00"},{"v":60,"d":"60.00"},{"$error":"#DIV/0!"},{"v":60,"d":"60.00"},{"v":0,"d":"0.00"},{"v":100,"d":"100.00"},{"v":0,"d":"0.00"},null,1.2,0.6,700,310,350,{"v":263.33333333333337,"d":"263"},{"v":583.3333333333334,"d":"583"},{"v":158.00000000000003,"d":"158"},700,310,350,{"v":263.33333333333337,"d":"263"},{"v":583.3333333333334,"d":"583"},{"v":158.00000000000003,"d":"158"},null,0.6,{"$error":"#REF!"},{"$error":"#REF!"},{"$error":"#REF!"},{"$error":"#REF!"},{"$error":"#REF!"},{"$error":"#REF!"},null,1.2,0.6,700,540,100,640,350,{"v":446.66666666666674,"d":"447"},{"v":583.3333333333334,"d":"583"},{"v":328.00000000000006,"d":"328"},100,200,{"v":310,"d":"310.00"},{"v":630,"d":"630.00"},{"v":350,"d":"350.00"},{"v":583.3333333333334,"d":"583.33"},{"v":583.3333333333334,"d":"583.33"},{"v":350,"d":"350.00"},700,{"v":350,"d":"350.00"},{"v":583.3333333333334,"d":"583.33"},null,null,1.2,0.6,700,540,100,640,350,{"v":546.6666666666667,"d":"547"},{"v":583.3333333333334,"d":"583"},{"v":328.00000000000006,"d":"328"},100,200,{"v":310,"d":"310.00"},{"v":630,"d":"630.00"},{"v":350,"d":"350.00"},{"v":583.3333333333334,"d":"583.33"},{"v":583.3333333333334,"d":"583.33"},{"v":350,"d":"350.00"},700,{"v":350,"d":"350.00"},{"v":583.3333333333334,"d":"583.33"}]
[{"$f":"B65","v":{"v":100,"d":"100.0"}},{"$f":"Sistema_Gráficas!B14","v":{"v":100,"d":"100.00"}},{"$f":"Sistema_Gráficas!C14","v":{"v":0,"d":"0.00"}},{"$f":"Sistema_Gráficas!D14","v":{"v":0,"d":"0%"}},{"$f":"Sistema_Gráficas!E14","v":{"v":0,"d":"0.00"}},{"$f":"Sistema_Gráficas!F14","v":{"v":0,"d":"0%"}},null,{"$f":"I65","v":{"v":100,"d":"100.0"}},{"$f":"S69","v":{"v":100,"d":"100.00"}},{"$f":"C65","v":{"v":0,"d":"0.00"}},{"$f":"D65","v":{"v":0,"d":"0%"}},{"$f":"E65","v":{"v":0,"d":"0.00"}},{"$f":"F65","v":{"v":0,"d":"0%"}},{"$nulls":9},1.3,0.65,{"v":758.3333333333334,"d":"758"},{"v":586.6666666666667,"d":"587"},{"v":379.1666666666667,"d":"379"},{"v":446.66666666666674,"d":"447"},{"v":583.3333333333334,"d":"583"},{"v":290.33333333333337,"d":"290"},{"v":758.3333333333334,"d":"758"},{"v":586.6666666666667,"d":"587"},{"v":379.1666666666667,"d":"379"},{"v":446.66666666666674,"d":"447"},{"v":583.3333333333334,"d":"583"},{"v":290.33333333333337,"d":"290"},null,1.3,0.65,{"v":758.3333333333334,"d":"758"},{"v":71.66666666666666,"d":"72"},{"v":379.1666666666667,"d":"379"},{"v":36.66666666666666,"d":"37"},{"v":583.3333333333334,"d":"583"},{"v":23.83333333333333,"d":"24"},{"v":758.3333333333334,"d":"758"},{"v":71.66666666666666,"d":"72"},{"v":379.1666666666667,"d":"379"},{"v":36.66666666666666,"d":"37"},{"v":583.3333333333334,"d":"583"},{"v":23.83333333333333,"d":"24"},null,0.65,{"v":65,"d":"65.00"},{"$error":"#DIV/0!"},{"v":65,"d":"65.00"},{"v":0,"d":"0.00"},{"v":100,"d":"100.00"},{"v":0,"d":"0.00"},{"v":65,"d":"65.00"},{"$error":"#DIV/0!"},{"v":65,"d":"65.00"},{"v":0,"d":"0.00"},{"v":100,"d":"100.00"},{"v":0,"d":"0.00"},null,1.3,0.65,{"v":758.3333333333334,"d":"758"},{"v":333.33333333333337,"d":"333"},{"v":379.1666666666667,"d":"379"},{"v":263.33333333333337,"d":"263"},{"v":583.3333333333334,"d":"583"},{"v":171.16666666666669,"d":"171"},{"v":758.3333333333334,"d":"758"},{"v":333.33333333333337,"d":"333"},{"v":379.1666666666667,"d":"379"},{"v":263.33333333333337,"d":"263"},{"v":583.3333333333334,"d":"583"},{"v":171.16666666666669,"d":"171"},null,0.65,{"$error":"#REF!"},{"$error":"#REF!"},{"$error":"#REF!"},{"$error":"#REF!"},{"$error":"#REF!"},{"$error":"#REF!"},null,1.3,0.65,{"v":758.3333333333334,"d":"758"},{"v":586.6666666666667,"d":"587"},100,{"v":686.6666666666667,"d":"687"},{"v":379.1666666666667,"d":"379"},{"v":446.66666666666674,"d":"447"},{"v":583.3333333333334,"d":"583"},{"v":355.33333333333337,"d":"355"},100,200,{"v":333.33333333333337,"d":"333.33"},{"v":653.3333333333334,"d":"653.33"},{"v":379.1666666666667,"d":"379.17"},{"v":583.3333333333334,"d":"583.33"},{"v":583.3333333333334,"d":"583.33"},{"v":379.1666666666667,"d":"379.17"},{"v":758.3333333333334,"d":"758"},{"v":379.1666666666667,"d":"379.17"},{"v":583.3333333333334,"d":"583.33"},null,null,1.3,0.65,{"v":758.3333333333334,"d":"758"},{"v":586.6666666666667,"d":"587"},100,{"v":686.6666666666667,"d":"687"},{"v":379.1666666666667,"d":"379"},{"v":546.6666666666667,"d":"547"},{"v":583.3333333333334,"d":"583"},{"v":355.33333333333337,"d":"355"},100,200,{"v":333.33333333333337,"d":"333.33"},{"v":653.3333333333334,"d":"653.33"},{"v":379.1666666666667,"d":"379.17"},{"v":583.3333333333334,"d":"583.33"},{"v":583.3333333333334,"d":"583.33"},{"v":379.1666666666667,"d":"379.17"},{"v":758.3333333333334,"d":"758"},{"v":379.1666666666667,"d":"379.17"},{"v":583.3333333333334,"d":"583.33"}]
[{"$nulls":22},1.4,0.7,{"v":816.6666666666666,"d":"817"},{"v":633.3333333333334,"d":"633"},{"v":408.3333333333333,"d":"408"},{"v":446.66666666666674,"d":"447"},{"v":583.3333333333334,"d":"583"},{"v":312.6666666666667,"d":"313"},{"v":816.6666666666666,"d":"817"},{"v":633.3333333333334,"d":"633"},{"v":408.3333333333333,"d":"408"},{"v":446.66666666666674,"d":"447"},{"v":583.3333333333334,"d":"583"},{"v":312.6666666666667,"d":"313"},null,1.4,0.7,{"v":816.6666666666666,"d":"817"},{"v":83.33333333333329,"d":"83"},{"v":408.3333333333333,"d":"408"},{"v":36.66666666666666,"d":"37"},{"v":583.3333333333334,"d":"583"},{"v":25.666666666666657,"d":"26"},{"v":816.6666666666666,"d":"817"},{"v":83.33333333333329,"d":"83"},{"v":408.3333333333333,"d":"408"},{"v":36.66666666666666,"d":"37"},{"v":583.3333333333334,"d":"583"},{"v":25.666666666666657,"d":"26"},null,0.7,{"v":70,"d":"70.00"},{"$error":"#DIV/0!"},{"v":70,"d":"70.00"},{"v":0,"d":"0.00"},{"v":100,"d":"100.00"},{"v":0,"d":"0.00"},{"v":70,"d":"70.00"},{"$error":"#DIV/0!"},{"v":70,"d":"70.00"},{"v":0,"d":"0.00"},{"v":100,"d":"100.00"},{"v":0,"d":"0.00"},null,1.4,0.7,{"v":816.6666666666666,"d":"817"},{"v":356.6666666666667,"d":"357"},{"v":408.3333333333333,"d":"408"},{"v":263.33333333333337,"d":"263"},{"v":583.3333333333334,"d":"583"},{"v":184.33333333333334,"d":"184"},{"v":816.6666666666666,"d":"817"},{"v":356.6666666666667,"d":"357"},{"v":408.3333333333333,"d":"408"},{"v":263.33333333333337,"d":"263"},{"v":583.3333333333334,"d":"583"},{"v":184.33333333333334,"d":"184"},null,0.7,{"$error":"#REF!"},{"$error":"#REF!"},{"$error":"#REF!"},{"$error":"#REF!"},{"$error":"#REF!"},{"$error":"#REF!"},null,1.4,0.7,{"v":816.6666666666666,"d":"817"},{"v":633.3333333333334,"d":"633"},100,{"v":733.3333333333334,"d":"733"},{"v":408.3333333333333,"d":"408"},{"v":446.66666666666674,"d":"447"},{"v":583.3333333333334,"d":"583"},{"v":382.6666666666667,"d":"383"},100,200,{"v":356.6666666666667,"d":"356.67"},{"v":676.6666666666667,"d":"676.67"},{"v":408.3333333333333,"d":"408.33"},{"v":583.3333333333334,"d":"583.33"},{"v":583.3333333333334,"d":"583.33"},{"v":408.3333333333333,"d":"408.33"},{"v":816.6666666666666,"d":"817"},{"v":408.3333333333333,"d":"408.33"},{"v":583.3333333333334,"d":"583.33"},null,null,1.4,0.7,{"v":816.6666666666666,"d":"817"},{"v":633.3333333333334,"d":"633"},100,{"v":733.3333333333334,"d":"733"},{"v":408.3333333333333,"d":"408"},{"v":546.6666666666667,"d":"547"},{"v":583.3333333333334,"d":"583"},{"v":382.6666666666667,"d":"383"},100,200,{"v":356.6666666666667,"d":"356.67"},{"v":676.6666666666667,"d":"676.67"},{"v":408.3333333333333,"d":"408.33"},{"v":583.3333333333334,"d":"583.33"},{"v":583.3333333333334,"d":"583.33"},{"v":408.3333333333333,"d":"408.33"},{"v":816.6666666666666,"d":"817"},{"v":408.3333333333333,"d":"408.33"},{"v":583.3333333333334,"d":"583.33"}]
["GASTO DEL GOBIERNO",null,null,"IMPUESTOS",{"$nulls":3},"DEMANDA DE DINERO",{"$nulls":12},{"$f":"S69-B65","v":0},{"$f":"U67/B65","v":0},1.5,0.75,875,680,{"v":437.5,"d":"438"},{"v":446.66666666666674,"d":"447"},{"v":583.3333333333334,"d":"583"},{"v":335.00000000000006,"d":"335"},875,680,{"v":437.5,"d":"438"},{"v":446.66666666666674,"d":"447"},{"v":583.3333333333334,"d":"583"},{"v":335.00000000000006,"d":"335"},null,1.5,0.75,875,{"v":94.99999999999997,"d":"95"},{"v":437.5,"d":"438"},{"v":36.66666666666666,"d":"37"},{"v":583.3333333333334,"d":"583"},{"v":27.499999999999993,"d":"28"},875,{"v":94.99999999999997,"d":"95"},{"v":437.5,"d":"438"},{"v":36.66666666666666,"d":"37"},{"v":583.3333333333334,"d":"583"},{"v":27.499999999999993,"d":"28"},null,0.75,{"v":75,"d":"75.00"},{"$error":"#DIV/0!"},{"v":75,"d":"75.00"},{"v":0,"d":"0.00"},{"v":100,"d":"100.00"},{"v":0,"d":"0.00"},{"v":75,"d":"75.00"},{"$error":"#DIV/0!"},{"v":75,"d":"75.00"},{"v":0,"d":"0.00"},{"v":100,"d":"100.00"},{"v":0,"d":"0.00"},null,1.5,0.75,875,380,{"v":437.5,"d":"438"},{"v":263.33333333333337,"d":"263"},{"v":583.3333333333334,"d":"583"},{"v":197.50000000000003,"d":"198"},875,380,{"v":437.5,"d":"438"},{"v":263.33333333333337,"d":"263"},{"v":583.3333333333334,"d":"583"},{"v":197.50000000000003,"d":"198"},null,0.75,{"$error":"#REF!"},{"$error":"#REF!"},{"$error":"#REF!"},{"$error":"#REF!"},{"$error":"#REF!"},{"$error":"#REF!"},null,1.5,0.75,875,680,100,780,{"v":437.5,"d":"438"},{"v":446.66666666666674,"d":"447"},{"v":583.3333333333334,"d":"583"},{"v":410.00000000000006,"d":"410"},100,200,{"v":380,"d":"380.00"},{"v":700,"d":"700.00"},{"v":437.5,"d":"437.50"},{"v":583.3333333333334,"d":"583.33"},{"v":583.3333333333334,"d":"583.33"},{"v":437.5,"d":"437.50"},875,{"v":437.5,"d":"437.50"},{"v":583.3333333333334,"d":"583.33"},null,null,1.5,0.75,875,680,100,780,{"v":437.5,"d":"438"},{"v":546.6666666666667,"d":"547"},{"v":583.3333333333334,"d":"583"},{"v":410.00000000000006,"d":"410"},100,200,{"v":380,"d":"380.00"},{"v":700,"d":"700.00"},{"v":437.5,"d":"437.50"},{"v":583.3333333333334,"d":"583.33"},{"v":583.3333333333334,"d":"583.33"},{"v":437.5,"d":"437.50"},875,{"v":437.5,"d":"437.50"},{"v":583.3333333333334,"d":"583.33"}]
["G","g0",null,"T","T0",null,null,"MD","m0","m1","Y","m2","r",{"$nulls":3},"G","T","Iota 0",{"$nulls":3},1.6,0.8,{"v":933.3333333333335,"d":"933"},{"v":726.6666666666669,"d":"727"},{"v":466.66666666666674,"d":"467"},{"v":446.66666666666674,"d":"447"},{"v":583.3333333333334,"d":"583"},{"v":357.3333333333334,"d":"357"},{"v":933.3333333333335,"d":"933"},{"v":726.6666666666669,"d":"727"},{"v":466.66666666666674,"d":"467"},{"v":446.66666666666674,"d":"447"},{"v":583.3333333333334,"d":"583"},{"v":357.3333333333334,"d":"357"},null,1.6,0.8,{"v":933.3333333333335,"d":"933"},{"v":106.66666666666666,"d":"107"},{"v":466.66666666666674,"d":"467"},{"v":36.66666666666666,"d":"37"},{"v":583.3333333333334,"d":"583"},{"v":29.33333333333333,"d":"29"},{"v":933.3333333333335,"d":"933"},{"v":106.66666666666666,"d":"107"},{"v":466.66666666666674,"d":"467"},{"v":36.66666666666666,"d":"37"},{"v":583.3333333333334,"d":"583"},{"v":29.33333333333333,"d":"29"},null,0.8,{"v":80,"d":"80.00"},{"$error":"#DIV/0!"},{"v":80,"d":"80.00"},{"v":0,"d":"0.00"},{"v":100,"d":"100.00"},{"v":0,"d":"0.00"},{"v":80,"d":"80.00"},{"$error":"#DIV/0!"},{"v":80,"d":"80.00"},{"v":0,"d":"0.00"},{"v":100,"d":"100.00"},{"v":0,"d":"0.00"},null,1.6,0.8,{"v":933.3333333333335,"d":"933"},{"v":403.3333333333334,"d":"403"},{"v":466.66666666666674,"d":"467"},{"v":263.33333333333337,"d":"263"},{"v":583.3333333333334,"d":"583"},{"v":210.6666666666667,"d":"211"},{"v":933.3333333333335,"d":"933"},{"v":403.3333333333334,"d":"403"},{"v":466.66666666666674,"d":"467"},{"v":263.33333333333337,"d":"263"},{"v":583.3333333333334,"d":"583"},{"v":210.6666666666667,"d":"211"},null,0.8,{"$error":"#REF!"},{"$error":"#REF!"},{"$error":"#REF!"},{"$error":"#REF!"},{"$error":"#REF!"},{"$error":"#REF!"},null,1.6,0.8,{"v":933.3333333333335,"d":"933"},{"v":726.6666666666669,"d":"727"},100,{"v":826.6666666666669,"d":"827"},{"v":466.66666666666674,"d":"467"},{"v":446.66666666666674,"d":"447"},{"v":583.3333333333334,"d":"583"},{"v":437.3333333333334,"d":"437"},100,200,{"v":403.3333333333334,"d":"403.33"},{"v":723.3333333333335,"d":"723.33"},{"v":466.66666666666674,"d":"466.67"},{"v":583.3333333333334,"d":"583.33"},{"v":583.3333333333334,"d":"583.33"},{"v":466.66666666666674,"d":"466.67"},{"v":933.3333333333335,"d":"933"},{"v":466.66666666666674,"d":"466.67"},{"v":583.3333333333334,"d":"583.33"},null,null,1.6,0.8,{"v":933.3333333333335,"d":"933"},{"v":726.6666666666669,"d":"727"},100,{"v":826.6666666666669,"d":"827"},{"v":466.66666666666674,"d":"467"},{"v":546.6666666666667,"d":"547"},{"v":583.3333333333334,"d":"583"},{"v":437.3333333333334,"d":"437"},100,200,{"v":403.3333333333334,"d":"403.33"},{"v":723.3333333333335,"d":"723.33"},{"v":466.66666666666674,"d":"466.67"},{"v":583.3333333333334,"d":"583.33"},{"v":583.3333333333334,"d":"583.33"},{"v":466.66666666666674,"d":"466.67"},{"v":933.3333333333335,"d":"933"},{"v":466.66666666666674,"d":"466.67"},{"v":583.3333333333334,"d":"583.33"}]
[{"$f":"B69","v":{"v":100,"d":"100.0"}},{"$f":"Sistema_Gráficas!B17","v":{"v":100,"d":"100.00"}},null,{"$f":"E69","v":{"v":100,"d":"100.0"}},{"$f":"Sistema_Gráficas!E17","v":{"v":100,"d":"100.00"}},null,null,{"$f":"I69+(J69*K69)+(L69*M69)","v":{"$error":"#REF!"}},{"$f":"B85","v":{"$error":"#REF!"}},{"$f":"C85","v":{"$error":"#REF!"}},{"$f":"I53","v":{"v":583.3333333333334,"d":"583.33"}},{"$f":"E85","v":{"$error":"#REF!"}},{"$f":"(I73-I69-(J69*K69))/L69","v":{"$error":"#REF!"}},{"$nulls":3},{"$f":"B69+(B69*Q70)","v":{"v":100,"d":"100.00"}},{"$f":"E69+(E69*R70)","v":{"v":100,"d":"100.00"}},{"$f":"B65+(B65*S70)","v":{"v":100,"d":"100.00"}},{"$nulls":3},1.7,0.85,{"v":991.6666666666667,"d":"992"},{"v":773.3333333333335,"d":"773"},{"v":495.83333333333337,"d":"496"},{"v":446.66666666666674,"d":"447"},{"v":583.3333333333334,"d":"583"},{"v":379.66666666666674,"d":"380"},{"v":991.6666666666667,"d":"992"},{"v":773.3333333333335,"d":"773"},{"v":495.83333333333337,"d":"496"},{"v":446.66666666666674,"d":"447"},{"v":583.3333333333334,"d":"583"},{"v":379.66666666666674,"d":"380"},null,1.7,0.85,{"v":991.6666666666667,"d":"992"},{"v":118.33333333333331,"d":"118"},{"v":495.83333333333337,"d":"496"},{"v":36.66666666666666,"d":"37"},{"v":583.3333333333334,"d":"583"},{"v":31.166666666666657,"d":"31"},{"v":991.6666666666667,"d":"992"},{"v":118.33333333333331,"d":"118"},{"v":495.83333333333337,"d":"496"},{"v":36.66666666666666,"d":"37"},{"v":583.3333333333334,"d":"583"},{"v":31.166666666666657,"d":"31"},null,0.85,{"v":85,"d":"85.00"},{"$error":"#DIV/0!"},{"v":85,"d":"85.00"},{"v":0,"d":"0.00"},{"v":100,"d":"100.00"},{"v":0,"d":"0.00"},{"v":85,"d":"85.00"},{"$error":"#DIV/0!"},{"v":85,"d":"85.00"},{"v":0,"d":"0.00"},{"v":100,"d":"100.00"},{"v":0,"d":"0.00"},null,1.7,0.85,{"v":991.6666666666667,"d":"992"},{"v":426.66666666666674,"d":"427"},{"v":495.83333333333337,"d":"496"},{"v":263.33333333333337,"d":"263"},{"v":583.3333333333334,"d":"583"},{"v":223.83333333333337,"d":"224"},{"v":991.6666666666667,"d":"992"},{"v":426.66666666666674,"d":"427"},{"v":495.83333333333337,"d":"496"},{"v":263.33333333333337,"d":"263"},{"v":583.3333333333334,"d":"583"},{"v":223.83333333333337,"d":"224"},null,0.85,{"$error":"#REF!"},{"$error":"#REF!"},{"$error":"#REF!"},{"$error":"#REF!"},{"$error":"#REF!"},{"$error":"#REF!"},null,1.7,0.85,{"v":991.6666666666667,"d":"992"},{"v":773.3333333333335,"d":"773"},100,{"v":873.3333333333335,"d":"873"},{"v":495.83333333333337,"d":"496"},{"v":446.66666666666674,"d":"447"},{"v":583.3333333333334,"d":"583"},{"v":464.66666666666674,"d":"465"},100,200,{"v":426.66666666666674,"d":"426.67"},{"v":746.6666666666667,"d":"746.67"},{"v":495.83333333333337,"d":"495.83"},{"v":583.3333333333334,"d":"583.33"},{"v":583.3333333333334,"d":"583.33"},{"v":495.83333333333337,"d":"495.83"},{"v":991.6666666666667,"d":"992"},{"v":495.83333333333337,"d":"495.83"},{"v":583.3333333333334,"d":"583.33"},null,null,1.7,0.85,{"v":991.6666666666667,"d":"992"},{"v":773.3333333333335,"d":"773"},100,{"v":873.3333333333335,"d":"873"},{"v":495.83333333333337,"d":"496"},{"v":546.6666666666667,"d":"547"},{"v":583.3333333333334,"d":"583"},{"v":464.66666666666674,"d":"465"},100,200,{"v":426.66666666666674,"d":"426.67"},{"v":746.6666666666667,"d":"746.67"},{"v":495.83333333333337,"d":"495.83"},{"v":583.3333333333334,"d":"583.33"},{"v":583.3333333333334,"d":"583.33"},{"v":495.83333333333337,"d":"495.83"},{"v":991.6666666666667,"d":"992"},{"v":495.83333333333337,"d":"495.83"},{"v":583.3333333333334,"d":"583.33"}]
[{"$nulls":16},{"$f":"Sistema_Gráficas!N4","v":{"v":0,"d":"0.00%"}},{"$f":"Sistema_Gráficas!O4","v":{"v":0,"d":"0.00%"}},{"$f":"Sistema_Gráficas!P4","v":{"v":0,"d":"0.00%"}},null,{"$f":"U67*-1/A69","v":{"v":0,"d":"0.000%"}},{"$f":"U67/(C57*D69)","v":{"v":0,"d":"0.000%"}},1.8,0.9,{"v":1050,"d":"1,050"},820,525,{"v":446.66666666666674,"d":"447"},{"v":583.3333333333334,"d":"583"},{"v":402.00000000000006,"d":"402"},{"v":1050,"d":"1,050"},820,525,{"v":446.66666666666674,"d":"447"},{"v":583.3333333333334,"d":"583"},{"v":402.00000000000006,"d":"402"},null,1.8,0.9,{"v":1050,"d":"1,050"},{"v":129.99999999999997,"d":"130"},525,{"v":36.66666666666666,"d":"37"},{"v":583.3333333333334,"d":"583"},{"v":32.99999999999999,"d":"33"},{"v":1050,"d":"1,050"},{"v":129.99999999999997,"d":"130"},525,{"v":36.66666666666666,"d":"37"},{"v":583.3333333333334,"d":"583"},{"v":32.99999999999999,"d":"33"},null,0.9,{"v":90,"d":"90.00"},{"$error":"#DIV/0!"},{"v":90,"d":"90.00"},{"v":0,"d":"0.00"},{"v":100,"d":"100.00"},{"v":0,"d":"0.00"},{"v":90,"d":"90.00"},{"$error":"#DIV/0!"},{"v":90,"d":"90.00"},{"v":0,"d":"0.00"},{"v":100,"d":"100.00"},{"v":0,"d":"0.00"},null,1.8,0.9,{"v":1050,"d":"1,050"},450,525,{"v":263.33333333333337,"d":"263"},{"v":583.3333333333334,"d":"583"},{"v":237.00000000000003,"d":"237"},{"v":1050,"d":"1,050"},450,525,{"v":263.33333333333337,"d":"263"},{"v":583.3333333333334,"d":"583"},{"v":237.00000000000003,"d":"237"},null,0.9,{"$error":"#REF!"},{"$error":"#REF!"},{"$error":"#REF!"},{"$error":"#REF!"},{"$error":"#REF!"},{"$error":"#REF!"},null,1.8,0.9,{"v":1050,"d":"1,050"},820,100,920,525,{"v":446.66666666666674,"d":"447"},{"v":583.3333333333334,"d":"583"},{"v":492.00000000000006,"d":"492"},100,200,{"v":450,"d":"450.00"},{"v":770,"d":"770.00"},{"v":525,"d":"525.00"},{"v":583.3333333333334,"d":"583.33"},{"v":583.3333333333334,"d":"583.33"},{"v":525,"d":"525.00"},{"v":1050,"d":"1,050"},{"v":525,"d":"525.00"},{"v":583.3333333333334,"d":"583.33"},null,null,1.8,0.9,{"v":1050,"d":"1,050"},820,100,920,525,{"v":546.6666666666667,"d":"547"},{"v":583.3333333333334,"d":"583"},{"v":492.00000000000006,"d":"492"},100,200,{"v":450,"d":"450.00"},{"v":770,"d":"770.00"},{"v":525,"d":"525.00"},{"v":583.3333333333334,"d":"583.33"},{"v":583.3333333333334,"d":"583.33"},{"v":525,"d":"525.00"},{"v":1050,"d":"1,050"},{"v":525,"d":"525.00"},{"v":583.3333333333334,"d":"583.33"}]
["OFERTA DE DINERO",{"$nulls":6},"OFERTA DE DINERO",null,null,"IMPUESTOS",{"$nulls":11},1.9,0.95,{"v":1108.3333333333333,"d":"1,108"},{"v":866.6666666666666,"d":"867"},{"v":554.1666666666666,"d":"554"},{"v":446.66666666666674,"d":"447"},{"v":583.3333333333334,"d":"583"},{"v":424.33333333333337,"d":"424"},{"v":1108.3333333333333,"d":"1,108"},{"v":866.6666666666666,"d":"867"},{"v":554.1666666666666,"d":"554"},{"v":446.66666666666674,"d":"447"},{"v":583.3333333333334,"d":"583"},{"v":424.33333333333337,"d":"424"},null,1.9,0.95,{"v":1108.3333333333333,"d":"1,108"},{"v":141.6666666666666,"d":"142"},{"v":554.1666666666666,"d":"554"},{"v":36.66666666666666,"d":"37"},{"v":583.3333333333334,"d":"583"},{"v":34.83333333333332,"d":"35"},{"v":1108.3333333333333,"d":"1,108"},{"v":141.6666666666666,"d":"142"},{"v":554.1666666666666,"d":"554"},{"v":36.66666666666666,"d":"37"},{"v":583.3333333333334,"d":"583"},{"v":34.83333333333332,"d":"35"},null,0.95,{"v":95,"d":"95.00"},{"$error":"#DIV/0!"},{"v":95,"d":"95.00"},{"v":0,"d":"0.00"},{"v":100,"d":"100.00"},{"v":0,"d":"0.00"},{"v":95,"d":"95.00"},{"$error":"#DIV/0!"},{"v":95,"d":"95.00"},{"v":0,"d":"0.00"},{"v":100,"d":"100.00"},{"v":0,"d":"0.00"},null,1.9,0.95,{"v":1108.3333333333333,"d":"1,108"},{"v":473.3333333333333,"d":"473"},{"v":554.1666666666666,"d":"554"},{"v":263.33333333333337,"d":"263"},{"v":583.3333333333334,"d":"583"},{"v":250.16666666666669,"d":"250"},{"v":1108.3333333333333,"d":"1,108"},{"v":473.3333333333333,"d":"473"},{"v":554.1666666666666,"d":"554"},{"v":263.33333333333337,"d":"263"},{"v":583.3333333333334,"d":"583"},{"v":250.16666666666669,"d":"250"},null,0.95,{"$error":"#REF!"},{"$error":"#REF!"},{"$error":"#REF!"},{"$error":"#REF!"},{"$error":"#REF!"},{"$error":"#REF!"},null,1.9,0.95,{"v":1108.3333333333333,"d":"1,108"},{"v":866.6666666666666,"d":"867"},100,{"v":966.6666666666666,"d":"967"},{"v":554.1666666666666,"d":"554"},{"v":446.66666666666674,"d":"447"},{"v":583.3333333333334,"d":"583"},{"v":519.3333333333334,"d":"519"},100,200,{"v":473.3333333333333,"d":"473.33"},{"v":793.3333333333333,"d":"793.33"},{"v":554.1666666666666,"d":"554.17"},{"v":583.3333333333334,"d":"583.33"},{"v":583.3333333333334,"d":"583.33"},{"v":554.1666666666666,"d":"554.17"},{"v":1108.3333333333333,"d":"1,108"},{"v":554.1666666666666,"d":"554.17"},{"v":583.3333333333334,"d":"583.33"},null,null,1.9,0.95,{"v":1108.3333333333333,"d":"1,108"},{"v":866.6666666666666,"d":"867"},100,{"v":966.6666666666666,"d":"967"},{"v":554.1666666666666,"d":"554"},{"v":546.6666666666667,"d":"547"},{"v":583.3333333333334,"d":"583"},{"v":519.3333333333334,"d":"519"},100,200,{"v":473.3333333333333,"d":"473.33"},{"v":793.3333333333333,"d":"793.33"},{"v":554.1666666666666,"d":"554.17"},{"v":583.3333333333334,"d":"583.33"},{"v":583.3333333333334,"d":"583.33"},{"$f":"DJ71*$DM$81","v":{"v":554.1666666666666,"d":"554.17"}},{"v":1108.3333333333333,"d":"1,108"},{"$f":"DJ71*$DM$83","v":{"v":554.1666666666666,"d":"554.17"}},{"v":583.3333333333334,"d":"583.33"}]
["Ms","Ms",{"$nulls":5},"Ms","Ms",null,"T","T0",{"$nulls":4},"FUNCIÓN ORIGINAL","CHOQUE","VARIACIÓN ABS","VARIACIÓN REL",null,null,2,1,{"v":1166.6666666666667,"d":"1,167"},{"v":913.3333333333335,"d":"913"},{"v":583.3333333333334,"d":"583"},{"v":446.66666666666674,"d":"447"},{"v":583.3333333333334,"d":"583"},{"v":446.66666666666674,"d":"447"},{"v":1166.6666666666667,"d":"1,167"},{"v":913.3333333333335,"d":"913"},{"v":583.3333333333334,"d":"583"},{"v":446.66666666666674,"d":"447"},{"v":583.3333333333334,"d":"583"},{"v":446.66666666666674,"d":"447"},null,2,1,{"v":1166.6666666666667,"d":"1,167"},{"v":153.33333333333331,"d":"153"},{"v":583.3333333333334,"d":"583"},{"v":36.66666666666666,"d":"37"},{"v":583.3333333333334,"d":"583"},{"v":36.66666666666666,"d":"37"},{"v":1166.6666666666667,"d":"1,167"},{"v":153.33333333333331,"d":"153"},{"v":583.3333333333334,"d":"583"},{"v":36.66666666666666,"d":"37"},{"v":583.3333333333334,"d":"583"},{"v":36.66666666666666,"d":"37"},null,1,{"v":100,"d":"100.00"},{"$error":"#DIV/0!"},{"v":100,"d":"100.00"},{"v":0,"d":"0.00"},{"v":100,"d":"100.00"},{"v":0,"d":"0.00"},{"v":100,"d":"100.00"},{"$error":"#DIV/0!"},{"v":100,"d":"100.00"},{"v":0,"d":"0.00"},{"v":100,"d":"100.00"},{"v":0,"d":"0.00"},null,2,1,{"v":1166.6666666666667,"d":"1,167"},{"v":496.66666666666674,"d":"497"},{"v":583.3333333333334,"d":"583"},{"v":263.33333333333337,"d":"263"},{"v":583.3333333333334,"d":"583"},{"v":263.33333333333337,"d":"263"},{"v":1166.6666666666667,"d":"1,167"},{"v":496.66666666666674,"d":"497"},{"v":583.3333333333334,"d":"583"},{"v":263.33333333333337,"d":"263"},{"v":583.3333333333334,"d":"583"},{"v":263.33333333333337,"d":"263"},null,1,{"$error":"#REF!"},{"$error":"#REF!"},{"$error":"#REF!"},{"$error":"#REF!"},{"$error":"#REF!"},{"$error":"#REF!"},null,2,1,{"v":1166.6666666666667,"d":"1,167"},{"v":913.3333333333335,"d":"913"},100,{"v":1013.3333333333335,"d":"1,013"},{"v":583.3333333333334,"d":"583"},{"v":446.66666666666674,"d":"447"},{"v":583.3333333333334,"d":"583"},{"v":546.6666666666667,"d":"547"},100,200,{"v":496.66666666666674,"d":"496.67"},{"v":816.6666666666667,"d":"816.67"}," ",{"v":583.3333333333334,"d":"583.33"},{"v":583.3333333333334,"d":"583.33"},{"v":583.3333333333334,"d":"583.33"},{"v":1166.6666666666667,"d":"1,167"},{"v":583.3333333333334,"d":"583.33"},{"v":583.3333333333334,"d":"583.33"},null,null,2,1,{"v":1166.6666666666667,"d":"1,167"},{"v":913.3333333333335,"d":"913"},100,{"v":1013.3333333333335,"d":"1,013"},{"v":583.3333333333334,"d":"583"},{"v":546.6666666666667,"d":"547"},{"v":583.3333333333334,"d":"583"},{"v":546.6666666666667,"d":"547"},100,200,{"v":496.66666666666674,"d":"496.67"},{"v":816.6666666666667,"d":"816.67"},{"v":583.3333333333334,"d":"583.33"},{"v":583.3333333333334,"d":"583.33"},{"v":583.3333333333334,"d":"583.33"},{"$f":"DJ72*$DM$81","v":{"v":583.3333333333334,"d":"583.33"}},{"v":1166.6666666666667,"d":"1,167"},{"$f":"DJ72*$DM$83","v":{"v":583.3333333333334,"d":"583.33"}},{"v":583.3333333333334,"d":"583.33"}]
[{"$f":"B73","v":{"$error":"#REF!"}},{"$f":"Sistema_Gráficas!#REF!","v":{"$error":"#REF!"}},{"$nulls":5},{"$f":"I73","v":{"$error":"#REF!"}},{"$f":"B73","v":{"$error":"#REF!"}},null,{"$f":"L73","v":{"v":100,"d":"100.0"}},{"$f":"R69","v":{"v":100,"d":"100.00"}}]
[{"$nulls":15},"Y",{"$f":"B53","v":{"v":583.3333333333334,"d":"583.33"}},{"$f":"I53","v":{"v":583.3333333333334,"d":"583.33"}},{"$f":"R74-Q74","v":0},{"$f":"(R74/Q74)-1","v":{"v":0,"d":"0.00%"}},{"$nulls":32},"COTA",{"$f":"BB76+(BB79*BB80)","v":{"v":100,"d":"100.00"}},{"$nulls":5},{"$f":"BC76+(BC79*BC80)","v":{"v":100,"d":"100.00"}},{"$nulls":22},"COTA",{"$f":"CF76+(CF77*CF78)","v":{"$error":"#REF!"}},{"$nulls":5},"Y",{"$f":"(1/(1-CM78+CF92))*(CM77-(CM78*CM79)+CM82+CM85+CM88-CF91)","v":{"v":583.3333333333334,"d":"583.33"}},null,"C",{"$f":"CM77+(CM78*(CM74-CM79))","v":{"v":446.66666666666674,"d":"446.67"}},{"$nulls":18},"Y",{"$f":"I53","v":{"v":583.3333333333334,"d":"583.33"}},null,"C",{"$f":"DJ77+(DJ78*(DJ74-DJ79))","v":{"v":446.66666666666674,"d":"446.67"}}]
[{"$nulls":3},"EXPORTACIONES",{"$nulls":3},"GASTO DEL GOBIERNO",null,null,"EXPORTACIONES",{"$nulls":4},"C",{"$f":"A57","v":{"v":446.66666666666674,"d":"446.67"}},{"$f":"H57","v":{"v":446.66666666666674,"d":"446.67"}},{"$f":"R75-Q75","v":0},{"$f":"(R75/Q75)-1","v":{"v":0,"d":"0.00%"}},{"$nulls":72},"I",{"$f":"CM82","v":{"v":100,"d":"100.00"}},{"$nulls":21},"I",{"$f":"DJ82","v":{"v":100,"d":"100.00"}}]
[{"$nulls":3},"X","x0",null,null,"G","g0",null,"X","x0",{"$nulls":3},"S",{"$f":"A61","v":{"v":36.66666666666666,"d":"36.67"}},{"$f":"H61","v":{"v":36.66666666666666,"d":"36.67"}},0,{"$f":"(R76/Q76)-1","v":{"v":0,"d":"0.00%"}},null,null,"b0",{"$f":"B57","v":{"v":60,"d":"60.00"}},{"$f":"I57","v":{"v":60,"d":"60.00"}},{"$nulls":12},"s0",{"$f":"B61","v":{"v":-60,"d":"-60.00"}},{"$f":"I61","v":{"v":-60,"d":"-60.00"}},{"$nulls":12},"i0",{"$f":"B65","v":{"v":100,"d":"100.00"}},{"$f":"I65","v":{"v":100,"d":"100.00"}},{"$nulls":11},"m0",{"$f":"I81","v":{"v":30,"d":"30.00"}},{"$f":"I81","v":{"v":30,"d":"30.00"}},{"$nulls":13},"m0",{"$f":"B85","v":{"$error":"#REF!"}},{"$nulls":5},"FUNCIÓN CONSUMO",null,null,"G",{"$f":"CM85","v":{"v":100,"d":"100.00"}},{"$nulls":18},"FUNCIÓN CONSUMO",null,null,"G",{"$f":"DJ85","v":{"v":100,"d":"100.00"}}]
[{"$nulls":3},{"$f":"E77","v":{"v":200,"d":"200.0"}},{"$f":"Sistema_Gráficas!B20","v":{"v":200,"d":"200.00"}},null,null,{"$f":"I77","v":{"v":100,"d":"100.0"}},{"$f":"Q69","v":{"v":100,"d":"100.00"}},null,{"$f":"L77","v":{"v":200,"d":"200.0"}},{"$f":"E77","v":{"v":200,"d":"200.00"}},{"$nulls":3},"I",{"$f":"A65","v":{"v":100,"d":"100.00"}},{"$f":"H65","v":{"v":100,"d":"100.00"}},0,{"$f":"(R77/Q77)-1","v":{"v":0,"d":"0.00%"}},null,null,"b1",{"$f":"C57","v":{"v":0.8,"d":"0.80"}},{"$f":"J57","v":{"v":0.8,"d":"0.80"}},{"$nulls":12},"s1",{"$f":"C61","v":{"v":0.19999999999999996,"d":"0.20"}},{"$f":"J61","v":{"v":0.19999999999999996,"d":"0.20"}},{"$nulls":12},"i1",{"$f":"C65","v":{"v":0,"d":"0.00"}},{"$f":"J65","v":{"v":0,"d":"0.00"}},{"$nulls":11},"m1",{"$f":"C81","v":{"v":0.4,"d":"0.40"}},{"$f":"C81","v":{"v":0.4,"d":"0.40"}},{"$nulls":13},"m1",{"$f":"C85","v":{"$error":"#REF!"}},{"$nulls":5},"b0",{"$f":"B57","v":{"v":60,"d":"60.00"}},null,"X",{"$f":"CM88","v":{"v":200,"d":"200.00"}},{"$nulls":18},"b0",{"$f":"I57","v":{"v":60,"d":"60.00"}},null,"X",{"$f":"DJ88","v":{"v":200,"d":"200.00"}}]
[{"$nulls":15},"r",{"$f":"D65","v":0},{"$f":"K65","v":0},0,{"$nulls":3},"Y",{"$f":"D57","v":{"v":583.3333333333334,"d":"583.33"}},{"$f":"K57","v":{"v":583.3333333333334,"d":"583.33"}},{"$nulls":12},"Y",{"$f":"D61","v":{"v":583.3333333333334,"d":"583.33"}},{"$f":"K61","v":{"v":583.3333333333334,"d":"583.33"}},{"$nulls":12},"r",{"$f":"D65","v":{"v":0,"d":"0.00"}},{"$f":"K65","v":{"v":0,"d":"0.00"}},{"$nulls":11},"Y",{"$f":"D81","v":{"v":583.3333333333334,"d":"583.33"}},{"$f":"I53","v":{"v":583.3333333333334,"d":"583.33"}},{"$nulls":13},"Y",{"$f":"D85","v":{"v":583.3333333333334,"d":"583.33"}},{"$nulls":5},"b1",{"$f":"C57","v":{"v":0.8,"d":"0.80"}},null,"M",{"$f":"CM91+(CM92*CM74)","v":{"v":263.33333333333337,"d":"263.33"}},{"$nulls":18},"b1",{"$f":"J57","v":{"v":0.8,"d":"0.80"}},null,"M",{"$f":"DJ91+(DJ92*DJ74)","v":{"v":263.33333333333337,"d":"263.33"}}]
["IMPORTACIONES",{"$nulls":6},"IMPORTACIONES",{"$nulls":7},"MD",{"$f":"A85","v":{"$error":"#REF!"}},{"$f":"H69","v":{"$error":"#REF!"}},{"$error":"#REF!"},{"$f":"(R79/Q79)-1","v":{"$error":"#REF!"}},null,null,"t0",{"$f":"E57","v":{"v":100,"d":"100.00"}},{"$f":"L57","v":{"v":100,"d":"100.00"}},{"$nulls":12},"t0",{"$f":"E61","v":{"v":100,"d":"100.00"}},{"$f":"L61","v":{"v":100,"d":"100.00"}},{"$nulls":12},"i2",{"$f":"E65","v":{"v":0,"d":"0.00"}},{"$f":"L65","v":{"v":0,"d":"0.00"}},{"$nulls":27},"m2",{"$f":"E85","v":{"$error":"#REF!"}},{"$nulls":5},"t0",{"$f":"E69","v":{"v":100,"d":"100.00"}},{"$nulls":21},"t0",{"$f":"L73","v":{"v":100,"d":"100.00"}}]
["M","m0","m1","Y",null,"SBC",null,"M","m0","m1","Y",null,"SBC",null,null,"Ms",{"$f":"A73","v":{"$error":"#REF!"}},{"$f":"H73","v":{"$error":"#REF!"}},{"$error":"#REF!"},{"$error":"#REF!"},{"$nulls":32},"Emk0",{"$f":"F65","v":{"v":0,"d":"0%"}},{"$f":"M65","v":{"v":0,"d":"0%"}},{"$nulls":37},"C+I",{"$f":"(CM77+(CM78*(CM74-CM79)))+CP75","v":{"v":546.6666666666667,"d":"546.67"}},{"$nulls":21},"C+I",{"$f":"(DJ77+(DJ78*(DJ74-DJ79)))+DM75","v":{"v":546.6666666666667,"d":"546.67"}}]
[{"$f":"B81+(C81*D81)","v":{"v":263.33333333333337,"d":"263.3"}},{"$f":"Sistema_Gráficas!B23","v":{"v":30,"d":"30.00"}},{"$f":"Sistema_Gráficas!C23","v":{"v":0.4,"d":"0.40"}},{"$f":"B53","v":{"v":583.3333333333334,"d":"583.33"}},null,{"$f":"D77-A81","v":{"v":-63.33333333333337,"d":"(63.3)"}},null,{"$f":"I81+(J81*K81)","v":{"v":263.33333333333337,"d":"263.3"}},{"$f":"B81","v":{"v":30,"d":"30.00"}},{"$f":"C81","v":{"v":0.4,"d":"0.40"}},{"$f":"I53","v":{"v":583.3333333333334,"d":"583.33"}},null,{"$f":"K77-H81","v":{"v":-63.33333333333337,"d":"(63.3)"}},null,null,"G",{"$f":"A69","v":{"v":100,"d":"100.00"}},{"$f":"H77","v":{"v":100,"d":"100.00"}},0,{"v":0,"d":"0.00%"},{"$nulls":62},"FUNCIÓN DE OFERTA DE DINERO",{"$nulls":6},"INVERSIÓN",null,null,"C+I+G+X-M",{"$f":"(CM77+(CM78*(CM74-CM79)))+CM82+CM85+CM88-(CM91+(CM92*CM74))","v":{"v":583.3333333333334,"d":"583.33"}},{"$nulls":18},"INVERSIÓN",null,null,"C+I+G+X-M",{"$f":"(DJ77+(DJ78*(DJ74-DJ79)))+DJ82+DJ85+DJ88-(DJ91+(DJ92*DJ74))","v":{"v":583.3333333333334,"d":"583.33"}}]
[{"$nulls":15},"x",{"$f":"D77","v":{"v":200,"d":"200.00"}},{"$f":"K77","v":{"v":200,"d":"200.00"}},0,{"v":0,"d":"0.00%"},{"$nulls":62},"Ms",{"$f":"B73","v":{"$error":"#REF!"}},{"$nulls":5},"I",{"$f":"A65","v":{"v":100,"d":"100.00"}},{"$nulls":21},"I",{"$f":"H65","v":{"v":100,"d":"100.00"}}]
["DEMANDA DE DINERO",{"$nulls":14},"Q",{"$f":"A81","v":{"v":263.33333333333337,"d":"263.33"}},{"$f":"H81","v":{"v":263.33333333333337,"d":"263.33"}},0,{"v":0,"d":"0.00%"},{"$nulls":72},"y",{"$f":"(CM77-(CM78*CM79)+CM82+CM88-CM91+CM85)/(1-CM78+CM92)","v":{"v":583.3333333333334,"d":"583.33"}},{"$nulls":21},"y",{"$f":"(DJ77-(DJ78*DJ79)+DJ82+DJ88-DJ91+DJ85)/(1-DJ78+DJ92)","v":{"v":583.3333333333334,"d":"583.33"}}]
["MD","m0","m1","Y","m2","r",{"$nulls":9},"SBC",{"$f":"F81","v":{"v":-63.33333333333337,"d":"-63.33"}},{"$f":"M81","v":{"v":-63.33333333333337,"d":"-63.33"}},0,{"v":0,"d":"0.00%"},null,null,"C1",{"$f":"X76+(X77*(X78-X79))","v":{"v":446.66666666666674,"d":"446.67"}},{"$f":"Y76+(Y77*(Y78-Y79))","v":{"v":446.66666666666674,"d":"446.67"}},{"$nulls":12},"S1",{"$f":"AM76+(AM77*(AM78-AM79))","v":{"v":36.66666666666666,"d":"36.67"}},{"$f":"AN76+(AN77*(AN78-AN79))","v":{"v":36.66666666666666,"d":"36.67"}},{"$nulls":26},"M1",{"$f":"BP76+(BP77*BP78)","v":{"v":263.33333333333337,"d":"263.33"}},{"$f":"BQ76+(BQ77*BQ78)","v":{"v":263.33333333333337,"d":"263.33"}},{"$nulls":20},"GOBIERNO",null,null,"da",{"$f":"CM77+(CM78*(CP83-CM79))+CM82+CM88-(CM91+(CM92*CP83))+CM85","v":{"v":583.3333333333334,"d":"583.33"}},{"$nulls":18},"GOBIERNO",null,null,"da",{"$f":"DJ77+(DJ78*(DM83-DJ79))+DJ82+DJ88-(DJ91+(DJ92*DM83))+DJ85","v":{"v":583.3333333333334,"d":"583.33"}}]
[{"$f":"B85+(C85*D85)+(E85*F85)","v":{"$error":"#REF!"}},{"$f":"Sistema_Gráficas!#REF!","v":{"$error":"#REF!"}},{"$f":"Sistema_Gráficas!#REF!","v":{"$error":"#REF!"}},{"$f":"B53","v":{"v":583.3333333333334,"d":"583.33"}},{"$f":"Sistema_Gráficas!#REF!","v":{"$error":"#REF!"}},{"$f":"(B85-B73+(C85*D85))/(E85*-1)","v":{"$error":"#REF!"}},{"$nulls":46},"I1",{"$f":"$BB$76+($BB$77*$BB$78)+($BB$79*$BB$80)","v":{"v":100,"d":"100.00"}},{"$f":"$BC$76+($BC$77*$BC$78)+($BC$79*$BC$80)","v":{"v":100,"d":"100.00"}},{"$nulls":34},"G",{"$f":"A69","v":{"v":100,"d":"100.00"}},{"$nulls":21},"G",{"$f":"H77","v":{"v":100,"d":"100.00"}}]
[]
[{"$nulls":82},"Resultados","INICIAL",{"$nulls":5},"EXPORTACIONES",{"$nulls":22},"EXPORTACIONES"]
[{"$nulls":82},"Md",{"$f":"CF76+(CF77*CF78)+(CF79*CF89)","v":{"$error":"#REF!"}},{"$nulls":5},"X",{"$f":"D77","v":{"v":200,"d":"200.00"}},{"$nulls":21},"X",{"$f":"K77","v":{"v":200,"d":"200.00"}}]
[{"$nulls":82},"r",{"$f":"(CF82-CF76-(CF77*CF78))/CF79","v":{"$error":"#REF!"}}]
[{"$nulls":89},"IMPORTACIONES",{"$nulls":22},"IMPORTACIONES"]
[{"$nulls":82},"m0",{"$f":"B81","v":{"v":30,"d":"30.00"}},{"$nulls":5},"m0",{"$f":"B81","v":{"v":30,"d":"30.00"}},{"$nulls":21},"m0",{"$f":"I81","v":{"v":30,"d":"30.00"}}]
[{"$nulls":82},"m1",{"$f":"C81","v":{"v":0.4,"d":"0.40"}},{"$nulls":5},"m1",{"$f":"C81","v":{"v":0.4,"d":"0.40"}},{"$nulls":21},"m1",{"$f":"J81","v":{"v":0.4,"d":"0.40"}}]