{"text_format":"3","workbook":"xlsx","n_sheets":6,"sheets":["Inicio GenM","Sistema Básico GenM","Sistema Ampliado GenM","Impuesto por Unidad GenM","Impuesto Al Valor GenM","oculto GenM"],"not_rendered":{"charts":4,"images":9,"macros":1,"defined_names":1},"read":"whole","date_system":"1900"}

{"sheet":"Inicio GenM","index":0,"n_rows":31,"n_cols":11,"rows_kept":31,"merged":[[0,0,0,3],[21,0,21,2]]}
{"$rows_empty":21}
["    Descargue la versión Kindle"]
{"$rows_empty":8}
[{"$nulls":10},"Miguel Cervantes Jiménez"]

{"sheet":"Sistema Básico GenM","index":1,"n_rows":38,"n_cols":4,"rows_kept":38,"hidden":true,"merged":[[0,1,0,3],[12,1,12,2],[13,1,13,2],[15,1,15,2],[16,1,16,2],[18,1,18,2],[19,1,19,2],[21,1,21,2],[23,1,23,2],[25,1,25,2],[26,1,26,2],[28,1,28,2],[29,1,29,2],[30,1,30,2]]}
[null,"EL MERCADO"]
[]
[null,"FUNCIÓN DE OFERTA"]
[null,"xs","-a0","a1"]
[null,{"$f":"C5+(D5*D19)","v":{"v":10,"d":"10.0"}},{"v":-50,"d":"-50.0"},{"v":3,"d":"3.0"}]
[null,null,"Inserte los datos correspondientes"]
[null,"FUNCIÓN DE DEMANDA"]
[]
[null,"xd","b0","-b1"]
[null,{"$f":"C10+(D10*D19)","v":{"v":60,"d":"60.0"}},{"v":100,"d":"100.0"},{"v":-2,"d":"-2.0"}]
[null,null,"Inserte los datos correspondientes"]
[]
[null,"Precio de equilibrio",null,{"$f":"'oculto GenM'!D37","v":{"v":30,"d":"30.0"}}]
[null,"Cantidad de equilibrio",null,{"$f":"'oculto GenM'!D38","v":{"v":40,"d":"40.0"}}]
[]
[null,"Excedente neto consumidor",null,{"$f":"(((C10/D10*-1)-D13)*D14)/2","v":400}]
[null,"Excedente neto productor",null,{"$f":"((D13-(C5/D5*-1))*D14)/2","v":{"v":266.66666666666663,"d":"267"}}]
[]
[null,"Precio diferente al de equilibrio",null,{"v":20,"d":"20.0"}]
[null,"Cantidad vendida",null,{"$f":"'oculto GenM'!D42","v":{"v":10,"d":"10.0"}}]
[{"$nulls":3},"Cambie el precio"]
[null,"Exceso de demanda",null,{"$f":"'oculto GenM'!D43","v":{"v":50,"d":"50.0"}}]
[]
[null,"Exceceso de oferta",null,{"$f":"'oculto GenM'!D45","v":""}]
[]
[null,"Excedente neto consumidor",null,{"$f":"'oculto GenM'!D47","v":275}]
[null,"Excedente neto productor",null,{"$f":"'oculto GenM'!D48","v":{"v":16.66666666666666,"d":"17"}}]
[null,"Excedente del mercado",null,{"$f":"D26+D27","v":{"v":291.6666666666667,"d":"292"}}]
[null,"PIE consumidor",null,{"$f":"'oculto GenM'!D49","v":375}]
[null,"PIE productor",null,{"$f":"'oculto GenM'!D50","v":150}]
[null,"PIE",null,{"$f":"'oculto GenM'!D51","v":525}]
[]
[]
[]
[null,"Títulos"]
[null,"Resultados"]
[null,"Insertar Datos"]
[null,"Equilibrio"]

{"sheet":"Sistema Ampliado GenM","index":2,"n_rows":29,"n_cols":11,"rows_kept":29,"hidden":true,"merged":[[0,0,0,5],[0,7,0,10],[12,1,12,3],[12,7,12,8],[13,1,13,3],[13,7,13,8],[16,1,16,2],[16,7,16,8],[17,1,17,2],[17,7,17,8],[25,1,25,2],[26,1,26,2],[27,1,27,2],[28,1,28,2]]}
["EL MERCADO",{"$nulls":6},"CAMBIO EN LAS FUNCIONES"]
[]
[null,"FUNCIÓN DE OFERTA",{"$nulls":5},"NUEVA FUNCIÓN DE OFERTA"]
[null,"xs","-a0","a1","-a2",null,null,"xs","-a0","a1","`-a2"]
[null,{"$f":"'oculto GenM'!P38","v":{"v":913.3333333333333,"d":"913.3"}},{"v":-30,"d":"-30.0"},{"v":1,"d":"1.0"},-0.3,null,null,{"$f":"'oculto GenM'!V38","v":{"v":913.3333333333333,"d":"913.3"}},{"$f":"C5","v":{"v":-30,"d":"-30.0"}},{"$f":"D5","v":{"v":1,"d":"1.0"}},{"$f":"E5","v":-0.3}]
[null,null,"Insertar datos iniciales correspondientes",{"$nulls":5},"Insertar los nuevos datos"]
[null,"FUNCIÓN DE DEMANDA",{"$nulls":5},"NUEVA FUNCIÓN DE DEMANDA"]
[null,"xd","b0","-b1","b2",null,null,"xd","b0","`-b1","b2"]
[null,{"$f":"'oculto GenM'!P42","v":{"v":913.3333333333334,"d":"913.3"}},{"v":200,"d":"200.0"},-0.5,0.4,null,null,{"$f":"'oculto GenM'!V42","v":{"v":913.3333333333334,"d":"913.3"}},{"$f":"C9","v":{"v":200,"d":"200.0"}},{"$f":"D9","v":-0.5},{"$f":"E9","v":0.4}]
[null,null,"Insertar datos iniciales correspondientes",{"$nulls":5},"Insertar los nuevos datos"]
[]
[{"$nulls":7},"NUEVOS PRECIOS Y CANTIDADES",null,null,"Variación"]
[null,"Precio de equilibrio",null,null,{"$f":"'oculto GenM'!S46","v":{"v":1693.3333333333333,"d":"1,693.3"}},null,null,"Precio de equilibrio",null,{"$f":"'oculto GenM'!X46","v":{"v":1693.3333333333333,"d":"1,693.3"}},{"$f":"'oculto GenM'!Y46","v":0}]
[null,"Cantidad de equilibrio",null,null,{"$f":"'oculto GenM'!S47","v":{"v":913.3333333333334,"d":"913.3"}},null,null,"Cantidad de equilibrio",null,{"$f":"'oculto GenM'!X47","v":{"v":913.3333333333334,"d":"913.3"}},{"$f":"'oculto GenM'!Y47","v":0}]
[{"$nulls":3},"Insertar datos iniciales"]
[{"$nulls":7},"NUEVO INGRESO Y SALARIO",null,null,"Variación"]
[null,"Ingreso (m)",null,{"v":3900,"d":"3,900.0"},{"$nulls":3},"Ingreso (m)",null,{"$f":"D17","v":{"v":3900,"d":"3,900.0"}},{"$f":"'oculto GenM'!Y50","v":0}]
[null,"Salario (w)",null,{"v":2500,"d":"2,500.0"},{"$nulls":3},"Salario (w)",null,{"$f":"D18","v":{"v":2500,"d":"2,500.0"}},{"$f":"'oculto GenM'!Y51","v":0}]
[{"$nulls":3},{"$f":"E13","v":{"v":1693.3333333333333,"d":"1,693.3"}},{"$nulls":5},"Insertar los nuevos datos"]
[{"$nulls":3},"Cambiar el ingreso o salario"]
[]
[null,"Exceso de demanda",null,{"$f":"'oculto GenM'!R55","v":{"v":1.1368683772161603E-13,"d":"0.0"}},{"$nulls":5},"  "]
[]
[null,"Execeso de oferta",null,{"$f":"'oculto GenM'!R57","v":""}]
[]
[null,"Títulos"]
[null,"Resultados"]
[null,"Insertar datos"]
[null,"Equilibrio"]

{"sheet":"Impuesto por Unidad GenM","index":3,"n_rows":34,"n_cols":20,"rows_kept":34,"hidden":true,"merged":[[0,0,0,5],[1,2,1,3],[2,16,2,18],[3,16,3,18],[12,1,12,3],[14,16,14,18],[15,1,15,2],[15,16,15,18],[16,1,16,2],[16,16,16,18],[17,16,17,18],[24,1,24,2],[25,1,25,2],[26,1,26,2],[30,1,30,2],[31,1,31,2],[32,1,32,2],[33,1,33,2]]}
["EL MERCADO"]
[null,null,"Impuesto por unidad",{"$nulls":13},"ANTES DEL IMPUESTO"]
[null,"FUNCIÓN DE OFERTA INICIAL",{"$nulls":14},"Excedente neto del consumidor",null,null,{"$f":"(((C9/D9*-1)-E12)*(E13))/2","v":{"v":400,"d":"400.0"}}]
[null,"xs","-a0","a1",{"$nulls":12},"Excedente neto del productor",null,null,{"$f":"((E12-(C5/D5*-1))*E13)/2","v":{"v":266.66666666666663,"d":"266.7"}}]
[null,{"$f":"C5+(D5*E12)","v":{"v":40,"d":"40.0"}},{"v":-50,"d":"-50.0"},{"v":3,"d":"3.0"}]
[null,null,"Insertar datos iniciales correspondientes",{"$nulls":13},"DESPUÉS DEL IMPUESTO"]
[null,"FUNCIÓN DE DEMANDA INICIAL",{"$nulls":14},"FUNCIÓN DE OFERTA PRECIO PRODUCTOR"]
[null,"xd","b0","-b1",{"$nulls":12},"xs","-a0","a1","Pp"]
[null,{"$f":"C9+(D9*E12)","v":{"v":40,"d":"40.0"}},{"v":100,"d":"100.0"},{"v":-2,"d":"-2.0"},{"$nulls":12},{"$f":"R9+(S9*T9)","v":{"v":34,"d":"34.0"}},{"$f":"C5","v":{"v":-50,"d":"-50.0"}},{"$f":"D5","v":{"v":3,"d":"3.0"}},{"$f":"D26","v":{"v":28,"d":"28.0"}}]
[null,null,"Insertar datos iniciales correspondientes"]
[{"$nulls":16},"FUNCIÓN DE DEMANDA PRECIO CONSUMIDOR"]
[null,"Precio de equilibrio",null,null,{"$f":"'oculto GenM'!AT31","v":{"v":30,"d":"30.0"}},{"$nulls":11},"xd","b0","-b1","Pc"]
[null,"Cantidad de equilibrio",null,null,{"$f":"'oculto GenM'!AT30","v":{"v":40,"d":"40.0"}},{"$nulls":11},{"$f":"R13+(S13*T13)","v":{"v":34,"d":"34.0"}},{"$f":"C9","v":{"v":100,"d":"100.0"}},{"$f":"D9","v":{"v":-2,"d":"-2.0"}},{"$f":"D25","v":{"v":33,"d":"33.0"}}]
[]
[null,"IMPUESTO POR UNIDAD",{"$nulls":14},"Excedente neto del consumidor",null,null,{"$f":"(((C9/D9*-1)-D25)*D27)/2","v":{"v":289,"d":"289.0"}}]
[null,"Al Productor",null,{"v":5,"d":"5.0"},{"$nulls":12},"Excedente neto del productor",null,null,{"$f":"((D26-(C5/D5*-1))*D27)/2","v":{"v":192.66666666666666,"d":"192.7"}}]
[null,"Al Consumidor",null,{"v":5,"d":"5.0"},{"$nulls":12},"Excedente neto del mercado",null,null,{"$f":"T15+T16","v":{"v":481.66666666666663,"d":"481.7"}}]
[{"$nulls":3},"Insertar el impuesto",{"$nulls":12},"Ingresos tributarios",null,null,{"$f":"(D25-D26)*D27","v":{"v":170,"d":"170.0"}}]
[{"$nulls":16},"PIE consumidor",null,null,{"$f":"((D25-E12)*(E13-D27))/2","v":{"v":9,"d":"9.0"}}]
[{"$nulls":3},"  ",{"$nulls":12},"PIE productor",null,null,{"$f":"((E12-D26)*(E13-D27))/2","v":{"v":6,"d":"6.0"}}]
[{"$nulls":16},"PIE",null,null,{"$f":"T19+T20","v":{"v":15,"d":"15.0"}}]
[]
[]
[null,"NUEVOS PRECIOS Y CANTIDADES",null,null,"Variación"]
[null,"Precio consumidor",null,{"$f":"'oculto GenM'!AT36","v":{"v":33,"d":"33.0"}},{"$f":"D25-E12","v":{"v":3,"d":"3.0"}}]
[null,"Precio productor",null,{"$f":"'oculto GenM'!AT35","v":{"v":28,"d":"28.0"}},{"$f":"D26-E12","v":{"v":-2,"d":"-2.0"}}]
[null,"Cantidad de equilibrio",null,{"$f":"'oculto GenM'!AT34","v":{"v":34,"d":"34.0"}},{"$f":"D27-E13","v":{"v":-6,"d":"-6.0"}}]
[]
[]
[]
[null,"Títulos"]
[null,"Resultados"]
[null,"Insertar datos"]
[null,"Equilibrio"]

{"sheet":"Impuesto Al Valor GenM","index":4,"n_rows":35,"n_cols":5,"rows_kept":35,"hidden":true,"merged":[[0,0,0,5],[1,2,1,3],[12,1,12,3],[15,1,15,2],[16,1,16,2],[24,1,24,2],[25,1,25,2],[27,1,27,2],[28,1,28,2],[28,3,28,4],[29,1,29,2],[29,3,29,4],[31,1,31,2],[32,1,32,2],[33,1,33,2],[34,1,34,2]]}
["EL MERCADO"]
[null,null,"Impuesto al valor"]
[null,"FUNCIÓN DE OFERTA INICIAL"]
[null,"xs","-a0","a1"]
[null,{"$f":"C5+(D5*E12)","v":{"v":48.571428571428584,"d":"48.6"}},{"v":-100,"d":"-100.0"},{"v":4,"d":"4.0"}]
[null,null,"Insertar datos iniciales correspondientes"]
[null,"FUNCIÓN DE DEMANDA INICIAL"]
[null,"xd","b0","-b1"]
[null,{"$f":"C9+(D9*E12)","v":{"v":48.571428571428555,"d":"48.6"}},{"v":160,"d":"160.0"},{"v":-3,"d":"-3.0"}]
[null,null,"Insertar datos iniciales correspondientes"]
[]
[null,"Precio de equilibrio",null,null,{"$f":"'oculto GenM'!BQ31","v":{"v":37.142857142857146,"d":"37.1"}}]
[null,"Cantidad de equilibrio",null,null,{"$f":"'oculto GenM'!BQ30","v":{"v":48.57142857142857,"d":"48.6"}}]
[]
[null,"IMPUESTO EN TANTO POR UNO"]
[null,"Al productor",null,0.2]
[null,"Al consumidor",null,{"v":0,"d":"0.0"}]
[{"$nulls":3},"Insertar el impuesto"]
[]
[{"$nulls":3},"  "]
[]
[]
[]
[null,"NUEVOS PRECIOS Y CANTIDADES",null,null,"Variación"]
[null,"Precio consumidor",null,{"$f":"'oculto GenM'!BQ36","v":{"v":41.05263157894737,"d":"41.1"}},{"$f":"D25-E12","v":{"v":3.909774436090224,"d":"3.9"}}]
[null,"Precio productor",null,{"$f":"'oculto GenM'!BQ35","v":{"v":34.21052631578947,"d":"34.2"}},{"$f":"D26-E12","v":{"v":-2.9323308270676733,"d":"-2.9"}}]
[null,"Impuesto en pesos",null,{"$f":"D25-D26","v":{"v":6.842105263157897,"d":"6.8"}}]
[null,"Cantidad de equilibrio",null,{"$f":"'oculto GenM'!BQ34","v":{"v":36.84210526315789,"d":"36.8"}},{"$f":"D28-E13","v":{"v":-11.72932330827068,"d":"-11.7"}}]
[null,"Ingresos tributarios",null,{"$f":"D27*D28","v":{"v":252.07756232686987,"d":"252.1"}}]
[null,"PIE",null,{"$f":"(D27*(E13-D28))/2","v":{"v":40.126632370399705,"d":"40.1"}}]
[]
[null,"Títulos"]
[null,"Resultados"]
[null,"Insertar datos"]
[null,"Equilibrio"]

{"sheet":"oculto GenM","index":5,"n_rows":57,"n_cols":83,"rows_kept":57,"hidden":true,"merged":[[1,7,1,8],[1,10,1,12],[26,47,26,48],[26,70,26,71],[28,47,28,48],[28,70,28,71],[36,1,36,2],[37,1,37,2],[39,1,40,2],[39,3,40,3],[42,1,42,2],[44,1,44,2],[45,15,45,17],[45,21,45,22],[46,1,46,2],[46,15,46,17],[46,21,46,22],[47,1,47,2],[48,1,48,2],[49,1,49,2],[49,15,49,16],[49,21,49,22],[50,1,50,2],[50,15,50,16],[50,21,50,22],[51,15,51,16]]}
["SISTEMA BÁSICO",{"$nulls":13},"SISTEMA AMPLIADO",{"$nulls":7},"LINEAS DE EQUILIBRIO DE AMBOS SISTEMAS",{"$nulls":7},"LINEAS DEL DESEQUILIBRIO",{"$nulls":8},"IMPUESTO POR UNIDAD",{"$nulls":22},"IMPUESTO AL VALOR"]
["Unidades","P Oferta","P Demanda","Cantidad","Factor Precio","plin","xlin","Excesos P",null,null,"Exceso X",{"$nulls":3},"Unidades","Oferta Inicial","Demanda Inicial","x","Factor Precio","Oferta Final","Demanda Final","x","Inicial Precio","Inicial cantidad","Inicial cantidad","Inicial Precio","Final Precio","Final Precio","Final cantidad","Final cantidad","Lprecio",null,"Lppond","LQ1","LQ2",{"$nulls":4},"Unidades","Oferta Inicial","Demanda Inicial","x","Factor Precio","Oferta Final","Demanda Final","x","Oferta Final","X","Demanda Final",null,"Inicial Precio","Inicial cantidad","Inicial cantidad","Inicial Precio","Final Precio","Final Precio","Final Precio","Final cantidad","Final cantidad",null,null,"Unidades","Oferta Inicial","Demanda Inicial","x","Factor Precio","Oferta Final","Demanda Final","x","Oferta Final","X","Demanda Final",null,"Inicial Precio","Inicial cantidad","Inicial cantidad","Inicial Precio","Final Precio","Final Precio","Final Precio","Final cantidad","Final cantidad"]
[null,0,null,0,null,null,{"$f":"$D$14","v":{"v":39.99999999999996,"d":"40.00"}},{"$nulls":8},0,null,0,{"$nulls":4},"ps*","x*(ponder)","x*","pd*(ponder)","p*","x*(ponder)","x*","p*(ponder)",{"$nulls":10},0,null,0,null,"ok",null,null,"GRÁFICA",null,"GRÁFICA",null,"ps*","x*(ponder)","x*","pd*(ponder)","ps*","pd*","x*(ponder)","x*","p*(ponder)",{"$nulls":3},0,null,0,null,"ok",null,null,"GRÁFICA",null,"GRÁFICA",null,"ps*","x*(ponder)","x*","pd*(ponder)","ps*","pd*","x*(ponder)","x*","p*(ponder)"]
[0,{"$f":"(-('Sistema Básico GenM'!$C$5)/'Sistema Básico GenM'!$D$5)+(D4/('Sistema Básico GenM'!$D$5))","v":{"v":16.666666666666668,"d":"17"}},{"$f":"(-('Sistema Básico GenM'!$C$10)/('Sistema Básico GenM'!$D$10))+(D4/'Sistema Básico GenM'!$D$10)","v":50},{"$f":"'Sistema Básico GenM'!$D$14*E4","v":0},{"v":0,"d":"0.00"},{"$f":"$B$14","v":{"v":29.999999999999986,"d":"30.00"}},{"$f":"$D$14","v":{"v":39.99999999999996,"d":"40.00"}},{"$f":"E4*$I$20","v":{"v":0,"d":"0.00"}},{"$f":"'Sistema Básico GenM'!$D$19","v":{"v":20,"d":"20.00"}},{"$f":"MIN($I$21:$I$22)","v":{"v":10,"d":"10.00"}},{"$f":"'Sistema Básico GenM'!$D$19*'oculto GenM'!E4","v":{"v":0,"d":"0.00"}},{"$f":"E4*$I$22","v":{"v":0,"d":"0.00"}},{"$f":"MAX($I$21:$I$22)","v":{"v":60,"d":"60.00"}},null,0,{"$f":"(R4-$Q$38-($S$38*$R$51))/$R$38","v":780},{"$f":"(R4-$Q$42-($S$42*$R$50))/$R$42","v":{"v":3520,"d":"3,520"}},{"$f":"'Sistema Ampliado GenM'!$E$14*S4","v":0},{"v":0,"d":"0.00"},{"$f":"(V4-($W$38)-($Y$38*$X$51))/$X$38","v":780},{"$f":"(V4-$W$42-($Y$42*$X$50))/$X$42","v":{"v":3520,"d":"3,520"}},{"$f":"R4","v":0},{"$f":"$P$14","v":{"v":1693.3333333333326,"d":"1,693"}},{"$f":"$R$14*S4","v":0},{"$f":"$R$14","v":{"v":913.3333333333325,"d":"913"}},{"$f":"$Q$14*S4","v":0},{"$f":"'Sistema Ampliado GenM'!$J$13","v":{"v":1693.3333333333333,"d":"1,693"}},{"$f":"'Sistema Ampliado GenM'!$J$14*S4","v":0},{"$f":"'Sistema Ampliado GenM'!$J$14","v":{"v":913.3333333333334,"d":"913"}},{"$f":"S4*'Sistema Ampliado GenM'!$J$13","v":0},{"$f":"$R$52","v":{"v":1693.3333333333333,"d":"1,693.33"}},{"$f":"$S$52*S4","v":0},{"$f":"$R$52*S4","v":0},{"$f":"$P$38*S4","v":0},{"$f":"S4*$P$42","v":0},{"$f":"$P$38","v":{"v":913.3333333333333,"d":"913.33"}},{"$f":"$P$42","v":{"v":913.3333333333334,"d":"913.33"}},null,null,0,{"$f":"(AQ4-$AT$26)/$AT$27","v":{"v":16.666666666666668,"d":"17"}},{"$f":"(AQ4-$AT$28)/$AT$29","v":50},{"$f":"$AT$30*AR4","v":0},{"v":0,"d":"0.00"},{"$f":"(AU4-$AT$26+($AT$27*$AT$32))/$AT$27","v":{"v":21.666666666666668,"d":"22"}},{"$f":"(AU4-$AT$28-($AT$29*$AT$33))/$AT$29","v":45},{"$f":"$AT$34*AR4","v":0},{"$f":"IF($AW$28=1,AO4,AS4)","v":{"v":16.666666666666668,"d":"17"}},{"$f":"IF($AW$28=1,AQ4,AU4)","v":0},{"$f":"IF($AW$28=1,AT4,AP4)","v":45},{"$f":"IF($AW$28=1,AU4,AQ4)","v":0},{"$f":"$AT$31","v":30},{"$f":"$AT$30*AR4","v":0},{"$f":"$AT$30","v":40},{"$f":"$AT$31*AR4","v":0},{"$f":"$AT$35","v":28},{"$f":"$AT$36","v":33},{"$f":"$AT$34*AR4","v":0},{"$f":"$AT$34","v":34},{"$f":"MAX($BD$4:$BE$4)*AR4","v":0},null,null,0,{"$f":"(BN4-$BQ$26)/$BQ$27","v":25},{"$f":"(BN4-$BQ$28)/$BQ$29","v":{"v":53.333333333333336,"d":"53"}},{"$f":"$BQ$30*BO4","v":0},{"v":0,"d":"0.00"},{"$f":"((BR4-$BQ$26)/($BQ$27))+($BQ$35*$BQ$32)","v":{"v":31.842105263157894,"d":"32"}},{"$f":"((BR4-$BQ$28)/$BQ$29)-($BQ$35*$BQ$33)","v":{"v":53.333333333333336,"d":"53"}},{"$f":"$BQ$34*BO4","v":0},{"$f":"IF($BT$28=1,BL4,BP4)","v":{"v":31.842105263157894,"d":"32"}},{"$f":"IF($BT$28=1,BN4,BR4)","v":0},{"$f":"IF($BT$28=1,BQ4,BM4)","v":{"v":53.333333333333336,"d":"53"}},{"$f":"IF($BT$28=1,BR4,BN4)","v":0},{"$f":"$BQ$31","v":{"v":37.142857142857146,"d":"37"}},{"$f":"$BQ$30*BO4","v":0},{"$f":"$BQ$30","v":{"v":48.57142857142857,"d":"49"}},{"$f":"$BQ$31*BO4","v":0},{"$f":"$BQ$35","v":{"v":34.21052631578947,"d":"34"}},{"$f":"$BQ$36","v":{"v":41.05263157894737,"d":"41"}},{"$f":"$BQ$34*BO4","v":0},{"$f":"$BQ$34","v":{"v":36.84210526315789,"d":"37"}},{"$f":"MAX($CA$4:$CB$4)*BO4","v":0}]
[1,{"$f":"(-('Sistema Básico GenM'!$C$5)/'Sistema Básico GenM'!$D$5)+(D5/('Sistema Básico GenM'!$D$5))","v":18},{"$f":"(-('Sistema Básico GenM'!$C$10)/('Sistema Básico GenM'!$D$10))+(D5/'Sistema Básico GenM'!$D$10)","v":48},{"$f":"'Sistema Básico GenM'!$D$14*E5","v":4},{"v":0.1,"d":"0.10"},{"$f":"$B$14","v":{"v":29.999999999999986,"d":"30.00"}},{"$f":"$D$14","v":{"v":39.99999999999996,"d":"40.00"}},{"v":6,"d":"6.00"},{"$f":"'Sistema Básico GenM'!$D$19","v":{"v":20,"d":"20.00"}},{"v":10,"d":"10.00"},{"$f":"'Sistema Básico GenM'!$D$19*'oculto GenM'!E5","v":{"v":2,"d":"2.00"}},{"v":1,"d":"1.00"},{"v":60,"d":"60.00"},null,1,{"v":871.3333333333334,"d":"871"},{"$f":"(R5-$Q$42-($S$42*$R$50))/$R$42","v":{"v":3337.3333333333335,"d":"3,337"}},{"$f":"'Sistema Ampliado GenM'!$E$14*S5","v":{"v":91.33333333333334,"d":"91"}},{"v":0.1,"d":"0.10"},{"$f":"(V5-($W$38)-($Y$38*$X$51))/$X$38","v":{"v":871.3333333333334,"d":"871"}},{"$f":"(V5-$W$42-($Y$42*$X$50))/$X$42","v":{"v":3337.3333333333335,"d":"3,337"}},{"$f":"R5","v":{"v":91.33333333333334,"d":"91"}},{"$f":"$P$14","v":{"v":1693.3333333333326,"d":"1,693"}},{"v":91.33333333333326,"d":"91.33"},{"$f":"$R$14","v":{"v":913.3333333333325,"d":"913"}},{"$f":"$Q$14*S5","v":{"v":169.3333333333335,"d":"169.33"}},{"$f":"'Sistema Ampliado GenM'!$J$13","v":{"v":1693.3333333333333,"d":"1,693"}},{"$f":"'Sistema Ampliado GenM'!$J$14*S5","v":{"v":91.33333333333334,"d":"91.33"}},{"$f":"'Sistema Ampliado GenM'!$J$14","v":{"v":913.3333333333334,"d":"913"}},{"$f":"S5*'Sistema Ampliado GenM'!$J$13","v":{"v":169.33333333333334,"d":"169.33"}},{"$f":"$R$52","v":{"v":1693.3333333333333,"d":"1,693.33"}},{"$f":"$S$52*S5","v":{"v":91.33333333333334,"d":"91.33"}},{"$f":"$R$52*S5","v":{"v":169.33333333333334,"d":"169.33"}},{"$f":"$P$38*S5","v":{"v":91.33333333333333,"d":"91.33"}},{"$f":"S5*$P$42","v":{"v":91.33333333333334,"d":"91.33"}},{"$f":"$P$38","v":{"v":913.3333333333333,"d":"913.33"}},{"$f":"$P$42","v":{"v":913.3333333333334,"d":"913.33"}},null,null,1,{"$f":"(AQ5-$AT$26)/$AT$27","v":18},{"$f":"(AQ5-$AT$28)/$AT$29","v":48},4,{"v":0.1,"d":"0.10"},{"$f":"(AU5-$AT$26+($AT$27*$AT$32))/$AT$27","v":{"v":22.8,"d":"23"}},{"$f":"(AU5-$AT$28-($AT$29*$AT$33))/$AT$29","v":{"v":43.3,"d":"43"}},{"$f":"$AT$34*AR5","v":{"v":3.4000000000000004,"d":"3"}},{"$f":"IF($AW$28=1,AO5,AS5)","v":18},{"$f":"IF($AW$28=1,AQ5,AU5)","v":4},{"$f":"IF($AW$28=1,AT5,AP5)","v":{"v":43.3,"d":"43"}},{"$f":"IF($AW$28=1,AU5,AQ5)","v":{"v":3.4000000000000004,"d":"3"}},{"$f":"$AT$31","v":30},{"$f":"$AT$30*AR5","v":{"v":4,"d":"4.00"}},{"$f":"$AT$30","v":40},{"$f":"$AT$31*AR5","v":{"v":3,"d":"3.00"}},{"$f":"$AT$35","v":28},{"$f":"$AT$36","v":33},{"$f":"$AT$34*AR5","v":{"v":3.4000000000000004,"d":"3.40"}},{"$f":"$AT$34","v":34},{"$f":"MAX($BD$4:$BE$4)*AR5","v":{"v":3.3000000000000003,"d":"3.30"}},null,null,1,{"$f":"(BN5-$BQ$26)/$BQ$27","v":{"v":26.214285714285715,"d":"26"}},{"$f":"(BN5-$BQ$28)/$BQ$29","v":{"v":51.714285714285715,"d":"52"}},{"$f":"$BQ$30*BO5","v":{"v":4.857142857142858,"d":"5"}},{"v":0.1,"d":"0.10"},{"$f":"((BR5-$BQ$26)/($BQ$27))+($BQ$35*$BQ$32)","v":{"v":32.76315789473684,"d":"33"}},{"$f":"((BR5-$BQ$28)/$BQ$29)-($BQ$35*$BQ$33)","v":{"v":52.10526315789474,"d":"52"}},{"$f":"$BQ$34*BO5","v":{"v":3.6842105263157894,"d":"4"}},{"$f":"IF($BT$28=1,BL5,BP5)","v":{"v":32.76315789473684,"d":"33"}},{"$f":"IF($BT$28=1,BN5,BR5)","v":{"v":3.6842105263157894,"d":"4"}},{"$f":"IF($BT$28=1,BQ5,BM5)","v":{"v":51.714285714285715,"d":"52"}},{"$f":"IF($BT$28=1,BR5,BN5)","v":{"v":4.857142857142858,"d":"5"}},{"$f":"$BQ$31","v":{"v":37.142857142857146,"d":"37"}},{"$f":"$BQ$30*BO5","v":{"v":4.857142857142858,"d":"4.86"}},{"$f":"$BQ$30","v":{"v":48.57142857142857,"d":"49"}},{"$f":"$BQ$31*BO5","v":{"v":3.714285714285715,"d":"3.71"}},{"$f":"$BQ$35","v":{"v":34.21052631578947,"d":"34"}},{"$f":"$BQ$36","v":{"v":41.05263157894737,"d":"41"}},{"$f":"$BQ$34*BO5","v":{"v":3.6842105263157894,"d":"3.68"}},{"$f":"$BQ$34","v":{"v":36.84210526315789,"d":"37"}},{"$f":"MAX($CA$4:$CB$4)*BO5","v":{"v":4.105263157894737,"d":"4.11"}}]
[2,{"$f":"(-('Sistema Básico GenM'!$C$5)/'Sistema Básico GenM'!$D$5)+(D6/('Sistema Básico GenM'!$D$5))","v":{"v":19.333333333333336,"d":"19"}},{"$f":"(-('Sistema Básico GenM'!$C$10)/('Sistema Básico GenM'!$D$10))+(D6/'Sistema Básico GenM'!$D$10)","v":46},{"$f":"'Sistema Básico GenM'!$D$14*E6","v":8},{"v":0.2,"d":"0.20"},{"$f":"$B$14","v":{"v":29.999999999999986,"d":"30.00"}},{"$f":"$D$14","v":{"v":39.99999999999996,"d":"40.00"}},{"v":12,"d":"12.00"},{"$f":"'Sistema Básico GenM'!$D$19","v":{"v":20,"d":"20.00"}},{"v":10,"d":"10.00"},{"$f":"'Sistema Básico GenM'!$D$19*'oculto GenM'!E6","v":{"v":4,"d":"4.00"}},{"v":2,"d":"2.00"},{"v":60,"d":"60.00"},null,2,{"v":962.6666666666667,"d":"963"},{"v":3154.6666666666665,"d":"3,155"},{"$f":"'Sistema Ampliado GenM'!$E$14*S6","v":{"v":182.66666666666669,"d":"183"}},{"v":0.2,"d":"0.20"},{"v":962.6666666666667,"d":"963"},{"v":3154.6666666666665,"d":"3,155"},{"v":182.66666666666669,"d":"183"},{"v":1693.3333333333326,"d":"1,693"},{"v":182.66666666666652,"d":"182.67"},{"v":913.3333333333325,"d":"913"},{"v":338.666666666667,"d":"338.67"},{"$f":"'Sistema Ampliado GenM'!$J$13","v":{"v":1693.3333333333333,"d":"1,693"}},{"$f":"'Sistema Ampliado GenM'!$J$14*S6","v":{"v":182.66666666666669,"d":"182.67"}},{"$f":"'Sistema Ampliado GenM'!$J$14","v":{"v":913.3333333333334,"d":"913"}},{"$f":"S6*'Sistema Ampliado GenM'!$J$13","v":{"v":338.6666666666667,"d":"338.67"}},{"v":1693.3333333333333,"d":"1,693.33"},{"v":182.66666666666669,"d":"182.67"},{"v":338.6666666666667,"d":"338.67"},{"v":182.66666666666666,"d":"182.67"},{"v":182.66666666666669,"d":"182.67"},{"v":913.3333333333333,"d":"913.33"},{"v":913.3333333333334,"d":"913.33"},null,null,2,{"v":19.333333333333332,"d":"19"},46,8,{"v":0.2,"d":"0.20"},{"v":23.933333333333334,"d":"24"},{"v":41.6,"d":"42"},{"v":6.800000000000001,"d":"7"},{"v":19.333333333333332,"d":"19"},8,{"v":41.6,"d":"42"},{"v":6.800000000000001,"d":"7"},30,{"v":8,"d":"8.00"},40,{"v":6,"d":"6.00"},28,33,{"v":6.800000000000001,"d":"6.80"},34,{"v":6.6000000000000005,"d":"6.60"},null,null,2,{"v":27.42857142857143,"d":"27"},{"v":50.095238095238095,"d":"50"},{"v":9.714285714285715,"d":"10"},{"v":0.2,"d":"0.20"},{"v":33.68421052631579,"d":"34"},{"v":50.87719298245614,"d":"51"},{"v":7.368421052631579,"d":"7"},{"v":33.68421052631579,"d":"34"},{"v":7.368421052631579,"d":"7"},{"v":50.095238095238095,"d":"50"},{"v":9.714285714285715,"d":"10"},{"v":37.142857142857146,"d":"37"},{"v":9.714285714285715,"d":"9.71"},{"v":48.57142857142857,"d":"49"},{"v":7.42857142857143,"d":"7.43"},{"v":34.21052631578947,"d":"34"},{"v":41.05263157894737,"d":"41"},{"v":7.368421052631579,"d":"7.37"},{"v":36.84210526315789,"d":"37"},{"v":8.210526315789474,"d":"8.21"}]
[3,{"$f":"(-('Sistema Básico GenM'!$C$5)/'Sistema Básico GenM'!$D$5)+(D7/('Sistema Básico GenM'!$D$5))","v":{"v":20.666666666666668,"d":"21"}},{"$f":"(-('Sistema Básico GenM'!$C$10)/('Sistema Básico GenM'!$D$10))+(D7/'Sistema Básico GenM'!$D$10)","v":44},{"$f":"'Sistema Básico GenM'!$D$14*E7","v":12},{"v":0.3,"d":"0.30"},{"v":29.999999999999986,"d":"30.00"},{"v":39.99999999999996,"d":"40.00"},{"v":18,"d":"18.00"},{"$f":"'Sistema Básico GenM'!$D$19","v":{"v":20,"d":"20.00"}},{"v":10,"d":"10.00"},{"$f":"'Sistema Básico GenM'!$D$19*'oculto GenM'!E7","v":{"v":6,"d":"6.00"}},{"v":3,"d":"3.00"},{"v":60,"d":"60.00"},null,3,{"v":1054,"d":"1,054"},{"v":2972,"d":"2,972"},{"$f":"'Sistema Ampliado GenM'!$E$14*S7","v":274},{"v":0.3,"d":"0.30"},{"v":1054,"d":"1,054"},{"v":2972,"d":"2,972"},274,{"v":1693.3333333333326,"d":"1,693"},{"v":273.9999999999997,"d":"274.00"},{"v":913.3333333333325,"d":"913"},{"v":508.0000000000005,"d":"508.00"},{"$f":"'Sistema Ampliado GenM'!$J$13","v":{"v":1693.3333333333333,"d":"1,693"}},{"$f":"'Sistema Ampliado GenM'!$J$14*S7","v":{"v":274,"d":"274.00"}},{"$f":"'Sistema Ampliado GenM'!$J$14","v":{"v":913.3333333333334,"d":"913"}},{"$f":"S7*'Sistema Ampliado GenM'!$J$13","v":{"v":507.99999999999994,"d":"508.00"}},{"v":1693.3333333333333,"d":"1,693.33"},{"v":274,"d":"274.00"},{"v":507.99999999999994,"d":"508.00"},{"v":273.99999999999994,"d":"274.00"},{"v":274,"d":"274.00"},{"v":913.3333333333333,"d":"913.33"},{"v":913.3333333333334,"d":"913.33"},null,null,3,{"v":20.666666666666668,"d":"21"},44,12,{"v":0.3,"d":"0.30"},{"v":25.066666666666666,"d":"25"},{"v":39.9,"d":"40"},{"v":10.2,"d":"10"},{"v":20.666666666666668,"d":"21"},12,{"v":39.9,"d":"40"},{"v":10.2,"d":"10"},30,{"v":12,"d":"12.00"},40,{"v":9,"d":"9.00"},28,33,{"v":10.2,"d":"10.20"},34,{"v":9.9,"d":"9.90"},null,null,3,{"v":28.642857142857142,"d":"29"},{"v":48.47619047619048,"d":"48"},{"v":14.57142857142857,"d":"15"},{"v":0.3,"d":"0.30"},{"v":34.60526315789474,"d":"35"},{"v":49.64912280701754,"d":"50"},{"v":11.052631578947366,"d":"11"},{"v":34.60526315789474,"d":"35"},{"v":11.052631578947366,"d":"11"},{"v":48.47619047619048,"d":"48"},{"v":14.57142857142857,"d":"15"},{"v":37.142857142857146,"d":"37"},{"v":14.57142857142857,"d":"14.57"},{"v":48.57142857142857,"d":"49"},{"v":11.142857142857144,"d":"11.14"},{"v":34.21052631578947,"d":"34"},{"v":41.05263157894737,"d":"41"},{"v":11.052631578947366,"d":"11.05"},{"v":36.84210526315789,"d":"37"},{"v":12.31578947368421,"d":"12.32"}]
[4,{"$f":"(-('Sistema Básico GenM'!$C$5)/'Sistema Básico GenM'!$D$5)+(D8/('Sistema Básico GenM'!$D$5))","v":22},{"$f":"(-('Sistema Básico GenM'!$C$10)/('Sistema Básico GenM'!$D$10))+(D8/'Sistema Básico GenM'!$D$10)","v":42},{"$f":"'Sistema Básico GenM'!$D$14*E8","v":16},{"v":0.4,"d":"0.40"},{"v":29.999999999999986,"d":"30.00"},{"v":39.99999999999996,"d":"40.00"},{"v":24,"d":"24.00"},{"$f":"'Sistema Básico GenM'!$D$19","v":{"v":20,"d":"20.00"}},{"v":10,"d":"10.00"},{"$f":"'Sistema Básico GenM'!$D$19*'oculto GenM'!E8","v":{"v":8,"d":"8.00"}},{"v":4,"d":"4.00"},{"v":60,"d":"60.00"},null,4,{"v":1145.3333333333335,"d":"1,145"},{"v":2789.333333333333,"d":"2,789"},{"$f":"'Sistema Ampliado GenM'!$E$14*S8","v":{"v":365.33333333333337,"d":"365"}},{"v":0.4,"d":"0.40"},{"v":1145.3333333333335,"d":"1,145"},{"v":2789.333333333333,"d":"2,789"},{"v":365.33333333333337,"d":"365"},{"v":1693.3333333333326,"d":"1,693"},{"v":365.33333333333303,"d":"365.33"},{"v":913.3333333333325,"d":"913"},{"v":677.333333333334,"d":"677.33"},{"$f":"'Sistema Ampliado GenM'!$J$13","v":{"v":1693.3333333333333,"d":"1,693"}},{"$f":"'Sistema Ampliado GenM'!$J$14*S8","v":{"v":365.33333333333337,"d":"365.33"}},{"$f":"'Sistema Ampliado GenM'!$J$14","v":{"v":913.3333333333334,"d":"913"}},{"$f":"S8*'Sistema Ampliado GenM'!$J$13","v":{"v":677.3333333333334,"d":"677.33"}},{"v":1693.3333333333333,"d":"1,693.33"},{"v":365.33333333333337,"d":"365.33"},{"v":677.3333333333334,"d":"677.33"},{"v":365.3333333333333,"d":"365.33"},{"v":365.33333333333337,"d":"365.33"},{"v":913.3333333333333,"d":"913.33"},{"v":913.3333333333334,"d":"913.33"},null,null,4,22,42,16,{"v":0.4,"d":"0.40"},{"v":26.2,"d":"26"},{"v":38.2,"d":"38"},{"v":13.600000000000001,"d":"14"},22,16,{"v":38.2,"d":"38"},{"v":13.600000000000001,"d":"14"},30,{"v":16,"d":"16.00"},40,{"v":12,"d":"12.00"},28,33,{"v":13.600000000000001,"d":"13.60"},34,{"v":13.200000000000001,"d":"13.20"},null,null,4,{"v":29.857142857142858,"d":"30"},{"v":46.857142857142854,"d":"47"},{"v":19.42857142857143,"d":"19"},{"v":0.4,"d":"0.40"},{"v":35.526315789473685,"d":"36"},{"v":48.42105263157895,"d":"48"},{"v":14.736842105263158,"d":"15"},{"v":35.526315789473685,"d":"36"},{"v":14.736842105263158,"d":"15"},{"v":46.857142857142854,"d":"47"},{"v":19.42857142857143,"d":"19"},{"v":37.142857142857146,"d":"37"},{"v":19.42857142857143,"d":"19.43"},{"v":48.57142857142857,"d":"49"},{"v":14.85714285714286,"d":"14.86"},{"v":34.21052631578947,"d":"34"},{"v":41.05263157894737,"d":"41"},{"v":14.736842105263158,"d":"14.74"},{"v":36.84210526315789,"d":"37"},{"v":16.42105263157895,"d":"16.42"}]
[5,{"$f":"(-('Sistema Básico GenM'!$C$5)/'Sistema Básico GenM'!$D$5)+(D9/('Sistema Básico GenM'!$D$5))","v":{"v":23.333333333333336,"d":"23"}},{"$f":"(-('Sistema Básico GenM'!$C$10)/('Sistema Básico GenM'!$D$10))+(D9/'Sistema Básico GenM'!$D$10)","v":40},{"$f":"'Sistema Básico GenM'!$D$14*E9","v":20},{"v":0.5,"d":"0.50"},{"v":29.999999999999986,"d":"30.00"},{"v":39.99999999999996,"d":"40.00"},{"v":30,"d":"30.00"},{"$f":"'Sistema Básico GenM'!$D$19","v":{"v":20,"d":"20.00"}},{"v":10,"d":"10.00"},{"$f":"'Sistema Básico GenM'!$D$19*'oculto GenM'!E9","v":{"v":10,"d":"10.00"}},{"v":5,"d":"5.00"},{"v":60,"d":"60.00"},null,5,{"v":1236.6666666666667,"d":"1,237"},{"v":2606.6666666666665,"d":"2,607"},{"$f":"'Sistema Ampliado GenM'!$E$14*S9","v":{"v":456.6666666666667,"d":"457"}},{"v":0.5,"d":"0.50"},{"v":1236.6666666666667,"d":"1,237"},{"v":2606.6666666666665,"d":"2,607"},{"v":456.6666666666667,"d":"457"},{"v":1693.3333333333326,"d":"1,693"},{"v":456.66666666666623,"d":"456.67"},{"v":913.3333333333325,"d":"913"},{"v":846.6666666666675,"d":"846.67"},{"$f":"'Sistema Ampliado GenM'!$J$13","v":{"v":1693.3333333333333,"d":"1,693"}},{"$f":"'Sistema Ampliado GenM'!$J$14*S9","v":{"v":456.6666666666667,"d":"456.67"}},{"$f":"'Sistema Ampliado GenM'!$J$14","v":{"v":913.3333333333334,"d":"913"}},{"$f":"S9*'Sistema Ampliado GenM'!$J$13","v":{"v":846.6666666666666,"d":"846.67"}},{"v":1693.3333333333333,"d":"1,693.33"},{"v":456.6666666666667,"d":"456.67"},{"v":846.6666666666666,"d":"846.67"},{"v":456.66666666666663,"d":"456.67"},{"v":456.6666666666667,"d":"456.67"},{"v":913.3333333333333,"d":"913.33"},{"v":913.3333333333334,"d":"913.33"},null,null,5,{"v":23.333333333333332,"d":"23"},40,20,{"v":0.5,"d":"0.50"},{"v":27.333333333333332,"d":"27"},{"v":36.5,"d":"37"},17,{"v":23.333333333333332,"d":"23"},20,{"v":36.5,"d":"37"},17,30,{"v":20,"d":"20.00"},40,{"v":15,"d":"15.00"},28,33,{"v":17,"d":"17.00"},34,{"v":16.5,"d":"16.50"},null,null,5,{"v":31.07142857142857,"d":"31"},{"v":45.23809523809524,"d":"45"},{"v":24.285714285714285,"d":"24"},{"v":0.5,"d":"0.50"},{"v":36.44736842105263,"d":"36"},{"v":47.19298245614035,"d":"47"},{"v":18.421052631578945,"d":"18"},{"v":36.44736842105263,"d":"36"},{"v":18.421052631578945,"d":"18"},{"v":45.23809523809524,"d":"45"},{"v":24.285714285714285,"d":"24"},{"v":37.142857142857146,"d":"37"},{"v":24.285714285714285,"d":"24.29"},{"v":48.57142857142857,"d":"49"},{"v":18.571428571428573,"d":"18.57"},{"v":34.21052631578947,"d":"34"},{"v":41.05263157894737,"d":"41"},{"v":18.421052631578945,"d":"18.42"},{"v":36.84210526315789,"d":"37"},{"v":20.526315789473685,"d":"20.53"}]
[6,{"$f":"(-('Sistema Básico GenM'!$C$5)/'Sistema Básico GenM'!$D$5)+(D10/('Sistema Básico GenM'!$D$5))","v":{"v":24.666666666666668,"d":"25"}},{"$f":"(-('Sistema Básico GenM'!$C$10)/('Sistema Básico GenM'!$D$10))+(D10/'Sistema Básico GenM'!$D$10)","v":38},{"$f":"'Sistema Básico GenM'!$D$14*E10","v":24},{"v":0.6,"d":"0.60"},{"v":29.999999999999986,"d":"30.00"},{"v":39.99999999999996,"d":"40.00"},{"v":36,"d":"36.00"},{"$f":"'Sistema Básico GenM'!$D$19","v":{"v":20,"d":"20.00"}},{"v":10,"d":"10.00"},{"$f":"'Sistema Básico GenM'!$D$19*'oculto GenM'!E10","v":{"v":12,"d":"12.00"}},{"v":6,"d":"6.00"},{"v":60,"d":"60.00"},null,6,{"v":1328,"d":"1,328"},{"v":2424,"d":"2,424"},{"$f":"'Sistema Ampliado GenM'!$E$14*S10","v":548},{"v":0.6,"d":"0.60"},{"v":1328,"d":"1,328"},{"v":2424,"d":"2,424"},548,{"v":1693.3333333333326,"d":"1,693"},{"v":547.9999999999994,"d":"548.00"},{"v":913.3333333333325,"d":"913"},{"v":1016.000000000001,"d":"1,016.00"},{"$f":"'Sistema Ampliado GenM'!$J$13","v":{"v":1693.3333333333333,"d":"1,693"}},{"$f":"'Sistema Ampliado GenM'!$J$14*S10","v":{"v":548,"d":"548.00"}},{"$f":"'Sistema Ampliado GenM'!$J$14","v":{"v":913.3333333333334,"d":"913"}},{"$f":"S10*'Sistema Ampliado GenM'!$J$13","v":{"v":1015.9999999999999,"d":"1,016.00"}},{"v":1693.3333333333333,"d":"1,693.33"},{"v":548,"d":"548.00"},{"v":1015.9999999999999,"d":"1,016.00"},{"v":547.9999999999999,"d":"548.00"},{"v":548,"d":"548.00"},{"v":913.3333333333333,"d":"913.33"},{"v":913.3333333333334,"d":"913.33"},null,null,6,{"v":24.666666666666668,"d":"25"},38,24,{"v":0.6,"d":"0.60"},{"v":28.46666666666667,"d":"28"},{"v":34.8,"d":"35"},{"v":20.4,"d":"20"},{"v":24.666666666666668,"d":"25"},24,{"v":34.8,"d":"35"},{"v":20.4,"d":"20"},30,{"v":24,"d":"24.00"},40,{"v":18,"d":"18.00"},28,33,{"v":20.4,"d":"20.40"},34,{"v":19.8,"d":"19.80"},null,null,6,{"v":32.285714285714285,"d":"32"},{"v":43.61904761904762,"d":"44"},{"v":29.14285714285714,"d":"29"},{"v":0.6,"d":"0.60"},{"v":37.36842105263158,"d":"37"},{"v":45.96491228070175,"d":"46"},{"v":22.105263157894733,"d":"22"},{"v":37.36842105263158,"d":"37"},{"v":22.105263157894733,"d":"22"},{"v":43.61904761904762,"d":"44"},{"v":29.14285714285714,"d":"29"},{"v":37.142857142857146,"d":"37"},{"v":29.14285714285714,"d":"29.14"},{"v":48.57142857142857,"d":"49"},{"v":22.28571428571429,"d":"22.29"},{"v":34.21052631578947,"d":"34"},{"v":41.05263157894737,"d":"41"},{"v":22.105263157894733,"d":"22.11"},{"v":36.84210526315789,"d":"37"},{"v":24.63157894736842,"d":"24.63"}]
[7,{"$f":"(-('Sistema Básico GenM'!$C$5)/'Sistema Básico GenM'!$D$5)+(D11/('Sistema Básico GenM'!$D$5))","v":26},{"$f":"(-('Sistema Básico GenM'!$C$10)/('Sistema Básico GenM'!$D$10))+(D11/'Sistema Básico GenM'!$D$10)","v":36},{"$f":"'Sistema Básico GenM'!$D$14*E11","v":28},{"v":0.7,"d":"0.70"},{"v":29.999999999999986,"d":"30.00"},{"v":39.99999999999996,"d":"40.00"},{"v":42,"d":"42.00"},{"$f":"'Sistema Básico GenM'!$D$19","v":{"v":20,"d":"20.00"}},{"v":10,"d":"10.00"},{"$f":"'Sistema Básico GenM'!$D$19*'oculto GenM'!E11","v":{"v":14,"d":"14.00"}},{"v":7,"d":"7.00"},{"v":60,"d":"60.00"},null,7,{"v":1419.3333333333335,"d":"1,419"},{"v":2241.333333333333,"d":"2,241"},{"$f":"'Sistema Ampliado GenM'!$E$14*S11","v":{"v":639.3333333333334,"d":"639"}},{"v":0.7,"d":"0.70"},{"v":1419.3333333333335,"d":"1,419"},{"v":2241.333333333333,"d":"2,241"},{"v":639.3333333333334,"d":"639"},{"v":1693.3333333333326,"d":"1,693"},{"v":639.3333333333327,"d":"639.33"},{"v":913.3333333333325,"d":"913"},{"v":1185.3333333333344,"d":"1,185.33"},{"$f":"'Sistema Ampliado GenM'!$J$13","v":{"v":1693.3333333333333,"d":"1,693"}},{"$f":"'Sistema Ampliado GenM'!$J$14*S11","v":{"v":639.3333333333334,"d":"639.33"}},{"$f":"'Sistema Ampliado GenM'!$J$14","v":{"v":913.3333333333334,"d":"913"}},{"$f":"S11*'Sistema Ampliado GenM'!$J$13","v":{"v":1185.3333333333333,"d":"1,185.33"}},{"v":1693.3333333333333,"d":"1,693.33"},{"v":639.3333333333334,"d":"639.33"},{"v":1185.3333333333333,"d":"1,185.33"},{"v":639.3333333333333,"d":"639.33"},{"v":639.3333333333334,"d":"639.33"},{"v":913.3333333333333,"d":"913.33"},{"v":913.3333333333334,"d":"913.33"},null,null,7,26,36,28,{"v":0.7,"d":"0.70"},{"v":29.599999999999998,"d":"30"},{"v":33.1,"d":"33"},{"v":23.799999999999997,"d":"24"},26,28,{"v":33.1,"d":"33"},{"v":23.799999999999997,"d":"24"},30,{"v":28,"d":"28.00"},40,{"v":21,"d":"21.00"},28,33,{"v":23.799999999999997,"d":"23.80"},34,{"v":23.099999999999998,"d":"23.10"},null,null,7,{"v":33.5,"d":"34"},42,{"v":33.99999999999999,"d":"34"},{"v":0.7,"d":"0.70"},{"v":38.28947368421053,"d":"38"},{"v":44.73684210526316,"d":"45"},{"v":25.78947368421052,"d":"26"},{"v":38.28947368421053,"d":"38"},{"v":25.78947368421052,"d":"26"},42,{"v":33.99999999999999,"d":"34"},{"v":37.142857142857146,"d":"37"},{"v":33.99999999999999,"d":"34.00"},{"v":48.57142857142857,"d":"49"},{"v":26,"d":"26.00"},{"v":34.21052631578947,"d":"34"},{"v":41.05263157894737,"d":"41"},{"v":25.78947368421052,"d":"25.79"},{"v":36.84210526315789,"d":"37"},{"v":28.736842105263158,"d":"28.74"}]
[8,{"$f":"(-('Sistema Básico GenM'!$C$5)/'Sistema Básico GenM'!$D$5)+(D12/('Sistema Básico GenM'!$D$5))","v":{"v":27.333333333333336,"d":"27"}},{"$f":"(-('Sistema Básico GenM'!$C$10)/('Sistema Básico GenM'!$D$10))+(D12/'Sistema Básico GenM'!$D$10)","v":34},{"$f":"'Sistema Básico GenM'!$D$14*E12","v":32},{"v":0.8,"d":"0.80"},{"v":29.999999999999986,"d":"30.00"},{"v":39.99999999999996,"d":"40.00"},{"v":48,"d":"48.00"},{"$f":"'Sistema Básico GenM'!$D$19","v":{"v":20,"d":"20.00"}},{"v":10,"d":"10.00"},{"$f":"'Sistema Básico GenM'!$D$19*'oculto GenM'!E12","v":{"v":16,"d":"16.00"}},{"v":8,"d":"8.00"},{"v":60,"d":"60.00"},null,8,{"v":1510.6666666666667,"d":"1,511"},{"v":2058.6666666666665,"d":"2,059"},{"$f":"'Sistema Ampliado GenM'!$E$14*S12","v":{"v":730.6666666666667,"d":"731"}},{"v":0.8,"d":"0.80"},{"v":1510.6666666666667,"d":"1,511"},{"v":2058.6666666666665,"d":"2,059"},{"v":730.6666666666667,"d":"731"},{"v":1693.3333333333326,"d":"1,693"},{"v":730.6666666666661,"d":"730.67"},{"v":913.3333333333325,"d":"913"},{"v":1354.666666666668,"d":"1,354.67"},{"$f":"'Sistema Ampliado GenM'!$J$13","v":{"v":1693.3333333333333,"d":"1,693"}},{"$f":"'Sistema Ampliado GenM'!$J$14*S12","v":{"v":730.6666666666667,"d":"730.67"}},{"$f":"'Sistema Ampliado GenM'!$J$14","v":{"v":913.3333333333334,"d":"913"}},{"$f":"S12*'Sistema Ampliado GenM'!$J$13","v":{"v":1354.6666666666667,"d":"1,354.67"}},{"v":1693.3333333333333,"d":"1,693.33"},{"v":730.6666666666667,"d":"730.67"},{"v":1354.6666666666667,"d":"1,354.67"},{"v":730.6666666666666,"d":"730.67"},{"v":730.6666666666667,"d":"730.67"},{"v":913.3333333333333,"d":"913.33"},{"v":913.3333333333334,"d":"913.33"},null,null,8,{"v":27.333333333333332,"d":"27"},34,32,{"v":0.8,"d":"0.80"},{"v":30.733333333333334,"d":"31"},{"v":31.4,"d":"31"},{"v":27.200000000000003,"d":"27"},{"v":27.333333333333332,"d":"27"},32,{"v":31.4,"d":"31"},{"v":27.200000000000003,"d":"27"},30,{"v":32,"d":"32.00"},40,{"v":24,"d":"24.00"},28,33,{"v":27.200000000000003,"d":"27.20"},34,{"v":26.400000000000002,"d":"26.40"},null,null,8,{"v":34.714285714285715,"d":"35"},{"v":40.38095238095238,"d":"40"},{"v":38.85714285714286,"d":"39"},{"v":0.8,"d":"0.80"},{"v":39.21052631578947,"d":"39"},{"v":43.50877192982457,"d":"44"},{"v":29.473684210526315,"d":"29"},{"v":39.21052631578947,"d":"39"},{"v":29.473684210526315,"d":"29"},{"v":40.38095238095238,"d":"40"},{"v":38.85714285714286,"d":"39"},{"v":37.142857142857146,"d":"37"},{"v":38.85714285714286,"d":"38.86"},{"v":48.57142857142857,"d":"49"},{"v":29.71428571428572,"d":"29.71"},{"v":34.21052631578947,"d":"34"},{"v":41.05263157894737,"d":"41"},{"v":29.473684210526315,"d":"29.47"},{"v":36.84210526315789,"d":"37"},{"v":32.8421052631579,"d":"32.84"}]
[9,{"$f":"(-('Sistema Básico GenM'!$C$5)/'Sistema Básico GenM'!$D$5)+(D13/('Sistema Básico GenM'!$D$5))","v":{"v":28.666666666666668,"d":"29"}},{"$f":"(-('Sistema Básico GenM'!$C$10)/('Sistema Básico GenM'!$D$10))+(D13/'Sistema Básico GenM'!$D$10)","v":32},{"$f":"'Sistema Básico GenM'!$D$14*E13","v":36},{"v":0.9,"d":"0.90"},{"v":29.999999999999986,"d":"30.00"},{"v":39.99999999999996,"d":"40.00"},{"v":54,"d":"54.00"},{"$f":"'Sistema Básico GenM'!$D$19","v":{"v":20,"d":"20.00"}},{"v":10,"d":"10.00"},{"$f":"'Sistema Básico GenM'!$D$19*'oculto GenM'!E13","v":{"v":18,"d":"18.00"}},{"v":9,"d":"9.00"},{"v":60,"d":"60.00"},null,9,{"v":1602,"d":"1,602"},{"v":1876,"d":"1,876"},{"$f":"'Sistema Ampliado GenM'!$E$14*S13","v":822},{"v":0.9,"d":"0.90"},{"v":1602,"d":"1,602"},{"v":1876,"d":"1,876"},822,{"v":1693.3333333333326,"d":"1,693"},{"v":821.9999999999992,"d":"822.00"},{"v":913.3333333333325,"d":"913"},{"v":1524.0000000000016,"d":"1,524.00"},{"$f":"'Sistema Ampliado GenM'!$J$13","v":{"v":1693.3333333333333,"d":"1,693"}},{"$f":"'Sistema Ampliado GenM'!$J$14*S13","v":{"v":822,"d":"822.00"}},{"$f":"'Sistema Ampliado GenM'!$J$14","v":{"v":913.3333333333334,"d":"913"}},{"$f":"S13*'Sistema Ampliado GenM'!$J$13","v":{"v":1524,"d":"1,524.00"}},{"v":1693.3333333333333,"d":"1,693.33"},{"v":822,"d":"822.00"},{"v":1524,"d":"1,524.00"},{"v":822,"d":"822.00"},{"v":822,"d":"822.00"},{"v":913.3333333333333,"d":"913.33"},{"v":913.3333333333334,"d":"913.33"},null,null,9,{"v":28.666666666666668,"d":"29"},32,36,{"v":0.9,"d":"0.90"},{"v":31.866666666666664,"d":"32"},{"v":29.700000000000003,"d":"30"},{"v":30.6,"d":"31"},{"v":28.666666666666668,"d":"29"},36,{"v":29.700000000000003,"d":"30"},{"v":30.6,"d":"31"},30,{"v":36,"d":"36.00"},40,{"v":27,"d":"27.00"},28,33,{"v":30.6,"d":"30.60"},34,{"v":29.7,"d":"29.70"},null,null,9,{"v":35.92857142857143,"d":"36"},{"v":38.76190476190476,"d":"39"},{"v":43.714285714285715,"d":"44"},{"v":0.9,"d":"0.90"},{"v":40.131578947368425,"d":"40"},{"v":42.280701754385966,"d":"42"},{"v":33.1578947368421,"d":"33"},{"v":40.131578947368425,"d":"40"},{"v":33.1578947368421,"d":"33"},{"v":38.76190476190476,"d":"39"},{"v":43.714285714285715,"d":"44"},{"v":37.142857142857146,"d":"37"},{"v":43.714285714285715,"d":"43.71"},{"v":48.57142857142857,"d":"49"},{"v":33.42857142857143,"d":"33.43"},{"v":34.21052631578947,"d":"34"},{"v":41.05263157894737,"d":"41"},{"v":33.1578947368421,"d":"33.16"},{"v":36.84210526315789,"d":"37"},{"v":36.94736842105264,"d":"36.95"}]
[10,{"$f":"(-('Sistema Básico GenM'!$C$5)/'Sistema Básico GenM'!$D$5)+(D14/('Sistema Básico GenM'!$D$5))","v":{"v":29.999999999999986,"d":"30"}},{"$f":"(-('Sistema Básico GenM'!$C$10)/('Sistema Básico GenM'!$D$10))+(D14/'Sistema Básico GenM'!$D$10)","v":{"v":30.00000000000002,"d":"30"}},{"$f":"'Sistema Básico GenM'!$D$14*E14","v":{"v":39.99999999999996,"d":"40"}},{"v":0.999999999999999,"d":"1.00"},{"v":29.999999999999986,"d":"30.00"},{"v":39.99999999999996,"d":"40.00"},{"v":59.99999999999994,"d":"60.00"},{"$f":"'Sistema Básico GenM'!$D$19","v":{"v":20,"d":"20.00"}},{"v":10,"d":"10.00"},{"$f":"'Sistema Básico GenM'!$D$19*'oculto GenM'!E14","v":{"v":19.99999999999998,"d":"20.00"}},{"v":9.99999999999999,"d":"10.00"},{"v":60,"d":"60.00"},null,10,{"$f":"(R14-$Q$38-($S$38*$R$51))/$R$38","v":{"v":1693.3333333333326,"d":"1,693"}},{"v":1693.333333333335,"d":"1,693"},{"$f":"'Sistema Ampliado GenM'!$E$14*S14","v":{"v":913.3333333333325,"d":"913"}},{"v":0.999999999999999,"d":"1.00"},{"v":1693.3333333333326,"d":"1,693"},{"v":1693.333333333335,"d":"1,693"},{"$f":"R14","v":{"v":913.3333333333325,"d":"913"}},{"v":1693.3333333333326,"d":"1,693"},{"$f":"$R$14*S14","v":{"v":913.3333333333316,"d":"913.33"}},{"v":913.3333333333325,"d":"913"},{"v":1693.3333333333335,"d":"1,693.33"},{"$f":"'Sistema Ampliado GenM'!$J$13","v":{"v":1693.3333333333333,"d":"1,693"}},{"$f":"'Sistema Ampliado GenM'!$J$14*S14","v":{"v":913.3333333333325,"d":"913.33"}},{"$f":"'Sistema Ampliado GenM'!$J$14","v":{"v":913.3333333333334,"d":"913"}},{"$f":"S14*'Sistema Ampliado GenM'!$J$13","v":{"v":1693.3333333333317,"d":"1,693.33"}},{"v":1693.3333333333333,"d":"1,693.33"},{"v":913.3333333333325,"d":"913.33"},{"v":1693.3333333333317,"d":"1,693.33"},{"v":913.3333333333323,"d":"913.33"},{"v":913.3333333333325,"d":"913.33"},{"v":913.3333333333333,"d":"913.33"},{"v":913.3333333333334,"d":"913.33"},null,null,10,{"v":29.999999999999986,"d":"30"},{"v":30.00000000000002,"d":"30"},{"v":39.99999999999996,"d":"40"},{"v":0.999999999999999,"d":"1.00"},{"v":32.99999999999999,"d":"33"},{"v":28.000000000000014,"d":"28"},{"v":33.999999999999964,"d":"34"},{"v":29.999999999999986,"d":"30"},{"v":39.99999999999996,"d":"40"},{"v":28.000000000000014,"d":"28"},{"v":33.999999999999964,"d":"34"},30,{"v":39.99999999999996,"d":"40.00"},40,{"v":29.99999999999997,"d":"30.00"},28,33,{"v":33.999999999999964,"d":"34.00"},34,{"v":32.999999999999964,"d":"33.00"},null,null,10,{"v":37.14285714285713,"d":"37"},{"v":37.14285714285716,"d":"37"},{"v":48.57142857142852,"d":"49"},{"v":0.999999999999999,"d":"1.00"},{"v":41.05263157894736,"d":"41"},{"v":41.05263157894738,"d":"41"},{"v":36.842105263157855,"d":"37"},{"v":41.05263157894736,"d":"41"},{"v":36.842105263157855,"d":"37"},{"v":37.14285714285716,"d":"37"},{"v":48.57142857142852,"d":"49"},{"v":37.142857142857146,"d":"37"},{"v":48.57142857142852,"d":"48.57"},{"v":48.57142857142857,"d":"49"},{"v":37.14285714285711,"d":"37.14"},{"v":34.21052631578947,"d":"34"},{"v":41.05263157894737,"d":"41"},{"v":36.842105263157855,"d":"36.84"},{"v":36.84210526315789,"d":"37"},{"v":41.05263157894733,"d":"41.05"}]
[11,{"$f":"(-('Sistema Básico GenM'!$C$5)/'Sistema Básico GenM'!$D$5)+(D15/('Sistema Básico GenM'!$D$5))","v":{"v":31.333333333333336,"d":"31"}},{"$f":"(-('Sistema Básico GenM'!$C$10)/('Sistema Básico GenM'!$D$10))+(D15/'Sistema Básico GenM'!$D$10)","v":28},{"$f":"'Sistema Básico GenM'!$D$14*E15","v":44},{"v":1.1,"d":"1.10"},{"$nulls":3},{"$f":"'Sistema Básico GenM'!$D$19","v":{"v":20,"d":"20.00"}},{"$nulls":5},11,{"$f":"(R15-$Q$38-($S$38*$R$51))/$R$38","v":{"v":1784.6666666666667,"d":"1,785"}},{"v":1510.6666666666665,"d":"1,511"},{"$f":"'Sistema Ampliado GenM'!$E$14*S15","v":{"v":1004.6666666666667,"d":"1,005"}},{"v":1.1,"d":"1.10"},{"v":1784.6666666666667,"d":"1,785"},{"v":1510.6666666666665,"d":"1,511"},{"$f":"R15","v":{"v":1004.6666666666667,"d":"1,005"}},{"$nulls":17},11,{"v":31.333333333333332,"d":"31"},28,44,{"v":1.1,"d":"1.10"},{"v":34.13333333333333,"d":"34"},{"v":26.299999999999997,"d":"26"},{"v":37.400000000000006,"d":"37"},{"v":31.333333333333332,"d":"31"},44,{"v":26.299999999999997,"d":"26"},{"v":37.400000000000006,"d":"37"},{"$nulls":11},11,{"v":38.35714285714286,"d":"38"},{"v":35.523809523809526,"d":"36"},{"v":53.42857142857143,"d":"53"},{"v":1.1,"d":"1.10"},{"v":41.97368421052632,"d":"42"},{"v":39.824561403508774,"d":"40"},{"v":40.526315789473685,"d":"41"},{"v":41.97368421052632,"d":"42"},{"v":40.526315789473685,"d":"41"},{"v":35.523809523809526,"d":"36"},{"v":53.42857142857143,"d":"53"}]
[12,{"$f":"(-('Sistema Básico GenM'!$C$5)/'Sistema Básico GenM'!$D$5)+(D16/('Sistema Básico GenM'!$D$5))","v":{"v":32.66666666666667,"d":"33"}},{"$f":"(-('Sistema Básico GenM'!$C$10)/('Sistema Básico GenM'!$D$10))+(D16/'Sistema Básico GenM'!$D$10)","v":26},{"$f":"'Sistema Básico GenM'!$D$14*E16","v":48},{"v":1.2,"d":"1.20"},{"$nulls":3},{"$f":"'Sistema Básico GenM'!$D$19","v":{"v":20,"d":"20.00"}},{"$nulls":5},12,{"v":1876,"d":"1,876"},{"v":1328,"d":"1,328"},{"$f":"'Sistema Ampliado GenM'!$E$14*S16","v":{"v":1096,"d":"1,096"}},{"v":1.2,"d":"1.20"},{"v":1876,"d":"1,876"},{"v":1328,"d":"1,328"},{"$f":"R16","v":{"v":1096,"d":"1,096"}},{"$nulls":17},12,{"v":32.666666666666664,"d":"33"},26,48,{"v":1.2,"d":"1.20"},{"v":35.266666666666666,"d":"35"},{"v":24.6,"d":"25"},{"v":40.8,"d":"41"},{"v":32.666666666666664,"d":"33"},48,{"v":24.6,"d":"25"},{"v":40.8,"d":"41"},{"$nulls":11},12,{"v":39.57142857142857,"d":"40"},{"v":33.904761904761905,"d":"34"},{"v":58.28571428571428,"d":"58"},{"v":1.2,"d":"1.20"},{"v":42.89473684210527,"d":"43"},{"v":38.59649122807018,"d":"39"},{"v":44.210526315789465,"d":"44"},{"v":42.89473684210527,"d":"43"},{"v":44.210526315789465,"d":"44"},{"v":33.904761904761905,"d":"34"},{"v":58.28571428571428,"d":"58"}]
[13,{"$f":"(-('Sistema Básico GenM'!$C$5)/'Sistema Básico GenM'!$D$5)+(D17/('Sistema Básico GenM'!$D$5))","v":34},{"$f":"(-('Sistema Básico GenM'!$C$10)/('Sistema Básico GenM'!$D$10))+(D17/'Sistema Básico GenM'!$D$10)","v":24},{"$f":"'Sistema Básico GenM'!$D$14*E17","v":52},{"v":1.3,"d":"1.30"},{"$nulls":3},{"$f":"'Sistema Básico GenM'!$D$19","v":{"v":20,"d":"20.00"}},{"$nulls":5},13,{"v":1967.3333333333335,"d":"1,967"},{"v":1145.333333333333,"d":"1,145"},{"$f":"'Sistema Ampliado GenM'!$E$14*S17","v":{"v":1187.3333333333335,"d":"1,187"}},{"v":1.3,"d":"1.30"},{"v":1967.3333333333335,"d":"1,967"},{"v":1145.333333333333,"d":"1,145"},{"$f":"R17","v":{"v":1187.3333333333335,"d":"1,187"}},{"$nulls":17},13,34,24,52,{"v":1.3,"d":"1.30"},{"v":36.4,"d":"36"},{"v":22.9,"d":"23"},{"v":44.2,"d":"44"},34,52,{"v":22.9,"d":"23"},{"v":44.2,"d":"44"},{"$nulls":11},13,{"v":40.785714285714285,"d":"41"},{"v":32.285714285714285,"d":"32"},{"v":63.142857142857146,"d":"63"},{"v":1.3,"d":"1.30"},{"v":43.81578947368421,"d":"44"},{"v":37.36842105263158,"d":"37"},{"v":47.89473684210526,"d":"48"},{"v":43.81578947368421,"d":"44"},{"v":47.89473684210526,"d":"48"},{"v":32.285714285714285,"d":"32"},{"v":63.142857142857146,"d":"63"}]
[14,{"$f":"(-('Sistema Básico GenM'!$C$5)/'Sistema Básico GenM'!$D$5)+(D18/('Sistema Básico GenM'!$D$5))","v":{"v":35.333333333333336,"d":"35"}},{"$f":"(-('Sistema Básico GenM'!$C$10)/('Sistema Básico GenM'!$D$10))+(D18/'Sistema Básico GenM'!$D$10)","v":22},{"$f":"'Sistema Básico GenM'!$D$14*E18","v":56},{"v":1.4,"d":"1.40"},{"$nulls":3},{"$f":"'Sistema Básico GenM'!$D$19","v":{"v":20,"d":"20.00"}},{"$nulls":5},14,{"v":2058.666666666667,"d":"2,059"},{"v":962.6666666666665,"d":"963"},{"$f":"'Sistema Ampliado GenM'!$E$14*S18","v":{"v":1278.6666666666667,"d":"1,279"}},{"v":1.4,"d":"1.40"},{"v":2058.666666666667,"d":"2,059"},{"v":962.6666666666665,"d":"963"},{"$f":"R18","v":{"v":1278.6666666666667,"d":"1,279"}},{"$nulls":17},14,{"v":35.333333333333336,"d":"35"},22,56,{"v":1.4,"d":"1.40"},{"v":37.53333333333333,"d":"38"},{"v":21.200000000000003,"d":"21"},{"v":47.599999999999994,"d":"48"},{"v":35.333333333333336,"d":"35"},56,{"v":21.200000000000003,"d":"21"},{"v":47.599999999999994,"d":"48"},{"$f":"($AT$28/$AT$29)-$AT$33","v":{"v":-55,"d":"(55)"}},{"$nulls":10},14,42,{"v":30.66666666666667,"d":"31"},{"v":67.99999999999999,"d":"68"},{"v":1.4,"d":"1.40"},{"v":44.73684210526316,"d":"45"},{"v":36.140350877192986,"d":"36"},{"v":51.57894736842104,"d":"52"},{"v":44.73684210526316,"d":"45"},{"v":51.57894736842104,"d":"52"},{"v":30.66666666666667,"d":"31"},{"v":67.99999999999999,"d":"68"}]
[15,{"$f":"(-('Sistema Básico GenM'!$C$5)/'Sistema Básico GenM'!$D$5)+(D19/('Sistema Básico GenM'!$D$5))","v":{"v":36.66666666666667,"d":"37"}},{"$f":"(-('Sistema Básico GenM'!$C$10)/('Sistema Básico GenM'!$D$10))+(D19/'Sistema Básico GenM'!$D$10)","v":20},{"$f":"'Sistema Básico GenM'!$D$14*E19","v":60},{"v":1.5,"d":"1.50"},{"$nulls":9},15,{"v":2150,"d":"2,150"},780,{"$f":"'Sistema Ampliado GenM'!$E$14*S19","v":{"v":1370,"d":"1,370"}},{"v":1.5,"d":"1.50"},{"v":2150,"d":"2,150"},780,{"$f":"R19","v":{"v":1370,"d":"1,370"}},{"$nulls":17},15,{"v":36.666666666666664,"d":"37"},20,60,{"v":1.5,"d":"1.50"},{"v":38.666666666666664,"d":"39"},{"v":19.5,"d":"20"},51,{"v":36.666666666666664,"d":"37"},60,{"v":19.5,"d":"20"},51,{"$nulls":11},15,{"v":43.214285714285715,"d":"43"},{"v":29.047619047619047,"d":"29"},{"v":72.85714285714286,"d":"73"},{"v":1.5,"d":"1.50"},{"v":45.6578947368421,"d":"46"},{"v":34.91228070175439,"d":"35"},{"v":55.263157894736835,"d":"55"},{"v":45.6578947368421,"d":"46"},{"v":55.263157894736835,"d":"55"},{"v":29.047619047619047,"d":"29"},{"v":72.85714285714286,"d":"73"}]
[16,{"$f":"(-('Sistema Básico GenM'!$C$5)/'Sistema Básico GenM'!$D$5)+(D20/('Sistema Básico GenM'!$D$5))","v":38},{"$f":"(-('Sistema Básico GenM'!$C$10)/('Sistema Básico GenM'!$D$10))+(D20/'Sistema Básico GenM'!$D$10)","v":18},{"$f":"'Sistema Básico GenM'!$D$14*E20","v":64},{"v":1.6,"d":"1.60"},{"$nulls":3},{"$f":"MAX(I21:I22)","v":60},{"$nulls":5},16,{"v":2241.3333333333335,"d":"2,241"},{"v":597.333333333333,"d":"597"},{"$f":"'Sistema Ampliado GenM'!$E$14*S20","v":{"v":1461.3333333333335,"d":"1,461"}},{"v":1.6,"d":"1.60"},{"v":2241.3333333333335,"d":"2,241"},{"v":597.333333333333,"d":"597"},{"v":1461.3333333333335,"d":"1,461"},{"$nulls":17},16,38,18,64,{"v":1.6,"d":"1.60"},{"v":39.800000000000004,"d":"40"},{"v":17.799999999999997,"d":"18"},{"v":54.400000000000006,"d":"54"},38,64,{"v":17.799999999999997,"d":"18"},{"v":54.400000000000006,"d":"54"},{"$nulls":11},16,{"v":44.42857142857143,"d":"44"},{"v":27.428571428571427,"d":"27"},{"v":77.71428571428572,"d":"78"},{"v":1.6,"d":"1.60"},{"v":46.578947368421055,"d":"47"},{"v":33.68421052631579,"d":"34"},{"v":58.94736842105263,"d":"59"},{"v":46.578947368421055,"d":"47"},{"v":58.94736842105263,"d":"59"},{"v":27.428571428571427,"d":"27"},{"v":77.71428571428572,"d":"78"}]
[17,{"$f":"(-('Sistema Básico GenM'!$C$5)/'Sistema Básico GenM'!$D$5)+(D21/('Sistema Básico GenM'!$D$5))","v":{"v":39.333333333333336,"d":"39"}},{"$f":"(-('Sistema Básico GenM'!$C$10)/('Sistema Básico GenM'!$D$10))+(D21/'Sistema Básico GenM'!$D$10)","v":16},{"$f":"'Sistema Básico GenM'!$D$14*E21","v":68},{"v":1.7,"d":"1.70"},null,null,"demanda",{"$f":"'Sistema Básico GenM'!B10","v":60},{"$nulls":5},17,{"v":2332.666666666667,"d":"2,333"},{"v":414.6666666666665,"d":"415"},{"$f":"'Sistema Ampliado GenM'!$E$14*S21","v":{"v":1552.6666666666667,"d":"1,553"}},{"v":1.7,"d":"1.70"},{"v":2332.666666666667,"d":"2,333"},{"v":414.6666666666665,"d":"415"},{"v":1552.6666666666667,"d":"1,553"},{"$nulls":17},17,{"v":39.333333333333336,"d":"39"},16,68,{"v":1.7,"d":"1.70"},{"v":40.93333333333333,"d":"41"},{"v":16.1,"d":"16"},{"v":57.8,"d":"58"},{"v":39.333333333333336,"d":"39"},68,{"v":16.1,"d":"16"},{"v":57.8,"d":"58"},{"$nulls":11},17,{"v":45.64285714285714,"d":"46"},{"v":25.80952380952381,"d":"26"},{"v":82.57142857142857,"d":"83"},{"v":1.7,"d":"1.70"},{"v":47.5,"d":"48"},{"v":32.4561403508772,"d":"32"},{"v":62.63157894736841,"d":"63"},{"v":47.5,"d":"48"},{"v":62.63157894736841,"d":"63"},{"v":25.80952380952381,"d":"26"},{"v":82.57142857142857,"d":"83"}]
[18,{"$f":"(-('Sistema Básico GenM'!$C$5)/'Sistema Básico GenM'!$D$5)+(D22/('Sistema Básico GenM'!$D$5))","v":{"v":40.66666666666667,"d":"41"}},{"$f":"(-('Sistema Básico GenM'!$C$10)/('Sistema Básico GenM'!$D$10))+(D22/'Sistema Básico GenM'!$D$10)","v":14},{"$f":"'Sistema Básico GenM'!$D$14*E22","v":72},{"v":1.8,"d":"1.80"},null,null,"oferta",{"$f":"'Sistema Básico GenM'!B5","v":10},{"$nulls":5},18,{"v":2424,"d":"2,424"},232,{"$f":"'Sistema Ampliado GenM'!$E$14*S22","v":{"v":1644,"d":"1,644"}},{"v":1.8,"d":"1.80"},{"v":2424,"d":"2,424"},232,{"v":1644,"d":"1,644"},{"$nulls":17},18,{"v":40.666666666666664,"d":"41"},14,72,{"v":1.8,"d":"1.80"},{"v":42.06666666666667,"d":"42"},{"v":14.399999999999999,"d":"14"},{"v":61.2,"d":"61"},{"v":40.666666666666664,"d":"41"},72,{"v":14.399999999999999,"d":"14"},{"v":61.2,"d":"61"},{"$nulls":11},18,{"v":46.85714285714286,"d":"47"},{"v":24.19047619047619,"d":"24"},{"v":87.42857142857143,"d":"87"},{"v":1.8,"d":"1.80"},{"v":48.42105263157895,"d":"48"},{"v":31.2280701754386,"d":"31"},{"v":66.3157894736842,"d":"66"},{"v":48.42105263157895,"d":"48"},{"v":66.3157894736842,"d":"66"},{"v":24.19047619047619,"d":"24"},{"v":87.42857142857143,"d":"87"}]
[19,{"$f":"(-('Sistema Básico GenM'!$C$5)/'Sistema Básico GenM'!$D$5)+(D23/('Sistema Básico GenM'!$D$5))","v":42},{"$f":"(-('Sistema Básico GenM'!$C$10)/('Sistema Básico GenM'!$D$10))+(D23/'Sistema Básico GenM'!$D$10)","v":12},{"$f":"'Sistema Básico GenM'!$D$14*E23","v":76},{"v":1.9,"d":"1.90"},{"$nulls":9},19,{"v":2515.333333333333,"d":"2,515"},{"v":49.333333333333485,"d":"49"},{"$f":"'Sistema Ampliado GenM'!$E$14*S23","v":{"v":1735.3333333333333,"d":"1,735"}},{"v":1.9,"d":"1.90"},{"v":2515.333333333333,"d":"2,515"},{"v":49.333333333333485,"d":"49"},{"v":1735.3333333333333,"d":"1,735"},{"$nulls":17},19,42,12,76,{"v":1.9,"d":"1.90"},{"$f":"(AU23-$AT$26+($AT$27*$AT$32))/$AT$27","v":{"v":43.199999999999996,"d":"43"}},{"v":12.700000000000003,"d":"13"},{"v":64.6,"d":"65"},42,76,{"v":12.700000000000003,"d":"13"},{"v":64.6,"d":"65"},{"$nulls":11},19,{"v":48.07142857142857,"d":"48"},{"v":22.571428571428573,"d":"23"},{"v":92.28571428571428,"d":"92"},{"v":1.9,"d":"1.90"},{"v":49.3421052631579,"d":"49"},{"v":30.000000000000004,"d":"30"},{"v":69.99999999999999,"d":"70"},{"v":49.3421052631579,"d":"49"},{"v":69.99999999999999,"d":"70"},{"v":22.571428571428573,"d":"23"},{"v":92.28571428571428,"d":"92"}]
[20,{"$f":"(-('Sistema Básico GenM'!$C$5)/'Sistema Básico GenM'!$D$5)+(D24/('Sistema Básico GenM'!$D$5))","v":{"v":43.333333333333336,"d":"43"}},{"$f":"(-('Sistema Básico GenM'!$C$10)/('Sistema Básico GenM'!$D$10))+(D24/'Sistema Básico GenM'!$D$10)","v":10},{"$f":"'Sistema Básico GenM'!$D$14*E24","v":80},{"v":2,"d":"2.00"},{"$nulls":9},20,{"v":2606.666666666667,"d":"2,607"},{"v":-133.33333333333348,"d":"(133)"},{"$f":"'Sistema Ampliado GenM'!$E$14*S24","v":{"v":1826.6666666666667,"d":"1,827"}},{"v":2,"d":"2.00"},{"v":2606.666666666667,"d":"2,607"},{"v":-133.33333333333348,"d":"(133)"},{"v":1826.6666666666667,"d":"1,827"},{"$nulls":17},20,{"v":43.333333333333336,"d":"43"},10,80,{"v":2,"d":"2.00"},{"$f":"(AU24-$AT$26+($AT$27*$AT$32))/$AT$27","v":{"v":44.333333333333336,"d":"44"}},{"$f":"(AU24-$AT$28-($AT$29*$AT$33))/$AT$29","v":11},68,{"v":43.333333333333336,"d":"43"},80,11,68,{"$nulls":11},20,{"v":49.285714285714285,"d":"49"},{"v":20.952380952380953,"d":"21"},{"v":97.14285714285714,"d":"97"},{"v":2,"d":"2.00"},{"v":50.26315789473684,"d":"50"},{"v":28.771929824561408,"d":"29"},{"v":73.68421052631578,"d":"74"},{"v":50.26315789473684,"d":"50"},{"v":73.68421052631578,"d":"74"},{"v":20.952380952380953,"d":"21"},{"v":97.14285714285714,"d":"97"}]
[]
[{"$nulls":19},"A0",{"$f":"'Sistema Ampliado GenM'!I5","v":{"v":-30,"d":"(30)"}},{"$nulls":23},"A0",{"$f":"'Impuesto por Unidad GenM'!$C$5","v":{"v":-50,"d":"(50)"}},{"$nulls":21},"A0",{"$f":"'Impuesto Al Valor GenM'!$C$5","v":{"v":-100,"d":"(100)"}}]
[null,"B","C","D",{"$nulls":15},"A1",{"$f":"'Sistema Ampliado GenM'!J5","v":1},{"$nulls":23},"A1",{"$f":"'Impuesto por Unidad GenM'!$D$5","v":3},null,"CONSUMIDOR 1",{"$nulls":19},"A1",{"$f":"'Impuesto Al Valor GenM'!$D$5","v":4},null,"CONSUMIDOR 1"]
[null,"xs","-a0","a1",{"$nulls":15},"A2",{"$f":"'Sistema Ampliado GenM'!K5","v":-0.3},{"$nulls":23},"B0",{"$f":"'Impuesto por Unidad GenM'!$C$9","v":100},null,null,1,{"$nulls":18},"B0",{"$f":"'Impuesto Al Valor GenM'!$C$9","v":160},null,null,2]
[5,{"$f":"C29+(D29*D40)","v":{"v":10,"d":"10.0"}},{"$f":"'Sistema Básico GenM'!C5","v":{"v":-50,"d":"(50.0)"}},{"$f":"'Sistema Básico GenM'!D5","v":{"v":3,"d":"3.0"}},{"$f":"(C29/D29*-1)+((1/D29)*E40)","v":36.66666666666667},{"$nulls":14},"M",{"$f":"'Sistema Ampliado GenM'!J17","v":{"v":3900,"d":"3,900"}},{"$nulls":23},"B1",{"$f":"'Impuesto por Unidad GenM'!$D$9","v":-2},null,"PRODUCTOR 2",{"$nulls":19},"B1",{"$f":"'Impuesto Al Valor GenM'!$D$9","v":-3},null,"PRODUCTOR 2"]
[6,{"$nulls":15},{"$f":"R4-Q38-(S38*R51)","v":780},null,null,"W",{"$f":"'Sistema Ampliado GenM'!J18","v":{"v":2500,"d":"2,500"}},{"$nulls":23},"x*",{"$f":"((AT29*AT26)-(AT28*AT27))/(AT29-AT27)","v":{"v":40,"d":"40.00"}},null,null,1,2,{"$nulls":17},"x*",{"$f":"((BQ29*BQ26)-(BQ28*BQ27))/(BQ29-BQ27)","v":{"v":48.57142857142857,"d":"48.57"}},null,null,1,2]
[7,"FUNCIÓN DE DEMANDA",{"$nulls":17},"B0",{"$f":"'Sistema Ampliado GenM'!I9","v":200},{"$nulls":23},"p*",{"$f":"(AT26-AT28)/(AT29-AT27)","v":{"v":30,"d":"30.00"}},null,"s aalo",{"$f":"AT26","v":{"v":-50,"d":"(50.0)"}},{"$f":"AT26+(AT32*AT27)","v":{"v":-35,"d":"(35.0)"}},{"$nulls":17},"p*",{"$f":"(BQ26-BQ28)/(-BQ27+BQ29)","v":{"v":37.142857142857146,"d":"37.14"}},null,"s aalo",{"$f":"BQ26","v":{"v":-100,"d":"(100.0)"}},{"$f":"BQ26+((BQ32*BQ35)*BQ27)","v":{"v":-72.63157894736842,"d":"(72.6)"}}]
[8,{"$nulls":18},"B1",{"$f":"'Sistema Ampliado GenM'!J9","v":-0.5},{"$nulls":23},"Tproductor",{"$f":"'Impuesto por Unidad GenM'!$D$16","v":5},null,"d aalo",{"$f":"AT28","v":100},{"$f":"AT28-(AT29*AT33)","v":110},{"$nulls":17},"Tproductor",{"$f":"'Impuesto Al Valor GenM'!$D$16","v":{"v":0.2,"d":"0.20"}},null,"d aalo",{"$f":"BQ28","v":160},{"$f":"BQ28-(BQ29*BQ33*BQ35)","v":160}]
[9,"xd","b0","-b1",{"$nulls":15},"B2",{"$f":"'Sistema Ampliado GenM'!K9","v":0.4},{"$nulls":23},"T consumidor",{"$f":"'Impuesto por Unidad GenM'!$D$17","v":5},{"$nulls":21},"T consumidor",{"$f":"'Impuesto Al Valor GenM'!$D$17","v":0}]
[10,{"$f":"C34+(D34*D40)","v":{"v":60,"d":"60.0"}},{"$f":"'Sistema Básico GenM'!C10","v":{"v":100,"d":"100.0"}},{"$f":"'Sistema Básico GenM'!D10","v":{"v":-2,"d":"(2.0)"}},{"$f":"(C34/D34*-1)+((1/D34)*E41)","v":45},{"$nulls":39},"x* con T",{"$f":"AT26+($AT$27*$AT$35)","v":{"v":34,"d":"34.00"}},{"$nulls":21},"x* con T",{"$f":"BQ26+($BQ$27*$BQ$35)","v":{"v":36.84210526315789,"d":"36.84"}}]
[11,{"$nulls":14},"B","C","D","E","F","G","H","I","J","K",{"$nulls":19},"ps*",{"$f":"(AT26-AT28-(AT29*(IF(AW28=1,AT33,AT32))))/(-AT27+AT29)","v":{"v":28,"d":"28.00"}},{"$nulls":21},"ps*",{"$f":"(BQ26-BQ28)/(BQ29-BQ27+(BQ29*(IF(BT28=1,BQ33,BQ32))))","v":{"v":34.21052631578947,"d":"34.21"}}]
[12,{"$nulls":14},"FUNCIÓN DE OFERTA",{"$nulls":5},"NUEVA FUNCIÓN DE OFERTA",{"$nulls":22},"pd*",{"$f":"AT35+(IF(AW28=1,AT33,AT32))","v":{"v":33,"d":"33.00"}},{"$nulls":21},"pd*",{"$f":"BQ35+(BQ35*(IF(BT28=1,BQ33,BQ32)))","v":{"v":41.05263157894737,"d":"41.05"}}]
[13,"Precio de Equilibrio",null,{"$f":"(C29-C34)/(D34-D29)","v":{"v":30,"d":"30.0"}},{"$nulls":11},"xs","-a0","a1","-a2",null,null,"xs","-a0","a1","`-a2",{"$nulls":19},"ingreso trib",{"$f":"(IF(AW28=1,AT33,AT32))*AT34","v":170},null,{"$f":"(AT30-AT34)*(AT36-AT35)*0.5","v":{"v":15,"d":"15.00"}},{"$nulls":19},"ingreso trib",{"$f":"(IF(BT28=1,BQ33,BQ32))*BQ34","v":{"v":7.368421052631579,"d":"7"}}]
[14,"Cantidad de Equilibrio",null,{"$f":"((D34*C29)-(C34*D29))/(D34-D29)","v":{"v":40,"d":"40.0"}},{"$nulls":10},5,{"$f":"Q38+(R38*R52)+(S38*R51)","v":{"v":913.3333333333333,"d":"913.3"}},{"$f":"'Sistema Ampliado GenM'!C5","v":{"v":-30,"d":"(30.0)"}},{"$f":"'Sistema Ampliado GenM'!D5","v":{"v":1,"d":"1.0"}},{"$f":"'Sistema Ampliado GenM'!E5","v":{"v":-0.3,"d":"(0.3)"}},null,null,{"$f":"W38+(X38*X46)+(Y38*X51)","v":{"v":913.3333333333333,"d":"913.3"}},{"$f":"'Sistema Ampliado GenM'!I5","v":{"v":-30,"d":"(30.0)"}},{"$f":"'Sistema Ampliado GenM'!J5","v":{"v":1,"d":"1.0"}},{"$f":"'Sistema Ampliado GenM'!K5","v":{"v":-0.3,"d":"(0.3)"}},{"$nulls":19},"PIE",{"$f":"(AT30-AT34)*(AT36-AT35)*0.5","v":{"v":15,"d":"15.00"}},{"$nulls":21},"PIE",{"$f":"((BQ36-BQ35)*(BQ30-BQ34))*0.5","v":{"v":40.126632370399705,"d":"40.13"}}]
[15,{"$nulls":4},"ENC","ENP","PIEC","PIEP","PIE",{"$nulls":4},6]
[16,"Precio Diferente al de Equilibrio",null,{"$f":"'Sistema Básico GenM'!D19","v":{"v":20,"d":"20.0"}},{"$f":"C34+D34*D40","v":{"v":60,"d":"60.0"}},{"$f":"(((C34/D34*-1)-D40)*D42)/2","v":150},{"$f":"(((D40-(C29/D29*-1))*E41)/2)-((((E41-E40)*(D40-((C29/D29*-1)+((1/D29)*E40)))))/2)","v":{"v":-400.0000000000001,"d":"(400)"}},{"$f":"((D40-D37)*(D38-E40))/2","v":100},{"$f":"((D37-(((C29/D29*-1)+((1/D29)*E40))))*(D38-E40))/2","v":{"v":66.66666666666671,"d":"67"}},{"$f":"I40+H40","v":{"v":166.6666666666667,"d":"167"}},{"$nulls":4},7,"FUNCIÓN DE DEMANDA",{"$nulls":5},"NUEVA FUNCIÓN DE DEMANDA"]
[17,{"$nulls":3},{"$f":"C29+D29*D40","v":{"v":10,"d":"10.0"}},{"$f":"((((C34/D34*-1)-D40)*E40)/2)-((((C34/D34*-1)+((1/D34)*E41)-D40)*(E40-E41))/2)","v":275},{"$f":"((D40-(C29/D29*-1))*E41)/2","v":{"v":16.66666666666666,"d":"17"}},{"$f":"((((C34/D34*-1)+((1/D34)*E41))-D40)*(D38-E41))/2","v":375},{"$f":"((D37-D40)*(D38-E41))/2","v":150},{"$f":"I41+H41","v":525},{"$nulls":4},8,"xd","b0","-b1","b2",null,null,"xd","b0","`-b1","b2"]
[18,null,null,{"$f":"IF(D40<D37,E41,E40)","v":10},{"$nulls":10},9,{"$f":"Q42+(R42*R52)+(S42*R50)","v":{"v":913.3333333333334,"d":"913.3"}},{"$f":"'Sistema Ampliado GenM'!C9","v":{"v":200,"d":"200.0"}},{"$f":"'Sistema Ampliado GenM'!D9","v":{"v":-0.5,"d":"(0.5)"}},{"$f":"'Sistema Ampliado GenM'!E9","v":0.4},null,null,{"$f":"W42+(X42*X46)+(Y42*X50)","v":{"v":913.3333333333334,"d":"913.3"}},{"$f":"'Sistema Ampliado GenM'!I9","v":{"v":200,"d":"200.0"}},{"$f":"'Sistema Ampliado GenM'!J9","v":{"v":-0.5,"d":"(0.5)"}},{"$f":"'Sistema Ampliado GenM'!K9","v":0.4}]
[19,"Exceso de Demanda",null,{"$f":"IF((B34-B29)<=0,\"\",(B34-B29))","v":{"v":50,"d":"50.0"}},{"$nulls":10},10]
[20,{"$nulls":13},11]
[21,"Exceceso de Oferta",null,{"$f":"IF((B29-B34)<=0,\"\",(B29-B34))","v":""},{"$nulls":10},12,{"$nulls":6},"NUEVOS PRECIOS Y CANTIDADES",null,null,"Variación"]
[{"$nulls":14},13,"Precio de Equilibrio",null,null,{"$f":"(Q42-Q38+(S42*R50)-(S38*R51))/(R38-R42)","v":{"v":1693.3333333333333,"d":"1,693.3"}},null,null,"Precio de Equilibrio",null,{"$f":"(W42-W38+(Y42*X50)-(Y38*X51))/(X38-X42)","v":{"v":1693.3333333333333,"d":"1,693.3"}},{"$f":"X46-S46","v":0}]
[null,"Excedente neto consumidor",null,{"$f":"IF(D40>D37,F40,F41)","v":{"v":275,"d":"275.0"}},{"$nulls":10},14,"Cantidad de Equilibrio",null,null,{"$f":"((Q42*R38)+(S42*R38*R50)-(R42*Q38)-(R42*S38*R51))/(R38-R42)","v":{"v":913.3333333333334,"d":"913.3"}},null,null,"Cantidad de Equilibrio",null,{"$f":"((W42*X38)+(Y42*X38*X50)-(X42*W38)-(X42*Y38*X51))/(X38-X42)","v":{"v":913.3333333333334,"d":"913.3"}},{"$f":"X47-S47","v":0}]
[null,"Excedente neto productor",null,{"$f":"IF(D40>D37,G40,G41)","v":{"v":16.66666666666666,"d":"16.7"}},{"$nulls":10},15]
[null,"PIE consumidor",null,{"$f":"IF(D40>D37,H40,H41)","v":{"v":375,"d":"375.0"}},{"$nulls":10},16,{"$nulls":6},"NUEVO INGRESO Y SALARIO",null,null,"Variación"]
[null,"PIE productor",null,{"$f":"IF(D40>D37,I40,I41)","v":{"v":150,"d":"150.0"}},{"$nulls":10},17,"Ingreso (m)",null,{"$f":"'Sistema Ampliado GenM'!D17","v":{"v":3900,"d":"3,900.0"}},{"$nulls":3},"Ingreso (m)",null,{"$f":"'Sistema Ampliado GenM'!J17","v":{"v":3900,"d":"3,900.0"}},{"$f":"X50-R50","v":0}]
[null,"PIE",null,{"$f":"IF(D40>D37,J40,J41)","v":{"v":525,"d":"525.0"}},{"$nulls":10},18,"Salario (w)",null,{"$f":"'Sistema Ampliado GenM'!D18","v":{"v":2500,"d":"2,500.0"}},"max xs y xd",null,null,"Salario (w)",null,{"$f":"'Sistema Ampliado GenM'!J18","v":{"v":2500,"d":"2,500.0"}},{"$f":"X51-R51","v":0}]
[{"$nulls":14},19,"Precio Diferente al de Equilibrio",null,{"$f":"'Sistema Ampliado GenM'!D19","v":{"v":1693.3333333333333,"d":"1,693.3"}},{"$f":"MAX(P42,P38)","v":{"v":913.3333333333334,"d":"913.3"}}]
[{"$nulls":14},20]
[{"$nulls":14},21]
[{"$nulls":14},22,"Exceso de Demanda",null,{"$f":"IF((P42-P38)<0,\"\",(P42-P38))","v":{"v":1.1368683772161603E-13,"d":"0.0"}},{"$nulls":5},"  "]
[{"$nulls":14},23]
[{"$nulls":14},24,"Execeso de Oferta",null,{"$f":"IF((P38-P42)<0,\"\",(P38-P42))","v":""}]