{"text_format":"3","workbook":"xlsx","n_sheets":13,"sheets":["Inicio P","Sustitutos P","Complementarios P","Neutrales P","Cuasilineales P","Males P","Regulares P","CES P","Cobb-DouglasD1 P","Cobb-Douglas P","CDR3 P","Oculto P","Stone-Geary P"],"not_rendered":{"charts":12,"images":19,"macros":1},"read":"whole","date_system":"1900"}

{"sheet":"Inicio P","index":0,"n_rows":32,"n_cols":11,"rows_kept":32,"merged":[[22,0,22,2],[31,10,31,11]]}
["  "]
{"$rows_empty":21}
["    Descargue la versión Kindle"]
{"$rows_empty":8}
[{"$nulls":10},"Miguel Cervantes Jiménez"]

{"sheet":"Sustitutos P","index":1,"n_rows":20,"n_cols":6,"rows_kept":20,"hidden":true,"merged":[[0,0,0,5],[2,0,2,5],[13,1,13,2],[14,1,14,2],[18,1,18,3],[19,1,19,3]]}
["CURVAS DE INDIFERENCIA"]
[]
["SUSTITUTOS PERFECTOS"]
[]
[]
[]
[]
[]
[]
[null,"Nivel","a","x1","b","x2"]
[null,{"v":20,"d":"20.0"},{"v":2,"d":"2.0"},{"v":40,"d":"40.0"},{"v":1,"d":"1.0"},{"$f":"'Oculto P'!C30","v":{"v":0,"d":"0.0"}}]
[null,"Inserte los valores correspondientes de la curva u1 (original)"]
[]
[null,"Cambio de nivel"]
[null,{"v":10,"d":"10.0"}]
[null,"Inserte el nivel de las curvas de indiferencia en rojo y rosa"]
[]
[]
[null,"Relación marginal de sustitución"]
[null,{"$f":"'Oculto P'!C28","v":-0.5}]

{"sheet":"Complementarios P","index":2,"n_rows":24,"n_cols":8,"rows_kept":24,"hidden":true,"merged":[[0,0,0,5],[2,0,2,5],[11,1,13,2],[15,1,15,2],[16,1,16,2],[20,1,20,3],[21,2,21,3],[22,2,22,3],[23,2,23,3]]}
["CURVAS DE INDIFERENCIA"]
[]
["COMPLEMENTOS PERFECTOS"]
[]
[]
[]
[null,null,"Canasta","x1/a","x2/b"]
[{"$nulls":3},{"$f":"'Oculto P'!S35","v":{"v":4,"d":"4.0"}},{"$f":"'Oculto P'!T35","v":{"v":4,"d":"4.0"}}]
[]
[null,"Mínimo","a","x1","b","x2"]
[null,{"$f":"'Oculto P'!R38","v":{"v":4,"d":"4.0"}},{"v":1,"d":"1.0"},{"v":4,"d":"4.0"},{"v":4,"d":"4.0"},{"v":16,"d":"16.0"},null,2]
[null,"Inserte los valores correspondientes a la curva u1 (original)",null,"x1/a","x2/b"]
[{"$nulls":3},{"$f":"'Oculto P'!S35","v":{"v":4,"d":"4.0"}},{"$f":"'Oculto P'!T35","v":{"v":4,"d":"4.0"}}]
[]
[]
[null,"Cambio de nivel"]
[null,{"v":1,"d":"1.0"}]
[null,"Inserte el nivel de las curvas de indiferencia en rosa y rojo"]
[]
[]
[null,"Relación marginal de sustitución"]
[null,"UMgx1","Cero"]
[null,"UMgx2","Tiende a infinito"]
[null,"RMgS","Indeterminada (cero)"]

{"sheet":"Neutrales P","index":3,"n_rows":19,"n_cols":10,"rows_kept":19,"hidden":true,"merged":[[0,0,0,5],[2,0,2,5],[12,1,12,2],[13,1,13,2],[17,1,17,3],[18,1,18,3]]}
["CURVAS DE INDIFERENCIA"]
[]
["NEUTRALES"]
[]
[]
[{"$nulls":9},{"$f":"'Oculto P'!AL23","v":20}]
[]
[]
[null,"Nivel","x1","x2"]
[null,{"$f":"C10","v":{"v":10,"d":"10.0"}},{"v":10,"d":"10.0"},{"v":14,"d":"14.0"}]
[null,null,"Inserte los valores correspondientes de la curva u1 (original)"]
[]
[null,"Cambio de nivel"]
[null,{"v":5,"d":"5.0"}]
[null,"Inserte el nivel de las curvas de indiferencia en rosa y rojo"]
[]
[]
[null,"Relación marginal de sustitución"]
[null,"Tiende a infinito"]

{"sheet":"Cuasilineales P","index":4,"n_rows":20,"n_cols":4,"rows_kept":20,"hidden":true,"merged":[[0,0,0,5],[2,0,2,5],[14,1,14,2],[15,1,15,2],[19,1,19,3]]}
["CURVAS DE INDIFERENCIA"]
[]
["CUASILINEALES"]
{"$rows_empty":7}
[null,"Nivel","x1","x2"]
[null,{"v":5,"d":"5.0"},{"v":2,"d":"2.0"},{"$f":"'Oculto P'!CF27","v":{"v":4.698970004336019,"d":"4.7"}}]
[null,"Inserte los valores correspondientes de la curva u1 (original)"]
[]
[null,"Cambio de nivel"]
[null,{"v":2,"d":"2.0"}]
[null,"Inserte el nivel de las curvas de indiferencia en rosa y rojo"]
[]
[null,"Relación marginal de sustitución"]
[null,{"$f":"'Oculto P'!CE29","v":-0.5}]

{"sheet":"Males P","index":5,"n_rows":20,"n_cols":6,"rows_kept":20,"hidden":true,"merged":[[0,0,0,5],[2,0,2,5],[14,1,14,2],[15,1,15,2],[18,1,18,3],[19,1,19,3]]}
["CURVAS DE INDIFERENCIA"]
[]
["MALES"]
{"$rows_empty":7}
[null,"Nivel","a","x1","b","x2"]
[null,{"v":50,"d":"50.0"},{"v":1,"d":"1.0"},{"v":60,"d":"60.0"},{"v":2,"d":"2.0"},{"$f":"'Oculto P'!BA23","v":{"v":20,"d":"20.0"}}]
[null,"Inserte los valores correspondientes de la curva u1 (original)"]
[]
[null,"Cambio de nivel"]
[null,{"v":30,"d":"30.0"}]
[null,"Inserte el nivel de las curvas de indiferencia en rosa y rojo "]
[]
[null,"Relación marginal de sustitución"]
[null,{"$f":"'Oculto P'!AU29","v":{"v":2,"d":"2.0"}}]

{"sheet":"Regulares P","index":6,"n_rows":20,"n_cols":6,"rows_kept":20,"hidden":true,"merged":[[0,0,0,5],[2,0,2,5],[14,1,14,2],[15,1,15,2],[18,1,18,3],[19,1,19,3]]}
["CURVAS DE INDIFERENCIA"]
[]
["REGULARES"]
{"$rows_empty":7}
[null,"Nivel","a","x1","b","x2"]
[null,{"v":100,"d":"100.0"},{"v":1,"d":"1.0"},{"v":15,"d":"15.0"},{"v":1,"d":"1.0"},{"$f":"'Oculto P'!BH26","v":{"v":6.666666666666667,"d":"6.7"}}]
[null,"Inserte los valores correspondientes de la curva u1 (original)"]
[]
[null,"Cambio de Nivel"]
[null,{"v":50,"d":"50.0"}]
[null,"Inserte el nivel de las curvas de indiferencia en rosa y rojo"]
[]
[null,"Relación Marginal de Sustitución"]
[null,{"$f":"'Oculto P'!BF28","v":{"v":-0.4444444444444445,"d":"-0.4"}}]

{"sheet":"CES P","index":7,"n_rows":20,"n_cols":6,"rows_kept":20,"hidden":true,"merged":[[0,0,0,5],[2,0,2,5],[13,1,13,2],[14,1,14,2],[18,1,18,3],[19,1,19,3]]}
["CURVAS DE INDIFERENCIA"]
[]
["FUNCIÓN POLINOMIAL"]
[]
[]
[]
[]
[]
[]
[null,"Nivel","x1","a","x2","b"]
[null,{"v":42,"d":"42.0"},1.5,{"v":2,"d":"2.0"},{"$f":"'Oculto P'!CR29","v":{"v":8,"d":"8.0"}},{"v":4,"d":"4.0"}]
[null,"Inserte los valores correspondientes de la curva u1 (original)"]
[]
[null,"Cambio de nivel"]
[null,{"v":6,"d":"6.0"}]
[null,"Inserte el nivel de las curvas de indiferencia en rojo y rosa"]
[]
[]
[null,"Relación marginal de sustitución"]
[null,{"$f":"'Oculto P'!CR33","v":{"v":-3.4285714285714284,"d":"-3.4"}}]

{"sheet":"Cobb-DouglasD1 P","index":8,"n_rows":21,"n_cols":6,"rows_kept":21,"hidden":true,"merged":[[0,0,0,5],[2,0,2,5],[3,1,3,5],[15,1,15,2],[16,1,16,2],[19,1,19,3],[20,1,20,3]]}
["CURVAS DE INDIFERENCIA"]
[]
["COBB-DOUGLAS"]
[null,"(suma de exponentes diferente a uno)"]
{"$rows_empty":7}
[null,"Nivel","x1","a","x2","b"]
[null,{"v":100,"d":"100.0"},{"v":20,"d":"20.0"},{"v":1,"d":"1.0"},{"$f":"'Oculto P'!DI26","v":{"v":5,"d":"5.0"}},{"v":1,"d":"1.0"}]
[null,"Inserte los valores correspondientes de la curva u1 (original)"]
[]
[null,"Cambio de nivel"]
[null,{"v":20,"d":"20.0"}]
[null,"Inserte el nivel de las curvas de indiferencia en rosa y rojo"]
[]
[null,"Relación marginal de sustitución"]
[null,{"$f":"'Oculto P'!DF29","v":-0.25}]

{"sheet":"Cobb-Douglas P","index":9,"n_rows":21,"n_cols":6,"rows_kept":21,"hidden":true,"merged":[[0,0,0,5],[2,0,2,5],[15,1,15,2],[16,1,16,2],[19,1,19,3],[20,1,20,3]]}
["CURVAS DE INDIFERENCIA"]
[]
["COBB-DOUGLAS"]
{"$rows_empty":8}
[null,"Nivel","x1","a","x2","1-a"]
[null,{"v":100,"d":"100.0"},{"v":200,"d":"200.0"},0.5,{"$f":"'Oculto P'!BX26","v":{"v":49.99999999999999,"d":"50.0"}},{"$f":"1-D13","v":0.5}]
[null,"Inserte los valores correspondientes de la curva u1 (original)"]
[]
[null,"Cambio de nivel"]
[null,{"v":25,"d":"25.0"}]
[null,"Inserte el nivel de las curvas de indiferencia en rosa y rojo"]
[]
[null,"Relación marginal de sustitución"]
[null,{"$f":"'Oculto P'!BU29","v":{"v":-0.24999999999999997,"d":"-0.3"}}]

{"sheet":"CDR3 P","index":10,"n_rows":30,"n_cols":13,"rows_kept":30,"hidden":true,"merged":[[0,1,0,4],[2,1,2,4],[27,1,27,2],[28,1,28,2],[29,1,29,2]]}
[null,"     CURVAS DE INDIFERENCIA",{"$nulls":10},1]
[]
[null,"     COBB-DOUGLAS EN R3"]
[]
[]
[null,"Utilidad",{"$f":"'Oculto P'!GB2","v":{"v":20.000000000000004,"d":"20.0"}}]
[null,"X1",{"v":20,"d":"20.0"}]
[null,"a",0.5]
[null,"X2",{"v":20,"d":"20.0"}]
[null,"1-a",{"$f":"'Oculto P'!GB7","v":0.5}]
[null,"Inserte los valores correspondientes"]
[null,"UMg1",{"$f":"'Oculto P'!GB10","v":0.5}]
[null,"UMg2",{"$f":"'Oculto P'!GB11","v":0.5}]
[null,"RMgS",{"$f":"'Oculto P'!GB12","v":{"v":-1,"d":"-1.0"}}]
{"$rows_empty":13}
[null,"Títulos"]
[null,"Resultados"]
[null,"Insertar Datos"]

{"sheet":"Oculto P","index":11,"n_rows":47,"n_cols":209,"rows_kept":47,"hidden":true,"merged":[[35,1,35,2],[36,1,36,2]]}
["SUSTITUTOS PERFECTOS",{"$nulls":12},"COMPLEMENTARIOS PERFECTOS",{"$nulls":3},"media",{"$nulls":3},"alta",{"$nulls":3},"baja",{"$nulls":9},"NEUTRALES",{"$nulls":8},"MALES",null,null,{"$f":"AV28/AV27","v":{"v":25,"d":"25.00"}},{"$f":"((AV28+'Males P'!$B$16)/AV27)","v":{"v":40,"d":"40.00"}},{"$f":"(AV28-'Males P'!$B$16)/AV27","v":{"v":10,"d":"10.00"}},{"$nulls":5},"REGULARES",{"$nulls":14},"COBB-DOUGLAS",{"$nulls":10},"CUASILINEALES",{"$nulls":11},"CES",{"$nulls":13},"COBB-DOUGLAS D1",{"$nulls":10},"STONE-GEARY",{"$nulls":63},"COBB-DOUGLAS R3"]
["Unidades","ponderador","x1","x2","x1","x2","x1","x2","x1line",null,"x2line",null,null,"Unidades","ponderador","x1","x1f","x2","x2f","x1","x1f","x2","x2f","x1","x1f","x2","x2f",20,null,null,"x1line",null,"x2line",null,null,"Unidades","ponderador","x1","x1f","x1f","x1f","x2line",null,null,"Unidades","ponderador","x1","X2F","X2F","X2F","x1line",null,"x2line",null,null,"Unidades","ponderador","x1","X2F1","X2F2","X2F3",{"v":6,"d":"6.0"},{"$nulls":5},{"v":21,"d":"21.0"},null,null,"Unidades","ponderador","x1","X2F1","X2F1","X2F1","X1 Line",null,"X2 Line",null,null,"Unidades","ponderador","x1","X2F1","X2F1","X2F1",{"$f":"1/20","v":0.05},{"$nulls":5},"Unidades","ponderador","x1","x2","x1","x2","x1","x2","x1line",null,"x2line",{"$nulls":3},"Unidades","ponderador","x1","X2F1","X2F1","X2F1","X1 Line",null,"X2 Line",null,null,"Unidades","ponderador","x1","X2F1","X2F1","X2F1","X1 Line",null,"X2 Line",null,"Ponderador","cota s1",null,"cota s2",{"$nulls":50},"Utilidad",{"$f":"GB3*GB4^GB5*GB6^GB7","v":{"v":20.000000000000004,"d":"20.0"}},{"$nulls":4},{"$f":"HA3","v":0.05},{"$f":"GG2+$HA$3","v":{"v":0.1,"d":"0.10"}},{"$f":"GH2+$HA$3","v":{"v":0.15000000000000002,"d":"0.15"}},{"v":0.2,"d":"0.20"},0.25,{"v":0.3,"d":"0.30"},0.35,{"v":0.39999999999999997,"d":"0.40"},{"v":0.44999999999999996,"d":"0.45"},{"v":0.49999999999999994,"d":"0.50"},{"v":0.5499999999999999,"d":"0.55"},{"v":0.6,"d":"0.60"},0.65,{"v":0.7000000000000001,"d":"0.70"},{"v":0.7500000000000001,"d":"0.75"},{"v":0.8000000000000002,"d":"0.80"},{"v":0.8500000000000002,"d":"0.85"},{"v":0.9000000000000002,"d":"0.90"},{"v":0.9500000000000003,"d":"0.95"},{"v":1.0000000000000002,"d":"1.00"}]
[1,0,{"$f":"$C$33*$B$33*B3","v":0},{"$f":"('Sustitutos P'!$B$11*'Oculto P'!$C$27)-(('Oculto P'!$C$27/'Oculto P'!$C$26)*'Oculto P'!C3)","v":{"v":20,"d":"20.00"}},{"$f":"$C$33*($B$33+$B$37)*B3","v":0},{"$f":"(('Sustitutos P'!$B$11+'Sustitutos P'!$B$15)*'Oculto P'!$C$27)-(('Oculto P'!$C$27/'Oculto P'!$C$26)*'Oculto P'!E3)","v":{"v":30,"d":"30.00"}},{"$f":"$C$33*($B$33-$B$37)*B3","v":0},{"$f":"(('Sustitutos P'!$B$11-'Sustitutos P'!$B$15)*'Oculto P'!$C$27)-(('Oculto P'!$C$27/'Oculto P'!$C$26)*'Oculto P'!G3)","v":{"v":10,"d":"10.00"}},{"$f":"'Sustitutos P'!$D$11","v":{"v":40,"d":"40.00"}},{"$f":"K3*B3","v":{"v":0,"d":"0.00"}},{"$f":"'Sustitutos P'!$F$11","v":0},{"$f":"I3*B3","v":0},null,1,{"v":1,"d":"1.00"},{"$f":"$S$38*O3","v":{"v":4,"d":"4.00"}},{"$f":"$T$38","v":{"v":16,"d":"16.00"}},{"$f":"$S$38","v":{"v":4,"d":"4.00"}},{"$f":"$T$38*O3","v":{"v":16,"d":"16.00"}},{"$f":"$S$44*O3","v":{"v":5,"d":"5.00"}},{"$f":"$T$44","v":{"v":20,"d":"20.00"}},{"$f":"$S$44","v":{"v":5,"d":"5.00"}},{"$f":"$T$44*O3","v":{"v":20,"d":"20.00"}},{"$f":"$S$45*O3","v":{"v":3,"d":"3.00"}},{"$f":"$T$45","v":{"v":12,"d":"12.00"}},{"$f":"$S$45","v":{"v":3,"d":"3.00"}},{"$f":"$T$45*O3","v":{"v":12,"d":"12.00"}},null,0,1,{"$f":"$T$38*AC3","v":0},{"$f":"$S$38","v":{"v":4,"d":"4.0"}},{"$f":"AD3*$S$38","v":{"v":4,"d":"4.0"}},{"$f":"$T$38","v":{"v":16,"d":"16.0"}},null,1,0,{"$f":"AM3*AK3","v":0},{"$f":"'Neutrales P'!$C$10","v":{"v":10,"d":"10.00"}},{"$f":"'Neutrales P'!$C$10+'Neutrales P'!$B$14","v":{"v":15,"d":"15.00"}},{"$f":"'Neutrales P'!$C$10-'Neutrales P'!$B$14","v":{"v":5,"d":"5.00"}},{"$f":"AM3*AC3","v":0},{"$f":"'Neutrales P'!$D$10","v":{"v":14,"d":"14.00"}},null,1,0,{"$f":"($AV$24)*AT3","v":0},{"$f":"((-1)*($AV$28*$AV$27))+(($AV$27/$AV$26)*AU3)","v":{"v":-100,"d":"(100.00)"}},{"$f":"((-1)*(($AV$28+'Males P'!$B$16)*$AV$27))+(($AV$27/$AV$26)*AU3)","v":{"v":-160,"d":"-160.00"}},{"$f":"((-1)*(($AV$28-'Males P'!$B$16)*$AV$27))+(($AV$27/$AV$26)*AU3)","v":{"v":-40,"d":"(40.00)"}},{"$f":"$AV$24","v":{"v":60,"d":"60.00"}},{"$f":"AY3*($AT3/2)","v":0},{"$f":"(-1*($AV$28*$AV$27))+(($AV$27/$AV$26)*AY3)","v":{"v":20,"d":"20.00"}},{"$f":"BA3*($AT3/2)","v":0},null,2,{"v":1,"d":"1.00"},{"$f":"$BF$26*BK3","v":{"v":2.5,"d":"2.50"}},{"$f":"$BF$24/($BF$25*$BH$25*BF3)","v":{"v":40,"d":"40.00"}},{"$f":"($BF$24+$BH$24)/($BF$25*$BH$25*BF3)","v":{"v":60,"d":"60.00"}},{"$f":"($BF$24-$BH$24)/($BF$25*$BH$25*BF3)","v":{"v":20,"d":"20.00"}},{"$f":"1/$BJ$2","v":{"v":0.16666666666666666,"d":"0.2"}},{"$f":"BJ3","v":{"v":0.16666666666666666,"d":"0.2"}},{"$f":"$BF$26","v":{"v":15,"d":"15.0"}},{"$f":"BL3*BQ3","v":0},{"$f":"$BH$26","v":{"v":6.666666666666667,"d":"6.7"}},{"$f":"BN3*BQ3","v":0},null,0,null,5,{"$f":"BS3/$BS$13","v":{"v":0.45454545454545453,"d":"0.45"}},{"$f":"BV$26*BT3","v":{"v":90.9090909090909,"d":"90.91"}},{"$f":"((BX$28/((BU3^(BV$27)))))^(1/BX$27)","v":{"v":110,"d":"110.00"}},{"$f":"(((BX$28+BX$29)/((BU3^(BV$27)))))^(1/BX$27)","v":{"v":171.875,"d":"171.88"}},{"$f":"(((BX$28-BX$29)/((BU3^(BV$27)))))^(1/BX$27)","v":{"v":61.87500000000001,"d":"61.88"}},{"$f":"BV$26","v":{"v":200,"d":"200.00"}},{"$f":"BY3*BQ3","v":0},{"$f":"BX$26","v":{"v":49.99999999999999,"d":"50.00"}},{"$f":"CA3*BQ3","v":0},null,2,{"v":1,"d":"1.00"},0,{"$f":"$CF$24-(LOG(CF3))","v":{"$error":"#NUM!"}},{"v":625,"d":"625.00"},{"v":225,"d":"225.00"},{"$f":"CJ2","v":0.05},{"$f":"$CF$26","v":2},{"$f":"CM3*CJ3","v":{"v":0.23494850021680094,"d":"0.23"}},{"$f":"$CF$27","v":{"v":4.698970004336019,"d":"4.70"}},{"$f":"CK3*CJ3","v":0.1},null,1,{"$f":"CQ4-0.1","v":{"v":1.3877787807814457E-16,"d":"0.00"}},{"$f":"CQ3*$CR$28","v":{"v":2.0816681711721685E-16,"d":"0.00"}},{"$f":"($CR$30+(($CR$26*$CR$27)*-1)+(($CR$27*CR3)*-1))/($CR$26+CR3)","v":{"v":17,"d":"17.00"}},{"$f":"CR3","v":{"v":2.0816681711721685E-16,"d":"0.00"}},{"$f":"(($CR$30+$CR$31)+(($CR$26*$CR$27)*-1)+(($CR$27*CT3)*-1))/($CR$26+CT3)","v":{"v":20,"d":"20.00"}},{"$f":"CR3","v":{"v":2.0816681711721685E-16,"d":"0.00"}},{"$f":"(($CR$30-$CR$31)+(($CR$26*$CR$27)*-1)+(($CR$27*CV3)*-1))/($CR$26+CV3)","v":{"v":14,"d":"14.00"}},{"$f":"$CR$28","v":{"v":1.5,"d":"1.50"}},{"$f":"CZ3*DB3","v":{"v":0,"d":"0.00"}},{"$f":"$CR$29","v":{"v":8,"d":"8.00"}},{"$f":"CX3*DB3","v":0},0,null,5,{"$f":"DD3/$BS$13","v":{"v":0.45454545454545453,"d":"0.45"}},{"$f":"DG$26*DE3","v":{"v":9.09090909090909,"d":"9.09"}},{"$f":"((DI$28/((DF3^(DG$27)))))^(1/DI$27)","v":{"v":11.000000000000002,"d":"11.00"}},{"$f":"(((DI$28+DI$29)/((DF3^(DG$27)))))^(1/DI$27)","v":{"v":13.200000000000001,"d":"13.20"}},{"$f":"(((DI$28-DI$29)/((DF3^(DG$27)))))^(1/DI$27)","v":{"v":8.8,"d":"8.80"}},{"$f":"DG$26","v":{"v":20,"d":"20.00"}},{"$f":"DJ3*DB3","v":0},{"$f":"DI$26","v":{"v":5,"d":"5.00"}},{"$f":"DL3*DB3","v":0},null,8,{"$f":"DO3/$BS$13","v":{"v":0.7272727272727273,"d":"0.73"}},{"$f":"DR$26*DP3","v":{"v":36.36363636363637,"d":"36.36"}},{"$f":"((DT$28/(($DQ3+DR$28)^(DR$27)))^(1/DT$27))-$DR$29","v":{"v":32.76691410086704,"d":"32.77"}},{"$f":"(((DT$28-DT$29)/(($DQ3+DR$28)^(DR$27)))^(1/DT$27))-$DR$29","v":{"v":21.600383222368784,"d":"21.60"}},{"$f":"(((DT$28+DT$29)/(($DQ3+DR$28)^(DR$27)))^(1/DT$27))-$DR$29","v":{"v":46.70815292918857,"d":"46.71"}},{"$f":"DR$26","v":{"v":50,"d":"50.00"}},{"$f":"DU3*DY3","v":0},{"$f":"DT$26","v":{"v":29.859942891369492,"d":"29.86"}},{"$f":"DW3*DY3","v":0},0,{"$f":"DR$28*-1","v":{"v":10,"d":"10.00"}},{"$f":"DQ$23*DY3","v":0},{"$f":"DR$29*-1","v":{"v":15,"d":"15.00"}},{"$f":"MAX(DR$3:DT$3)*DY3","v":0},{"$nulls":49},"A",{"v":1,"d":"1.0"},{"$nulls":3},0,{"$f":"$GB$4*GG2","v":{"v":1,"d":"1.00"}},{"$f":"$GB$4*GH2","v":{"v":2,"d":"2.00"}},{"v":3.0000000000000004,"d":"3.00"},{"v":4,"d":"4.00"},{"v":5,"d":"5.00"},{"v":6,"d":"6.00"},{"v":7,"d":"7.00"},{"v":7.999999999999999,"d":"8.00"},{"v":9,"d":"9.00"},{"v":9.999999999999998,"d":"10.00"},{"v":10.999999999999998,"d":"11.00"},{"v":12,"d":"12.00"},{"v":13,"d":"13.00"},{"v":14.000000000000002,"d":"14.00"},{"v":15.000000000000002,"d":"15.00"},{"v":16.000000000000004,"d":"16.00"},{"v":17.000000000000004,"d":"17.00"},{"v":18.000000000000004,"d":"18.00"},{"v":19.000000000000007,"d":"19.00"},{"v":20.000000000000004,"d":"20.00"},{"$f":"1/20","v":0.05}]
[2,0.05,{"$f":"$C$33*$B$33*B4","v":{"v":2,"d":"2.00"}},{"$f":"('Sustitutos P'!$B$11*'Oculto P'!$C$27)-(('Oculto P'!$C$27/'Oculto P'!$C$26)*'Oculto P'!C4)","v":{"v":19,"d":"19.00"}},{"$f":"$C$33*($B$33+$B$37)*B4","v":{"v":3,"d":"3.00"}},{"$f":"(('Sustitutos P'!$B$11+'Sustitutos P'!$B$15)*'Oculto P'!$C$27)-(('Oculto P'!$C$27/'Oculto P'!$C$26)*'Oculto P'!E4)","v":{"v":28.5,"d":"28.50"}},{"$f":"$C$33*($B$33-$B$37)*B4","v":{"v":1,"d":"1.00"}},{"$f":"(('Sustitutos P'!$B$11-'Sustitutos P'!$B$15)*'Oculto P'!$C$27)-(('Oculto P'!$C$27/'Oculto P'!$C$26)*'Oculto P'!G4)","v":{"v":9.5,"d":"9.50"}},{"$f":"'Sustitutos P'!$D$11","v":{"v":40,"d":"40.00"}},{"$f":"K4*B4","v":{"v":0,"d":"0.00"}},{"$f":"'Sustitutos P'!$F$11","v":0},{"$f":"I4*B4","v":{"v":2,"d":"2.00"}},null,2,1.05,{"$f":"P3+$P$25","v":{"v":4.3,"d":"4.30"}},{"$f":"$T$38","v":{"v":16,"d":"16.00"}},{"$f":"$S$38","v":{"v":4,"d":"4.00"}},{"$f":"S3+$S$25","v":{"v":17.2,"d":"17.20"}},{"$f":"$S$44*O4","v":5.25},{"$f":"$T$44","v":{"v":20,"d":"20.00"}},{"$f":"$S$44","v":{"v":5,"d":"5.00"}},{"$f":"$T$44*O4","v":{"v":21,"d":"21.00"}},{"$f":"X3+$X$25","v":3.35},{"$f":"$T$45","v":{"v":12,"d":"12.00"}},{"$f":"$S$45","v":{"v":3,"d":"3.00"}},{"$f":"AA3+$AA$25","v":{"v":13.4,"d":"13.40"}},{"$f":"1/$AB$2","v":0.05},{"$f":"AC3+AB4","v":0.05},0.95,{"$f":"$T$38*AC4","v":0.8},{"$f":"$S$38","v":{"v":4,"d":"4.0"}},{"$f":"AD4*$S$38","v":3.8},{"$f":"$T$38","v":{"v":16,"d":"16.0"}},null,2,{"v":0.1,"d":"0.10"},{"$f":"AM4*AK4","v":{"v":1,"d":"1.00"}},{"$f":"'Neutrales P'!$C$10","v":{"v":10,"d":"10.00"}},{"$f":"'Neutrales P'!$C$10+'Neutrales P'!$B$14","v":{"v":15,"d":"15.00"}},{"$f":"'Neutrales P'!$C$10-'Neutrales P'!$B$14","v":{"v":5,"d":"5.00"}},{"$f":"AM4*AC4","v":{"v":0.5,"d":"0.50"}},{"$f":"'Neutrales P'!$D$10","v":{"v":14,"d":"14.00"}},null,2,{"v":0.1,"d":"0.10"},{"$f":"($AV$24)*AT4","v":{"v":6,"d":"6.00"}},{"$f":"((-1)*($AV$28*$AV$27))+(($AV$27/$AV$26)*AU4)","v":{"v":-88,"d":"(88.00)"}},{"$f":"((-1)*(($AV$28+'Males P'!$B$16)*$AV$27))+(($AV$27/$AV$26)*AU4)","v":{"v":-148,"d":"-148.00"}},{"$f":"((-1)*(($AV$28-'Males P'!$B$16)*$AV$27))+(($AV$27/$AV$26)*AU4)","v":{"v":-28,"d":"(28.00)"}},{"$f":"$AV$24","v":{"v":60,"d":"60.00"}},{"$f":"AY4*($AT4/2)","v":{"v":3,"d":"3.00"}},{"$f":"(-1*($AV$28*$AV$27))+(($AV$27/$AV$26)*AY4)","v":{"v":20,"d":"20.00"}},{"v":1,"d":"1.00"},null,3,{"v":2,"d":"2.00"},{"$f":"$BF$26*BK4","v":{"v":5,"d":"5.00"}},{"$f":"$BF$24/($BF$25*$BH$25*BF4)","v":{"v":20,"d":"20.00"}},{"$f":"($BF$24+$BH$24)/($BF$25*$BH$25*BF4)","v":{"v":30,"d":"30.00"}},{"$f":"($BF$24-$BH$24)/($BF$25*$BH$25*BF4)","v":{"v":10,"d":"10.00"}},{"$f":"1/$BJ$2","v":{"v":0.16666666666666666,"d":"0.2"}},{"$f":"BK3+BJ4","v":{"v":0.3333333333333333,"d":"0.3"}},{"$f":"$BF$26","v":{"v":15,"d":"15.0"}},{"$f":"BL4*BQ4","v":{"v":0.7142857142857142,"d":"0.7"}},{"$f":"$BH$26","v":{"v":6.666666666666667,"d":"6.7"}},{"$f":"BN4*BQ4","v":{"v":0.31746031746031744,"d":"0.3"}},{"$f":"1/$BP$2","v":{"v":0.047619047619047616,"d":"0.0"}},{"$f":"BP4","v":{"v":0.047619047619047616,"d":"0.0"}},null,5,{"v":0.45454545454545453,"d":"0.45"},{"$f":"BV$26*BT4","v":{"v":90.9090909090909,"d":"90.91"}},{"$f":"((BX$28/((BU4^(BV$27)))))^(1/BX$27)","v":{"v":110,"d":"110.00"}},{"$f":"(((BX$28+BX$29)/((BU4^(BV$27)))))^(1/BX$27)","v":{"v":171.875,"d":"171.88"}},{"$f":"(((BX$28-BX$29)/((BU4^(BV$27)))))^(1/BX$27)","v":{"v":61.87500000000001,"d":"61.88"}},{"$f":"BV$26","v":{"v":200,"d":"200.00"}},{"$f":"BY4*BQ4","v":9.523809523809524},{"$f":"BX$26","v":{"v":49.99999999999999,"d":"50.00"}},{"$f":"CA4*BQ4","v":2.3809523809523805},null,3,{"v":2,"d":"2.00"},{"$f":"$CF$24*CJ4","v":{"v":0.5,"d":"0.50"}},{"$f":"$CF$24-(LOG($CF4))","v":{"v":5.301029995663981,"d":"5.30"}},{"$f":"($CF$24+$CF$25)-(LOG($CF4))","v":{"v":7.301029995663981,"d":"7.30"}},{"$f":"($CF$24-$CF$25)-(LOG($CF4))","v":{"v":3.3010299956639813,"d":"3.30"}},{"$f":"CJ3+$CJ$2","v":0.1},{"$f":"$CF$26","v":2},{"$f":"CM4*CJ4","v":{"v":0.4698970004336019,"d":"0.47"}},{"$f":"$CF$27","v":{"v":4.698970004336019,"d":"4.70"}},{"$f":"CK4*CJ4","v":0.2},null,2,{"v":0.10000000000000014,"d":"0.10"},{"$f":"CQ4*$CR$28","v":{"v":0.15000000000000022,"d":"0.15"}},{"$f":"($CR$30+(($CR$26*$CR$27)*-1)+(($CR$27*CR4)*-1))/($CR$26+CR4)","v":{"v":15.53488372093023,"d":"15.53"}},{"$f":"CR4","v":{"v":0.15000000000000022,"d":"0.15"}},{"$f":"(($CR$30+$CR$31)+(($CR$26*$CR$27)*-1)+(($CR$27*CT4)*-1))/($CR$26+CT4)","v":{"v":18.325581395348834,"d":"18.33"}},{"$f":"CR4","v":{"v":0.15000000000000022,"d":"0.15"}},{"$f":"(($CR$30-$CR$31)+(($CR$26*$CR$27)*-1)+(($CR$27*CV4)*-1))/($CR$26+CV4)","v":{"v":12.744186046511626,"d":"12.74"}},{"$f":"$CR$28","v":{"v":1.5,"d":"1.50"}},{"$f":"CZ4*DB4","v":{"v":0.4000000000000004,"d":"0.40"}},{"$f":"$CR$29","v":{"v":8,"d":"8.00"}},{"$f":"CX4*DB4","v":{"v":0.07500000000000008,"d":"0.08"}},{"$f":"CQ4/$CQ$23","v":0.05000000000000005},null,5,{"v":0.45454545454545453,"d":"0.45"},{"$f":"DG$26*DE4","v":{"v":9.09090909090909,"d":"9.09"}},{"$f":"((DI$28/((DF4^(DG$27)))))^(1/DI$27)","v":{"v":11.000000000000002,"d":"11.00"}},{"$f":"(((DI$28+DI$29)/((DF4^(DG$27)))))^(1/DI$27)","v":{"v":13.200000000000001,"d":"13.20"}},{"$f":"(((DI$28-DI$29)/((DF4^(DG$27)))))^(1/DI$27)","v":{"v":8.8,"d":"8.80"}},{"$f":"DG$26","v":{"v":20,"d":"20.00"}},{"$f":"DJ4*DB4","v":1.000000000000001},{"$f":"DI$26","v":{"v":5,"d":"5.00"}},{"$f":"DL4*DB4","v":0.2500000000000003},null,8,{"v":0.7272727272727273,"d":"0.73"},{"$f":"DR$26*DP4","v":{"v":36.36363636363637,"d":"36.36"}},{"v":32.76691410086704,"d":"32.77"},{"v":21.600383222368784,"d":"21.60"},{"v":46.70815292918857,"d":"46.71"},{"$f":"DR$26","v":{"v":50,"d":"50.00"}},2.5,{"v":29.859942891369492,"d":"29.86"},1.4929971445684747,{"$f":"1/20","v":0.05},{"$f":"DR$28*-1","v":{"v":10,"d":"10.00"}},{"$f":"DQ$23*DY4","v":4.7727272727272725},{"$f":"DR$29*-1","v":{"v":15,"d":"15.00"}},{"$f":"MAX(DR$3:DT$3)*DY4","v":2.3354076464594287},{"$nulls":49},"MAX x1",{"$f":"'CDR3 P'!C7","v":{"v":20,"d":"20.0"}},null,null,0,{"$f":"$GB$3*$GE4^$GB$5*GF$3^$GB$7","v":0},0,0,0,0,0,0,0,0,0,0,0,0,0,0,0,{"$f":"$GB$3*$GE4^$GB$5*GV$3^$GB$7","v":0},0,0,0,{"$f":"$GB$3*$GE4^$GB$5*GZ$3^$GB$7","v":0}]
[3,{"v":0.1,"d":"0.10"},{"v":4,"d":"4.00"},{"$f":"('Sustitutos P'!$B$11*'Oculto P'!$C$27)-(('Oculto P'!$C$27/'Oculto P'!$C$26)*'Oculto P'!C5)","v":{"v":18,"d":"18.00"}},{"v":6,"d":"6.00"},{"$f":"(('Sustitutos P'!$B$11+'Sustitutos P'!$B$15)*'Oculto P'!$C$27)-(('Oculto P'!$C$27/'Oculto P'!$C$26)*'Oculto P'!E5)","v":{"v":27,"d":"27.00"}},{"v":2,"d":"2.00"},{"$f":"(('Sustitutos P'!$B$11-'Sustitutos P'!$B$15)*'Oculto P'!$C$27)-(('Oculto P'!$C$27/'Oculto P'!$C$26)*'Oculto P'!G5)","v":{"v":9,"d":"9.00"}},{"$f":"'Sustitutos P'!$D$11","v":{"v":40,"d":"40.00"}},{"v":0,"d":"0.00"},{"$f":"'Sustitutos P'!$F$11","v":0},{"v":4,"d":"4.00"},null,3,{"v":1.1,"d":"1.10"},{"$f":"P4+$P$25","v":{"v":4.6,"d":"4.60"}},{"v":16,"d":"16.00"},{"v":4,"d":"4.00"},{"$f":"S4+$S$25","v":{"v":18.4,"d":"18.40"}},{"v":5.5,"d":"5.50"},{"v":20,"d":"20.00"},{"v":5,"d":"5.00"},{"v":22,"d":"22.00"},{"$f":"X4+$X$25","v":{"v":3.7,"d":"3.70"}},{"v":12,"d":"12.00"},{"v":3,"d":"3.00"},{"$f":"AA4+$AA$25","v":{"v":14.8,"d":"14.80"}},0.05,{"$f":"AC4+AB5","v":0.1},0.9,1.6,{"v":4,"d":"4.0"},3.6,{"v":16,"d":"16.0"},null,3,{"v":0.2,"d":"0.20"},{"v":2,"d":"2.00"},{"$f":"'Neutrales P'!$C$10","v":{"v":10,"d":"10.00"}},{"$f":"'Neutrales P'!$C$10+'Neutrales P'!$B$14","v":{"v":15,"d":"15.00"}},{"$f":"'Neutrales P'!$C$10-'Neutrales P'!$B$14","v":{"v":5,"d":"5.00"}},{"v":1,"d":"1.00"},{"$f":"'Neutrales P'!$D$10","v":{"v":14,"d":"14.00"}},null,3,{"v":0.2,"d":"0.20"},{"v":12,"d":"12.00"},{"v":-76,"d":"(76.00)"},{"$f":"((-1)*(($AV$28+'Males P'!$B$16)*$AV$27))+(($AV$27/$AV$26)*AU5)","v":{"v":-136,"d":"-136.00"}},{"$f":"((-1)*(($AV$28-'Males P'!$B$16)*$AV$27))+(($AV$27/$AV$26)*AU5)","v":{"v":-16,"d":"(16.00)"}},{"v":60,"d":"60.00"},{"v":6,"d":"6.00"},{"v":20,"d":"20.00"},{"v":2,"d":"2.00"},null,4,{"v":3,"d":"3.00"},{"v":7.5,"d":"7.50"},{"v":13.333333333333334,"d":"13.33"},{"v":20,"d":"20.00"},{"v":6.666666666666667,"d":"6.67"},{"v":0.16666666666666666,"d":"0.2"},{"$f":"BK4+BJ5","v":0.5},{"v":15,"d":"15.0"},{"v":1.4285714285714284,"d":"1.4"},{"v":6.666666666666667,"d":"6.7"},{"v":0.6349206349206349,"d":"0.6"},{"$f":"1/$BP$2","v":{"v":0.047619047619047616,"d":"0.0"}},{"$f":"BQ4+BP5","v":{"v":0.09523809523809523,"d":"0.1"}},null,5,{"v":0.45454545454545453,"d":"0.45"},{"v":90.9090909090909,"d":"90.91"},{"v":110,"d":"110.00"},{"v":171.875,"d":"171.88"},{"v":61.87500000000001,"d":"61.88"},{"v":200,"d":"200.00"},19.047619047619047,{"v":49.99999999999999,"d":"50.00"},4.761904761904761,null,4,{"v":3,"d":"3.00"},{"$f":"$CF$24*CJ5","v":{"v":0.7500000000000001,"d":"0.75"}},{"v":5.1249387366083,"d":"5.12"},{"$f":"($CF$24+$CF$25)-(LOG($CF5))","v":{"v":7.1249387366083,"d":"7.12"}},{"$f":"($CF$24-$CF$25)-(LOG($CF5))","v":{"v":3.1249387366083,"d":"3.12"}},{"$f":"CJ4+$CJ$2","v":0.15000000000000002},2,{"v":0.704845500650403,"d":"0.70"},{"v":4.698970004336019,"d":"4.70"},0.30000000000000004,null,3,{"v":0.20000000000000015,"d":"0.20"},{"v":0.3000000000000002,"d":"0.30"},{"v":14.260869565217389,"d":"14.26"},{"v":0.3000000000000002,"d":"0.30"},{"v":16.8695652173913,"d":"16.87"},{"v":0.3000000000000002,"d":"0.30"},{"v":11.652173913043477,"d":"11.65"},{"v":1.5,"d":"1.50"},{"v":0.8000000000000003,"d":"0.80"},{"v":8,"d":"8.00"},{"v":0.15000000000000005,"d":"0.15"},0.10000000000000003,null,5,{"v":0.45454545454545453,"d":"0.45"},{"v":9.09090909090909,"d":"9.09"},{"v":11.000000000000002,"d":"11.00"},{"v":13.200000000000001,"d":"13.20"},{"v":8.8,"d":"8.80"},{"v":20,"d":"20.00"},2.000000000000001,{"v":5,"d":"5.00"},0.5000000000000002,null,8,{"v":0.7272727272727273,"d":"0.73"},{"v":36.36363636363637,"d":"36.36"},{"v":32.76691410086704,"d":"32.77"},{"v":21.600383222368784,"d":"21.60"},{"v":46.70815292918857,"d":"46.71"},{"v":50,"d":"50.00"},5,{"v":29.859942891369492,"d":"29.86"},2.9859942891369493,{"$f":"DY4+$DY$4","v":0.1},{"v":10,"d":"10.00"},9.545454545454545,{"v":15,"d":"15.00"},4.670815292918857,{"$nulls":49},"a",{"$f":"'CDR3 P'!C8","v":0.5},null,{"$f":"HA3","v":0.05},{"$f":"$GB$6*GD5","v":{"v":1,"d":"1.00"}},0,{"v":1,"d":"1.00"},{"v":1.4142135623730951,"d":"1.41"},{"v":1.7320508075688774,"d":"1.73"},{"v":2,"d":"2.00"},{"v":2.23606797749979,"d":"2.24"},{"v":2.449489742783178,"d":"2.45"},{"v":2.6457513110645907,"d":"2.65"},{"v":2.82842712474619,"d":"2.83"},{"v":3,"d":"3.00"},{"v":3.162277660168379,"d":"3.16"},{"v":3.3166247903553994,"d":"3.32"},{"v":3.4641016151377544,"d":"3.46"},{"v":3.605551275463989,"d":"3.61"},{"v":3.7416573867739418,"d":"3.74"},{"v":3.872983346207417,"d":"3.87"},{"v":4,"d":"4.00"},{"v":4.123105625617661,"d":"4.12"},{"v":4.242640687119286,"d":"4.24"},{"v":4.358898943540674,"d":"4.36"},{"v":4.47213595499958,"d":"4.47"}]
[4,0.15,{"v":6,"d":"6.00"},{"$f":"('Sustitutos P'!$B$11*'Oculto P'!$C$27)-(('Oculto P'!$C$27/'Oculto P'!$C$26)*'Oculto P'!C6)","v":{"v":17,"d":"17.00"}},{"v":9,"d":"9.00"},{"$f":"(('Sustitutos P'!$B$11+'Sustitutos P'!$B$15)*'Oculto P'!$C$27)-(('Oculto P'!$C$27/'Oculto P'!$C$26)*'Oculto P'!E6)","v":{"v":25.5,"d":"25.50"}},{"v":3,"d":"3.00"},{"$f":"(('Sustitutos P'!$B$11-'Sustitutos P'!$B$15)*'Oculto P'!$C$27)-(('Oculto P'!$C$27/'Oculto P'!$C$26)*'Oculto P'!G6)","v":{"v":8.5,"d":"8.50"}},{"$f":"'Sustitutos P'!$D$11","v":{"v":40,"d":"40.00"}},{"v":0,"d":"0.00"},{"$f":"'Sustitutos P'!$F$11","v":0},{"v":6,"d":"6.00"},null,4,1.15,{"v":4.8999999999999995,"d":"4.90"},{"v":16,"d":"16.00"},{"v":4,"d":"4.00"},{"v":19.599999999999998,"d":"19.60"},5.75,{"v":20,"d":"20.00"},{"v":5,"d":"5.00"},{"v":23,"d":"23.00"},4.05,{"v":12,"d":"12.00"},{"v":3,"d":"3.00"},{"v":16.2,"d":"16.20"},0.05,0.15000000000000002,0.85,{"v":2.4000000000000004,"d":"2.4"},{"v":4,"d":"4.0"},3.4,{"v":16,"d":"16.0"},null,4,{"v":0.3,"d":"0.30"},{"v":3,"d":"3.00"},{"$f":"'Neutrales P'!$C$10","v":{"v":10,"d":"10.00"}},{"$f":"'Neutrales P'!$C$10+'Neutrales P'!$B$14","v":{"v":15,"d":"15.00"}},{"$f":"'Neutrales P'!$C$10-'Neutrales P'!$B$14","v":{"v":5,"d":"5.00"}},{"v":1.5000000000000002,"d":"1.50"},{"$f":"'Neutrales P'!$D$10","v":{"v":14,"d":"14.00"}},null,4,{"v":0.3,"d":"0.30"},{"v":18,"d":"18.00"},{"v":-64,"d":"(64.00)"},{"$f":"((-1)*(($AV$28+'Males P'!$B$16)*$AV$27))+(($AV$27/$AV$26)*AU6)","v":{"v":-124,"d":"-124.00"}},{"$f":"((-1)*(($AV$28-'Males P'!$B$16)*$AV$27))+(($AV$27/$AV$26)*AU6)","v":{"v":-4,"d":"(4.00)"}},{"v":60,"d":"60.00"},{"v":9,"d":"9.00"},{"v":20,"d":"20.00"},{"v":3,"d":"3.00"},null,5,{"v":4,"d":"4.00"},{"v":10,"d":"10.00"},{"v":10,"d":"10.00"},{"v":15,"d":"15.00"},{"v":5,"d":"5.00"},{"v":0.16666666666666666,"d":"0.2"},{"v":0.6666666666666666,"d":"0.7"},{"v":15,"d":"15.0"},{"v":2.142857142857143,"d":"2.1"},{"v":6.666666666666667,"d":"6.7"},{"v":0.9523809523809523,"d":"1.0"},{"v":0.047619047619047616,"d":"0.0"},{"$f":"BQ5+BP6","v":{"v":0.14285714285714285,"d":"0.1"}},null,5,{"v":0.45454545454545453,"d":"0.45"},{"v":90.9090909090909,"d":"90.91"},{"v":110,"d":"110.00"},{"v":171.875,"d":"171.88"},{"v":61.87500000000001,"d":"61.88"},{"v":200,"d":"200.00"},28.57142857142857,{"v":49.99999999999999,"d":"50.00"},7.1428571428571415,null,5,{"v":4,"d":"4.00"},{"v":1,"d":"1.00"},{"v":5,"d":"5.00"},{"v":7,"d":"7.00"},{"v":3,"d":"3.00"},0.2,2,{"v":0.9397940008672038,"d":"0.94"},{"v":4.698970004336019,"d":"4.70"},0.4,null,4,{"v":0.30000000000000016,"d":"0.30"},{"v":0.45000000000000023,"d":"0.45"},{"v":13.14285714285714,"d":"13.14"},{"v":0.45000000000000023,"d":"0.45"},{"v":15.591836734693874,"d":"15.59"},{"v":0.45000000000000023,"d":"0.45"},{"v":10.693877551020407,"d":"10.69"},{"v":1.5,"d":"1.50"},{"v":1.2000000000000002,"d":"1.20"},{"v":8,"d":"8.00"},{"v":0.22500000000000003,"d":"0.23"},0.15000000000000002,null,5,{"v":0.45454545454545453,"d":"0.45"},{"v":9.09090909090909,"d":"9.09"},{"v":11.000000000000002,"d":"11.00"},{"v":13.200000000000001,"d":"13.20"},{"v":8.8,"d":"8.80"},{"v":20,"d":"20.00"},3.0000000000000004,{"v":5,"d":"5.00"},0.7500000000000001,null,8,{"v":0.7272727272727273,"d":"0.73"},{"v":36.36363636363637,"d":"36.36"},{"v":32.76691410086704,"d":"32.77"},{"v":21.600383222368784,"d":"21.60"},{"v":46.70815292918857,"d":"46.71"},{"v":50,"d":"50.00"},7.500000000000001,{"v":29.859942891369492,"d":"29.86"},4.478991433705424,{"$f":"DY5+$DY$4","v":{"v":0.15000000000000002,"d":"0.2"}},{"v":10,"d":"10.00"},14.31818181818182,{"v":15,"d":"15.00"},7.006222939378286,{"$nulls":49},"MAX x2",{"$f":"'CDR3 P'!C9","v":{"v":20,"d":"20.0"}},null,{"$f":"GD5+$HA$3","v":{"v":0.1,"d":"0.10"}},{"v":2,"d":"2.00"},0,{"v":1.4142135623730951,"d":"1.41"},{"v":2.0000000000000004,"d":"2.00"},{"v":2.4494897427831783,"d":"2.45"},{"v":2.8284271247461903,"d":"2.83"},{"v":3.1622776601683795,"d":"3.16"},{"v":3.4641016151377544,"d":"3.46"},{"v":3.7416573867739418,"d":"3.74"},{"v":4,"d":"4.00"},{"v":4.242640687119286,"d":"4.24"},{"v":4.47213595499958,"d":"4.47"},{"v":4.690415759823429,"d":"4.69"},{"v":4.898979485566357,"d":"4.90"},{"v":5.099019513592785,"d":"5.10"},{"v":5.291502622129182,"d":"5.29"},{"v":5.477225575051662,"d":"5.48"},{"v":5.656854249492381,"d":"5.66"},{"v":5.830951894845301,"d":"5.83"},{"v":6.000000000000001,"d":"6.00"},{"v":6.164414002968978,"d":"6.16"},{"v":6.324555320336759,"d":"6.32"}]
[5,{"v":0.2,"d":"0.20"},{"v":8,"d":"8.00"},{"$f":"('Sustitutos P'!$B$11*'Oculto P'!$C$27)-(('Oculto P'!$C$27/'Oculto P'!$C$26)*'Oculto P'!C7)","v":{"v":16,"d":"16.00"}},{"v":12,"d":"12.00"},{"$f":"(('Sustitutos P'!$B$11+'Sustitutos P'!$B$15)*'Oculto P'!$C$27)-(('Oculto P'!$C$27/'Oculto P'!$C$26)*'Oculto P'!E7)","v":{"v":24,"d":"24.00"}},{"v":4,"d":"4.00"},{"$f":"(('Sustitutos P'!$B$11-'Sustitutos P'!$B$15)*'Oculto P'!$C$27)-(('Oculto P'!$C$27/'Oculto P'!$C$26)*'Oculto P'!G7)","v":{"v":8,"d":"8.00"}},{"$f":"'Sustitutos P'!$D$11","v":{"v":40,"d":"40.00"}},{"v":0,"d":"0.00"},{"$f":"'Sustitutos P'!$F$11","v":0},{"v":8,"d":"8.00"},null,5,{"v":1.2,"d":"1.20"},{"v":5.199999999999999,"d":"5.20"},{"v":16,"d":"16.00"},{"v":4,"d":"4.00"},{"v":20.799999999999997,"d":"20.80"},{"v":6,"d":"6.00"},{"v":20,"d":"20.00"},{"v":5,"d":"5.00"},{"v":24,"d":"24.00"},{"v":4.3999999999999995,"d":"4.40"},{"v":12,"d":"12.00"},{"v":3,"d":"3.00"},{"v":17.599999999999998,"d":"17.60"},0.05,0.2,0.8,3.2,{"v":4,"d":"4.0"},3.2,{"v":16,"d":"16.0"},null,5,{"v":0.4,"d":"0.40"},{"v":4,"d":"4.00"},{"$f":"'Neutrales P'!$C$10","v":{"v":10,"d":"10.00"}},{"$f":"'Neutrales P'!$C$10+'Neutrales P'!$B$14","v":{"v":15,"d":"15.00"}},{"$f":"'Neutrales P'!$C$10-'Neutrales P'!$B$14","v":{"v":5,"d":"5.00"}},{"v":2,"d":"2.00"},{"$f":"'Neutrales P'!$D$10","v":{"v":14,"d":"14.00"}},null,5,{"v":0.4,"d":"0.40"},{"v":24,"d":"24.00"},{"v":-52,"d":"(52.00)"},{"$f":"((-1)*(($AV$28+'Males P'!$B$16)*$AV$27))+(($AV$27/$AV$26)*AU7)","v":{"v":-112,"d":"-112.00"}},{"$f":"((-1)*(($AV$28-'Males P'!$B$16)*$AV$27))+(($AV$27/$AV$26)*AU7)","v":{"v":8,"d":"8.00"}},{"v":60,"d":"60.00"},{"v":12,"d":"12.00"},{"v":20,"d":"20.00"},{"v":4,"d":"4.00"},null,6,{"v":5,"d":"5.00"},{"v":12.499999999999998,"d":"12.50"},{"v":8.000000000000002,"d":"8.00"},{"v":12.000000000000002,"d":"12.00"},{"v":4.000000000000001,"d":"4.00"},{"v":0.16666666666666666,"d":"0.2"},{"v":0.8333333333333333,"d":"0.8"},{"v":15,"d":"15.0"},{"v":2.8571428571428568,"d":"2.9"},{"v":6.666666666666667,"d":"6.7"},{"v":1.2698412698412698,"d":"1.3"},{"v":0.047619047619047616,"d":"0.0"},{"v":0.19047619047619047,"d":"0.2"},null,5,{"v":0.45454545454545453,"d":"0.45"},{"v":90.9090909090909,"d":"90.91"},{"v":110,"d":"110.00"},{"v":171.875,"d":"171.88"},{"v":61.87500000000001,"d":"61.88"},{"v":200,"d":"200.00"},38.095238095238095,{"v":49.99999999999999,"d":"50.00"},9.523809523809522,null,6,{"v":5,"d":"5.00"},1.25,{"v":4.903089986991944,"d":"4.90"},{"v":6.903089986991944,"d":"6.90"},{"v":2.9030899869919438,"d":"2.90"},0.25,2,{"v":1.1747425010840047,"d":"1.17"},{"v":4.698970004336019,"d":"4.70"},0.5,null,5,{"v":0.40000000000000013,"d":"0.40"},{"v":0.6000000000000002,"d":"0.60"},{"v":12.153846153846153,"d":"12.15"},{"v":0.6000000000000002,"d":"0.60"},{"v":14.461538461538462,"d":"14.46"},{"v":0.6000000000000002,"d":"0.60"},{"v":9.846153846153845,"d":"9.85"},{"v":1.5,"d":"1.50"},{"v":1.5999999999999999,"d":"1.60"},{"v":8,"d":"8.00"},{"v":0.3,"d":"0.30"},0.19999999999999998,null,5,{"v":0.45454545454545453,"d":"0.45"},{"v":9.09090909090909,"d":"9.09"},{"v":11.000000000000002,"d":"11.00"},{"v":13.200000000000001,"d":"13.20"},{"v":8.8,"d":"8.80"},{"v":20,"d":"20.00"},3.9999999999999996,{"v":5,"d":"5.00"},0.9999999999999999,null,8,{"v":0.7272727272727273,"d":"0.73"},{"v":36.36363636363637,"d":"36.36"},{"v":32.76691410086704,"d":"32.77"},{"v":21.600383222368784,"d":"21.60"},{"v":46.70815292918857,"d":"46.71"},{"v":50,"d":"50.00"},10,{"v":29.859942891369492,"d":"29.86"},5.971988578273899,0.2,{"v":10,"d":"10.00"},19.09090909090909,{"v":15,"d":"15.00"},9.341630585837715,{"$nulls":49},"b",{"$f":"1-GB5","v":0.5},null,{"v":0.15000000000000002,"d":"0.15"},{"v":3.0000000000000004,"d":"3.00"},0,{"v":1.7320508075688774,"d":"1.73"},{"v":2.4494897427831783,"d":"2.45"},{"v":3.0000000000000004,"d":"3.00"},{"v":3.464101615137755,"d":"3.46"},{"v":3.8729833462074175,"d":"3.87"},{"v":4.242640687119285,"d":"4.24"},{"v":4.582575694955841,"d":"4.58"},{"v":4.898979485566356,"d":"4.90"},{"v":5.196152422706632,"d":"5.20"},{"v":5.477225575051661,"d":"5.48"},{"v":5.744562646538029,"d":"5.74"},{"v":6,"d":"6.00"},{"v":6.244997998398398,"d":"6.24"},{"v":6.480740698407861,"d":"6.48"},{"v":6.708203932499369,"d":"6.71"},{"v":6.92820323027551,"d":"6.93"},{"v":7.14142842854285,"d":"7.14"},{"v":7.348469228349535,"d":"7.35"},{"v":7.549834435270751,"d":"7.55"},{"v":7.745966692414835,"d":"7.75"}]
[6,0.25,{"v":10,"d":"10.00"},{"$f":"('Sustitutos P'!$B$11*'Oculto P'!$C$27)-(('Oculto P'!$C$27/'Oculto P'!$C$26)*'Oculto P'!C8)","v":{"v":15,"d":"15.00"}},{"v":15,"d":"15.00"},{"$f":"(('Sustitutos P'!$B$11+'Sustitutos P'!$B$15)*'Oculto P'!$C$27)-(('Oculto P'!$C$27/'Oculto P'!$C$26)*'Oculto P'!E8)","v":{"v":22.5,"d":"22.50"}},{"v":5,"d":"5.00"},{"$f":"(('Sustitutos P'!$B$11-'Sustitutos P'!$B$15)*'Oculto P'!$C$27)-(('Oculto P'!$C$27/'Oculto P'!$C$26)*'Oculto P'!G8)","v":{"v":7.5,"d":"7.50"}},{"$f":"'Sustitutos P'!$D$11","v":{"v":40,"d":"40.00"}},{"v":0,"d":"0.00"},{"$f":"'Sustitutos P'!$F$11","v":0},{"v":10,"d":"10.00"},null,6,1.25,{"v":5.499999999999999,"d":"5.50"},{"v":16,"d":"16.00"},{"v":4,"d":"4.00"},{"v":21.999999999999996,"d":"22.00"},6.25,{"v":20,"d":"20.00"},{"v":5,"d":"5.00"},{"v":25,"d":"25.00"},{"v":4.749999999999999,"d":"4.75"},{"v":12,"d":"12.00"},{"v":3,"d":"3.00"},{"v":18.999999999999996,"d":"19.00"},0.05,0.25,0.75,{"v":4,"d":"4.0"},{"v":4,"d":"4.0"},{"v":3,"d":"3.0"},{"v":16,"d":"16.0"},null,6,{"v":0.5,"d":"0.50"},{"v":5,"d":"5.00"},{"$f":"'Neutrales P'!$C$10","v":{"v":10,"d":"10.00"}},{"$f":"'Neutrales P'!$C$10+'Neutrales P'!$B$14","v":{"v":15,"d":"15.00"}},{"$f":"'Neutrales P'!$C$10-'Neutrales P'!$B$14","v":{"v":5,"d":"5.00"}},{"v":2.5,"d":"2.50"},{"$f":"'Neutrales P'!$D$10","v":{"v":14,"d":"14.00"}},null,6,{"v":0.5,"d":"0.50"},{"v":30,"d":"30.00"},{"v":-40,"d":"(40.00)"},{"$f":"((-1)*(($AV$28+'Males P'!$B$16)*$AV$27))+(($AV$27/$AV$26)*AU8)","v":{"v":-100,"d":"-100.00"}},{"$f":"((-1)*(($AV$28-'Males P'!$B$16)*$AV$27))+(($AV$27/$AV$26)*AU8)","v":{"v":20,"d":"20.00"}},{"v":60,"d":"60.00"},{"v":15,"d":"15.00"},{"v":20,"d":"20.00"},{"v":5,"d":"5.00"},null,7,{"v":6,"d":"6.00"},{"v":14.999999999999998,"d":"15.00"},{"v":6.666666666666668,"d":"6.67"},{"v":10.000000000000002,"d":"10.00"},{"v":3.333333333333334,"d":"3.33"},{"v":0.16666666666666666,"d":"0.2"},{"v":0.9999999999999999,"d":"1.0"},{"v":15,"d":"15.0"},{"v":3.571428571428571,"d":"3.6"},{"v":6.666666666666667,"d":"6.7"},{"v":1.5873015873015872,"d":"1.6"},{"v":0.047619047619047616,"d":"0.0"},{"v":0.23809523809523808,"d":"0.2"},null,6,{"v":0.5454545454545454,"d":"0.55"},{"v":109.09090909090908,"d":"109.09"},{"v":91.66666666666667,"d":"91.67"},{"v":143.2291666666667,"d":"143.23"},{"v":51.562500000000014,"d":"51.56"},{"v":200,"d":"200.00"},47.61904761904761,{"v":49.99999999999999,"d":"50.00"},11.904761904761902,null,7,{"v":6,"d":"6.00"},{"v":1.5,"d":"1.50"},{"v":4.823908740944319,"d":"4.82"},{"v":6.823908740944319,"d":"6.82"},{"v":2.8239087409443187,"d":"2.82"},0.3,2,{"v":1.4096910013008055,"d":"1.41"},{"v":4.698970004336019,"d":"4.70"},0.6,null,6,{"v":0.5000000000000001,"d":"0.50"},{"v":0.7500000000000002,"d":"0.75"},{"v":11.272727272727273,"d":"11.27"},{"v":0.7500000000000002,"d":"0.75"},{"v":13.454545454545455,"d":"13.45"},{"v":0.7500000000000002,"d":"0.75"},{"v":9.090909090909092,"d":"9.09"},{"v":1.5,"d":"1.50"},{"v":1.9999999999999996,"d":"2.00"},{"v":8,"d":"8.00"},{"v":0.3749999999999999,"d":"0.38"},0.24999999999999994,null,6,{"v":0.5454545454545454,"d":"0.55"},{"v":10.909090909090908,"d":"10.91"},{"v":9.166666666666668,"d":"9.17"},{"v":11,"d":"11.00"},{"v":7.333333333333334,"d":"7.33"},{"v":20,"d":"20.00"},4.999999999999999,{"v":5,"d":"5.00"},1.2499999999999998,null,8,{"v":0.7272727272727273,"d":"0.73"},{"v":36.36363636363637,"d":"36.36"},{"v":32.76691410086704,"d":"32.77"},{"v":21.600383222368784,"d":"21.60"},{"v":46.70815292918857,"d":"46.71"},{"v":50,"d":"50.00"},12.5,{"v":29.859942891369492,"d":"29.86"},7.464985722842373,{"v":0.25,"d":"0.3"},{"v":10,"d":"10.00"},23.863636363636363,{"v":15,"d":"15.00"},11.677038232297143,{"$nulls":52},{"v":0.2,"d":"0.20"},{"v":4,"d":"4.00"},0,{"v":2,"d":"2.00"},{"v":2.8284271247461903,"d":"2.83"},{"v":3.464101615137755,"d":"3.46"},{"v":4,"d":"4.00"},{"v":4.47213595499958,"d":"4.47"},{"v":4.898979485566356,"d":"4.90"},{"v":5.291502622129181,"d":"5.29"},{"v":5.65685424949238,"d":"5.66"},{"v":6,"d":"6.00"},{"v":6.324555320336758,"d":"6.32"},{"v":6.633249580710799,"d":"6.63"},{"v":6.928203230275509,"d":"6.93"},{"v":7.211102550927978,"d":"7.21"},{"v":7.4833147735478835,"d":"7.48"},{"v":7.745966692414834,"d":"7.75"},{"v":8,"d":"8.00"},{"v":8.246211251235321,"d":"8.25"},{"v":8.485281374238571,"d":"8.49"},{"v":8.717797887081348,"d":"8.72"},{"v":8.94427190999916,"d":"8.94"}]
[7,{"v":0.3,"d":"0.30"},{"v":12,"d":"12.00"},{"$f":"('Sustitutos P'!$B$11*'Oculto P'!$C$27)-(('Oculto P'!$C$27/'Oculto P'!$C$26)*'Oculto P'!C9)","v":{"v":14,"d":"14.00"}},{"v":18,"d":"18.00"},{"$f":"(('Sustitutos P'!$B$11+'Sustitutos P'!$B$15)*'Oculto P'!$C$27)-(('Oculto P'!$C$27/'Oculto P'!$C$26)*'Oculto P'!E9)","v":{"v":21,"d":"21.00"}},{"v":6,"d":"6.00"},{"$f":"(('Sustitutos P'!$B$11-'Sustitutos P'!$B$15)*'Oculto P'!$C$27)-(('Oculto P'!$C$27/'Oculto P'!$C$26)*'Oculto P'!G9)","v":{"v":7,"d":"7.00"}},{"$f":"'Sustitutos P'!$D$11","v":{"v":40,"d":"40.00"}},{"v":0,"d":"0.00"},{"$f":"'Sustitutos P'!$F$11","v":0},{"v":12,"d":"12.00"},null,7,{"v":1.3,"d":"1.30"},{"v":5.799999999999999,"d":"5.80"},{"v":16,"d":"16.00"},{"v":4,"d":"4.00"},{"v":23.199999999999996,"d":"23.20"},{"v":6.5,"d":"6.50"},{"v":20,"d":"20.00"},{"v":5,"d":"5.00"},{"v":26,"d":"26.00"},{"v":5.099999999999999,"d":"5.10"},{"v":12,"d":"12.00"},{"v":3,"d":"3.00"},{"v":20.399999999999995,"d":"20.40"},0.05,0.3,0.7,4.8,{"v":4,"d":"4.0"},2.8,{"v":16,"d":"16.0"},null,7,{"v":0.6,"d":"0.60"},{"v":6,"d":"6.00"},{"$f":"'Neutrales P'!$C$10","v":{"v":10,"d":"10.00"}},{"$f":"'Neutrales P'!$C$10+'Neutrales P'!$B$14","v":{"v":15,"d":"15.00"}},{"$f":"'Neutrales P'!$C$10-'Neutrales P'!$B$14","v":{"v":5,"d":"5.00"}},{"v":3,"d":"3.00"},{"$f":"'Neutrales P'!$D$10","v":{"v":14,"d":"14.00"}},null,7,{"v":0.6,"d":"0.60"},{"v":36,"d":"36.00"},{"v":-28,"d":"(28.00)"},{"$f":"((-1)*(($AV$28+'Males P'!$B$16)*$AV$27))+(($AV$27/$AV$26)*AU9)","v":{"v":-88,"d":"-88.00"}},{"$f":"((-1)*(($AV$28-'Males P'!$B$16)*$AV$27))+(($AV$27/$AV$26)*AU9)","v":{"v":32,"d":"32.00"}},{"v":60,"d":"60.00"},{"v":18,"d":"18.00"},{"v":20,"d":"20.00"},{"v":6,"d":"6.00"},null,8,{"v":7,"d":"7.00"},{"v":17.499999999999996,"d":"17.50"},{"v":5.714285714285715,"d":"5.71"},{"v":8.571428571428573,"d":"8.57"},{"v":2.8571428571428577,"d":"2.86"},{"v":0.16666666666666666,"d":"0.2"},{"v":1.1666666666666665,"d":"1.2"},{"v":15,"d":"15.0"},{"v":4.285714285714286,"d":"4.3"},{"v":6.666666666666667,"d":"6.7"},{"v":1.9047619047619047,"d":"1.9"},{"v":0.047619047619047616,"d":"0.0"},{"v":0.2857142857142857,"d":"0.3"},null,7,{"v":0.6363636363636364,"d":"0.64"},{"v":127.27272727272727,"d":"127.27"},{"v":78.57142857142856,"d":"78.57"},{"v":122.76785714285714,"d":"122.77"},{"v":44.19642857142857,"d":"44.20"},{"v":200,"d":"200.00"},57.14285714285714,{"v":49.99999999999999,"d":"50.00"},14.285714285714283,null,8,{"v":7,"d":"7.00"},1.75,{"v":4.756961951313706,"d":"4.76"},{"v":6.756961951313706,"d":"6.76"},{"v":2.7569619513137056,"d":"2.76"},0.35,2,{"v":1.6446395015176065,"d":"1.64"},{"v":4.698970004336019,"d":"4.70"},0.7,null,7,{"v":0.6000000000000001,"d":"0.60"},{"v":0.9000000000000001,"d":"0.90"},{"v":10.482758620689653,"d":"10.48"},{"v":0.9000000000000001,"d":"0.90"},{"v":12.551724137931032,"d":"12.55"},{"v":0.9000000000000001,"d":"0.90"},{"v":8.413793103448274,"d":"8.41"},{"v":1.5,"d":"1.50"},{"v":2.3999999999999995,"d":"2.40"},{"v":8,"d":"8.00"},{"v":0.4499999999999999,"d":"0.45"},0.29999999999999993,null,7,{"v":0.6363636363636364,"d":"0.64"},{"v":12.727272727272727,"d":"12.73"},{"v":7.857142857142858,"d":"7.86"},{"v":9.428571428571429,"d":"9.43"},{"v":6.2857142857142865,"d":"6.29"},{"v":20,"d":"20.00"},5.999999999999998,{"v":5,"d":"5.00"},1.4999999999999996,null,8,{"v":0.7272727272727273,"d":"0.73"},{"v":36.36363636363637,"d":"36.36"},{"v":32.76691410086704,"d":"32.77"},{"v":21.600383222368784,"d":"21.60"},{"v":46.70815292918857,"d":"46.71"},{"v":50,"d":"50.00"},15,{"v":29.859942891369492,"d":"29.86"},8.957982867410847,0.3,{"v":10,"d":"10.00"},28.636363636363637,{"v":15,"d":"15.00"},14.012445878756571,{"$nulls":52},0.25,{"v":5,"d":"5.00"},0,{"v":2.23606797749979,"d":"2.24"},{"v":3.1622776601683795,"d":"3.16"},{"v":3.8729833462074175,"d":"3.87"},{"v":4.47213595499958,"d":"4.47"},{"v":5.000000000000001,"d":"5.00"},{"v":5.477225575051661,"d":"5.48"},{"v":5.916079783099617,"d":"5.92"},{"v":6.324555320336758,"d":"6.32"},{"v":6.708203932499369,"d":"6.71"},{"v":7.071067811865475,"d":"7.07"},{"v":7.416198487095662,"d":"7.42"},{"v":7.745966692414834,"d":"7.75"},{"v":8.06225774829855,"d":"8.06"},{"v":8.366600265340757,"d":"8.37"},{"v":8.660254037844387,"d":"8.66"},{"v":8.94427190999916,"d":"8.94"},{"v":9.219544457292887,"d":"9.22"},{"v":9.48683298050514,"d":"9.49"},{"v":9.746794344808965,"d":"9.75"},{"v":10.000000000000002,"d":"10.00"}]
[8,0.35,{"v":14,"d":"14.00"},{"$f":"('Sustitutos P'!$B$11*'Oculto P'!$C$27)-(('Oculto P'!$C$27/'Oculto P'!$C$26)*'Oculto P'!C10)","v":{"v":13,"d":"13.00"}},{"v":21,"d":"21.00"},{"$f":"(('Sustitutos P'!$B$11+'Sustitutos P'!$B$15)*'Oculto P'!$C$27)-(('Oculto P'!$C$27/'Oculto P'!$C$26)*'Oculto P'!E10)","v":{"v":19.5,"d":"19.50"}},{"v":7,"d":"7.00"},{"$f":"(('Sustitutos P'!$B$11-'Sustitutos P'!$B$15)*'Oculto P'!$C$27)-(('Oculto P'!$C$27/'Oculto P'!$C$26)*'Oculto P'!G10)","v":{"v":6.5,"d":"6.50"}},{"$f":"'Sustitutos P'!$D$11","v":{"v":40,"d":"40.00"}},{"v":0,"d":"0.00"},{"$f":"'Sustitutos P'!$F$11","v":0},{"v":14,"d":"14.00"},null,8,1.35,{"v":6.099999999999999,"d":"6.10"},{"v":16,"d":"16.00"},{"v":4,"d":"4.00"},{"v":24.399999999999995,"d":"24.40"},6.75,{"v":20,"d":"20.00"},{"v":5,"d":"5.00"},{"v":27,"d":"27.00"},{"v":5.449999999999998,"d":"5.45"},{"v":12,"d":"12.00"},{"v":3,"d":"3.00"},{"v":21.799999999999994,"d":"21.80"},0.05,0.35,0.65,5.6,{"v":4,"d":"4.0"},2.6,{"v":16,"d":"16.0"},null,8,{"v":0.7,"d":"0.70"},{"v":7,"d":"7.00"},{"$f":"'Neutrales P'!$C$10","v":{"v":10,"d":"10.00"}},{"$f":"'Neutrales P'!$C$10+'Neutrales P'!$B$14","v":{"v":15,"d":"15.00"}},{"$f":"'Neutrales P'!$C$10-'Neutrales P'!$B$14","v":{"v":5,"d":"5.00"}},{"v":3.5,"d":"3.50"},{"$f":"'Neutrales P'!$D$10","v":{"v":14,"d":"14.00"}},null,8,{"v":0.7,"d":"0.70"},{"v":42,"d":"42.00"},{"v":-16,"d":"(16.00)"},{"$f":"((-1)*(($AV$28+'Males P'!$B$16)*$AV$27))+(($AV$27/$AV$26)*AU10)","v":{"v":-76,"d":"-76.00"}},{"$f":"((-1)*(($AV$28-'Males P'!$B$16)*$AV$27))+(($AV$27/$AV$26)*AU10)","v":{"v":44,"d":"44.00"}},{"v":60,"d":"60.00"},{"v":21,"d":"21.00"},{"v":20,"d":"20.00"},{"v":7,"d":"7.00"},null,9,{"v":8,"d":"8.00"},{"v":20,"d":"20.00"},{"v":5,"d":"5.00"},{"v":7.5,"d":"7.50"},{"v":2.5,"d":"2.50"},{"v":0.16666666666666666,"d":"0.2"},{"v":1.3333333333333333,"d":"1.3"},{"v":15,"d":"15.0"},{"v":5,"d":"5.0"},{"v":6.666666666666667,"d":"6.7"},{"v":2.2222222222222223,"d":"2.2"},{"v":0.047619047619047616,"d":"0.0"},{"v":0.3333333333333333,"d":"0.3"},null,8,{"v":0.7272727272727273,"d":"0.73"},{"v":145.45454545454547,"d":"145.45"},{"v":68.74999999999999,"d":"68.75"},{"v":107.42187499999997,"d":"107.42"},{"v":38.67187499999999,"d":"38.67"},{"v":200,"d":"200.00"},66.66666666666666,{"v":49.99999999999999,"d":"50.00"},16.666666666666664,null,9,{"v":8,"d":"8.00"},{"v":1.9999999999999998,"d":"2.00"},{"v":4.698970004336019,"d":"4.70"},{"v":6.698970004336019,"d":"6.70"},{"v":2.6989700043360187,"d":"2.70"},0.39999999999999997,2,{"v":1.8795880017344073,"d":"1.88"},{"v":4.698970004336019,"d":"4.70"},0.7999999999999999,null,8,{"v":0.7000000000000001,"d":"0.70"},1.05,{"v":9.77049180327869,"d":"9.77"},1.05,{"v":11.737704918032787,"d":"11.74"},1.05,{"v":7.803278688524591,"d":"7.80"},{"v":1.5,"d":"1.50"},{"v":2.799999999999999,"d":"2.80"},{"v":8,"d":"8.00"},{"v":0.5249999999999998,"d":"0.53"},0.34999999999999987,null,8,{"v":0.7272727272727273,"d":"0.73"},{"v":14.545454545454547,"d":"14.55"},{"v":6.874999999999999,"d":"6.88"},8.25,{"v":5.499999999999999,"d":"5.50"},{"v":20,"d":"20.00"},6.999999999999997,{"v":5,"d":"5.00"},1.7499999999999993,null,8,{"v":0.7272727272727273,"d":"0.73"},{"v":36.36363636363637,"d":"36.36"},{"v":32.76691410086704,"d":"32.77"},{"v":21.600383222368784,"d":"21.60"},{"v":46.70815292918857,"d":"46.71"},{"v":50,"d":"50.00"},17.5,{"v":29.859942891369492,"d":"29.86"},10.450980011979322,{"v":0.35,"d":"0.4"},{"v":10,"d":"10.00"},33.40909090909091,{"v":15,"d":"15.00"},16.347853525216,{"$nulls":49},"UMg1",{"$f":"(GB5*GB3*((GB6/GB4)^(GB7)))","v":{"v":0.5,"d":"0.50"}},null,{"v":0.3,"d":"0.30"},{"v":6,"d":"6.00"},0,{"v":2.449489742783178,"d":"2.45"},{"v":3.4641016151377544,"d":"3.46"},{"v":4.242640687119285,"d":"4.24"},{"v":4.898979485566356,"d":"4.90"},{"v":5.477225575051661,"d":"5.48"},{"v":5.999999999999999,"d":"6.00"},{"v":6.48074069840786,"d":"6.48"},{"v":6.928203230275508,"d":"6.93"},{"v":7.348469228349534,"d":"7.35"},{"v":7.745966692414832,"d":"7.75"},{"v":8.124038404635959,"d":"8.12"},{"v":8.48528137423857,"d":"8.49"},{"v":8.831760866327846,"d":"8.83"},{"v":9.16515138991168,"d":"9.17"},{"v":9.486832980505138,"d":"9.49"},{"v":9.797958971132712,"d":"9.80"},{"v":10.099504938362077,"d":"10.10"},{"v":10.392304845413264,"d":"10.39"},{"v":10.677078252031311,"d":"10.68"},{"v":10.954451150103322,"d":"10.95"}]
[9,{"v":0.4,"d":"0.40"},{"v":16,"d":"16.00"},{"$f":"('Sustitutos P'!$B$11*'Oculto P'!$C$27)-(('Oculto P'!$C$27/'Oculto P'!$C$26)*'Oculto P'!C11)","v":{"v":12,"d":"12.00"}},{"v":24,"d":"24.00"},{"$f":"(('Sustitutos P'!$B$11+'Sustitutos P'!$B$15)*'Oculto P'!$C$27)-(('Oculto P'!$C$27/'Oculto P'!$C$26)*'Oculto P'!E11)","v":{"v":18,"d":"18.00"}},{"v":8,"d":"8.00"},{"$f":"(('Sustitutos P'!$B$11-'Sustitutos P'!$B$15)*'Oculto P'!$C$27)-(('Oculto P'!$C$27/'Oculto P'!$C$26)*'Oculto P'!G11)","v":{"v":6,"d":"6.00"}},{"$f":"'Sustitutos P'!$D$11","v":{"v":40,"d":"40.00"}},{"v":0,"d":"0.00"},{"$f":"'Sustitutos P'!$F$11","v":0},{"v":16,"d":"16.00"},null,9,{"v":1.4,"d":"1.40"},{"v":6.399999999999999,"d":"6.40"},{"v":16,"d":"16.00"},{"v":4,"d":"4.00"},{"v":25.599999999999994,"d":"25.60"},{"v":7,"d":"7.00"},{"v":20,"d":"20.00"},{"v":5,"d":"5.00"},{"v":28,"d":"28.00"},{"v":5.799999999999998,"d":"5.80"},{"v":12,"d":"12.00"},{"v":3,"d":"3.00"},{"v":23.199999999999992,"d":"23.20"},0.05,0.39999999999999997,0.6,{"v":6.3999999999999995,"d":"6.4"},{"v":4,"d":"4.0"},2.4,{"v":16,"d":"16.0"},null,9,{"v":0.8,"d":"0.80"},{"v":8,"d":"8.00"},{"$f":"'Neutrales P'!$C$10","v":{"v":10,"d":"10.00"}},{"$f":"'Neutrales P'!$C$10+'Neutrales P'!$B$14","v":{"v":15,"d":"15.00"}},{"$f":"'Neutrales P'!$C$10-'Neutrales P'!$B$14","v":{"v":5,"d":"5.00"}},{"v":3.9999999999999996,"d":"4.00"},{"$f":"'Neutrales P'!$D$10","v":{"v":14,"d":"14.00"}},null,9,{"v":0.8,"d":"0.80"},{"v":48,"d":"48.00"},{"v":-4,"d":"(4.00)"},{"$f":"((-1)*(($AV$28+'Males P'!$B$16)*$AV$27))+(($AV$27/$AV$26)*AU11)","v":{"v":-64,"d":"-64.00"}},{"$f":"((-1)*(($AV$28-'Males P'!$B$16)*$AV$27))+(($AV$27/$AV$26)*AU11)","v":{"v":56,"d":"56.00"}},{"v":60,"d":"60.00"},{"v":24,"d":"24.00"},{"v":20,"d":"20.00"},{"v":8,"d":"8.00"},null,10,{"v":9,"d":"9.00"},{"v":22.5,"d":"22.50"},{"v":4.444444444444445,"d":"4.44"},{"v":6.666666666666667,"d":"6.67"},{"v":2.2222222222222223,"d":"2.22"},{"v":0.16666666666666666,"d":"0.2"},1.5,{"v":15,"d":"15.0"},{"v":5.7142857142857135,"d":"5.7"},{"v":6.666666666666667,"d":"6.7"},{"v":2.5396825396825395,"d":"2.5"},{"v":0.047619047619047616,"d":"0.0"},{"v":0.38095238095238093,"d":"0.4"},null,9,{"v":0.8181818181818182,"d":"0.82"},{"v":163.63636363636365,"d":"163.64"},{"v":61.111111111111114,"d":"61.11"},{"v":95.48611111111111,"d":"95.49"},{"v":34.37499999999999,"d":"34.38"},{"v":200,"d":"200.00"},76.19047619047619,{"v":49.99999999999999,"d":"50.00"},19.047619047619044,null,10,{"v":9,"d":"9.00"},2.25,{"v":4.647817481888637,"d":"4.65"},{"v":6.647817481888637,"d":"6.65"},{"v":2.6478174818886373,"d":"2.65"},0.44999999999999996,2,{"v":2.1145365019512083,"d":"2.11"},{"v":4.698970004336019,"d":"4.70"},0.8999999999999999,null,9,{"v":0.8,"d":"0.80"},{"v":1.2000000000000002,"d":"1.20"},{"v":9.125,"d":"9.13"},{"v":1.2000000000000002,"d":"1.20"},{"v":11,"d":"11.00"},{"v":1.2000000000000002,"d":"1.20"},{"v":7.249999999999999,"d":"7.25"},{"v":1.5,"d":"1.50"},{"v":3.199999999999999,"d":"3.20"},{"v":8,"d":"8.00"},{"v":0.5999999999999998,"d":"0.60"},0.39999999999999986,null,9,{"v":0.8181818181818182,"d":"0.82"},{"v":16.363636363636363,"d":"16.36"},{"v":6.111111111111112,"d":"6.11"},{"v":7.333333333333333,"d":"7.33"},{"v":4.888888888888889,"d":"4.89"},{"v":20,"d":"20.00"},7.999999999999997,{"v":5,"d":"5.00"},1.9999999999999993,null,9,{"v":0.8181818181818182,"d":"0.82"},{"v":40.909090909090914,"d":"40.91"},{"v":31.596094321998265,"d":"31.60"},{"v":21.165425346116887,"d":"21.17"},{"v":44.618621095459616,"d":"44.62"},{"v":50,"d":"50.00"},20,{"v":29.859942891369492,"d":"29.86"},11.943977156547795,{"v":0.39999999999999997,"d":"0.4"},{"v":10,"d":"10.00"},38.18181818181818,{"v":15,"d":"15.00"},18.683261171675426,{"$nulls":49},"UMg2",{"$f":"(GB7*GB3*((GB4/GB6)^(GB5)))","v":{"v":0.5,"d":"0.50"}},null,0.35,{"v":7,"d":"7.00"},0,{"v":2.6457513110645907,"d":"2.65"},{"v":3.7416573867739418,"d":"3.74"},{"v":4.582575694955841,"d":"4.58"},{"v":5.291502622129181,"d":"5.29"},{"v":5.916079783099617,"d":"5.92"},{"v":6.48074069840786,"d":"6.48"},{"v":7.000000000000001,"d":"7.00"},{"v":7.483314773547883,"d":"7.48"},{"v":7.937253933193772,"d":"7.94"},{"v":8.366600265340756,"d":"8.37"},{"v":8.77496438739212,"d":"8.77"},{"v":9.16515138991168,"d":"9.17"},{"v":9.539392014169456,"d":"9.54"},{"v":9.899494936611667,"d":"9.90"},{"v":10.2469507659596,"d":"10.25"},{"v":10.583005244258363,"d":"10.58"},{"v":10.908712114635716,"d":"10.91"},{"v":11.224972160321826,"d":"11.22"},{"v":11.532562594670798,"d":"11.53"},{"v":11.832159566199234,"d":"11.83"}]
[10,0.45,{"v":18,"d":"18.00"},{"$f":"('Sustitutos P'!$B$11*'Oculto P'!$C$27)-(('Oculto P'!$C$27/'Oculto P'!$C$26)*'Oculto P'!C12)","v":{"v":11,"d":"11.00"}},{"v":27,"d":"27.00"},{"$f":"(('Sustitutos P'!$B$11+'Sustitutos P'!$B$15)*'Oculto P'!$C$27)-(('Oculto P'!$C$27/'Oculto P'!$C$26)*'Oculto P'!E12)","v":{"v":16.5,"d":"16.50"}},{"v":9,"d":"9.00"},{"$f":"(('Sustitutos P'!$B$11-'Sustitutos P'!$B$15)*'Oculto P'!$C$27)-(('Oculto P'!$C$27/'Oculto P'!$C$26)*'Oculto P'!G12)","v":{"v":5.5,"d":"5.50"}},{"$f":"'Sustitutos P'!$D$11","v":{"v":40,"d":"40.00"}},{"v":0,"d":"0.00"},{"$f":"'Sustitutos P'!$F$11","v":0},{"v":18,"d":"18.00"},null,10,1.45,{"v":6.699999999999998,"d":"6.70"},{"v":16,"d":"16.00"},{"v":4,"d":"4.00"},{"v":26.799999999999994,"d":"26.80"},7.25,{"v":20,"d":"20.00"},{"v":5,"d":"5.00"},{"v":29,"d":"29.00"},{"v":6.149999999999998,"d":"6.15"},{"v":12,"d":"12.00"},{"v":3,"d":"3.00"},{"v":24.59999999999999,"d":"24.60"},0.05,0.44999999999999996,0.55,{"v":7.199999999999999,"d":"7.2"},{"v":4,"d":"4.0"},2.2,{"v":16,"d":"16.0"},null,10,{"v":0.9,"d":"0.90"},{"v":9,"d":"9.00"},{"$f":"'Neutrales P'!$C$10","v":{"v":10,"d":"10.00"}},{"$f":"'Neutrales P'!$C$10+'Neutrales P'!$B$14","v":{"v":15,"d":"15.00"}},{"$f":"'Neutrales P'!$C$10-'Neutrales P'!$B$14","v":{"v":5,"d":"5.00"}},{"v":4.5,"d":"4.50"},{"$f":"'Neutrales P'!$D$10","v":{"v":14,"d":"14.00"}},null,10,{"v":0.9,"d":"0.90"},{"v":54,"d":"54.00"},{"v":8,"d":"8.00"},{"$f":"((-1)*(($AV$28+'Males P'!$B$16)*$AV$27))+(($AV$27/$AV$26)*AU12)","v":{"v":-52,"d":"-52.00"}},{"$f":"((-1)*(($AV$28-'Males P'!$B$16)*$AV$27))+(($AV$27/$AV$26)*AU12)","v":{"v":68,"d":"68.00"}},{"v":60,"d":"60.00"},{"v":27,"d":"27.00"},{"v":20,"d":"20.00"},{"v":9,"d":"9.00"},null,11,{"v":10,"d":"10.00"},{"v":25,"d":"25.00"},{"v":4,"d":"4.00"},{"v":6,"d":"6.00"},{"v":2,"d":"2.00"},{"v":0.16666666666666666,"d":"0.2"},{"v":1.6666666666666667,"d":"1.7"},{"v":15,"d":"15.0"},{"v":6.428571428571428,"d":"6.4"},{"v":6.666666666666667,"d":"6.7"},{"v":2.857142857142857,"d":"2.9"},{"v":0.047619047619047616,"d":"0.0"},{"v":0.42857142857142855,"d":"0.4"},null,10,{"v":0.9090909090909091,"d":"0.91"},{"v":181.8181818181818,"d":"181.82"},{"v":55,"d":"55.00"},{"v":85.9375,"d":"85.94"},{"v":30.9375,"d":"30.94"},{"v":200,"d":"200.00"},85.71428571428571,{"v":49.99999999999999,"d":"50.00"},21.428571428571423,null,11,{"v":10,"d":"10.00"},{"v":2.4999999999999996,"d":"2.50"},{"v":4.6020599913279625,"d":"4.60"},{"v":6.6020599913279625,"d":"6.60"},{"v":2.6020599913279625,"d":"2.60"},0.49999999999999994,2,{"v":2.349485002168009,"d":"2.35"},{"v":4.698970004336019,"d":"4.70"},0.9999999999999999,null,10,{"$f":"CQ13-0.1","v":{"v":0.9,"d":"0.90"}},1.35,{"v":8.537313432835822,"d":"8.54"},1.35,{"v":10.328358208955224,"d":"10.33"},1.35,{"v":6.746268656716418,"d":"6.75"},{"v":1.5,"d":"1.50"},{"v":3.5999999999999983,"d":"3.60"},{"v":8,"d":"8.00"},{"v":0.6749999999999997,"d":"0.68"},0.4499999999999998,null,10,{"v":0.9090909090909091,"d":"0.91"},{"v":18.18181818181818,"d":"18.18"},{"v":5.500000000000001,"d":"5.50"},{"v":6.6000000000000005,"d":"6.60"},{"v":4.4,"d":"4.40"},{"v":20,"d":"20.00"},8.999999999999996,{"v":5,"d":"5.00"},2.249999999999999,null,10,{"v":0.9090909090909091,"d":"0.91"},{"v":45.45454545454545,"d":"45.45"},{"v":30.648372300564514,"d":"30.65"},{"v":20.813347968231916,"d":"20.81"},{"v":42.92724606998376,"d":"42.93"},{"v":50,"d":"50.00"},22.499999999999996,{"v":29.859942891369492,"d":"29.86"},13.43697430111627,{"v":0.44999999999999996,"d":"0.5"},{"v":10,"d":"10.00"},42.95454545454545,{"v":15,"d":"15.00"},21.018668818134856,{"$nulls":49},"RMgS",{"$f":"GB10/GB11*-1","v":{"v":-1,"d":"-1.00"}},null,{"v":0.39999999999999997,"d":"0.40"},{"v":7.999999999999999,"d":"8.00"},0,{"v":2.82842712474619,"d":"2.83"},{"v":4,"d":"4.00"},{"v":4.898979485566356,"d":"4.90"},{"v":5.65685424949238,"d":"5.66"},{"v":6.324555320336758,"d":"6.32"},{"v":6.928203230275508,"d":"6.93"},{"v":7.483314773547883,"d":"7.48"},{"v":7.999999999999998,"d":"8.00"},{"v":8.48528137423857,"d":"8.49"},{"v":8.944271909999157,"d":"8.94"},{"v":9.380831519646858,"d":"9.38"},{"v":9.797958971132712,"d":"9.80"},{"v":10.198039027185569,"d":"10.20"},{"v":10.583005244258363,"d":"10.58"},{"v":10.954451150103322,"d":"10.95"},{"v":11.31370849898476,"d":"11.31"},{"v":11.6619037896906,"d":"11.66"},{"v":12,"d":"12.00"},{"v":12.328828005937954,"d":"12.33"},{"v":12.649110640673516,"d":"12.65"}]
[11,{"v":0.5,"d":"0.50"},{"v":20,"d":"20.00"},{"$f":"('Sustitutos P'!$B$11*'Oculto P'!$C$27)-(('Oculto P'!$C$27/'Oculto P'!$C$26)*'Oculto P'!C13)","v":{"v":10,"d":"10.00"}},{"v":30,"d":"30.00"},{"$f":"(('Sustitutos P'!$B$11+'Sustitutos P'!$B$15)*'Oculto P'!$C$27)-(('Oculto P'!$C$27/'Oculto P'!$C$26)*'Oculto P'!E13)","v":{"v":15,"d":"15.00"}},{"v":10,"d":"10.00"},{"$f":"(('Sustitutos P'!$B$11-'Sustitutos P'!$B$15)*'Oculto P'!$C$27)-(('Oculto P'!$C$27/'Oculto P'!$C$26)*'Oculto P'!G13)","v":{"v":5,"d":"5.00"}},{"$f":"'Sustitutos P'!$D$11","v":{"v":40,"d":"40.00"}},{"v":0,"d":"0.00"},{"$f":"'Sustitutos P'!$F$11","v":0},{"v":20,"d":"20.00"},null,11,{"v":1.5,"d":"1.50"},{"v":6.999999999999998,"d":"7.00"},{"v":16,"d":"16.00"},{"v":4,"d":"4.00"},{"v":27.999999999999993,"d":"28.00"},{"v":7.5,"d":"7.50"},{"v":20,"d":"20.00"},{"v":5,"d":"5.00"},{"v":30,"d":"30.00"},{"v":6.499999999999997,"d":"6.50"},{"v":12,"d":"12.00"},{"v":3,"d":"3.00"},{"v":25.99999999999999,"d":"26.00"},0.05,0.49999999999999994,0.5,{"v":7.999999999999999,"d":"8.0"},{"v":4,"d":"4.0"},{"v":2,"d":"2.0"},{"v":16,"d":"16.0"},null,11,{"v":1,"d":"1.00"},{"v":10,"d":"10.00"},{"$f":"'Neutrales P'!$C$10","v":{"v":10,"d":"10.00"}},{"$f":"'Neutrales P'!$C$10+'Neutrales P'!$B$14","v":{"v":15,"d":"15.00"}},{"$f":"'Neutrales P'!$C$10-'Neutrales P'!$B$14","v":{"v":5,"d":"5.00"}},{"v":4.999999999999999,"d":"5.00"},{"$f":"'Neutrales P'!$D$10","v":{"v":14,"d":"14.00"}},null,11,{"v":1,"d":"1.00"},{"v":60,"d":"60.00"},{"v":20,"d":"20.00"},{"$f":"((-1)*(($AV$28+'Males P'!$B$16)*$AV$27))+(($AV$27/$AV$26)*AU13)","v":{"v":-40,"d":"-40.00"}},{"$f":"((-1)*(($AV$28-'Males P'!$B$16)*$AV$27))+(($AV$27/$AV$26)*AU13)","v":{"v":80,"d":"80.00"}},{"v":60,"d":"60.00"},{"v":30,"d":"30.00"},{"v":20,"d":"20.00"},{"v":10,"d":"10.00"},null,12,{"v":11,"d":"11.00"},{"v":27.500000000000004,"d":"27.50"},{"v":3.636363636363636,"d":"3.64"},{"v":5.454545454545454,"d":"5.45"},{"v":1.818181818181818,"d":"1.82"},{"v":0.16666666666666666,"d":"0.2"},{"v":1.8333333333333335,"d":"1.8"},{"v":15,"d":"15.0"},{"v":7.142857142857142,"d":"7.1"},{"v":6.666666666666667,"d":"6.7"},{"v":3.1746031746031744,"d":"3.2"},{"v":0.047619047619047616,"d":"0.0"},{"v":0.47619047619047616,"d":"0.5"},null,11,{"$f":"BS13/$BS$13","v":{"v":1,"d":"1.00"}},{"v":200,"d":"200.00"},{"v":49.99999999999999,"d":"50.00"},{"v":78.125,"d":"78.13"},{"v":28.125000000000004,"d":"28.13"},{"v":200,"d":"200.00"},95.23809523809523,{"v":49.99999999999999,"d":"50.00"},23.809523809523803,null,12,{"v":11,"d":"11.00"},{"v":2.7499999999999996,"d":"2.75"},{"v":4.560667306169737,"d":"4.56"},{"v":6.560667306169737,"d":"6.56"},{"v":2.5606673061697376,"d":"2.56"},0.5499999999999999,2,{"v":2.58443350238481,"d":"2.58"},{"v":4.698970004336019,"d":"4.70"},1.0999999999999999,null,11,{"v":1,"d":"1.00"},{"v":1.5,"d":"1.50"},{"v":8,"d":"8.00"},{"v":1.5,"d":"1.50"},{"v":9.714285714285714,"d":"9.71"},{"v":1.5,"d":"1.50"},{"v":6.285714285714286,"d":"6.29"},{"v":1.5,"d":"1.50"},{"v":3.9999999999999982,"d":"4.00"},{"v":8,"d":"8.00"},{"v":0.7499999999999997,"d":"0.75"},0.4999999999999998,null,11,{"$f":"DD13/$BS$13","v":{"v":1,"d":"1.00"}},{"v":20,"d":"20.00"},{"v":5,"d":"5.00"},{"v":6,"d":"6.00"},{"v":4,"d":"4.00"},{"v":20,"d":"20.00"},9.999999999999996,{"v":5,"d":"5.00"},2.499999999999999,null,11,{"$f":"DO13/$BS$13","v":{"v":1,"d":"1.00"}},{"v":50,"d":"50.00"},{"v":29.859942891369492,"d":"29.86"},{"v":20.520447568369065,"d":"20.52"},{"v":41.5201564573084,"d":"41.52"},{"v":50,"d":"50.00"},24.999999999999996,{"v":29.859942891369492,"d":"29.86"},14.929971445684744,{"v":0.49999999999999994,"d":"0.5"},{"v":10,"d":"10.00"},47.72727272727272,{"v":15,"d":"15.00"},23.354076464594282,{"$nulls":52},{"v":0.44999999999999996,"d":"0.45"},{"v":9,"d":"9.00"},0,{"v":3,"d":"3.00"},{"v":4.242640687119286,"d":"4.24"},{"v":5.196152422706632,"d":"5.20"},{"v":6,"d":"6.00"},{"v":6.708203932499369,"d":"6.71"},{"v":7.348469228349534,"d":"7.35"},{"v":7.937253933193772,"d":"7.94"},{"v":8.48528137423857,"d":"8.49"},{"v":9,"d":"9.00"},{"v":9.486832980505138,"d":"9.49"},{"v":9.949874371066198,"d":"9.95"},{"v":10.392304845413264,"d":"10.39"},{"v":10.816653826391967,"d":"10.82"},{"v":11.224972160321826,"d":"11.22"},{"v":11.618950038622252,"d":"11.62"},{"v":12,"d":"12.00"},{"v":12.36931687685298,"d":"12.37"},{"v":12.727922061357857,"d":"12.73"},{"v":13.076696830622023,"d":"13.08"},{"v":13.416407864998739,"d":"13.42"}]
[12,0.55,{"v":22,"d":"22.00"},{"$f":"('Sustitutos P'!$B$11*'Oculto P'!$C$27)-(('Oculto P'!$C$27/'Oculto P'!$C$26)*'Oculto P'!C14)","v":{"v":9,"d":"9.00"}},{"v":33,"d":"33.00"},{"$f":"(('Sustitutos P'!$B$11+'Sustitutos P'!$B$15)*'Oculto P'!$C$27)-(('Oculto P'!$C$27/'Oculto P'!$C$26)*'Oculto P'!E14)","v":{"v":13.5,"d":"13.50"}},{"v":11,"d":"11.00"},{"$f":"(('Sustitutos P'!$B$11-'Sustitutos P'!$B$15)*'Oculto P'!$C$27)-(('Oculto P'!$C$27/'Oculto P'!$C$26)*'Oculto P'!G14)","v":{"v":4.5,"d":"4.50"}},{"$f":"'Sustitutos P'!$D$11","v":{"v":40,"d":"40.00"}},{"v":0,"d":"0.00"},{"$f":"'Sustitutos P'!$F$11","v":0},{"v":22,"d":"22.00"},null,12,1.55,{"v":7.299999999999998,"d":"7.30"},{"v":16,"d":"16.00"},{"v":4,"d":"4.00"},{"v":29.199999999999992,"d":"29.20"},7.75,{"v":20,"d":"20.00"},{"v":5,"d":"5.00"},{"v":31,"d":"31.00"},{"v":6.849999999999997,"d":"6.85"},{"v":12,"d":"12.00"},{"v":3,"d":"3.00"},{"v":27.399999999999988,"d":"27.40"},0.05,0.5499999999999999,0.45,{"v":8.799999999999999,"d":"8.8"},{"v":4,"d":"4.0"},1.8,{"v":16,"d":"16.0"},null,12,{"v":1.1,"d":"1.10"},{"v":11,"d":"11.00"},{"$f":"'Neutrales P'!$C$10","v":{"v":10,"d":"10.00"}},{"$f":"'Neutrales P'!$C$10+'Neutrales P'!$B$14","v":{"v":15,"d":"15.00"}},{"$f":"'Neutrales P'!$C$10-'Neutrales P'!$B$14","v":{"v":5,"d":"5.00"}},{"v":5.499999999999999,"d":"5.50"},{"$f":"'Neutrales P'!$D$10","v":{"v":14,"d":"14.00"}},null,12,{"v":1.1,"d":"1.10"},{"v":66,"d":"66.00"},{"v":32,"d":"32.00"},{"$f":"((-1)*(($AV$28+'Males P'!$B$16)*$AV$27))+(($AV$27/$AV$26)*AU14)","v":{"v":-28,"d":"-28.00"}},{"$f":"((-1)*(($AV$28-'Males P'!$B$16)*$AV$27))+(($AV$27/$AV$26)*AU14)","v":{"v":92,"d":"92.00"}},{"v":60,"d":"60.00"},{"v":33,"d":"33.00"},{"v":20,"d":"20.00"},{"v":11,"d":"11.00"},null,13,{"v":12,"d":"12.00"},{"v":30,"d":"30.00"},{"v":3.3333333333333335,"d":"3.33"},{"v":5,"d":"5.00"},{"v":1.6666666666666667,"d":"1.67"},{"v":0.16666666666666666,"d":"0.2"},{"v":2,"d":"2.0"},{"v":15,"d":"15.0"},{"v":7.857142857142856,"d":"7.9"},{"v":6.666666666666667,"d":"6.7"},{"v":3.4920634920634916,"d":"3.5"},{"v":0.047619047619047616,"d":"0.0"},{"v":0.5238095238095237,"d":"0.5"},null,12,{"$f":"BS14/$BS$13","v":{"v":1.0909090909090908,"d":"1.09"}},{"v":218.18181818181816,"d":"218.18"},{"v":45.833333333333336,"d":"45.83"},{"v":71.61458333333334,"d":"71.61"},{"v":25.781250000000004,"d":"25.78"},{"v":200,"d":"200.00"},104.76190476190474,{"v":49.99999999999999,"d":"50.00"},26.190476190476183,null,13,{"v":12,"d":"12.00"},{"v":3,"d":"3.00"},{"v":4.522878745280337,"d":"4.52"},{"v":6.522878745280337,"d":"6.52"},{"v":2.5228787452803374,"d":"2.52"},0.6,2,{"v":2.819382002601611,"d":"2.82"},{"v":4.698970004336019,"d":"4.70"},1.2,null,12,{"$f":"CQ13+0.1","v":{"v":1.1,"d":"1.10"}},{"v":1.6500000000000001,"d":"1.65"},{"v":7.506849315068492,"d":"7.51"},{"v":1.6500000000000001,"d":"1.65"},{"v":9.150684931506849,"d":"9.15"},{"v":1.6500000000000001,"d":"1.65"},{"v":5.863013698630136,"d":"5.86"},{"v":1.5,"d":"1.50"},{"v":4.399999999999999,"d":"4.40"},{"v":8,"d":"8.00"},{"v":0.8249999999999997,"d":"0.83"},0.5499999999999998,null,12,{"$f":"DD14/$BS$13","v":{"v":1.0909090909090908,"d":"1.09"}},{"v":21.818181818181817,"d":"21.82"},{"v":4.583333333333334,"d":"4.58"},{"v":5.5,"d":"5.50"},{"v":3.666666666666667,"d":"3.67"},{"v":20,"d":"20.00"},10.999999999999996,{"v":5,"d":"5.00"},2.749999999999999,null,12,{"$f":"DO14/$BS$13","v":{"v":1.0909090909090908,"d":"1.09"}},{"v":54.54545454545454,"d":"54.55"},{"v":29.19006069768727,"d":"29.19"},{"v":20.271587289817486,"d":"20.27"},{"v":40.32463499977065,"d":"40.32"},{"v":50,"d":"50.00"},27.499999999999996,{"v":29.859942891369492,"d":"29.86"},16.42296859025322,{"v":0.5499999999999999,"d":"0.6"},{"v":10,"d":"10.00"},52.49999999999999,{"v":15,"d":"15.00"},25.689484111053712,{"$nulls":52},{"v":0.49999999999999994,"d":"0.50"},{"v":9.999999999999998,"d":"10.00"},0,{"v":3.162277660168379,"d":"3.16"},{"v":4.47213595499958,"d":"4.47"},{"v":5.477225575051661,"d":"5.48"},{"v":6.324555320336758,"d":"6.32"},{"v":7.071067811865475,"d":"7.07"},{"v":7.745966692414832,"d":"7.75"},{"v":8.366600265340756,"d":"8.37"},{"v":8.944271909999157,"d":"8.94"},{"v":9.486832980505138,"d":"9.49"},{"v":9.999999999999998,"d":"10.00"},{"v":10.488088481701514,"d":"10.49"},{"v":10.95445115010332,"d":"10.95"},{"v":11.40175425099138,"d":"11.40"},{"v":11.832159566199232,"d":"11.83"},{"v":12.24744871391589,"d":"12.25"},{"v":12.649110640673516,"d":"12.65"},{"v":13.038404810405297,"d":"13.04"},{"v":13.416407864998739,"d":"13.42"},{"v":13.784048752090222,"d":"13.78"},{"v":14.14213562373095,"d":"14.14"}]
[13,{"v":0.6,"d":"0.60"},{"v":24,"d":"24.00"},{"$f":"('Sustitutos P'!$B$11*'Oculto P'!$C$27)-(('Oculto P'!$C$27/'Oculto P'!$C$26)*'Oculto P'!C15)","v":{"v":8,"d":"8.00"}},{"v":36,"d":"36.00"},{"$f":"(('Sustitutos P'!$B$11+'Sustitutos P'!$B$15)*'Oculto P'!$C$27)-(('Oculto P'!$C$27/'Oculto P'!$C$26)*'Oculto P'!E15)","v":{"v":12,"d":"12.00"}},{"v":12,"d":"12.00"},{"$f":"(('Sustitutos P'!$B$11-'Sustitutos P'!$B$15)*'Oculto P'!$C$27)-(('Oculto P'!$C$27/'Oculto P'!$C$26)*'Oculto P'!G15)","v":{"v":4,"d":"4.00"}},{"$f":"'Sustitutos P'!$D$11","v":{"v":40,"d":"40.00"}},{"v":0,"d":"0.00"},{"$f":"'Sustitutos P'!$F$11","v":0},{"v":24,"d":"24.00"},null,13,{"v":1.6,"d":"1.60"},{"v":7.599999999999998,"d":"7.60"},{"v":16,"d":"16.00"},{"v":4,"d":"4.00"},{"v":30.39999999999999,"d":"30.40"},{"v":8,"d":"8.00"},{"v":20,"d":"20.00"},{"v":5,"d":"5.00"},{"v":32,"d":"32.00"},{"v":7.199999999999997,"d":"7.20"},{"v":12,"d":"12.00"},{"v":3,"d":"3.00"},{"v":28.799999999999986,"d":"28.80"},0.05,0.6,0.4,9.6,{"v":4,"d":"4.0"},1.6,{"v":16,"d":"16.0"},null,13,{"v":1.2,"d":"1.20"},{"v":12,"d":"12.00"},{"$f":"'Neutrales P'!$C$10","v":{"v":10,"d":"10.00"}},{"$f":"'Neutrales P'!$C$10+'Neutrales P'!$B$14","v":{"v":15,"d":"15.00"}},{"$f":"'Neutrales P'!$C$10-'Neutrales P'!$B$14","v":{"v":5,"d":"5.00"}},{"v":6,"d":"6.00"},{"$f":"'Neutrales P'!$D$10","v":{"v":14,"d":"14.00"}},null,13,{"v":1.2,"d":"1.20"},{"v":72,"d":"72.00"},{"v":44,"d":"44.00"},{"$f":"((-1)*(($AV$28+'Males P'!$B$16)*$AV$27))+(($AV$27/$AV$26)*AU15)","v":{"v":-16,"d":"-16.00"}},{"$f":"((-1)*(($AV$28-'Males P'!$B$16)*$AV$27))+(($AV$27/$AV$26)*AU15)","v":{"v":104,"d":"104.00"}},{"v":60,"d":"60.00"},{"v":36,"d":"36.00"},{"v":20,"d":"20.00"},{"v":12,"d":"12.00"},null,14,{"v":13,"d":"13.00"},{"v":32.5,"d":"32.50"},{"v":3.076923076923077,"d":"3.08"},{"v":4.615384615384615,"d":"4.62"},{"v":1.5384615384615385,"d":"1.54"},{"v":0.16666666666666666,"d":"0.2"},{"v":2.1666666666666665,"d":"2.2"},{"v":15,"d":"15.0"},{"v":8.571428571428571,"d":"8.6"},{"v":6.666666666666667,"d":"6.7"},{"v":3.8095238095238093,"d":"3.8"},{"v":0.047619047619047616,"d":"0.0"},{"v":0.5714285714285714,"d":"0.6"},null,13,{"v":1.1818181818181819,"d":"1.18"},{"v":236.36363636363637,"d":"236.36"},{"v":42.30769230769231,"d":"42.31"},{"v":66.10576923076924,"d":"66.11"},{"v":23.79807692307692,"d":"23.80"},{"v":200,"d":"200.00"},114.28571428571428,{"v":49.99999999999999,"d":"50.00"},28.571428571428566,null,14,{"v":13,"d":"13.00"},3.25,{"v":4.488116639021126,"d":"4.49"},{"v":6.488116639021126,"d":"6.49"},{"v":2.4881166390211256,"d":"2.49"},0.65,2,{"v":3.0543305028184125,"d":"3.05"},{"v":4.698970004336019,"d":"4.70"},1.3,null,13,{"$f":"CQ14+0.1","v":{"v":1.2000000000000002,"d":"1.20"}},{"v":1.8000000000000003,"d":"1.80"},{"v":7.052631578947367,"d":"7.05"},{"v":1.8000000000000003,"d":"1.80"},{"v":8.63157894736842,"d":"8.63"},{"v":1.8000000000000003,"d":"1.80"},{"v":5.473684210526315,"d":"5.47"},{"v":1.5,"d":"1.50"},{"v":4.799999999999999,"d":"4.80"},{"v":8,"d":"8.00"},{"v":0.8999999999999998,"d":"0.90"},0.5999999999999999,null,13,{"v":1.1818181818181819,"d":"1.18"},{"v":23.636363636363637,"d":"23.64"},{"v":4.230769230769231,"d":"4.23"},{"v":5.076923076923077,"d":"5.08"},{"v":3.3846153846153846,"d":"3.38"},{"v":20,"d":"20.00"},11.999999999999996,{"v":5,"d":"5.00"},2.999999999999999,null,13,{"v":1.1818181818181819,"d":"1.18"},{"v":59.09090909090909,"d":"59.09"},{"v":28.61129771434603,"d":"28.61"},{"v":20.05657766781525,"d":"20.06"},{"v":39.29173164461561,"d":"39.29"},{"v":50,"d":"50.00"},30,{"v":29.859942891369492,"d":"29.86"},17.915965734821693,0.6,{"v":10,"d":"10.00"},57.27272727272727,{"v":15,"d":"15.00"},28.024891757513142,{"$nulls":52},{"v":0.5499999999999999,"d":"0.55"},{"v":10.999999999999998,"d":"11.00"},0,{"v":3.3166247903553994,"d":"3.32"},{"v":4.690415759823429,"d":"4.69"},{"v":5.744562646538029,"d":"5.74"},{"v":6.633249580710799,"d":"6.63"},{"v":7.416198487095662,"d":"7.42"},{"v":8.124038404635959,"d":"8.12"},{"v":8.77496438739212,"d":"8.77"},{"v":9.380831519646858,"d":"9.38"},{"v":9.949874371066198,"d":"9.95"},{"v":10.488088481701514,"d":"10.49"},{"v":10.999999999999996,"d":"11.00"},{"v":11.489125293076055,"d":"11.49"},{"v":11.958260743101397,"d":"11.96"},{"v":12.409673645990855,"d":"12.41"},{"v":12.845232578665128,"d":"12.85"},{"v":13.266499161421597,"d":"13.27"},{"v":13.674794331177342,"d":"13.67"},{"v":14.071247279470288,"d":"14.07"},{"v":14.456832294800959,"d":"14.46"},{"v":14.832396974191324,"d":"14.83"}]
[14,0.65,{"v":26,"d":"26.00"},{"$f":"('Sustitutos P'!$B$11*'Oculto P'!$C$27)-(('Oculto P'!$C$27/'Oculto P'!$C$26)*'Oculto P'!C16)","v":{"v":7,"d":"7.00"}},{"v":39,"d":"39.00"},{"$f":"(('Sustitutos P'!$B$11+'Sustitutos P'!$B$15)*'Oculto P'!$C$27)-(('Oculto P'!$C$27/'Oculto P'!$C$26)*'Oculto P'!E16)","v":{"v":10.5,"d":"10.50"}},{"v":13,"d":"13.00"},{"$f":"(('Sustitutos P'!$B$11-'Sustitutos P'!$B$15)*'Oculto P'!$C$27)-(('Oculto P'!$C$27/'Oculto P'!$C$26)*'Oculto P'!G16)","v":{"v":3.5,"d":"3.50"}},{"$f":"'Sustitutos P'!$D$11","v":{"v":40,"d":"40.00"}},{"v":0,"d":"0.00"},{"$f":"'Sustitutos P'!$F$11","v":0},{"v":26,"d":"26.00"},null,14,1.65,{"v":7.899999999999998,"d":"7.90"},{"v":16,"d":"16.00"},{"v":4,"d":"4.00"},{"v":31.59999999999999,"d":"31.60"},8.25,{"v":20,"d":"20.00"},{"v":5,"d":"5.00"},{"v":33,"d":"33.00"},{"v":7.549999999999996,"d":"7.55"},{"v":12,"d":"12.00"},{"v":3,"d":"3.00"},{"v":30.199999999999985,"d":"30.20"},0.05,0.65,0.35,10.4,{"v":4,"d":"4.0"},1.4,{"v":16,"d":"16.0"},null,14,{"v":1.3,"d":"1.30"},{"v":13,"d":"13.00"},{"$f":"'Neutrales P'!$C$10","v":{"v":10,"d":"10.00"}},{"$f":"'Neutrales P'!$C$10+'Neutrales P'!$B$14","v":{"v":15,"d":"15.00"}},{"$f":"'Neutrales P'!$C$10-'Neutrales P'!$B$14","v":{"v":5,"d":"5.00"}},{"v":6.5,"d":"6.50"},{"$f":"'Neutrales P'!$D$10","v":{"v":14,"d":"14.00"}},null,14,{"v":1.3,"d":"1.30"},{"v":78,"d":"78.00"},{"v":56,"d":"56.00"},{"$f":"((-1)*(($AV$28+'Males P'!$B$16)*$AV$27))+(($AV$27/$AV$26)*AU16)","v":{"v":-4,"d":"-4.00"}},{"$f":"((-1)*(($AV$28-'Males P'!$B$16)*$AV$27))+(($AV$27/$AV$26)*AU16)","v":{"v":116,"d":"116.00"}},{"v":60,"d":"60.00"},{"v":39,"d":"39.00"},{"v":20,"d":"20.00"},{"v":13,"d":"13.00"},null,15,{"v":14,"d":"14.00"},{"v":34.99999999999999,"d":"35.00"},{"v":2.8571428571428577,"d":"2.86"},{"v":4.2857142857142865,"d":"4.29"},{"v":1.4285714285714288,"d":"1.43"},{"v":0.16666666666666666,"d":"0.2"},{"v":2.333333333333333,"d":"2.3"},{"v":15,"d":"15.0"},{"v":9.285714285714286,"d":"9.3"},{"v":6.666666666666667,"d":"6.7"},{"v":4.126984126984127,"d":"4.1"},{"v":0.047619047619047616,"d":"0.0"},{"v":0.6190476190476191,"d":"0.6"},null,14,{"v":1.2727272727272727,"d":"1.27"},{"v":254.54545454545453,"d":"254.55"},{"v":39.285714285714285,"d":"39.29"},{"v":61.38392857142857,"d":"61.38"},{"v":22.09821428571428,"d":"22.10"},{"v":200,"d":"200.00"},123.80952380952381,{"v":49.99999999999999,"d":"50.00"},30.95238095238095,null,15,{"v":14,"d":"14.00"},{"v":3.5000000000000004,"d":"3.50"},{"v":4.455931955649724,"d":"4.46"},{"v":6.455931955649724,"d":"6.46"},{"v":2.4559319556497243,"d":"2.46"},0.7000000000000001,2,{"v":3.2892790030352135,"d":"3.29"},{"v":4.698970004336019,"d":"4.70"},1.4000000000000001,null,14,{"v":1.3000000000000003,"d":"1.30"},{"v":1.9500000000000004,"d":"1.95"},{"v":6.632911392405063,"d":"6.63"},{"v":1.9500000000000004,"d":"1.95"},{"v":8.151898734177214,"d":"8.15"},{"v":1.9500000000000004,"d":"1.95"},{"v":5.113924050632911,"d":"5.11"},{"v":1.5,"d":"1.50"},{"v":5.199999999999998,"d":"5.20"},{"v":8,"d":"8.00"},{"v":0.9749999999999996,"d":"0.98"},0.6499999999999998,null,14,{"v":1.2727272727272727,"d":"1.27"},{"v":25.454545454545453,"d":"25.45"},{"v":3.928571428571429,"d":"3.93"},{"v":4.714285714285714,"d":"4.71"},{"v":3.1428571428571432,"d":"3.14"},{"v":20,"d":"20.00"},12.999999999999996,{"v":5,"d":"5.00"},3.249999999999999,null,14,{"v":1.2727272727272727,"d":"1.27"},{"v":63.63636363636363,"d":"63.64"},{"v":28.104408576847973,"d":"28.10"},{"v":19.868269076928335,"d":"19.87"},{"v":38.38709968665795,"d":"38.39"},{"v":50,"d":"50.00"},32.5,{"v":29.859942891369492,"d":"29.86"},19.40896287939017,{"v":0.65,"d":"0.7"},{"v":10,"d":"10.00"},62.04545454545455,{"v":15,"d":"15.00"},30.360299403972572,{"$nulls":52},{"v":0.6,"d":"0.60"},{"v":12,"d":"12.00"},0,{"v":3.4641016151377544,"d":"3.46"},{"v":4.898979485566357,"d":"4.90"},{"v":6,"d":"6.00"},{"v":6.928203230275509,"d":"6.93"},{"v":7.745966692414834,"d":"7.75"},{"v":8.48528137423857,"d":"8.49"},{"v":9.16515138991168,"d":"9.17"},{"v":9.797958971132712,"d":"9.80"},{"v":10.392304845413264,"d":"10.39"},{"v":10.95445115010332,"d":"10.95"},{"v":11.489125293076055,"d":"11.49"},{"v":11.999999999999998,"d":"12.00"},{"v":12.489995996796795,"d":"12.49"},{"v":12.96148139681572,"d":"12.96"},{"v":13.416407864998737,"d":"13.42"},{"v":13.856406460551018,"d":"13.86"},{"v":14.282856857085699,"d":"14.28"},{"v":14.696938456699069,"d":"14.70"},{"v":15.0996688705415,"d":"15.10"},{"v":15.491933384829668,"d":"15.49"}]
[15,{"v":0.7,"d":"0.70"},{"v":28,"d":"28.00"},{"$f":"('Sustitutos P'!$B$11*'Oculto P'!$C$27)-(('Oculto P'!$C$27/'Oculto P'!$C$26)*'Oculto P'!C17)","v":{"v":6,"d":"6.00"}},{"v":42,"d":"42.00"},{"$f":"(('Sustitutos P'!$B$11+'Sustitutos P'!$B$15)*'Oculto P'!$C$27)-(('Oculto P'!$C$27/'Oculto P'!$C$26)*'Oculto P'!E17)","v":{"v":9,"d":"9.00"}},{"v":14,"d":"14.00"},{"$f":"(('Sustitutos P'!$B$11-'Sustitutos P'!$B$15)*'Oculto P'!$C$27)-(('Oculto P'!$C$27/'Oculto P'!$C$26)*'Oculto P'!G17)","v":{"v":3,"d":"3.00"}},{"$f":"'Sustitutos P'!$D$11","v":{"v":40,"d":"40.00"}},{"v":0,"d":"0.00"},{"$f":"'Sustitutos P'!$F$11","v":0},{"v":28,"d":"28.00"},null,15,{"v":1.7,"d":"1.70"},{"v":8.199999999999998,"d":"8.20"},{"v":16,"d":"16.00"},{"v":4,"d":"4.00"},{"v":32.79999999999999,"d":"32.80"},{"v":8.5,"d":"8.50"},{"v":20,"d":"20.00"},{"v":5,"d":"5.00"},{"v":34,"d":"34.00"},{"v":7.899999999999996,"d":"7.90"},{"v":12,"d":"12.00"},{"v":3,"d":"3.00"},{"v":31.599999999999984,"d":"31.60"},0.05,0.7000000000000001,0.3,{"v":11.200000000000001,"d":"11.2"},{"v":4,"d":"4.0"},1.2,{"v":16,"d":"16.0"},null,15,{"v":1.4,"d":"1.40"},{"v":14,"d":"14.00"},{"$f":"'Neutrales P'!$C$10","v":{"v":10,"d":"10.00"}},{"$f":"'Neutrales P'!$C$10+'Neutrales P'!$B$14","v":{"v":15,"d":"15.00"}},{"$f":"'Neutrales P'!$C$10-'Neutrales P'!$B$14","v":{"v":5,"d":"5.00"}},{"v":7.000000000000001,"d":"7.00"},{"$f":"'Neutrales P'!$D$10","v":{"v":14,"d":"14.00"}},null,15,{"v":1.4,"d":"1.40"},{"v":84,"d":"84.00"},{"v":68,"d":"68.00"},{"$f":"((-1)*(($AV$28+'Males P'!$B$16)*$AV$27))+(($AV$27/$AV$26)*AU17)","v":{"v":8,"d":"8.00"}},{"$f":"((-1)*(($AV$28-'Males P'!$B$16)*$AV$27))+(($AV$27/$AV$26)*AU17)","v":{"v":128,"d":"128.00"}},{"v":60,"d":"60.00"},{"v":42,"d":"42.00"},{"v":20,"d":"20.00"},{"v":14,"d":"14.00"},null,16,{"v":15,"d":"15.00"},{"v":37.49999999999999,"d":"37.50"},{"v":2.666666666666667,"d":"2.67"},{"v":4.000000000000001,"d":"4.00"},{"v":1.3333333333333335,"d":"1.33"},{"v":0.16666666666666666,"d":"0.2"},{"v":2.4999999999999996,"d":"2.5"},{"v":15,"d":"15.0"},{"v":10.000000000000002,"d":"10.0"},{"v":6.666666666666667,"d":"6.7"},{"v":4.4444444444444455,"d":"4.4"},{"v":0.047619047619047616,"d":"0.0"},{"v":0.6666666666666667,"d":"0.7"},null,15,{"v":1.3636363636363635,"d":"1.36"},{"v":272.7272727272727,"d":"272.73"},{"v":36.66666666666667,"d":"36.67"},{"v":57.29166666666667,"d":"57.29"},{"v":20.625000000000007,"d":"20.63"},{"v":200,"d":"200.00"},133.33333333333334,{"v":49.99999999999999,"d":"50.00"},33.333333333333336,null,16,{"v":15,"d":"15.00"},{"v":3.7500000000000004,"d":"3.75"},{"v":4.425968732272281,"d":"4.43"},{"v":6.425968732272281,"d":"6.43"},{"v":2.425968732272281,"d":"2.43"},0.7500000000000001,2,{"v":3.5242275032520145,"d":"3.52"},{"v":4.698970004336019,"d":"4.70"},1.5000000000000002,null,15,{"v":1.4000000000000004,"d":"1.40"},{"v":2.1000000000000005,"d":"2.10"},{"v":6.243902439024389,"d":"6.24"},{"v":2.1000000000000005,"d":"2.10"},{"v":7.707317073170731,"d":"7.71"},{"v":2.1000000000000005,"d":"2.10"},{"v":4.780487804878048,"d":"4.78"},{"v":1.5,"d":"1.50"},{"v":5.599999999999999,"d":"5.60"},{"v":8,"d":"8.00"},{"v":1.0499999999999998,"d":"1.05"},0.6999999999999998,null,15,{"v":1.3636363636363635,"d":"1.36"},{"v":27.27272727272727,"d":"27.27"},{"v":3.666666666666667,"d":"3.67"},{"v":4.4,"d":"4.40"},{"v":2.9333333333333336,"d":"2.93"},{"v":20,"d":"20.00"},13.999999999999996,{"v":5,"d":"5.00"},3.499999999999999,null,15,{"v":1.3636363636363635,"d":"1.36"},{"v":68.18181818181817,"d":"68.18"},{"v":27.65542895191923,"d":"27.66"},{"v":19.70147378728259,"d":"19.70"},{"v":37.58581734080389,"d":"37.59"},{"v":50,"d":"50.00"},35,{"v":29.859942891369492,"d":"29.86"},20.901960023958647,{"v":0.7000000000000001,"d":"0.7"},{"v":10,"d":"10.00"},66.81818181818183,{"v":15,"d":"15.00"},32.695707050432006,{"$nulls":52},0.65,{"v":13,"d":"13.00"},0,{"v":3.605551275463989,"d":"3.61"},{"v":5.099019513592785,"d":"5.10"},{"v":6.244997998398398,"d":"6.24"},{"v":7.211102550927978,"d":"7.21"},{"v":8.06225774829855,"d":"8.06"},{"v":8.831760866327846,"d":"8.83"},{"v":9.539392014169456,"d":"9.54"},{"v":10.198039027185569,"d":"10.20"},{"v":10.816653826391967,"d":"10.82"},{"v":11.40175425099138,"d":"11.40"},{"v":11.958260743101397,"d":"11.96"},{"v":12.489995996796795,"d":"12.49"},{"v":12.999999999999998,"d":"13.00"},{"v":13.490737563232042,"d":"13.49"},{"v":13.96424004376894,"d":"13.96"},{"v":14.422205101855956,"d":"14.42"},{"v":14.866068747318504,"d":"14.87"},{"v":15.297058540778355,"d":"15.30"},{"v":15.716233645501712,"d":"15.72"},{"v":16.1245154965971,"d":"16.12"}]
[16,0.75,{"v":30,"d":"30.00"},{"$f":"('Sustitutos P'!$B$11*'Oculto P'!$C$27)-(('Oculto P'!$C$27/'Oculto P'!$C$26)*'Oculto P'!C18)","v":{"v":5,"d":"5.00"}},{"v":45,"d":"45.00"},{"$f":"(('Sustitutos P'!$B$11+'Sustitutos P'!$B$15)*'Oculto P'!$C$27)-(('Oculto P'!$C$27/'Oculto P'!$C$26)*'Oculto P'!E18)","v":{"v":7.5,"d":"7.50"}},{"v":15,"d":"15.00"},{"$f":"(('Sustitutos P'!$B$11-'Sustitutos P'!$B$15)*'Oculto P'!$C$27)-(('Oculto P'!$C$27/'Oculto P'!$C$26)*'Oculto P'!G18)","v":{"v":2.5,"d":"2.50"}},{"$f":"'Sustitutos P'!$D$11","v":{"v":40,"d":"40.00"}},{"v":0,"d":"0.00"},{"$f":"'Sustitutos P'!$F$11","v":0},{"v":30,"d":"30.00"},null,16,1.75,{"v":8.499999999999998,"d":"8.50"},{"v":16,"d":"16.00"},{"v":4,"d":"4.00"},{"v":33.99999999999999,"d":"34.00"},8.75,{"v":20,"d":"20.00"},{"v":5,"d":"5.00"},{"v":35,"d":"35.00"},{"v":8.249999999999996,"d":"8.25"},{"v":12,"d":"12.00"},{"v":3,"d":"3.00"},{"v":32.999999999999986,"d":"33.00"},0.05,0.7500000000000001,0.25,{"v":12.000000000000002,"d":"12.0"},{"v":4,"d":"4.0"},{"v":1,"d":"1.0"},{"v":16,"d":"16.0"},null,16,{"v":1.5,"d":"1.50"},{"v":15,"d":"15.00"},{"$f":"'Neutrales P'!$C$10","v":{"v":10,"d":"10.00"}},{"$f":"'Neutrales P'!$C$10+'Neutrales P'!$B$14","v":{"v":15,"d":"15.00"}},{"$f":"'Neutrales P'!$C$10-'Neutrales P'!$B$14","v":{"v":5,"d":"5.00"}},{"v":7.500000000000001,"d":"7.50"},{"$f":"'Neutrales P'!$D$10","v":{"v":14,"d":"14.00"}},null,16,{"v":1.5,"d":"1.50"},{"v":90,"d":"90.00"},{"v":80,"d":"80.00"},{"$f":"((-1)*(($AV$28+'Males P'!$B$16)*$AV$27))+(($AV$27/$AV$26)*AU18)","v":{"v":20,"d":"20.00"}},{"$f":"((-1)*(($AV$28-'Males P'!$B$16)*$AV$27))+(($AV$27/$AV$26)*AU18)","v":{"v":140,"d":"140.00"}},{"v":60,"d":"60.00"},{"v":45,"d":"45.00"},{"v":20,"d":"20.00"},{"v":15,"d":"15.00"},null,17,{"v":16,"d":"16.00"},{"v":39.99999999999999,"d":"40.00"},{"v":2.5000000000000004,"d":"2.50"},{"v":3.750000000000001,"d":"3.75"},{"v":1.2500000000000002,"d":"1.25"},{"v":0.16666666666666666,"d":"0.2"},{"v":2.666666666666666,"d":"2.7"},{"v":15,"d":"15.0"},{"v":10.714285714285715,"d":"10.7"},{"v":6.666666666666667,"d":"6.7"},{"v":4.761904761904763,"d":"4.8"},{"v":0.047619047619047616,"d":"0.0"},{"v":0.7142857142857144,"d":"0.7"},null,16,{"v":1.4545454545454546,"d":"1.45"},{"v":290.90909090909093,"d":"290.91"},{"v":34.37499999999999,"d":"34.38"},{"v":53.71093749999999,"d":"53.71"},{"v":19.335937499999996,"d":"19.34"},{"v":200,"d":"200.00"},142.8571428571429,{"v":49.99999999999999,"d":"50.00"},35.714285714285715,null,17,{"v":16,"d":"16.00"},{"v":4.000000000000001,"d":"4.00"},{"v":4.3979400086720375,"d":"4.40"},{"v":6.3979400086720375,"d":"6.40"},{"v":2.3979400086720375,"d":"2.40"},0.8000000000000002,2,{"v":3.7591760034688155,"d":"3.76"},{"v":4.698970004336019,"d":"4.70"},1.6000000000000003,null,16,{"v":1.5000000000000004,"d":"1.50"},{"v":2.250000000000001,"d":"2.25"},{"v":5.882352941176468,"d":"5.88"},{"v":2.250000000000001,"d":"2.25"},{"v":7.294117647058822,"d":"7.29"},{"v":2.250000000000001,"d":"2.25"},{"v":4.470588235294116,"d":"4.47"},{"v":1.5,"d":"1.50"},{"v":5.999999999999999,"d":"6.00"},{"v":8,"d":"8.00"},{"v":1.1249999999999998,"d":"1.13"},0.7499999999999999,null,16,{"v":1.4545454545454546,"d":"1.45"},{"v":29.090909090909093,"d":"29.09"},{"v":3.4374999999999996,"d":"3.44"},{"v":4.125,"d":"4.13"},{"v":2.7499999999999996,"d":"2.75"},{"v":20,"d":"20.00"},14.999999999999998,{"v":5,"d":"5.00"},3.7499999999999996,null,16,{"v":1.4545454545454546,"d":"1.45"},{"v":72.72727272727273,"d":"72.73"},{"v":27.253941988015285,"d":"27.25"},{"v":19.552321953401545,"d":"19.55"},{"v":36.869293921021,"d":"36.87"},{"v":50,"d":"50.00"},37.50000000000001,{"v":29.859942891369492,"d":"29.86"},22.39495716852712,{"v":0.7500000000000001,"d":"0.8"},{"v":10,"d":"10.00"},71.5909090909091,{"v":15,"d":"15.00"},35.031114696891436,{"$nulls":52},{"v":0.7000000000000001,"d":"0.70"},{"v":14.000000000000002,"d":"14.00"},0,{"v":3.7416573867739418,"d":"3.74"},{"v":5.291502622129182,"d":"5.29"},{"v":6.480740698407861,"d":"6.48"},{"v":7.4833147735478835,"d":"7.48"},{"v":8.366600265340757,"d":"8.37"},{"v":9.16515138991168,"d":"9.17"},{"v":9.899494936611667,"d":"9.90"},{"v":10.583005244258363,"d":"10.58"},{"v":11.224972160321826,"d":"11.22"},{"v":11.832159566199232,"d":"11.83"},{"v":12.409673645990855,"d":"12.41"},{"v":12.96148139681572,"d":"12.96"},{"v":13.490737563232042,"d":"13.49"},{"v":14.000000000000004,"d":"14.00"},{"v":14.49137674618944,"d":"14.49"},{"v":14.966629547095767,"d":"14.97"},{"v":15.427248620541514,"d":"15.43"},{"v":15.874507866387548,"d":"15.87"},{"v":16.309506430300093,"d":"16.31"},{"v":16.733200530681515,"d":"16.73"}]
[17,{"v":0.8,"d":"0.80"},{"v":32,"d":"32.00"},{"$f":"('Sustitutos P'!$B$11*'Oculto P'!$C$27)-(('Oculto P'!$C$27/'Oculto P'!$C$26)*'Oculto P'!C19)","v":{"v":4,"d":"4.00"}},{"v":48,"d":"48.00"},{"$f":"(('Sustitutos P'!$B$11+'Sustitutos P'!$B$15)*'Oculto P'!$C$27)-(('Oculto P'!$C$27/'Oculto P'!$C$26)*'Oculto P'!E19)","v":{"v":6,"d":"6.00"}},{"v":16,"d":"16.00"},{"$f":"(('Sustitutos P'!$B$11-'Sustitutos P'!$B$15)*'Oculto P'!$C$27)-(('Oculto P'!$C$27/'Oculto P'!$C$26)*'Oculto P'!G19)","v":{"v":2,"d":"2.00"}},{"$f":"'Sustitutos P'!$D$11","v":{"v":40,"d":"40.00"}},{"v":0,"d":"0.00"},{"$f":"'Sustitutos P'!$F$11","v":0},{"v":32,"d":"32.00"},null,17,{"v":1.8,"d":"1.80"},{"v":8.799999999999999,"d":"8.80"},{"v":16,"d":"16.00"},{"v":4,"d":"4.00"},{"v":35.199999999999996,"d":"35.20"},{"v":9,"d":"9.00"},{"v":20,"d":"20.00"},{"v":5,"d":"5.00"},{"v":36,"d":"36.00"},{"v":8.599999999999996,"d":"8.60"},{"v":12,"d":"12.00"},{"v":3,"d":"3.00"},{"v":34.399999999999984,"d":"34.40"},0.05,0.8000000000000002,0.2,{"v":12.800000000000002,"d":"12.8"},{"v":4,"d":"4.0"},0.8,{"v":16,"d":"16.0"},null,17,{"v":1.6,"d":"1.60"},{"v":16,"d":"16.00"},{"$f":"'Neutrales P'!$C$10","v":{"v":10,"d":"10.00"}},{"$f":"'Neutrales P'!$C$10+'Neutrales P'!$B$14","v":{"v":15,"d":"15.00"}},{"$f":"'Neutrales P'!$C$10-'Neutrales P'!$B$14","v":{"v":5,"d":"5.00"}},{"v":8.000000000000002,"d":"8.00"},{"$f":"'Neutrales P'!$D$10","v":{"v":14,"d":"14.00"}},null,17,{"v":1.6,"d":"1.60"},{"v":96,"d":"96.00"},{"v":92,"d":"92.00"},{"$f":"((-1)*(($AV$28+'Males P'!$B$16)*$AV$27))+(($AV$27/$AV$26)*AU19)","v":{"v":32,"d":"32.00"}},{"$f":"((-1)*(($AV$28-'Males P'!$B$16)*$AV$27))+(($AV$27/$AV$26)*AU19)","v":{"v":152,"d":"152.00"}},{"v":60,"d":"60.00"},{"v":48,"d":"48.00"},{"v":20,"d":"20.00"},{"v":16,"d":"16.00"},null,18,{"v":17,"d":"17.00"},{"v":42.499999999999986,"d":"42.50"},{"v":2.352941176470589,"d":"2.35"},{"v":3.5294117647058836,"d":"3.53"},{"v":1.1764705882352946,"d":"1.18"},{"v":0.16666666666666666,"d":"0.2"},{"v":2.8333333333333326,"d":"2.8"},{"v":15,"d":"15.0"},{"v":11.42857142857143,"d":"11.4"},{"v":6.666666666666667,"d":"6.7"},{"v":5.079365079365081,"d":"5.1"},{"v":0.047619047619047616,"d":"0.0"},{"v":0.7619047619047621,"d":"0.8"},null,17,{"v":1.5454545454545454,"d":"1.55"},{"v":309.09090909090907,"d":"309.09"},{"v":32.352941176470594,"d":"32.35"},{"v":50.55147058823531,"d":"50.55"},{"v":18.19852941176471,"d":"18.20"},{"v":200,"d":"200.00"},152.3809523809524,{"v":49.99999999999999,"d":"50.00"},38.0952380952381,null,18,{"v":17,"d":"17.00"},{"v":4.250000000000001,"d":"4.25"},{"v":4.371611069949688,"d":"4.37"},{"v":6.371611069949688,"d":"6.37"},{"v":2.3716110699496884,"d":"2.37"},0.8500000000000002,2,{"v":3.994124503685617,"d":"3.99"},{"v":4.698970004336019,"d":"4.70"},1.7000000000000004,null,17,{"v":1.6000000000000005,"d":"1.60"},{"v":2.400000000000001,"d":"2.40"},{"v":5.545454545454545,"d":"5.55"},{"v":2.400000000000001,"d":"2.40"},{"v":6.909090909090908,"d":"6.91"},{"v":2.400000000000001,"d":"2.40"},{"v":4.181818181818181,"d":"4.18"},{"v":1.5,"d":"1.50"},{"v":6.3999999999999995,"d":"6.40"},{"v":8,"d":"8.00"},{"v":1.2,"d":"1.20"},0.7999999999999999,null,17,{"v":1.5454545454545454,"d":"1.55"},{"v":30.909090909090907,"d":"30.91"},{"v":3.235294117647059,"d":"3.24"},{"v":3.882352941176471,"d":"3.88"},{"v":2.588235294117647,"d":"2.59"},{"v":20,"d":"20.00"},15.999999999999998,{"v":5,"d":"5.00"},3.9999999999999996,null,17,{"v":1.5454545454545454,"d":"1.55"},{"v":77.27272727272727,"d":"77.27"},{"v":26.89199432478121,"d":"26.89"},{"v":19.417858913268468,"d":"19.42"},{"v":36.223335270406004,"d":"36.22"},{"v":50,"d":"50.00"},40.00000000000001,{"v":29.859942891369492,"d":"29.86"},23.887954313095598,{"v":0.8000000000000002,"d":"0.8"},{"v":10,"d":"10.00"},76.36363636363637,{"v":15,"d":"15.00"},37.366522343350866,{"$nulls":52},{"v":0.7500000000000001,"d":"0.75"},{"v":15.000000000000002,"d":"15.00"},0,{"v":3.872983346207417,"d":"3.87"},{"v":5.477225575051662,"d":"5.48"},{"v":6.708203932499369,"d":"6.71"},{"v":7.745966692414834,"d":"7.75"},{"v":8.660254037844387,"d":"8.66"},{"v":9.486832980505138,"d":"9.49"},{"v":10.2469507659596,"d":"10.25"},{"v":10.954451150103322,"d":"10.95"},{"v":11.618950038622252,"d":"11.62"},{"v":12.24744871391589,"d":"12.25"},{"v":12.845232578665128,"d":"12.85"},{"v":13.416407864998737,"d":"13.42"},{"v":13.96424004376894,"d":"13.96"},{"v":14.49137674618944,"d":"14.49"},{"$f":"$GB$3*$GE19^$GB$5*GU$3^$GB$7","v":{"v":15.000000000000002,"d":"15.00"}},{"v":15.491933384829668,"d":"15.49"},{"v":15.968719422671313,"d":"15.97"},{"v":16.431676725154986,"d":"16.43"},{"v":16.881943016134134,"d":"16.88"},{"v":17.320508075688775,"d":"17.32"}]
[18,0.85,{"v":34,"d":"34.00"},{"$f":"('Sustitutos P'!$B$11*'Oculto P'!$C$27)-(('Oculto P'!$C$27/'Oculto P'!$C$26)*'Oculto P'!C20)","v":{"v":3,"d":"3.00"}},{"v":51,"d":"51.00"},{"$f":"(('Sustitutos P'!$B$11+'Sustitutos P'!$B$15)*'Oculto P'!$C$27)-(('Oculto P'!$C$27/'Oculto P'!$C$26)*'Oculto P'!E20)","v":{"v":4.5,"d":"4.50"}},{"v":17,"d":"17.00"},{"$f":"(('Sustitutos P'!$B$11-'Sustitutos P'!$B$15)*'Oculto P'!$C$27)-(('Oculto P'!$C$27/'Oculto P'!$C$26)*'Oculto P'!G20)","v":{"v":1.5,"d":"1.50"}},{"$f":"'Sustitutos P'!$D$11","v":{"v":40,"d":"40.00"}},{"v":0,"d":"0.00"},{"$f":"'Sustitutos P'!$F$11","v":0},{"v":34,"d":"34.00"},null,18,1.85,{"v":9.1,"d":"9.10"},{"v":16,"d":"16.00"},{"v":4,"d":"4.00"},{"v":36.4,"d":"36.40"},9.25,{"v":20,"d":"20.00"},{"v":5,"d":"5.00"},{"v":37,"d":"37.00"},{"v":8.949999999999996,"d":"8.95"},{"v":12,"d":"12.00"},{"v":3,"d":"3.00"},{"v":35.79999999999998,"d":"35.80"},0.05,0.8500000000000002,0.15,{"v":13.600000000000003,"d":"13.6"},{"v":4,"d":"4.0"},0.6,{"v":16,"d":"16.0"},null,18,{"v":1.7,"d":"1.70"},{"v":17,"d":"17.00"},{"$f":"'Neutrales P'!$C$10","v":{"v":10,"d":"10.00"}},{"$f":"'Neutrales P'!$C$10+'Neutrales P'!$B$14","v":{"v":15,"d":"15.00"}},{"$f":"'Neutrales P'!$C$10-'Neutrales P'!$B$14","v":{"v":5,"d":"5.00"}},{"v":8.500000000000002,"d":"8.50"},{"$f":"'Neutrales P'!$D$10","v":{"v":14,"d":"14.00"}},null,18,{"v":1.7,"d":"1.70"},{"v":102,"d":"102.00"},{"v":104,"d":"104.00"},{"$f":"((-1)*(($AV$28+'Males P'!$B$16)*$AV$27))+(($AV$27/$AV$26)*AU20)","v":{"v":44,"d":"44.00"}},{"$f":"((-1)*(($AV$28-'Males P'!$B$16)*$AV$27))+(($AV$27/$AV$26)*AU20)","v":{"v":164,"d":"164.00"}},{"v":60,"d":"60.00"},{"v":51,"d":"51.00"},{"v":20,"d":"20.00"},{"v":17,"d":"17.00"},null,19,{"v":18,"d":"18.00"},{"v":44.999999999999986,"d":"45.00"},{"v":2.2222222222222228,"d":"2.22"},{"v":3.3333333333333344,"d":"3.33"},{"v":1.1111111111111114,"d":"1.11"},{"v":0.16666666666666666,"d":"0.2"},{"v":2.999999999999999,"d":"3.0"},{"v":15,"d":"15.0"},{"v":12.142857142857146,"d":"12.1"},{"v":6.666666666666667,"d":"6.7"},{"v":5.396825396825399,"d":"5.4"},{"v":0.047619047619047616,"d":"0.0"},{"v":0.8095238095238098,"d":"0.8"},null,18,{"v":1.6363636363636365,"d":"1.64"},{"v":327.2727272727273,"d":"327.27"},{"v":30.55555555555555,"d":"30.56"},{"v":47.74305555555554,"d":"47.74"},{"v":17.187499999999996,"d":"17.19"},{"v":200,"d":"200.00"},161.90476190476195,{"v":49.99999999999999,"d":"50.00"},40.47619047619048,null,19,{"v":18,"d":"18.00"},{"v":4.500000000000001,"d":"4.50"},{"v":4.346787486224656,"d":"4.35"},{"v":6.346787486224656,"d":"6.35"},{"v":2.346787486224656,"d":"2.35"},0.9000000000000002,2,{"v":4.229073003902418,"d":"4.23"},{"v":4.698970004336019,"d":"4.70"},1.8000000000000005,null,18,{"v":1.7000000000000006,"d":"1.70"},{"v":2.5500000000000007,"d":"2.55"},{"v":5.230769230769229,"d":"5.23"},{"v":2.5500000000000007,"d":"2.55"},{"v":6.5494505494505475,"d":"6.55"},{"v":2.5500000000000007,"d":"2.55"},{"v":3.912087912087911,"d":"3.91"},{"v":1.5,"d":"1.50"},{"v":6.8,"d":"6.80"},{"v":8,"d":"8.00"},{"v":1.275,"d":"1.28"},0.85,null,18,{"v":1.6363636363636365,"d":"1.64"},{"v":32.72727272727273,"d":"32.73"},{"v":3.055555555555556,"d":"3.06"},{"v":3.6666666666666665,"d":"3.67"},{"v":2.4444444444444446,"d":"2.44"},{"v":20,"d":"20.00"},17,{"v":5,"d":"5.00"},4.25,null,18,{"v":1.6363636363636365,"d":"1.64"},{"v":81.81818181818183,"d":"81.82"},{"v":26.563391994861828,"d":"26.56"},{"v":19.295783616854145,"d":"19.30"},{"v":35.63688717532219,"d":"35.64"},{"v":50,"d":"50.00"},42.50000000000001,{"v":29.859942891369492,"d":"29.86"},25.380951457664075,{"v":0.8500000000000002,"d":"0.9"},{"v":10,"d":"10.00"},81.13636363636365,{"v":15,"d":"15.00"},39.701929989810296,{"$nulls":52},{"v":0.8000000000000002,"d":"0.80"},{"v":16.000000000000004,"d":"16.00"},{"$f":"$GB$3*$GE20^$GB$5*GF$3^$GB$7","v":0},{"v":4,"d":"4.00"},{"v":5.656854249492381,"d":"5.66"},{"v":6.92820323027551,"d":"6.93"},{"v":8,"d":"8.00"},{"v":8.94427190999916,"d":"8.94"},{"v":9.797958971132712,"d":"9.80"},{"v":10.583005244258363,"d":"10.58"},{"v":11.31370849898476,"d":"11.31"},{"v":12,"d":"12.00"},{"v":12.649110640673516,"d":"12.65"},{"v":13.266499161421597,"d":"13.27"},{"v":13.856406460551018,"d":"13.86"},{"v":14.422205101855956,"d":"14.42"},{"v":14.966629547095767,"d":"14.97"},{"v":15.491933384829668,"d":"15.49"},{"$f":"$GB$3*$GE20^$GB$5*GV$3^$GB$7","v":{"v":16,"d":"16.00"}},{"v":16.492422502470642,"d":"16.49"},{"v":16.970562748477143,"d":"16.97"},{"v":17.435595774162696,"d":"17.44"},{"v":17.88854381999832,"d":"17.89"}]
[19,{"v":0.9,"d":"0.90"},{"v":36,"d":"36.00"},{"$f":"('Sustitutos P'!$B$11*'Oculto P'!$C$27)-(('Oculto P'!$C$27/'Oculto P'!$C$26)*'Oculto P'!C21)","v":{"v":2,"d":"2.00"}},{"v":54,"d":"54.00"},{"$f":"(('Sustitutos P'!$B$11+'Sustitutos P'!$B$15)*'Oculto P'!$C$27)-(('Oculto P'!$C$27/'Oculto P'!$C$26)*'Oculto P'!E21)","v":{"v":3,"d":"3.00"}},{"v":18,"d":"18.00"},{"$f":"(('Sustitutos P'!$B$11-'Sustitutos P'!$B$15)*'Oculto P'!$C$27)-(('Oculto P'!$C$27/'Oculto P'!$C$26)*'Oculto P'!G21)","v":{"v":1,"d":"1.00"}},{"$f":"'Sustitutos P'!$D$11","v":{"v":40,"d":"40.00"}},{"v":0,"d":"0.00"},{"$f":"'Sustitutos P'!$F$11","v":0},{"v":36,"d":"36.00"},null,19,{"v":1.9,"d":"1.90"},{"v":9.4,"d":"9.40"},{"v":16,"d":"16.00"},{"v":4,"d":"4.00"},{"v":37.6,"d":"37.60"},{"v":9.5,"d":"9.50"},{"v":20,"d":"20.00"},{"v":5,"d":"5.00"},{"v":38,"d":"38.00"},{"v":9.299999999999995,"d":"9.30"},{"v":12,"d":"12.00"},{"v":3,"d":"3.00"},{"v":37.19999999999998,"d":"37.20"},0.05,0.9000000000000002,0.1,{"v":14.400000000000004,"d":"14.4"},{"v":4,"d":"4.0"},0.4,{"v":16,"d":"16.0"},null,19,{"v":1.8,"d":"1.80"},{"v":18,"d":"18.00"},{"$f":"'Neutrales P'!$C$10","v":{"v":10,"d":"10.00"}},{"$f":"'Neutrales P'!$C$10+'Neutrales P'!$B$14","v":{"v":15,"d":"15.00"}},{"$f":"'Neutrales P'!$C$10-'Neutrales P'!$B$14","v":{"v":5,"d":"5.00"}},{"v":9.000000000000002,"d":"9.00"},{"$f":"'Neutrales P'!$D$10","v":{"v":14,"d":"14.00"}},null,19,{"v":1.8,"d":"1.80"},{"v":108,"d":"108.00"},{"v":116,"d":"116.00"},{"$f":"((-1)*(($AV$28+'Males P'!$B$16)*$AV$27))+(($AV$27/$AV$26)*AU21)","v":{"v":56,"d":"56.00"}},{"$f":"((-1)*(($AV$28-'Males P'!$B$16)*$AV$27))+(($AV$27/$AV$26)*AU21)","v":{"v":176,"d":"176.00"}},{"v":60,"d":"60.00"},{"v":54,"d":"54.00"},{"v":20,"d":"20.00"},{"v":18,"d":"18.00"},null,20,{"v":19,"d":"19.00"},{"v":47.499999999999986,"d":"47.50"},{"v":2.1052631578947376,"d":"2.11"},{"v":3.157894736842106,"d":"3.16"},{"v":1.0526315789473688,"d":"1.05"},{"v":0.16666666666666666,"d":"0.2"},{"v":3.1666666666666656,"d":"3.2"},{"v":15,"d":"15.0"},{"v":12.857142857142861,"d":"12.9"},{"v":6.666666666666667,"d":"6.7"},{"v":5.714285714285716,"d":"5.7"},{"v":0.047619047619047616,"d":"0.0"},{"v":0.8571428571428574,"d":"0.9"},null,19,{"v":1.7272727272727273,"d":"1.73"},{"v":345.45454545454544,"d":"345.45"},{"v":28.947368421052634,"d":"28.95"},{"v":45.23026315789474,"d":"45.23"},{"v":16.282894736842103,"d":"16.28"},{"v":200,"d":"200.00"},171.42857142857147,{"v":49.99999999999999,"d":"50.00"},42.85714285714287,null,20,{"v":19,"d":"19.00"},{"v":4.750000000000002,"d":"4.75"},{"v":4.323306390375134,"d":"4.32"},{"v":6.323306390375134,"d":"6.32"},{"v":2.323306390375133,"d":"2.32"},0.9500000000000003,2,{"v":4.464021504119219,"d":"4.46"},{"v":4.698970004336019,"d":"4.70"},1.9000000000000006,null,19,{"v":1.8000000000000007,"d":"1.80"},{"v":2.700000000000001,"d":"2.70"},{"v":4.936170212765956,"d":"4.94"},{"v":2.700000000000001,"d":"2.70"},{"v":6.212765957446806,"d":"6.21"},{"v":2.700000000000001,"d":"2.70"},{"v":3.6595744680851046,"d":"3.66"},{"v":1.5,"d":"1.50"},{"v":7.199999999999999,"d":"7.20"},{"v":8,"d":"8.00"},{"v":1.3499999999999999,"d":"1.35"},0.8999999999999999,null,19,{"v":1.7272727272727273,"d":"1.73"},{"v":34.54545454545455,"d":"34.55"},{"v":2.894736842105263,"d":"2.89"},{"v":3.4736842105263155,"d":"3.47"},{"v":2.3157894736842106,"d":"2.32"},{"v":20,"d":"20.00"},18,{"v":5,"d":"5.00"},4.5,null,19,{"v":1.7272727272727273,"d":"1.73"},{"v":86.36363636363636,"d":"86.36"},{"v":26.2632280924827,"d":"26.26"},{"v":19.184273155669032,"d":"19.18"},{"v":35.10119240770945,"d":"35.10"},{"v":50,"d":"50.00"},45.000000000000014,{"v":29.859942891369492,"d":"29.86"},26.87394860223255,{"v":0.9000000000000002,"d":"0.9"},{"v":10,"d":"10.00"},85.90909090909093,{"v":15,"d":"15.00"},42.037337636269726,{"$nulls":52},{"v":0.8500000000000002,"d":"0.85"},{"v":17.000000000000004,"d":"17.00"},0,{"v":4.123105625617661,"d":"4.12"},{"v":5.830951894845301,"d":"5.83"},{"v":7.14142842854285,"d":"7.14"},{"v":8.246211251235321,"d":"8.25"},{"v":9.219544457292887,"d":"9.22"},{"v":10.099504938362077,"d":"10.10"},{"v":10.908712114635716,"d":"10.91"},{"v":11.6619037896906,"d":"11.66"},{"v":12.36931687685298,"d":"12.37"},{"v":13.038404810405297,"d":"13.04"},{"v":13.674794331177342,"d":"13.67"},{"v":14.282856857085699,"d":"14.28"},{"v":14.866068747318504,"d":"14.87"},{"v":15.427248620541514,"d":"15.43"},{"v":15.968719422671313,"d":"15.97"},{"v":16.492422502470642,"d":"16.49"},{"v":17,"d":"17.00"},{"v":17.492855684535904,"d":"17.49"},{"v":17.972200755611432,"d":"17.97"},{"v":18.439088914585774,"d":"18.44"}]
[20,0.95,{"v":38,"d":"38.00"},{"$f":"('Sustitutos P'!$B$11*'Oculto P'!$C$27)-(('Oculto P'!$C$27/'Oculto P'!$C$26)*'Oculto P'!C22)","v":{"v":1,"d":"1.00"}},{"v":57,"d":"57.00"},{"$f":"(('Sustitutos P'!$B$11+'Sustitutos P'!$B$15)*'Oculto P'!$C$27)-(('Oculto P'!$C$27/'Oculto P'!$C$26)*'Oculto P'!E22)","v":{"v":1.5,"d":"1.50"}},{"v":19,"d":"19.00"},{"$f":"(('Sustitutos P'!$B$11-'Sustitutos P'!$B$15)*'Oculto P'!$C$27)-(('Oculto P'!$C$27/'Oculto P'!$C$26)*'Oculto P'!G22)","v":{"v":0.5,"d":"0.50"}},{"$f":"'Sustitutos P'!$D$11","v":{"v":40,"d":"40.00"}},{"v":0,"d":"0.00"},{"$f":"'Sustitutos P'!$F$11","v":0},{"v":38,"d":"38.00"},null,20,1.95,{"v":9.700000000000001,"d":"9.70"},{"v":16,"d":"16.00"},{"v":4,"d":"4.00"},{"v":38.800000000000004,"d":"38.80"},9.75,{"v":20,"d":"20.00"},{"v":5,"d":"5.00"},{"v":39,"d":"39.00"},{"v":9.649999999999995,"d":"9.65"},{"v":12,"d":"12.00"},{"v":3,"d":"3.00"},{"v":38.59999999999998,"d":"38.60"},0.05,0.9500000000000003,0.05,{"v":15.200000000000005,"d":"15.2"},{"v":4,"d":"4.0"},0.2,{"v":16,"d":"16.0"},null,20,{"v":1.9,"d":"1.90"},{"v":19,"d":"19.00"},{"$f":"'Neutrales P'!$C$10","v":{"v":10,"d":"10.00"}},{"$f":"'Neutrales P'!$C$10+'Neutrales P'!$B$14","v":{"v":15,"d":"15.00"}},{"$f":"'Neutrales P'!$C$10-'Neutrales P'!$B$14","v":{"v":5,"d":"5.00"}},{"v":9.500000000000004,"d":"9.50"},{"$f":"'Neutrales P'!$D$10","v":{"v":14,"d":"14.00"}},null,20,{"v":1.9,"d":"1.90"},{"v":114,"d":"114.00"},{"v":128,"d":"128.00"},{"$f":"((-1)*(($AV$28+'Males P'!$B$16)*$AV$27))+(($AV$27/$AV$26)*AU22)","v":{"v":68,"d":"68.00"}},{"$f":"((-1)*(($AV$28-'Males P'!$B$16)*$AV$27))+(($AV$27/$AV$26)*AU22)","v":{"v":188,"d":"188.00"}},{"v":60,"d":"60.00"},{"v":57,"d":"57.00"},{"v":20,"d":"20.00"},{"v":19,"d":"19.00"},null,21,{"v":20,"d":"20.00"},{"v":49.999999999999986,"d":"50.00"},{"v":2.0000000000000004,"d":"2.00"},{"v":3.000000000000001,"d":"3.00"},{"v":1.0000000000000002,"d":"1.00"},{"v":0.16666666666666666,"d":"0.2"},{"v":3.333333333333332,"d":"3.3"},{"v":15,"d":"15.0"},{"v":13.571428571428577,"d":"13.6"},{"v":6.666666666666667,"d":"6.7"},{"v":6.031746031746034,"d":"6.0"},{"v":0.047619047619047616,"d":"0.0"},{"v":0.9047619047619051,"d":"0.9"},null,20,{"v":1.8181818181818181,"d":"1.82"},{"v":363.6363636363636,"d":"363.64"},{"v":27.5,"d":"27.50"},{"v":42.96875,"d":"42.97"},{"v":15.468750000000002,"d":"15.47"},{"v":200,"d":"200.00"},180.95238095238102,{"v":49.99999999999999,"d":"50.00"},45.23809523809525,null,21,{"v":20,"d":"20.00"},{"v":5.000000000000001,"d":"5.00"},{"v":4.301029995663981,"d":"4.30"},{"v":6.301029995663981,"d":"6.30"},{"v":2.3010299956639813,"d":"2.30"},1.0000000000000002,2,{"v":4.69897000433602,"d":"4.70"},{"v":4.698970004336019,"d":"4.70"},2.0000000000000004,null,20,{"v":1.9000000000000008,"d":"1.90"},{"v":2.8500000000000014,"d":"2.85"},{"v":4.659793814432987,"d":"4.66"},{"v":2.8500000000000014,"d":"2.85"},{"v":5.896907216494842,"d":"5.90"},{"v":2.8500000000000014,"d":"2.85"},{"v":3.4226804123711316,"d":"3.42"},{"v":1.5,"d":"1.50"},{"v":7.6,"d":"7.60"},{"v":8,"d":"8.00"},{"v":1.4249999999999998,"d":"1.43"},0.95,null,20,{"v":1.8181818181818181,"d":"1.82"},{"v":36.36363636363636,"d":"36.36"},{"v":2.7500000000000004,"d":"2.75"},{"v":3.3000000000000003,"d":"3.30"},{"v":2.2,"d":"2.20"},{"v":20,"d":"20.00"},19,{"v":5,"d":"5.00"},4.75,null,20,{"v":1.8181818181818181,"d":"1.82"},{"v":90.9090909090909,"d":"90.91"},{"v":25.987557016918352,"d":"25.99"},{"v":19.08186174467682,"d":"19.08"},{"v":34.609209355811785,"d":"34.61"},{"v":50,"d":"50.00"},47.500000000000014,{"v":29.859942891369492,"d":"29.86"},28.366945746801026,{"v":0.9500000000000003,"d":"1.0"},{"v":10,"d":"10.00"},90.6818181818182,{"v":15,"d":"15.00"},44.372745282729156,{"$nulls":52},{"v":0.9000000000000002,"d":"0.90"},{"v":18.000000000000004,"d":"18.00"},0,{"v":4.242640687119286,"d":"4.24"},{"v":6.000000000000001,"d":"6.00"},{"v":7.348469228349535,"d":"7.35"},{"v":8.485281374238571,"d":"8.49"},{"v":9.48683298050514,"d":"9.49"},{"v":10.392304845413264,"d":"10.39"},{"v":11.224972160321826,"d":"11.22"},{"v":12,"d":"12.00"},{"v":12.727922061357857,"d":"12.73"},{"v":13.416407864998739,"d":"13.42"},{"v":14.071247279470288,"d":"14.07"},{"v":14.696938456699069,"d":"14.70"},{"v":15.297058540778355,"d":"15.30"},{"v":15.874507866387548,"d":"15.87"},{"v":16.431676725154986,"d":"16.43"},{"v":16.970562748477143,"d":"16.97"},{"v":17.492855684535904,"d":"17.49"},{"v":18.000000000000004,"d":"18.00"},{"v":18.493242008906932,"d":"18.49"},{"v":18.97366596101028,"d":"18.97"}]
[21,{"v":1,"d":"1.00"},{"v":40,"d":"40.00"},{"$f":"('Sustitutos P'!$B$11*'Oculto P'!$C$27)-(('Oculto P'!$C$27/'Oculto P'!$C$26)*'Oculto P'!C23)","v":0},{"v":60,"d":"60.00"},{"$f":"(('Sustitutos P'!$B$11+'Sustitutos P'!$B$15)*'Oculto P'!$C$27)-(('Oculto P'!$C$27/'Oculto P'!$C$26)*'Oculto P'!E23)","v":0},{"v":20,"d":"20.00"},{"$f":"(('Sustitutos P'!$B$11-'Sustitutos P'!$B$15)*'Oculto P'!$C$27)-(('Oculto P'!$C$27/'Oculto P'!$C$26)*'Oculto P'!G23)","v":0},{"$f":"'Sustitutos P'!$D$11","v":{"v":40,"d":"40.00"}},{"v":0,"d":"0.00"},{"$f":"'Sustitutos P'!$F$11","v":0},{"v":40,"d":"40.00"},null,21,{"v":2,"d":"2.00"},{"v":10.000000000000002,"d":"10.00"},{"v":16,"d":"16.00"},{"v":4,"d":"4.00"},{"v":40.00000000000001,"d":"40.00"},{"v":10,"d":"10.00"},{"v":20,"d":"20.00"},{"v":5,"d":"5.00"},{"v":40,"d":"40.00"},{"v":9.999999999999995,"d":"10.00"},{"v":12,"d":"12.00"},{"v":3,"d":"3.00"},{"v":39.99999999999998,"d":"40.00"},0.05,1.0000000000000002,0,{"v":16.000000000000004,"d":"16.0"},{"v":4,"d":"4.0"},0,{"v":16,"d":"16.0"},null,21,{"v":2,"d":"2.00"},{"v":20,"d":"20.00"},{"$f":"'Neutrales P'!$C$10","v":{"v":10,"d":"10.00"}},{"$f":"'Neutrales P'!$C$10+'Neutrales P'!$B$14","v":{"v":15,"d":"15.00"}},{"$f":"'Neutrales P'!$C$10-'Neutrales P'!$B$14","v":{"v":5,"d":"5.00"}},{"v":10.000000000000002,"d":"10.00"},{"$f":"'Neutrales P'!$D$10","v":{"v":14,"d":"14.00"}},null,21,{"v":2,"d":"2.00"},{"$f":"($AV$24)*AT23","v":{"v":120,"d":"120.00"}},{"v":140,"d":"140.00"},{"$f":"((-1)*(($AV$28+'Males P'!$B$16)*$AV$27))+(($AV$27/$AV$26)*AU23)","v":{"v":80,"d":"80.00"}},{"$f":"((-1)*(($AV$28-'Males P'!$B$16)*$AV$27))+(($AV$27/$AV$26)*AU23)","v":{"v":200,"d":"200.00"}},{"v":60,"d":"60.00"},{"v":60,"d":"60.00"},{"v":20,"d":"20.00"},{"v":20,"d":"20.00"},{"$nulls":13},{"v":0.047619047619047616,"d":"0.0"},{"v":1,"d":"1.0"},null,21,{"v":1.9090909090909092,"d":"1.91"},{"v":381.8181818181818,"d":"381.82"},{"v":26.19047619047619,"d":"26.19"},{"v":40.92261904761905,"d":"40.92"},{"v":14.732142857142858,"d":"14.73"},{"v":200,"d":"200.00"},200,{"v":49.99999999999999,"d":"50.00"},49.99999999999999,{"$nulls":13},21,{"v":2.000000000000001,"d":"2.00"},{"v":3.0000000000000013,"d":"3.00"},{"v":4.399999999999997,"d":"4.40"},{"v":3.0000000000000013,"d":"3.00"},{"v":5.599999999999997,"d":"5.60"},{"v":3.0000000000000013,"d":"3.00"},{"v":3.199999999999998,"d":"3.20"},{"v":1.5,"d":"1.50"},{"v":8,"d":"8.00"},{"v":8,"d":"8.00"},{"v":1.5,"d":"1.50"},1,null,21,{"v":1.9090909090909092,"d":"1.91"},{"v":38.18181818181819,"d":"38.18"},{"v":2.6190476190476186,"d":"2.62"},{"v":3.1428571428571423,"d":"3.14"},{"v":2.095238095238095,"d":"2.10"},{"v":20,"d":"20.00"},20,{"v":5,"d":"5.00"},5,null,21,{"v":1.9090909090909092,"d":"1.91"},{"v":95.45454545454545,"d":"95.45"},{"$f":"((DT$28/(($DQ23+DR$28)^(DR$27)))^(1/DT$27))-$DR$29","v":{"v":25.73316433214674,"d":"25.73"}},{"$f":"(((DT$28-DT$29)/(($DQ23+DR$28)^(DR$27)))^(1/DT$27))-$DR$29","v":{"v":18.98735522548461,"d":"18.99"}},{"$f":"(((DT$28+DT$29)/(($DQ23+DR$28)^(DR$27)))^(1/DT$27))-$DR$29","v":{"v":34.1552012986438,"d":"34.16"}},{"v":50,"d":"50.00"},{"$f":"DU23*DY23","v":50.000000000000014},{"v":29.859942891369492,"d":"29.86"},{"$f":"DW23*DY23","v":29.8599428913695},{"v":1.0000000000000002,"d":"1.00"},{"v":10,"d":"10.00"},95.45454545454547,{"v":15,"d":"15.00"},46.70815292918858,{"$nulls":52},{"v":0.9500000000000003,"d":"0.95"},{"v":19.000000000000007,"d":"19.00"},0,{"v":4.358898943540674,"d":"4.36"},{"v":6.164414002968978,"d":"6.16"},{"v":7.549834435270751,"d":"7.55"},{"v":8.717797887081348,"d":"8.72"},{"v":9.746794344808965,"d":"9.75"},{"v":10.677078252031311,"d":"10.68"},{"v":11.532562594670798,"d":"11.53"},{"v":12.328828005937954,"d":"12.33"},{"v":13.076696830622023,"d":"13.08"},{"v":13.784048752090222,"d":"13.78"},{"v":14.456832294800959,"d":"14.46"},{"v":15.0996688705415,"d":"15.10"},{"v":15.716233645501712,"d":"15.72"},{"v":16.309506430300093,"d":"16.31"},{"v":16.881943016134134,"d":"16.88"},{"v":17.435595774162696,"d":"17.44"},{"v":17.972200755611432,"d":"17.97"},{"v":18.493242008906932,"d":"18.49"},{"v":19.000000000000004,"d":"19.00"},{"v":19.49358868961793,"d":"19.49"}]
[{"$nulls":15},{"$f":"$R$38*O23","v":8},null,null,{"$f":"$T$38*O23","v":{"v":32,"d":"32.00"}},{"$nulls":4},{"$f":"$S$45*O23","v":{"v":6,"d":"6.00"}},null,null,{"$f":"$T$45*O23","v":{"v":24,"d":"24.00"}},{"$nulls":19},"x1",{"$f":"'Males P'!D12","v":{"v":60,"d":"60.00"}},{"$nulls":8},"k",{"$f":"'Regulares P'!B12","v":100},"Dk",{"$f":"'Regulares P'!B16","v":50},{"$nulls":22},"k",{"$f":"'Cuasilineales P'!B12","v":5},{"$nulls":101},{"$f":"GD23+$HA$3","v":{"v":1.0000000000000002,"d":"1.00"}},{"$f":"$GB$6*GD24","v":{"v":20.000000000000004,"d":"20.00"}},0,{"v":4.47213595499958,"d":"4.47"},{"v":6.324555320336759,"d":"6.32"},{"v":7.745966692414835,"d":"7.75"},{"v":8.94427190999916,"d":"8.94"},{"v":10.000000000000002,"d":"10.00"},{"v":10.954451150103322,"d":"10.95"},{"v":11.832159566199234,"d":"11.83"},{"v":12.649110640673516,"d":"12.65"},{"v":13.416407864998739,"d":"13.42"},{"v":14.14213562373095,"d":"14.14"},{"v":14.832396974191324,"d":"14.83"},{"v":15.491933384829668,"d":"15.49"},{"v":16.1245154965971,"d":"16.12"},{"v":16.733200530681515,"d":"16.73"},{"v":17.320508075688775,"d":"17.32"},{"v":17.88854381999832,"d":"17.89"},{"$f":"$GB$3*$GE24^$GB$5*GW$3^$GB$7","v":{"v":18.439088914585774,"d":"18.44"}},{"$f":"$GB$3*$GE24^$GB$5*GX$3^$GB$7","v":{"v":18.97366596101028,"d":"18.97"}},{"$f":"$GB$3*$GE24^$GB$5*GY$3^$GB$7","v":{"v":19.49358868961793,"d":"19.49"}},{"$f":"$GB$3*$GE24^$GB$5*GZ$3^$GB$7","v":{"v":20.000000000000004,"d":"20.00"}}]
[null,{"$f":"'Sustitutos P'!B11/'Sustitutos P'!C11","v":10},{"$f":"('Sustitutos P'!B11+'Sustitutos P'!B15)/'Sustitutos P'!C11","v":15},{"$nulls":12},{"$f":"(T23-P3)/20","v":{"v":0.3,"d":"0.30"}},null,null,{"$f":"(W23-S3)/20","v":{"v":1.2,"d":"1.20"}},{"$nulls":4},{"$f":"(T23-X3)/20","v":0.35},null,null,{"$f":"(W23-AA3)/20","v":{"v":1.4,"d":"1.40"}},{"$nulls":19},"x2",{"$f":"'Males P'!F12","v":{"v":20,"d":"20.00"}},{"$nulls":8},"a",{"$f":"'Regulares P'!C12","v":1},"b",{"$f":"'Regulares P'!E12","v":1},{"$nulls":22},"Dk",{"$f":"'Cuasilineales P'!B16","v":2},{"$nulls":10},{"$f":"'Sustitutos P'!CM11/'Sustitutos P'!CN11","v":{"$error":"#DIV/0!"}},{"$f":"('Sustitutos P'!CM11+'Sustitutos P'!CM15)/'Sustitutos P'!CN11","v":{"$error":"#DIV/0!"}}]
[null,"a",{"$f":"'Sustitutos P'!C11","v":2},{"$nulls":43},"a",{"$f":"'Males P'!C12","v":1},{"$nulls":3},{"$f":"((-1)*(AV28/AV27))+((AV26/AV27)*AY3)","v":{"v":5,"d":"5.00"}},{"$nulls":4},"x1",{"$f":"'Regulares P'!D12","v":15},"x2",{"$f":"BF24/(BF25*BH25*BF26)","v":6.666666666666667},{"$nulls":12},"x1",{"$f":"'Cobb-Douglas P'!C13","v":{"v":200,"d":"200.00"}},"x2",{"$f":"(BX28/(BV26^(BV27)))^(1/BX27)","v":{"v":49.99999999999999,"d":"50.00"}},{"$nulls":6},"x1",{"$f":"'Cuasilineales P'!C12","v":2},{"$nulls":10},"a",{"$f":"'CES P'!D11","v":2},{"$nulls":13},"x1",{"$f":"'Cobb-DouglasD1 P'!C13","v":{"v":20,"d":"20.00"}},"x2",{"$f":"(DI28/(DG26^(DG27)))^(1/DI27)","v":{"v":5,"d":"5.00"}},{"$nulls":7},"x1",{"$f":"'Stone-Geary P'!C13","v":{"v":50,"d":"50.00"}},"x2",{"$f":"((DT28/((DR26+DR28)^(DR27)))^(1/DT27))-DR29","v":{"v":29.859942891369492,"d":"29.86"}}]
[null,"b",{"$f":"'Sustitutos P'!E11","v":1},{"$nulls":3},{"$f":"E33*B33","v":20},{"$f":"E33/C33","v":0.5},{"$f":"D33","v":{"v":40,"d":"40.0"}},{"$nulls":37},"b",{"$f":"'Males P'!E12","v":2},{"$nulls":24},"a",{"$f":"'Cobb-Douglas P'!D13","v":{"v":0.5,"d":"0.50"}},"b",{"$f":"1-BV27","v":{"v":0.5,"d":"0.50"}},{"$nulls":6},"x2",{"$f":"CF24-(LOG(CF26))","v":{"v":4.698970004336019,"d":"4.70"}},{"$nulls":10},"b",{"$f":"'CES P'!F11","v":4},{"$nulls":13},"a",{"$f":"'Cobb-DouglasD1 P'!D13","v":{"v":1,"d":"1.00"}},"b",{"$f":"'Cobb-DouglasD1 P'!F13","v":{"v":1,"d":"1.00"}},{"$nulls":7},"a",{"$f":"'Stone-Geary P'!D13","v":{"v":0.3,"d":"0.30"}},"b",{"$f":"1-DR27","v":{"v":0.7,"d":"0.70"}},null,{"$f":"((DR27*(DT26+DR29))/(DT27*(DR26+DR29)))*-1","v":{"v":-0.18195848438411621,"d":"-0.18"}}]
[null,"RmgS",{"$f":"C27/C26*-1","v":{"v":-0.5,"d":"-0.50"}},{"$nulls":13},{"$f":"(Q13-Q12)/(P13-P12)","v":0},null,"x1/a",{"$f":"S34/R34","v":4},{"$nulls":17},{"$f":"(AM13-AM12)/(AL13-AL12)","v":0},{"$nulls":8},"k",{"$f":"'Males P'!B12","v":50},{"$nulls":9},{"$f":"(BH26/BF26)*-1","v":{"v":-0.4444444444444445,"d":"-0.44"}},{"$f":"BF3","v":{"v":2.5,"d":"2.50"}},{"$f":"(BG4-BG3)/(BF4-BF3)","v":{"v":-8,"d":"-8.00"}},{"$nulls":14},"k",{"$f":"'Cobb-Douglas P'!B13","v":{"v":100,"d":"100.00"}},{"$nulls":18},"x1",{"$f":"'CES P'!C11","v":1.5},{"$nulls":15},"k",{"$f":"'Cobb-DouglasD1 P'!B13","v":{"v":100,"d":"100.00"}},{"$nulls":7},"s1",{"$f":"'Stone-Geary P'!E15","v":{"v":-10,"d":"(10.00)"}},"k",{"$f":"'Stone-Geary P'!B13","v":{"v":20,"d":"20.00"}}]
[{"$nulls":16},{"$f":"(P13-P12)/(Q12-Q13)","v":{"$error":"#DIV/0!"}},null,"x2/b",{"$f":"U34/T34","v":4},{"$nulls":17},{"$f":"1/AL28","v":{"$error":"#DIV/0!"}},{"$nulls":8},{"$f":"AV27/AV26","v":{"v":2,"d":"2.00"}},{"$nulls":11},{"$f":"BF4","v":{"v":5,"d":"5.00"}},{"v":-2.6666666666666665,"d":"-2.67"},{"$nulls":12},{"$f":"((BV27*BX26)/(BX27*BV26))*-1","v":{"v":-0.24999999999999997,"d":"-0.25"}},null,"Dk",{"$f":"'Cobb-Douglas P'!B17","v":{"v":25,"d":"25.00"}},{"$nulls":6},{"$f":"1/CF26+-1","v":-0.5},{"$nulls":11},"x2",{"$f":"($CR$30+(($CR$26*$CR$27)*-1)+(($CR$27*CR28)*-1))/($CR$28+CR26)","v":8},{"$nulls":13},{"$f":"((DG27*DI26)/(DI27*DG26))*-1","v":-0.25},null,"Dk",{"$f":"'Cobb-DouglasD1 P'!B17","v":{"v":20,"d":"20.00"}},{"$nulls":7},"s2",{"$f":"'Stone-Geary P'!F15","v":{"v":-15,"d":"(15.00)"}},"Dk",{"$f":"'Stone-Geary P'!B17","v":{"v":10,"d":"10.00"}}]
[null,null,{"$f":"('Sustitutos P'!B11*'Sustitutos P'!E11)-(('Sustitutos P'!E11/'Sustitutos P'!C11)*'Sustitutos P'!D11)","v":0},{"$nulls":15},"min",{"$f":"MIN(T28:T29)","v":4},{"$nulls":38},{"v":7.5,"d":"7.50"},{"v":-1.3333333333333335,"d":"-1.33"},{"$nulls":34},"k",{"$f":"'CES P'!$B$11","v":42}]
[{"$nulls":58},{"v":10,"d":"10.00"},{"v":-0.7999999999999998,"d":"-0.80"},{"$nulls":34},"D k",{"$f":"'CES P'!B15","v":6}]
[null,"Nivel","a","x1","b","x2",{"$nulls":52},{"v":12.499999999999998,"d":"12.50"},{"v":-0.5333333333333335,"d":"-0.53"}]
[null,{"$f":"'Sustitutos P'!B11","v":{"v":20,"d":"20.0"}},{"$f":"'Sustitutos P'!C11","v":{"v":2,"d":"2.0"}},{"$f":"'Sustitutos P'!D11","v":{"v":40,"d":"40.0"}},{"$f":"'Sustitutos P'!E11","v":{"v":1,"d":"1.0"}},{"$f":"'Oculto P'!C52","v":{"v":0,"d":"0.0"}},{"$nulls":10},"Nivel","a","x1","b","x2",{"$nulls":37},{"v":14.999999999999998,"d":"15.00"},{"v":-0.38095238095238126,"d":"-0.38"},{"$nulls":34},"RmgS",{"$f":"((CR29+CR27)/(CR28+CR26))*-1","v":{"v":-3.4285714285714284,"d":"-3.43"}}]
[null,"Inserte los valores correspondientes de la curva u1 (original)",{"$nulls":14},{"$f":"MIN(S34,U34)","v":{"v":4,"d":"4.0"}},{"$f":"'Complementarios P'!C11","v":{"v":1,"d":"1.0"}},{"$f":"'Complementarios P'!D11","v":{"v":4,"d":"4.0"}},{"$f":"'Complementarios P'!E11","v":{"v":4,"d":"4.0"}},{"$f":"'Complementarios P'!F11","v":{"v":16,"d":"16.0"}},{"$nulls":37},{"v":17.499999999999996,"d":"17.50"},{"v":-0.2857142857142857,"d":"-0.29"}]
[{"$nulls":18},{"$f":"S34/R34","v":4},{"$f":"U34/T34","v":4},{"$nulls":38},{"v":20,"d":"20.00"},{"v":-0.22222222222222215,"d":"-0.22"}]
[null,"Cambio de nivel",{"$nulls":56},{"v":22.5,"d":"22.50"},{"v":-0.17777777777777787,"d":"-0.18"}]
[null,{"$f":"'Sustitutos P'!B15:C15","v":{"v":10,"d":"10.0"}},{"$nulls":16},"a/1","b/2",{"$nulls":38},{"v":25,"d":"25.00"},{"v":-0.14545454545454548,"d":"-0.15"}]
[{"$nulls":16},"min",{"$f":"MIN(S35:T35)","v":{"v":4,"d":"4.0"}},{"$f":"R38*R34","v":{"v":4,"d":"4.0"}},{"$f":"R38*T34","v":{"v":16,"d":"16.0"}},{"$nulls":38},{"v":27.500000000000004,"d":"27.50"},{"v":-0.1212121212121211,"d":"-0.12"}]
[{"$nulls":58},{"v":30,"d":"30.00"},{"v":-0.10256410256410256,"d":"-0.10"}]
[{"$nulls":16},"Cambio de Nivel",{"$nulls":41},{"v":32.5,"d":"32.50"},{"v":-0.08791208791208803,"d":"-0.09"},{"$nulls":58},{"$f":"(10-3)^(0.5)","v":2.6457513110645907}]
[{"$nulls":16},{"$f":"'Complementarios P'!B17","v":{"v":1,"d":"1.0"}},{"$nulls":41},{"v":34.99999999999999,"d":"35.00"},{"v":-0.07619047619047628,"d":"-0.08"},{"$nulls":58},{"$f":"(10^(0.5))-(3^(0.5))","v":1.4302268525995023}]
[{"$nulls":58},{"v":37.49999999999999,"d":"37.50"},{"v":-0.06666666666666661,"d":"-0.07"}]
[{"$nulls":18},"ax1","bx2",{"$nulls":38},{"v":39.99999999999999,"d":"40.00"},{"v":-0.05882352941176466,"d":"-0.06"}]
[{"$nulls":16},"min",{"$f":"R38+Q41","v":{"v":5,"d":"5.0"}},{"$f":"R44*R34","v":{"v":5,"d":"5.0"}},{"$f":"R44*T34","v":{"v":20,"d":"20.0"}},{"$nulls":38},{"v":42.499999999999986,"d":"42.50"},{"v":-0.05228758169934657,"d":"-0.05"}]
[{"$nulls":16},"min",{"$f":"R38-Q41","v":{"v":3,"d":"3.0"}},{"$f":"R45*R34","v":{"v":3,"d":"3.0"}},{"$f":"R45*T34","v":{"v":12,"d":"12.0"}},{"$nulls":38},{"v":44.999999999999986,"d":"45.00"},{"v":-0.04678362573099406,"d":"-0.05"}]
[{"$nulls":58},{"v":47.499999999999986,"d":"47.50"},{"v":-0.04210526315789487,"d":"-0.04"}]
[{"$nulls":58},{"v":49.999999999999986,"d":"50.00"},{"v":0.04000000000000002,"d":"0.04"}]

{"sheet":"Stone-Geary P","index":12,"n_rows":21,"n_cols":6,"rows_kept":21,"hidden":true,"merged":[[0,0,0,5],[2,0,2,5],[15,1,15,2],[16,1,16,2],[19,1,19,3],[20,1,20,3]]}
["CURVAS DE INDIFERENCIA"]
[]
["STONE-GEARY"]
{"$rows_empty":8}
[null,"Nivel","x1","a","x2","1-a"]
[null,{"v":20,"d":"20.0"},{"v":50,"d":"50.0"},0.3,{"$f":"'Oculto P'!DT26","v":{"v":29.859942891369492,"d":"29.9"}},{"$f":"'Oculto P'!DT27","v":0.7}]
[null,"Inserte los valores correspondientes",null,null,"s1","s2"]
[null," de la curva u1 (original)",null,null,{"v":-10,"d":"-10.0"},{"v":-15,"d":"-15.0"}]
[null,"Cambio de nivel"]
[null,{"v":10,"d":"10.0"}]
[null,"Inserte el nivel de las curvas de indiferencia en rosa y rojo"]
[]
[null,"Relación marginal de sustitución"]
[null,{"$f":"'Oculto P'!DV27","v":{"v":-0.18195848438411621,"d":"-0.2"}}]