{"text_format":"3","workbook":"xlsx","n_sheets":4,"sheets":["Inicio_EG 2x2","EOC2descentral","oculto_EOC","Hoja1"],"not_rendered":{"charts":3,"images":6,"macros":1},"read":"whole","date_system":"1900"}

{"sheet":"Inicio_EG 2x2","index":0,"n_rows":34,"n_cols":11,"rows_kept":34,"merged":[[24,0,24,2],[33,10,33,11]]}
{"$rows_empty":24}
["    Descargue la versión Kindle"]
{"$rows_empty":8}
[{"$nulls":10},"Miguel Cervantes Jiménez"]

{"sheet":"EOC2descentral","index":1,"n_rows":46,"n_cols":5,"rows_kept":46,"hidden":true,"merged":[[1,1,1,4],[1,17,1,20],[3,1,3,4],[3,17,3,20]]}
[]
[null,"EQUILIBRIO GENERAL:"]
[]
[null,"2 productores, 2 consumidores, 2 bienes y 2 factores"]
[null,"PRODUCTORES"]
[null,null,"Empresa C","Empresa D","Total"]
[null,"Dotación factor 1",{"v":84,"d":"84.0"},{"v":26,"d":"26.0"},{"$f":"oculto_EOC!F111","v":{"v":110,"d":"110.00"}}]
[null,"Dotación factor 2",{"v":20,"d":"20.0"},{"v":70,"d":"70.0"},{"$f":"oculto_EOC!F112","v":{"v":90,"d":"90.00"}}]
[null,"Parámetro tecnológico A",{"v":1,"d":"1.0"},{"v":1,"d":"1.0"}]
[null,"Producción",{"$f":"oculto_EOC!D113","v":{"v":54.61406450554765,"d":"54.6"}},{"$f":"oculto_EOC!E113","v":{"v":47.102956061245266,"d":"47.1"}}]
[null,"RTS",{"$f":"oculto_EOC!G111","v":{"v":0.5555555555555554,"d":"0.56"}},{"$f":"oculto_EOC!G112","v":{"v":1.794871794871795,"d":"1.79"}}]
[]
[null,"Demanda bruta factor 1",{"$f":"oculto_EOC!D114","v":{"v":69.99999999999999,"d":"70.00"}},{"$f":"oculto_EOC!E114","v":{"v":40,"d":"40.00"}},{"$f":"oculto_EOC!F114","v":{"v":109.99999999999999,"d":"110.00"}}]
[null,"Demanda bruta factor 2",{"$f":"oculto_EOC!D115","v":{"v":30.000000000000004,"d":"30.00"}},{"$f":"oculto_EOC!E115","v":{"v":60,"d":"60.00"}},{"$f":"oculto_EOC!F115","v":{"v":90,"d":"90.00"}}]
[null,"Producción",{"$f":"oculto_EOC!D116","v":{"v":54.28814526898251,"d":"54.29"}},{"$f":"oculto_EOC!E116","v":{"v":51.01698002503162,"d":"51.02"}}]
[null,"RTS",{"$f":"oculto_EOC!G114","v":{"v":1.0000000000000002,"d":"1.00"}},{"$f":"oculto_EOC!G115","v":{"v":1,"d":"1.00"}}]
[null,"RMT",{"$f":"oculto_EOC!D119","v":{"v":0.941575061486872,"d":"0.94"}}]
[]
[null,"Demanda neta factor 1",{"$f":"oculto_EOC!D117","v":{"v":-14.000000000000014,"d":"(14.00)"}},{"$f":"oculto_EOC!E117","v":{"v":14,"d":"14.00"}}]
[null,"Demanda neta factor 2",{"$f":"oculto_EOC!D118","v":{"v":10.000000000000004,"d":"10.00"}},{"$f":"oculto_EOC!E118","v":{"v":-10,"d":"(10.00)"}}]
[null,"Mejora en producción",{"$f":"C15-C10","v":{"v":-0.32591923656514155,"d":"(0.33)"}},{"$f":"D15-D10","v":{"v":3.914023963786356,"d":"3.91"}}]
[]
[null,"g",0.7]
[null,"1-g",{"$f":"oculto_EOC!D121","v":{"v":0.30000000000000004,"d":"0.3"}}]
[null,"d",null,0.4]
[null,"1-d",null,{"$f":"oculto_EOC!E123","v":0.6}]
[]
[null,"Max. Producción x1; x2=0",{"$f":"oculto_EOC!B132","v":{"v":103.57325676355602,"d":"103.57"}}]
[null,"Max. Producción x2; x1=0",{"$f":"oculto_EOC!B133","v":{"v":97.52199560554084,"d":"97.52"}}]
[]
[null,null,"Consum. A","Consum. B","Total"]
[null,"Demanda bruta bien 1",{"$f":"oculto_EOC!D46","v":{"v":32.5728871613895,"d":"32.57"}},{"$f":"oculto_EOC!E46","v":{"v":21.715258107593005,"d":"21.72"}},{"$f":"oculto_EOC!F46","v":{"v":54.288145268982504,"d":"54.29"}}]
[null,"Demanda bruta bien 2",{"$f":"oculto_EOC!D47","v":{"v":20.40679201001265,"d":"20.41"}},{"$f":"oculto_EOC!E47","v":{"v":30.61018801501897,"d":"30.61"}},{"$f":"oculto_EOC!F47","v":{"v":51.01698002503162,"d":"51.02"}}]
[null,"Utilidad",{"$f":"oculto_EOC!D48","v":{"v":27.016161768481158,"d":"27.02"}},{"$f":"oculto_EOC!E48","v":{"v":26.68244338367311,"d":"26.68"}}]
[null,"RMS",{"$f":"oculto_EOC!D60","v":{"v":0.9397443911973199,"d":"0.94"}},{"$f":"oculto_EOC!E60","v":{"v":0.9397443911973197,"d":"0.94"}}]
[]
[null,"CONSUMIDORES"]
[null,"a",0.6]
[null,"1-a",{"$f":"oculto_EOC!D53","v":0.4}]
[null,"b",null,0.4]
[null,"1-b",null,{"$f":"oculto_EOC!E55","v":0.6}]
[]
[null,"Títulos"]
[null,"Resultados"]
[null,"Insertar datos"]
[null,"Cantidad de equilibrio"]

{"sheet":"oculto_EOC","index":2,"n_rows":145,"n_cols":73,"rows_kept":145,"hidden":true}
[null,null,"CAJA DE EDGEWORTH"]
[{"$nulls":6},{"$f":"POWER((F58/(F44^D53)),1/D52)","v":17.683283746846747},{"$f":"($F$58/($G2^($D$52)))^(1/$D$53)","v":51.01698002503163},{"$f":"POWER((K50/(K44^D53)),1/D52)","v":5.617371357685168},{"$f":"($K$50/($I2^($D$52)))^(1/$D$53)","v":51.01698002503163},{"$f":"POWER((K61/(K55^D53)),1/D52)","v":12.207965261144233},{"$f":"($K$61/($K2^($D$52)))^(1/$D$53)","v":51.01698002503165},{"$f":"POWER((Q50/(Q44^D53)),1/D52)","v":27.675155627279423},{"$f":"($Q$50/($M2^($D$52)))^(1/$D$53)","v":51.01698002503165},{"$f":"POWER((Q61/(Q55^D53)),1/D52)","v":40.317946265896666},{"$f":"($Q$61/($O2^($D$52)))^(1/$D$53)","v":51.01698002503163},{"$f":"POWER((D45/(F44^D53)),1/D52)","v":17.683283746846747},{"$f":"($D$45/($Q2^($D$52)))^(1/$D$53)","v":51.01698002503163},{"$nulls":8},"ORIGINAL",{"$nulls":6},"MENOS 2",{"$nulls":6},"MENOS 1",{"$nulls":7},"MAS 1",{"$nulls":6},"MAS 2",{"$nulls":6},"DOTACIÓN"]
["Original","Original",{"$nulls":3},"Original",null,"Original","menos 2","menos 2","menos 1","menos 1","mas 1","mas 1","masn2","masn2",{"$nulls":3},"DOTACIÓN",{"$nulls":3},"OPTIMO",{"$nulls":3},"CAJA",{"$nulls":3},"ORIGINAL","ORIGINAL","NEGATIVO","NEGATIVO","TRANSFORMADA",null,null,"ORIGINAL","ORIGINAL","NEGATIVO","NEGATIVO","TRANSFORMADA",null,null,"ORIGINAL","ORIGINAL","NEGATIVO","NEGATIVO","TRANSFORMADA",{"$nulls":3},"ORIGINAL","ORIGINAL","NEGATIVO","NEGATIVO","TRANSFORMADA",null,null,"ORIGINAL","ORIGINAL","NEGATIVO","NEGATIVO","TRANSFORMADA",null,null,"ORIGINAL","ORIGINAL","NEGATIVO","NEGATIVO","TRANSFORMADA"]
["x1","x2","Unidades","ponderador",null,"x1","x1","x2","x1","x2","x1","x2","x1","x2","x1","x2","DOTA","DOTA",null,"x1linedotación",null,"x2line",null,"x1linedotación",null,"x2line",{"$nulls":5},"x1","x2","MENOS X1","MENOS X2","x1","x2",null,"x1","x2","MENOS X1","MENOS X2","x1","x2",null,"x1","x2","MENOS X1","MENOS X2","x1","x2",null,null,"x1","x2","MENOS X1","MENOS X2","x1","x2",null,"x1","x2","MENOS X1","MENOS X2","x1","x2",null,"x1","x2","MENOS X1","MENOS X2","x1","x2"]
[{"$f":"$D$46*E5","v":{"v":0.325728871613895,"d":"0.33"}},{"$f":"($F$58/($A5^($D$52)))^(1/$D$53)","v":{"v":20406.792010012654,"d":"20,406.79"}},1,0,0.01,{"$f":"IF($D$46*E5>$F$43,$F$43,$D$46*E5)","v":{"v":0.325728871613895,"d":"0.33"}},{"$f":"IF(($F$58/($F5^($D$52)))^(1/$D$53)>$F$44,$G$2,$F5)","v":{"v":17.683283746846747,"d":"17.68"}},{"$f":"($F$58/($G5^($D$52)))^(1/$D$53)","v":{"v":51.01698002503163,"d":"51.02"}},{"$f":"IF(($K$50/($F5^($D$52)))^(1/$D$53)>$F$44,$I$2,F5)","v":{"v":5.617371357685168,"d":"5.62"}},{"$f":"($K$50/($I5^($D$52)))^(1/$D$53)","v":{"v":51.01698002503163,"d":"51.02"}},{"$f":"IF(($K$61/($F5^($D$52)))^(1/$D$53)>$F$44,$K$2,F5)","v":{"v":12.207965261144233,"d":"12.21"}},{"$f":"($K$61/($K5^($D$52)))^(1/$D$53)","v":{"v":51.01698002503165,"d":"51.02"}},{"$f":"IF(($Q$50/($F5^($D$52)))^(1/$D$53)>$F$44,$M$2,F5)","v":{"v":27.675155627279423,"d":"27.68"}},{"$f":"($Q$50/(M5^($D$52)))^(1/$D$53)","v":{"v":51.01698002503165,"d":"51.02"}},{"$f":"IF(($Q$61/($F5^($D$52)))^(1/$D$53)>$F$44,$O$2,F5)","v":{"v":40.317946265896666,"d":"40.32"}},{"$f":"($Q$61/($O5^($D$52)))^(1/$D$53)","v":{"v":51.01698002503163,"d":"51.02"}},{"$f":"IF(($D$45/($F5^($D$52)))^(1/$D$53)>$F$44,$Q$2,F5)","v":17.683283746846747},{"$f":"($D$45/($Q5^($D$52)))^(1/$D$53)","v":{"v":51.01698002503163,"d":"51.02"}},{"$f":"IF(B5>$F$44,1,0)","v":1},{"$f":"D5*$F$43","v":0},{"$f":"$D$44","v":{"v":20.40679201001265,"d":"20.41"}},{"$f":"$D$43","v":{"v":32.5728871613895,"d":"32.57"}},{"$f":"$F$44*D5","v":0},{"$f":"$D$47","v":{"v":20.40679201001265,"d":"20.41"}},{"$f":"$D$46","v":{"v":32.5728871613895,"d":"32.57"}},{"$f":"$D$43","v":{"v":32.5728871613895,"d":"32.57"}},{"$f":"$F$44*J5","v":{"v":2602.732250874476,"d":"2,602.73"}},{"$f":"$F$43","v":{"v":54.288145268982504,"d":"54.29"}},{"$f":"$F$44","v":{"v":51.01698002503162,"d":"51.02"}},0,null,{"$f":"$E5*$E$46","v":{"v":0.21715258107593005,"d":"0.22"}},{"$f":"(($E$48)/(AF5^($E$54)))^(1/$E$55)","v":{"v":659.4765092795509,"d":"659.48"}},{"$f":"AF5*-1","v":{"v":-0.21715258107593005,"d":"-0.22"}},{"v":-659.4765092795509,"d":"-659.48"},{"$f":"AH5+($AF$15*2)+($D$46-$E$46)","v":{"v":54.07099268790658,"d":"54.07"}},{"$f":"AI5+($E$47*2)+($D$47-$E$47)","v":{"v":-608.4595292545192,"d":"-608.46"}},null,{"$f":"$E5*$AM$48","v":{"v":0.36521115908224594,"d":"0.37"}},{"$f":"(($AM$50)/(AM5^($E$54)))^(1/$E$55)","v":{"v":903.7270682719775,"d":"903.73"}},{"$f":"AM5*-1","v":{"v":-0.36521115908224594,"d":"-0.37"}},{"v":-903.7270682719775,"d":"-903.73"},{"$f":"AO5+($AM$15*2)+($AL$48-$AM$48)","v":{"v":53.922934109900254,"d":"53.92"}},{"$f":"AP5+($AN$15*2)+($AL$49-$AM$49)","v":{"v":-852.7100882469459,"d":"-852.71"}},null,{"$f":"$E5*$AM$59","v":{"v":0.27331273135418777,"d":"0.27"}},{"$f":"(($AM$61)/(AT5^($E$54)))^(1/$E$55)","v":{"v":764.155320276305,"d":"764.16"}},{"$f":"AT5*-1","v":{"v":-0.27331273135418777,"d":"-0.27"}},{"v":-764.155320276305,"d":"-764.16"},{"$f":"AV5+($AT$15*2)+($AL$59-$AM$59)","v":{"v":54.014832537628315,"d":"54.01"}},{"$f":"AW5+($AU$15*2)+($AL$60-$AM$60)","v":{"v":-713.1383402512733,"d":"-713.14"}},null,null,{"$f":"$E5*$BC$48","v":{"v":0.13818800613922821,"d":"0.14"}},{"$f":"(($BC$50)/(BB5^($E$54)))^(1/$E$55)","v":{"v":477.55195499553685,"d":"477.55"}},{"$f":"BB5*-1","v":{"v":-0.13818800613922821,"d":"-0.14"}},{"v":-477.55195499553685,"d":"-477.55"},{"$f":"BD5+($BB$15*2)+($BB$48-$BC$48)","v":{"v":54.14995726284328,"d":"54.15"}},{"$f":"BE5+($BC$15*2)+($BB$49-$BC$49)","v":{"v":-426.53497497050523,"d":"-426.53"}},null,{"$f":"$E5*$BC$59","v":{"v":0.0633361694804796,"d":"0.06"}},{"$f":"(($BC$61)/(BI5^($E$54)))^(1/$E$55)","v":{"v":251.8001217249195,"d":"251.80"}},{"$f":"BI5*-1","v":{"v":-0.0633361694804796,"d":"-0.06"}},{"v":-251.8001217249195,"d":"-251.80"},{"$f":"BK5+($BI$15*2)+($BB$59-$BC$59)","v":{"v":54.224809099502025,"d":"54.22"}},{"$f":"BL5+($BJ$15*2)+($BB$60-$BC$60)","v":{"v":-200.7831416998879,"d":"-200.78"}},null,{"$f":"E5*BL46","v":{"v":0.21715258107593005,"d":"0.22"}},{"$f":"(($BL$48)/(BP5^($E$54)))^(1/$E$55)","v":{"v":659.4765092795509,"d":"659.48"}},{"$f":"BP5*-1","v":{"v":-0.21715258107593005,"d":"-0.22"}},{"v":-659.4765092795509,"d":"-659.48"},{"$f":"BR5+($BP$15*2)+($BK$46-$BL$46)","v":{"v":54.07099268790658,"d":"54.07"}},{"$f":"BS5+($BQ$15*2)+($BK$47-$BL$47)","v":{"v":-608.4595292545192,"d":"-608.46"}}]
[{"v":3.2572887161389503,"d":"3.26"},{"v":645.319424889656,"d":"645.32"},2,0.01,{"v":0.1,"d":"0.10"},{"v":3.2572887161389503,"d":"3.26"},{"v":17.683283746846747,"d":"17.68"},{"v":51.01698002503163,"d":"51.02"},{"$f":"IF(($K$50/($F6^($D$52)))^(1/$D$53)>$F$44,$I$2,F6)","v":{"v":5.617371357685168,"d":"5.62"}},{"v":51.01698002503163,"d":"51.02"},{"$f":"IF(($K$61/($F6^($D$52)))^(1/$D$53)>$F$44,$K$2,F6)","v":{"v":12.207965261144233,"d":"12.21"}},{"v":51.01698002503165,"d":"51.02"},{"$f":"IF(($Q$50/($F6^($D$52)))^(1/$D$53)>$F$44,$M$2,F6)","v":{"v":27.675155627279423,"d":"27.68"}},{"v":51.01698002503165,"d":"51.02"},{"$f":"IF(($Q$61/($F6^($D$52)))^(1/$D$53)>$F$44,$O$2,F6)","v":{"v":40.317946265896666,"d":"40.32"}},{"v":51.01698002503163,"d":"51.02"},{"$f":"IF(($D$45/($F6^($D$52)))^(1/$D$53)>$F$44,$Q$2,F6)","v":17.683283746846747},{"v":51.01698002503163,"d":"51.02"},1,{"v":0.542881452689825,"d":"0.54"},{"v":20.40679201001265,"d":"20.41"},{"v":32.5728871613895,"d":"32.57"},{"v":0.5101698002503162,"d":"0.51"},{"$f":"$D$47","v":{"v":20.40679201001265,"d":"20.41"}},{"v":32.5728871613895,"d":"32.57"},{"v":32.5728871613895,"d":"32.57"},{"v":2602.732250874476,"d":"2,602.73"},{"v":54.288145268982504,"d":"54.29"},{"v":51.01698002503162,"d":"51.02"},0,null,{"v":2.1715258107593005,"d":"2.17"},{"v":142.07990688529978,"d":"142.08"},{"v":-2.1715258107593005,"d":"-2.17"},{"v":-142.07990688529978,"d":"-142.08"},{"v":52.11661945822321,"d":"52.12"},{"v":-91.06292686026816,"d":"-91.06"},null,{"v":3.6521115908224595,"d":"3.65"},{"v":194.7020946205959,"d":"194.70"},{"v":-3.6521115908224595,"d":"-3.65"},{"v":-194.7020946205959,"d":"-194.70"},{"v":50.63603367816005,"d":"50.64"},{"v":-143.6851145955643,"d":"-143.69"},null,{"v":2.733127313541878,"d":"2.73"},{"v":164.63227305756956,"d":"164.63"},{"v":-2.733127313541878,"d":"-2.73"},{"v":-164.63227305756956,"d":"-164.63"},{"v":51.555017955440626,"d":"51.56"},{"v":-113.61529303253792,"d":"-113.62"},null,null,{"v":1.3818800613922821,"d":"1.38"},{"v":102.88544981349303,"d":"102.89"},{"v":-1.3818800613922821,"d":"-1.38"},{"v":-102.88544981349303,"d":"-102.89"},{"v":52.906265207590224,"d":"52.91"},{"v":-51.8684697884614,"d":"-51.87"},null,{"v":0.633361694804796,"d":"0.63"},{"v":54.248691719841744,"d":"54.25"},{"v":-0.633361694804796,"d":"-0.63"},{"v":-54.248691719841744,"d":"-54.25"},{"v":53.654783574177706,"d":"53.65"},{"v":-3.231711694810123,"d":"-3.23"},null,{"$f":"E6*$BL$46","v":{"v":2.1715258107593005,"d":"2.17"}},{"v":142.07990688529978,"d":"142.08"},{"v":-2.1715258107593005,"d":"-2.17"},{"v":-142.07990688529978,"d":"-142.08"},{"v":52.11661945822321,"d":"52.12"},{"v":-91.06292686026816,"d":"-91.06"}]
[{"v":6.514577432277901,"d":"6.51"},{"v":228.1548706854391,"d":"228.15"},3,{"v":0.1,"d":"0.10"},{"v":0.2,"d":"0.20"},{"v":6.514577432277901,"d":"6.51"},{"v":17.683283746846747,"d":"17.68"},{"v":51.01698002503163,"d":"51.02"},{"v":6.514577432277901,"d":"6.51"},{"v":40.849342846352826,"d":"40.85"},{"v":12.207965261144233,"d":"12.21"},{"v":51.01698002503165,"d":"51.02"},{"v":27.675155627279423,"d":"27.68"},{"v":51.01698002503165,"d":"51.02"},{"v":40.317946265896666,"d":"40.32"},{"v":51.01698002503163,"d":"51.02"},17.683283746846747,{"v":51.01698002503163,"d":"51.02"},1,{"v":5.42881452689825,"d":"5.43"},{"v":20.40679201001265,"d":"20.41"},{"v":32.5728871613895,"d":"32.57"},{"v":5.101698002503163,"d":"5.10"},{"v":20.40679201001265,"d":"20.41"},{"v":32.5728871613895,"d":"32.57"},{"v":32.5728871613895,"d":"32.57"},{"v":2084.0101080280506,"d":"2,084.01"},{"v":54.288145268982504,"d":"54.29"},{"v":51.01698002503162,"d":"51.02"},0,null,{"v":4.343051621518601,"d":"4.34"},{"v":89.50473272594641,"d":"89.50"},{"v":-4.343051621518601,"d":"-4.34"},{"v":-89.50473272594641,"d":"-89.50"},{"v":49.94509364746391,"d":"49.95"},{"v":-38.48775270091479,"d":"-38.49"},null,{"v":7.304223181644919,"d":"7.30"},{"v":122.654633735556,"d":"122.65"},{"v":-7.304223181644919,"d":"-7.30"},{"v":-122.654633735556,"d":"-122.65"},{"v":46.98392208733759,"d":"46.98"},{"v":-71.63765371052443,"d":"-71.64"},null,{"v":5.466254627083756,"d":"5.47"},{"v":103.71183315863621,"d":"103.71"},{"v":-5.466254627083756,"d":"-5.47"},{"v":-103.71183315863621,"d":"-103.71"},{"v":48.82189064189875,"d":"48.82"},{"v":-52.694853133604575,"d":"-52.69"},null,null,{"v":2.7637601227845643,"d":"2.76"},{"v":64.81377197396118,"d":"64.81"},{"v":-2.7637601227845643,"d":"-2.76"},{"v":-64.81377197396118,"d":"-64.81"},{"v":51.52438514619794,"d":"51.52"},{"v":-13.796791948929553,"d":"-13.80"},null,{"v":1.266723389609592,"d":"1.27"},{"v":34.17453431354316,"d":"34.17"},{"v":-1.266723389609592,"d":"-1.27"},{"v":-34.17453431354316,"d":"-34.17"},{"v":53.02142187937291,"d":"53.02"},{"v":16.84244571148846,"d":"16.84"},null,{"v":4.343051621518601,"d":"4.34"},{"v":89.50473272594641,"d":"89.50"},{"v":-4.343051621518601,"d":"-4.34"},{"v":-89.50473272594641,"d":"-89.50"},{"v":49.94509364746391,"d":"49.95"},{"v":-38.48775270091479,"d":"-38.49"}]
[{"v":9.77186614841685,"d":"9.77"},{"v":124.19178122444579,"d":"124.19"},4,0.15,{"v":0.3,"d":"0.30"},{"v":9.77186614841685,"d":"9.77"},{"v":17.683283746846747,"d":"17.68"},{"v":51.01698002503163,"d":"51.02"},{"v":9.77186614841685,"d":"9.77"},{"v":22.235565844794365,"d":"22.24"},{"v":12.207965261144233,"d":"12.21"},{"v":51.01698002503165,"d":"51.02"},{"v":27.675155627279423,"d":"27.68"},{"v":51.01698002503165,"d":"51.02"},{"v":40.317946265896666,"d":"40.32"},{"v":51.01698002503163,"d":"51.02"},17.683283746846747,{"v":51.01698002503163,"d":"51.02"},1,{"v":8.143221790347376,"d":"8.14"},{"v":20.40679201001265,"d":"20.41"},{"v":32.5728871613895,"d":"32.57"},{"v":7.6525470037547425,"d":"7.65"},{"v":20.40679201001265,"d":"20.41"},{"v":32.5728871613895,"d":"32.57"},{"v":32.5728871613895,"d":"32.57"},{"v":1134.3914185491494,"d":"1,134.39"},{"v":54.288145268982504,"d":"54.29"},{"v":51.01698002503162,"d":"51.02"},0,null,{"v":6.5145774322779015,"d":"6.51"},{"v":68.30489488488011,"d":"68.30"},{"v":-6.5145774322779015,"d":"-6.51"},{"v":-68.30489488488011,"d":"-68.30"},{"v":47.7735678367046,"d":"47.77"},{"v":-17.28791485984849,"d":"-17.29"},null,{"v":10.956334772467377,"d":"10.96"},{"v":93.60300410150224,"d":"93.60"},{"v":-10.956334772467377,"d":"-10.96"},{"v":-93.60300410150224,"d":"-93.60"},{"v":43.331810496515125,"d":"43.33"},{"v":-42.586024076470665,"d":"-42.59"},null,{"v":8.199381940625633,"d":"8.20"},{"v":79.14694169200386,"d":"79.15"},{"v":-8.199381940625633,"d":"-8.20"},{"v":-79.14694169200386,"d":"-79.15"},{"v":46.08876332835687,"d":"46.09"},{"v":-28.12996166697223,"d":"-28.13"},null,null,{"v":4.145640184176846,"d":"4.15"},{"v":49.46216526146486,"d":"49.46"},{"v":-4.145640184176846,"d":"-4.15"},{"v":-49.46216526146486,"d":"-49.46"},{"v":50.14250508480566,"d":"50.14"},{"v":1.5548147635667675,"d":"1.55"},null,{"v":1.9000850844143877,"d":"1.90"},{"v":26.080050774226958,"d":"26.08"},{"v":-1.9000850844143877,"d":"-1.90"},{"v":-26.080050774226958,"d":"-26.08"},{"v":52.38806018456811,"d":"52.39"},{"v":24.936929250804663,"d":"24.94"},null,{"v":6.5145774322779015,"d":"6.51"},{"v":68.30489488488011,"d":"68.30"},{"v":-6.5145774322779015,"d":"-6.51"},{"v":-68.30489488488011,"d":"-68.30"},{"v":47.7735678367046,"d":"47.77"},{"v":-17.28791485984849,"d":"-17.29"}]
[{"v":13.029154864555801,"d":"13.03"},{"v":80.66492811120699,"d":"80.66"},5,{"v":0.2,"d":"0.20"},{"v":0.4,"d":"0.40"},{"v":13.029154864555801,"d":"13.03"},{"v":17.683283746846747,"d":"17.68"},{"v":51.01698002503163,"d":"51.02"},{"v":13.029154864555801,"d":"13.03"},{"v":14.442423666835131,"d":"14.44"},{"v":13.029154864555801,"d":"13.03"},{"v":46.27061849779497,"d":"46.27"},{"v":27.675155627279423,"d":"27.68"},{"v":51.01698002503165,"d":"51.02"},{"v":40.317946265896666,"d":"40.32"},{"v":51.01698002503163,"d":"51.02"},17.683283746846747,{"v":51.01698002503163,"d":"51.02"},1,{"v":10.8576290537965,"d":"10.86"},{"v":20.40679201001265,"d":"20.41"},{"v":32.5728871613895,"d":"32.57"},{"v":10.203396005006326,"d":"10.20"},{"v":20.40679201001265,"d":"20.41"},{"v":32.5728871613895,"d":"32.57"},{"v":32.5728871613895,"d":"32.57"},{"v":736.8088397239718,"d":"736.81"},{"v":54.288145268982504,"d":"54.29"},{"v":51.01698002503162,"d":"51.02"},0,null,{"v":8.686103243037202,"d":"8.69"},{"v":56.38444841331719,"d":"56.38"},{"v":-8.686103243037202,"d":"-8.69"},{"v":-56.38444841331719,"d":"-56.38"},{"v":45.60204202594531,"d":"45.60"},{"v":-5.367468388285566,"d":"-5.37"},null,{"v":14.608446363289838,"d":"14.61"},{"v":77.2675774552864,"d":"77.27"},{"v":-14.608446363289838,"d":"-14.61"},{"v":-77.2675774552864,"d":"-77.27"},{"v":39.67969890569267,"d":"39.68"},{"v":-26.250597430254828,"d":"-26.25"},null,{"v":10.932509254167512,"d":"10.93"},{"v":65.3343608598754,"d":"65.33"},{"v":-10.932509254167512,"d":"-10.93"},{"v":-65.3343608598754,"d":"-65.33"},{"v":43.35563601481499,"d":"43.36"},{"v":-14.317380834843767,"d":"-14.32"},null,null,{"v":5.527520245569129,"d":"5.53"},{"v":40.830117816540024,"d":"40.83"},{"v":-5.527520245569129,"d":"-5.53"},{"v":-40.830117816540024,"d":"-40.83"},{"v":48.76062502341338,"d":"48.76"},{"v":10.186862208491604,"d":"10.19"},null,{"v":2.533446779219184,"d":"2.53"},{"v":21.52860757599384,"d":"21.53"},{"v":-2.533446779219184,"d":"-2.53"},{"v":-21.52860757599384,"d":"-21.53"},{"v":51.754698489763314,"d":"51.75"},{"v":29.488372449037783,"d":"29.49"},null,{"v":8.686103243037202,"d":"8.69"},{"v":56.38444841331719,"d":"56.38"},{"v":-8.686103243037202,"d":"-8.69"},{"v":-56.38444841331719,"d":"-56.38"},{"v":45.60204202594531,"d":"45.60"},{"v":-5.367468388285566,"d":"-5.37"}]
[{"v":16.28644358069475,"d":"16.29"},{"v":57.71912405017359,"d":"57.72"},6,0.25,{"v":0.5,"d":"0.50"},{"v":16.28644358069475,"d":"16.29"},{"v":17.683283746846747,"d":"17.68"},{"v":51.01698002503163,"d":"51.02"},{"v":16.28644358069475,"d":"16.29"},{"v":10.334157145246442,"d":"10.33"},{"v":16.28644358069475,"d":"16.29"},{"v":33.10855946304919,"d":"33.11"},{"v":27.675155627279423,"d":"27.68"},{"v":51.01698002503165,"d":"51.02"},{"v":40.317946265896666,"d":"40.32"},{"v":51.01698002503163,"d":"51.02"},17.683283746846747,{"v":51.01698002503163,"d":"51.02"},1,{"v":13.572036317245626,"d":"13.57"},{"v":20.40679201001265,"d":"20.41"},{"v":32.5728871613895,"d":"32.57"},{"v":12.754245006257905,"d":"12.75"},{"v":20.40679201001265,"d":"20.41"},{"v":32.5728871613895,"d":"32.57"},{"v":32.5728871613895,"d":"32.57"},{"v":527.2174886545755,"d":"527.22"},{"v":54.288145268982504,"d":"54.29"},{"v":51.01698002503162,"d":"51.02"},0,null,{"v":10.857629053796503,"d":"10.86"},{"v":48.59064465598548,"d":"48.59"},{"v":-10.857629053796503,"d":"-10.86"},{"v":-48.59064465598548,"d":"-48.59"},{"v":43.430516215186,"d":"43.43"},{"v":2.426335369046143,"d":"2.43"},null,{"v":18.260557954112297,"d":"18.26"},{"v":66.58717971375786,"d":"66.59"},{"v":-18.260557954112297,"d":"-18.26"},{"v":-66.58717971375786,"d":"-66.59"},{"v":36.0275873148702,"d":"36.03"},{"v":-15.57019968872629,"d":"-15.57"},null,{"v":13.665636567709388,"d":"13.67"},{"v":56.303445395030764,"d":"56.30"},{"v":-13.665636567709388,"d":"-13.67"},{"v":-56.303445395030764,"d":"-56.30"},{"v":40.62250870127312,"d":"40.62"},{"v":-5.286465369999128,"d":"-5.29"},null,null,{"v":6.909400306961411,"d":"6.91"},{"v":35.18632888881708,"d":"35.19"},{"v":-6.909400306961411,"d":"-6.91"},{"v":-35.18632888881708,"d":"-35.19"},{"v":47.3787449620211,"d":"47.38"},{"v":15.830651136214549,"d":"15.83"},null,{"v":3.1668084740239797,"d":"3.17"},{"v":18.55279159592174,"d":"18.55"},{"v":-3.1668084740239797,"d":"-3.17"},{"v":-18.55279159592174,"d":"-18.55"},{"v":51.12133679495852,"d":"51.12"},{"v":32.46418842910988,"d":"32.46"},null,{"v":10.857629053796503,"d":"10.86"},{"v":48.59064465598548,"d":"48.59"},{"v":-10.857629053796503,"d":"-10.86"},{"v":-48.59064465598548,"d":"-48.59"},{"v":43.430516215186,"d":"43.43"},{"v":2.426335369046143,"d":"2.43"}]
[{"v":19.5437322968337,"d":"19.54"},{"v":43.90842533572092,"d":"43.91"},7,{"v":0.3,"d":"0.30"},{"v":0.6,"d":"0.60"},{"v":19.5437322968337,"d":"19.54"},{"v":19.5437322968337,"d":"19.54"},{"v":43.90842533572092,"d":"43.91"},{"v":19.5437322968337,"d":"19.54"},{"v":7.861459696187039,"d":"7.86"},{"v":19.5437322968337,"d":"19.54"},{"v":25.186534533907196,"d":"25.19"},{"v":27.675155627279423,"d":"27.68"},{"v":51.01698002503165,"d":"51.02"},{"v":40.317946265896666,"d":"40.32"},{"v":51.01698002503163,"d":"51.02"},19.5437322968337,{"v":43.90842533572092,"d":"43.91"},0,{"v":16.28644358069475,"d":"16.29"},{"v":20.40679201001265,"d":"20.41"},{"v":32.5728871613895,"d":"32.57"},{"v":15.305094007509485,"d":"15.31"},{"v":20.40679201001265,"d":"20.41"},{"v":32.5728871613895,"d":"32.57"},{"v":32.5728871613895,"d":"32.57"},{"v":401.06793228796533,"d":"401.07"},{"v":54.288145268982504,"d":"54.29"},{"v":51.01698002503162,"d":"51.02"},0,null,{"v":13.029154864555803,"d":"13.03"},{"v":43.0293874381585,"d":"43.03"},{"v":-13.029154864555803,"d":"-13.03"},{"v":-43.0293874381585,"d":"-43.03"},{"v":41.258990404426704,"d":"41.26"},{"v":7.98759258687312,"d":"7.99"},null,{"v":21.912669544934754,"d":"21.91"},{"v":58.966197600439386,"d":"58.97"},{"v":-21.912669544934754,"d":"-21.91"},{"v":-58.966197600439386,"d":"-58.97"},{"v":32.375475724047746,"d":"32.38"},{"v":-7.949217575407815,"d":"-7.95"},null,{"v":16.398763881251266,"d":"16.40"},{"v":49.859448936278916,"d":"49.86"},{"v":-16.398763881251266,"d":"-16.40"},{"v":-49.859448936278916,"d":"-49.86"},{"v":37.889381387731234,"d":"37.89"},{"v":1.1575310887527195,"d":"1.16"},null,null,{"v":8.291280368353693,"d":"8.29"},{"v":31.15921159314927,"d":"31.16"},{"v":-8.291280368353693,"d":"-8.29"},{"v":-31.15921159314927,"d":"-31.16"},{"v":45.996864900628815,"d":"46.00"},{"v":19.85776843188236,"d":"19.86"},null,{"v":3.8001701688287755,"d":"3.80"},{"v":16.429402476387807,"d":"16.43"},{"v":-3.8001701688287755,"d":"-3.80"},{"v":-16.429402476387807,"d":"-16.43"},{"v":50.487975100153726,"d":"50.49"},{"v":34.587577548643814,"d":"34.59"},null,{"v":13.029154864555803,"d":"13.03"},{"v":43.0293874381585,"d":"43.03"},{"v":-13.029154864555803,"d":"-13.03"},{"v":-43.0293874381585,"d":"-43.03"},{"v":41.258990404426704,"d":"41.26"},{"v":7.98759258687312,"d":"7.99"}]
[{"v":22.80102101297265,"d":"22.80"},{"v":34.84397376443377,"d":"34.84"},8,0.35,{"v":0.7,"d":"0.70"},{"v":22.80102101297265,"d":"22.80"},{"v":22.80102101297265,"d":"22.80"},{"v":34.84397376443377,"d":"34.84"},{"v":22.80102101297265,"d":"22.80"},{"v":6.238540628812952,"d":"6.24"},{"v":22.80102101297265,"d":"22.80"},{"v":19.987028498662937,"d":"19.99"},{"v":27.675155627279423,"d":"27.68"},{"v":51.01698002503165,"d":"51.02"},{"v":40.317946265896666,"d":"40.32"},{"v":51.01698002503163,"d":"51.02"},22.80102101297265,{"v":34.84397376443377,"d":"34.84"},0,{"v":19.000850844143876,"d":"19.00"},{"v":20.40679201001265,"d":"20.41"},{"v":32.5728871613895,"d":"32.57"},{"v":17.855943008761066,"d":"17.86"},{"v":20.40679201001265,"d":"20.41"},{"v":32.5728871613895,"d":"32.57"},{"v":32.5728871613895,"d":"32.57"},{"v":318.27150264549863,"d":"318.27"},{"v":54.288145268982504,"d":"54.29"},{"v":51.01698002503162,"d":"51.02"},0,null,{"v":15.200680675315102,"d":"15.20"},{"v":38.827012046612495,"d":"38.83"},{"v":-15.200680675315102,"d":"-15.20"},{"v":-38.827012046612495,"d":"-38.83"},{"v":39.087464593667406,"d":"39.09"},{"v":12.189967978419126,"d":"12.19"},null,{"v":25.564781135757215,"d":"25.56"},{"v":53.207386878691146,"d":"53.21"},{"v":-25.564781135757215,"d":"-25.56"},{"v":-53.207386878691146,"d":"-53.21"},{"v":28.72336413322529,"d":"28.72"},{"v":-2.1904068536595744,"d":"-2.19"},null,{"v":19.13189119479314,"d":"19.13"},{"v":44.99002983178906,"d":"44.99"},{"v":-19.13189119479314,"d":"-19.13"},{"v":-44.99002983178906,"d":"-44.99"},{"v":35.15625407418936,"d":"35.16"},{"v":6.026950193242577,"d":"6.03"},null,null,{"v":9.673160429745975,"d":"9.67"},{"v":28.11611217168492,"d":"28.12"},{"v":-9.673160429745975,"d":"-9.67"},{"v":-28.11611217168492,"d":"-28.12"},{"v":44.61498483923653,"d":"44.61"},{"v":22.900867853346707,"d":"22.90"},null,{"v":4.433531863633571,"d":"4.43"},{"v":14.82485914507023,"d":"14.82"},{"v":-4.433531863633571,"d":"-4.43"},{"v":-14.82485914507023,"d":"-14.82"},{"v":49.85461340534893,"d":"49.85"},{"v":36.192120879961394,"d":"36.19"},null,{"v":15.200680675315102,"d":"15.20"},{"v":38.827012046612495,"d":"38.83"},{"v":-15.200680675315102,"d":"-15.20"},{"v":-38.827012046612495,"d":"-38.83"},{"v":39.087464593667406,"d":"39.09"},{"v":12.189967978419126,"d":"12.19"}]
[{"v":26.058309729111603,"d":"26.06"},{"v":28.519358835679935,"d":"28.52"},9,{"v":0.4,"d":"0.40"},{"v":0.8,"d":"0.80"},{"v":26.058309729111603,"d":"26.06"},{"v":26.058309729111603,"d":"26.06"},{"v":28.519358835679935,"d":"28.52"},{"v":26.058309729111603,"d":"26.06"},{"v":5.106167855794106,"d":"5.11"},{"v":26.058309729111603,"d":"26.06"},{"v":16.35913405474327,"d":"16.36"},{"v":27.675155627279423,"d":"27.68"},{"v":51.01698002503165,"d":"51.02"},{"v":40.317946265896666,"d":"40.32"},{"v":51.01698002503163,"d":"51.02"},26.058309729111603,{"v":28.519358835679935,"d":"28.52"},0,{"v":21.715258107593,"d":"21.72"},{"v":20.40679201001265,"d":"20.41"},{"v":32.5728871613895,"d":"32.57"},{"v":20.40679201001265,"d":"20.41"},{"v":20.40679201001265,"d":"20.41"},{"v":32.5728871613895,"d":"32.57"},{"v":32.5728871613895,"d":"32.57"},{"v":260.50126350350644,"d":"260.50"},{"v":54.288145268982504,"d":"54.29"},{"v":51.01698002503162,"d":"51.02"},0,null,{"v":17.372206486074404,"d":"17.37"},{"v":35.51997672132494,"d":"35.52"},{"v":-17.372206486074404,"d":"-17.37"},{"v":-35.51997672132494,"d":"-35.52"},{"v":36.9159387829081,"d":"36.92"},{"v":15.497003303706684,"d":"15.50"},null,{"v":29.216892726579676,"d":"29.22"},{"v":48.675523655148986,"d":"48.68"},{"v":-29.216892726579676,"d":"-29.22"},{"v":-48.675523655148986,"d":"-48.68"},{"v":25.07125254240283,"d":"25.07"},{"v":2.341456369882586,"d":"2.34"},null,{"v":21.865018508335023,"d":"21.87"},{"v":41.158068264392405,"d":"41.16"},{"v":-21.865018508335023,"d":"-21.87"},{"v":-41.158068264392405,"d":"-41.16"},{"v":32.42312676064748,"d":"32.42"},{"v":9.85891176063923,"d":"9.86"},null,null,{"v":11.055040491138257,"d":"11.06"},{"v":25.721362453373228,"d":"25.72"},{"v":-11.055040491138257,"d":"-11.06"},{"v":-25.721362453373228,"d":"-25.72"},{"v":43.23310477784425,"d":"43.23"},{"v":25.2956175716584,"d":"25.30"},null,{"v":5.066893558438368,"d":"5.07"},{"v":13.56217292996044,"d":"13.56"},{"v":-5.066893558438368,"d":"-5.07"},{"v":-13.56217292996044,"d":"-13.56"},{"v":49.22125171054413,"d":"49.22"},{"v":37.45480709507118,"d":"37.45"},null,{"v":17.372206486074404,"d":"17.37"},{"v":35.51997672132494,"d":"35.52"},{"v":-17.372206486074404,"d":"-17.37"},{"v":-35.51997672132494,"d":"-35.52"},{"v":36.9159387829081,"d":"36.92"},{"v":15.497003303706684,"d":"15.50"}]
[{"v":29.315598445250554,"d":"29.32"},{"$f":"($F$58/($A14^($D$52)))^(1/$D$53)","v":{"v":23.90071944035763,"d":"23.90"}},10,0.45,{"v":0.9,"d":"0.90"},{"v":29.315598445250554,"d":"29.32"},{"v":29.315598445250554,"d":"29.32"},{"v":23.90071944035763,"d":"23.90"},{"v":29.315598445250554,"d":"29.32"},{"v":4.279236642025225,"d":"4.28"},{"v":29.315598445250554,"d":"29.32"},{"v":13.709812888235538,"d":"13.71"},{"v":29.315598445250554,"d":"29.32"},{"v":46.795243126710865,"d":"46.80"},{"v":40.317946265896666,"d":"40.32"},{"v":51.01698002503163,"d":"51.02"},29.315598445250554,{"v":23.90071944035763,"d":"23.90"},{"$f":"IF(B14>$F$44,1,0)","v":0},{"v":24.429665371042127,"d":"24.43"},{"v":20.40679201001265,"d":"20.41"},{"v":32.5728871613895,"d":"32.57"},{"v":22.95764101126423,"d":"22.96"},{"v":20.40679201001265,"d":"20.41"},{"v":32.5728871613895,"d":"32.57"},{"v":32.5728871613895,"d":"32.57"},{"v":218.3137302885843,"d":"218.31"},{"v":54.288145268982504,"d":"54.29"},{"v":51.01698002503162,"d":"51.02"},0,null,{"v":19.543732296833706,"d":"19.54"},{"v":32.83756843253699,"d":"32.84"},{"v":-19.543732296833706,"d":"-19.54"},{"v":-32.83756843253699,"d":"-32.84"},{"v":34.7444129721488,"d":"34.74"},{"v":18.17941159249463,"d":"18.18"},null,{"v":32.86900431740214,"d":"32.87"},{"v":44.99963081495803,"d":"45.00"},{"v":-32.86900431740214,"d":"-32.87"},{"v":-44.99963081495803,"d":"-45.00"},{"v":21.419140951580367,"d":"21.42"},{"v":6.01734921007354,"d":"6.02"},null,{"v":24.598145821876898,"d":"24.60"},{"v":38.049880882146034,"d":"38.05"},{"v":-24.598145821876898,"d":"-24.60"},{"v":-38.049880882146034,"d":"-38.05"},{"v":29.689999447105606,"d":"29.69"},{"v":12.967099142885601,"d":"12.97"},null,null,{"v":12.43692055253054,"d":"12.44"},{"v":23.778928864940568,"d":"23.78"},{"v":-12.43692055253054,"d":"-12.44"},{"v":-23.778928864940568,"d":"-23.78"},{"v":41.851224716451966,"d":"41.85"},{"v":27.23805116009106,"d":"27.24"},null,{"v":5.700255253243164,"d":"5.70"},{"v":12.5379806742414,"d":"12.54"},{"v":-5.700255253243164,"d":"-5.70"},{"v":-12.5379806742414,"d":"-12.54"},{"v":48.58789001573933,"d":"48.59"},{"v":38.47899935079022,"d":"38.48"},null,{"v":19.543732296833706,"d":"19.54"},{"v":32.83756843253699,"d":"32.84"},{"v":-19.543732296833706,"d":"-19.54"},{"v":-32.83756843253699,"d":"-32.84"},{"v":34.7444129721488,"d":"34.74"},{"v":18.17941159249463,"d":"18.18"}]
[{"v":32.5728871613895,"d":"32.57"},{"$f":"($F$58/($F15^($D$52)))^(1/$D$53)","v":{"v":20.40679201001266,"d":"20.41"}},11,{"v":0.5,"d":"0.50"},{"v":1,"d":"1.00"},{"v":32.5728871613895,"d":"32.57"},{"v":32.5728871613895,"d":"32.57"},{"v":20.40679201001266,"d":"20.41"},{"v":32.5728871613895,"d":"32.57"},{"v":3.6536762976255877,"d":"3.65"},{"v":32.5728871613895,"d":"32.57"},{"v":11.705643455820065,"d":"11.71"},{"v":32.5728871613895,"d":"32.57"},{"v":39.954479024271336,"d":"39.95"},{"v":40.317946265896666,"d":"40.32"},{"v":51.01698002503163,"d":"51.02"},32.5728871613895,{"v":20.40679201001266,"d":"20.41"},null,{"v":27.144072634491252,"d":"27.14"},{"v":20.40679201001265,"d":"20.41"},{"v":32.5728871613895,"d":"32.57"},{"v":25.50849001251581,"d":"25.51"},{"v":20.40679201001265,"d":"20.41"},{"v":32.5728871613895,"d":"32.57"},{"v":32.5728871613895,"d":"32.57"},{"v":186.39953069389608,"d":"186.40"},{"v":54.288145268982504,"d":"54.29"},{"v":51.01698002503162,"d":"51.02"},0,null,{"$f":"$E15*$E$46","v":{"v":21.715258107593005,"d":"21.72"}},{"$f":"(($E$48)/(AF15^($E$54)))^(1/$E$55)","v":{"v":30.61018801501897,"d":"30.61"}},{"$f":"AF15*-1","v":{"v":-21.715258107593005,"d":"-21.72"}},{"$f":"AG15*-1","v":{"v":-30.61018801501897,"d":"-30.61"}},{"v":32.5728871613895,"d":"32.57"},{"$f":"AI15+($E$47*2)+($D$47-$E$47)","v":{"v":20.40679201001265,"d":"20.41"}},null,{"v":36.521115908224594,"d":"36.52"},{"v":41.947294687248196,"d":"41.95"},{"$f":"AM15*-1","v":{"v":-36.521115908224594,"d":"-36.52"}},{"$f":"AN15*-1","v":{"v":-41.947294687248196,"d":"-41.95"}},{"v":17.76702936075791,"d":"17.77"},{"v":9.069685337783376,"d":"9.07"},null,{"v":27.331273135418776,"d":"27.33"},{"v":35.468948017402944,"d":"35.47"},{"$f":"AT15*-1","v":{"v":-27.331273135418776,"d":"-27.33"}},{"$f":"AU15*-1","v":{"v":-35.468948017402944,"d":"-35.47"}},{"v":26.956872133563728,"d":"26.96"},{"v":15.548032007628692,"d":"15.55"},null,null,{"v":13.818800613922821,"d":"13.82"},{"v":22.165998217772366,"d":"22.17"},{"$f":"BB15*-1","v":{"v":-13.818800613922821,"d":"-13.82"}},{"$f":"BC15*-1","v":{"v":-22.165998217772366,"d":"-22.17"}},{"v":40.469344655059686,"d":"40.47"},{"v":28.850981807259263,"d":"28.85"},null,{"v":6.333616948047959,"d":"6.33"},{"v":11.687526333007245,"d":"11.69"},{"$f":"BI15*-1","v":{"v":-6.333616948047959,"d":"-6.33"}},{"$f":"BJ15*-1","v":{"v":-11.687526333007245,"d":"-11.69"}},{"v":47.95452832093454,"d":"47.95"},{"v":39.32945369202437,"d":"39.33"},null,{"v":21.715258107593005,"d":"21.72"},{"v":30.61018801501897,"d":"30.61"},{"$f":"BP15*-1","v":{"v":-21.715258107593005,"d":"-21.72"}},{"$f":"BQ15*-1","v":{"v":-30.61018801501897,"d":"-30.61"}},{"v":32.5728871613895,"d":"32.57"},{"v":20.40679201001265,"d":"20.41"}]
[{"v":35.830175877528454,"d":"35.83"},{"v":17.68828431642085,"d":"17.69"},12,0.55,{"v":1.1,"d":"1.10"},{"v":35.830175877528454,"d":"35.83"},{"v":35.830175877528454,"d":"35.83"},{"v":17.68828431642085,"d":"17.69"},{"v":35.830175877528454,"d":"35.83"},{"v":3.1669487845448567,"d":"3.17"},{"v":35.830175877528454,"d":"35.83"},{"v":10.146266471065385,"d":"10.15"},{"v":35.830175877528454,"d":"35.83"},{"v":34.63191002040043,"d":"34.63"},{"v":40.317946265896666,"d":"40.32"},{"v":51.01698002503163,"d":"51.02"},35.830175877528454,{"v":17.68828431642085,"d":"17.69"},null,{"v":29.85847989794038,"d":"29.86"},{"v":20.40679201001265,"d":"20.41"},{"v":32.5728871613895,"d":"32.57"},{"v":28.059339013767396,"d":"28.06"},{"v":20.40679201001265,"d":"20.41"},{"v":32.5728871613895,"d":"32.57"},{"v":32.5728871613895,"d":"32.57"},{"v":161.56816288142312,"d":"161.57"},{"v":54.288145268982504,"d":"54.29"},{"v":51.01698002503162,"d":"51.02"},0,null,{"$f":"$E16*$E$46","v":{"v":23.886783918352307,"d":"23.89"}},{"$f":"(($E$48)/(AF16^($E$54)))^(1/$E$55)","v":{"v":28.72571674389536,"d":"28.73"}},{"$f":"AF16*-1","v":{"v":-23.886783918352307,"d":"-23.89"}},{"v":-28.72571674389536,"d":"-28.73"},{"v":30.4013613506302,"d":"30.40"},{"$f":"AI16+($E$47*2)+($D$47-$E$47)","v":{"v":22.29126328113626,"d":"22.29"}},null,{"v":40.17322749904706,"d":"40.17"},{"v":39.364871093486194,"d":"39.36"},{"$f":"AM16*-1","v":{"v":-40.17322749904706,"d":"-40.17"}},{"v":-39.364871093486194,"d":"-39.36"},{"v":14.114917769935445,"d":"14.11"},{"v":11.652108931545378,"d":"11.65"},null,{"v":30.064400448960654,"d":"30.06"},{"v":33.28535432229143,"d":"33.29"},{"$f":"AT16*-1","v":{"v":-30.064400448960654,"d":"-30.06"}},{"v":-33.28535432229143,"d":"-33.29"},{"v":24.22374482002185,"d":"24.22"},{"v":17.731625702740203,"d":"17.73"},null,null,{"v":15.200680675315105,"d":"15.20"},{"v":20.801381090406984,"d":"20.80"},{"$f":"BB16*-1","v":{"v":-15.200680675315105,"d":"-15.20"}},{"v":-20.801381090406984,"d":"-20.80"},{"v":39.087464593667406,"d":"39.09"},{"v":30.215598934624644,"d":"30.22"},null,{"v":6.966978642852756,"d":"6.97"},{"v":10.968000938578232,"d":"10.97"},{"$f":"BI16*-1","v":{"v":-6.966978642852756,"d":"-6.97"}},{"v":-10.968000938578232,"d":"-10.97"},{"v":47.321166626129745,"d":"47.32"},{"v":40.048979086453386,"d":"40.05"},null,{"v":23.886783918352307,"d":"23.89"},{"v":28.72571674389536,"d":"28.73"},{"$f":"BP16*-1","v":{"v":-23.886783918352307,"d":"-23.89"}},{"v":-28.72571674389536,"d":"-28.73"},{"v":30.4013613506302,"d":"30.40"},{"v":22.29126328113626,"d":"22.29"}]
[{"v":39.0874645936674,"d":"39.09"},{"v":15.523972653055734,"d":"15.52"},13,{"v":0.6,"d":"0.60"},{"v":1.2,"d":"1.20"},{"$f":"IF($D$46*E17>$F$43,$F$43,$D$46*E17)","v":{"v":39.0874645936674,"d":"39.09"}},{"v":39.0874645936674,"d":"39.09"},{"v":15.523972653055734,"d":"15.52"},{"v":39.0874645936674,"d":"39.09"},{"v":2.7794457305992983,"d":"2.78"},{"v":39.0874645936674,"d":"39.09"},{"v":8.904784681757471,"d":"8.90"},{"v":39.0874645936674,"d":"39.09"},{"v":30.394401993000574,"d":"30.39"},{"v":40.317946265896666,"d":"40.32"},{"v":51.01698002503163,"d":"51.02"},39.0874645936674,{"v":15.523972653055734,"d":"15.52"},null,{"v":32.5728871613895,"d":"32.57"},{"v":20.40679201001265,"d":"20.41"},{"v":32.5728871613895,"d":"32.57"},{"v":30.61018801501897,"d":"30.61"},{"v":20.40679201001265,"d":"20.41"},{"v":32.5728871613895,"d":"32.57"},{"v":32.5728871613895,"d":"32.57"},{"v":141.79892731864382,"d":"141.80"},{"v":54.288145268982504,"d":"54.29"},{"v":51.01698002503162,"d":"51.02"},0,null,{"v":26.058309729111606,"d":"26.06"},{"v":27.106815498708976,"d":"27.11"},{"v":-26.058309729111606,"d":"-26.06"},{"v":-27.106815498708976,"d":"-27.11"},{"v":28.2298355398709,"d":"28.23"},{"v":23.910164526322646,"d":"23.91"},null,{"v":43.82533908986951,"d":"43.83"},{"v":37.14637679452708,"d":"37.15"},{"v":-43.82533908986951,"d":"-43.83"},{"v":-37.14637679452708,"d":"-37.15"},{"v":10.462806179112995,"d":"10.46"},{"v":13.870603230504493,"d":"13.87"},null,{"v":32.79752776250253,"d":"32.80"},{"v":31.409484625488176,"d":"31.41"},{"v":-32.79752776250253,"d":"-32.80"},{"v":-31.409484625488176,"d":"-31.41"},{"v":21.49061750647997,"d":"21.49"},{"v":19.60749539954346,"d":"19.61"},null,null,{"v":16.582560736707386,"d":"16.58"},{"v":19.629073292168567,"d":"19.63"},{"v":-16.582560736707386,"d":"-16.58"},{"v":-19.629073292168567,"d":"-19.63"},{"v":37.705584532275125,"d":"37.71"},{"v":31.387906732863062,"d":"31.39"},null,{"v":7.600340337657551,"d":"7.60"},{"v":10.349875008597975,"d":"10.35"},{"v":-7.600340337657551,"d":"-7.60"},{"v":-10.349875008597975,"d":"-10.35"},{"v":46.68780493132495,"d":"46.69"},{"v":40.667105016433645,"d":"40.67"},null,{"v":26.058309729111606,"d":"26.06"},{"v":27.106815498708976,"d":"27.11"},{"v":-26.058309729111606,"d":"-26.06"},{"v":-27.106815498708976,"d":"-27.11"},{"v":28.2298355398709,"d":"28.23"},{"v":23.910164526322646,"d":"23.91"}]
[{"v":42.34475330980636,"d":"42.34"},{"v":13.76764660054785,"d":"13.77"},14,0.65,{"v":1.3,"d":"1.30"},{"v":42.34475330980636,"d":"42.34"},{"v":42.34475330980636,"d":"42.34"},{"v":13.76764660054785,"d":"13.77"},{"v":42.34475330980636,"d":"42.34"},{"v":2.4649893052188747,"d":"2.46"},{"v":42.34475330980636,"d":"42.34"},{"v":7.897329587750635,"d":"7.90"},{"v":42.34475330980636,"d":"42.34"},{"v":26.95568941190126,"d":"26.96"},{"v":42.34475330980636,"d":"42.34"},{"v":47.39831890472534,"d":"47.40"},42.34475330980636,{"v":13.76764660054785,"d":"13.77"},null,{"v":35.28729442483863,"d":"35.29"},{"v":20.40679201001265,"d":"20.41"},{"v":32.5728871613895,"d":"32.57"},{"v":33.161037016270555,"d":"33.16"},{"v":20.40679201001265,"d":"20.41"},{"v":32.5728871613895,"d":"32.57"},{"v":32.5728871613895,"d":"32.57"},{"v":125.75631014626791,"d":"125.76"},{"v":54.288145268982504,"d":"54.29"},{"v":51.01698002503162,"d":"51.02"},0,null,{"v":28.22983553987091,"d":"28.23"},{"v":25.69826257596466,"d":"25.70"},{"v":-28.22983553987091,"d":"-28.23"},{"v":-25.69826257596466,"d":"-25.70"},{"v":26.0583097291116,"d":"26.06"},{"v":25.31871744906696,"d":"25.32"},null,{"v":47.47745068069197,"d":"47.48"},{"v":35.216137604099714,"d":"35.22"},{"v":-47.47745068069197,"d":"-47.48"},{"v":-35.216137604099714,"d":"-35.22"},{"v":6.810694588290531,"d":"6.81"},{"v":15.800842420931858,"d":"15.80"},null,{"v":35.53065507604441,"d":"35.53"},{"v":29.777351873736826,"d":"29.78"},{"v":-35.53065507604441,"d":"-35.53"},{"v":-29.777351873736826,"d":"-29.78"},{"v":18.757490192938093,"d":"18.76"},{"v":21.23962815129481,"d":"21.24"},null,null,{"v":17.96444079809967,"d":"17.96"},{"v":18.609086692939922,"d":"18.61"},{"v":-17.96444079809967,"d":"-17.96"},{"v":-18.609086692939922,"d":"-18.61"},{"v":36.32370447088284,"d":"36.32"},{"v":32.4078933320917,"d":"32.41"},null,{"v":8.233702032462347,"d":"8.23"},{"v":9.812063892641058,"d":"9.81"},{"v":-8.233702032462347,"d":"-8.23"},{"v":-9.812063892641058,"d":"-9.81"},{"v":46.05444323652016,"d":"46.05"},{"v":41.204916132390565,"d":"41.20"},null,{"v":28.22983553987091,"d":"28.23"},{"v":25.69826257596466,"d":"25.70"},{"v":-28.22983553987091,"d":"-28.23"},{"v":-25.69826257596466,"d":"-25.70"},{"v":26.0583097291116,"d":"26.06"},{"v":25.31871744906696,"d":"25.32"}]
[{"v":45.6020420259453,"d":"45.60"},{"v":12.31920506615864,"d":"12.32"},15,{"v":0.7,"d":"0.70"},{"v":1.4,"d":"1.40"},{"v":45.6020420259453,"d":"45.60"},{"v":45.6020420259453,"d":"45.60"},{"v":12.31920506615864,"d":"12.32"},{"v":45.6020420259453,"d":"45.60"},{"v":2.205657191670715,"d":"2.21"},{"v":45.6020420259453,"d":"45.60"},{"v":7.0664816935866765,"d":"7.07"},{"v":45.6020420259453,"d":"45.60"},{"v":24.11978424487443,"d":"24.12"},{"v":45.6020420259453,"d":"45.60"},{"v":42.41172273809385,"d":"42.41"},45.6020420259453,{"v":12.31920506615864,"d":"12.32"},null,{"v":38.00170168828775,"d":"38.00"},{"v":20.40679201001265,"d":"20.41"},{"v":32.5728871613895,"d":"32.57"},{"v":35.71188601752213,"d":"35.71"},{"v":20.40679201001265,"d":"20.41"},{"v":32.5728871613895,"d":"32.57"},{"v":32.5728871613895,"d":"32.57"},{"v":112.5259688895322,"d":"112.53"},{"v":54.288145268982504,"d":"54.29"},{"v":51.01698002503162,"d":"51.02"},0,null,{"v":30.401361350630204,"d":"30.40"},{"v":24.459484891024445,"d":"24.46"},{"v":-30.401361350630204,"d":"-30.40"},{"v":-24.459484891024445,"d":"-24.46"},{"v":23.886783918352304,"d":"23.89"},{"v":26.557495134007176,"d":"26.56"},null,{"v":51.12956227151443,"d":"51.13"},{"v":33.51855336918161,"d":"33.52"},{"v":-51.12956227151443,"d":"-51.13"},{"v":-33.51855336918161,"d":"-33.52"},{"v":3.1585829974680735,"d":"3.16"},{"v":17.49842665584996,"d":"17.50"},null,{"v":38.26378238958628,"d":"38.26"},{"v":28.34194281023467,"d":"28.34"},{"v":-38.26378238958628,"d":"-38.26"},{"v":-28.34194281023467,"d":"-28.34"},{"v":16.02436287939622,"d":"16.02"},{"v":22.675037214796966,"d":"22.68"},null,null,{"v":19.34632085949195,"d":"19.35"},{"v":17.71204078315563,"d":"17.71"},{"v":-19.34632085949195,"d":"-19.35"},{"v":-17.71204078315563,"d":"-17.71"},{"v":34.94182440949056,"d":"34.94"},{"v":33.304939241876,"d":"33.30"},null,{"v":8.867063727267142,"d":"8.87"},{"v":9.339076049300244,"d":"9.34"},{"v":-8.867063727267142,"d":"-8.87"},{"v":-9.339076049300244,"d":"-9.34"},{"v":45.42108154171536,"d":"45.42"},{"v":41.677903975731375,"d":"41.68"},null,{"v":30.401361350630204,"d":"30.40"},{"v":24.459484891024445,"d":"24.46"},{"v":-30.401361350630204,"d":"-30.40"},{"v":-24.459484891024445,"d":"-24.46"},{"v":23.886783918352304,"d":"23.89"},{"v":26.557495134007176,"d":"26.56"}]
[{"v":48.85933074208425,"d":"48.86"},{"v":11.108050602585713,"d":"11.11"},16,0.75,{"v":1.5,"d":"1.50"},{"v":48.85933074208425,"d":"48.86"},{"v":48.85933074208425,"d":"48.86"},{"v":11.108050602585713,"d":"11.11"},{"v":48.85933074208425,"d":"48.86"},{"v":1.9888094698853098,"d":"1.99"},{"v":48.85933074208425,"d":"48.86"},{"v":6.371745239490728,"d":"6.37"},{"v":48.85933074208425,"d":"48.86"},{"v":21.748463677377398,"d":"21.75"},{"v":48.85933074208425,"d":"48.86"},{"v":38.24204238727581,"d":"38.24"},48.85933074208425,{"v":11.108050602585713,"d":"11.11"},null,{"v":40.71610895173688,"d":"40.72"},{"v":20.40679201001265,"d":"20.41"},{"v":32.5728871613895,"d":"32.57"},{"v":38.26273501877372,"d":"38.26"},{"v":20.40679201001265,"d":"20.41"},{"v":32.5728871613895,"d":"32.57"},{"v":32.5728871613895,"d":"32.57"},{"v":101.46305299873258,"d":"101.46"},{"v":54.288145268982504,"d":"54.29"},{"v":51.01698002503162,"d":"51.02"},0,null,{"v":32.57288716138951,"d":"32.57"},{"v":23.359945458685015,"d":"23.36"},{"v":-32.57288716138951,"d":"-32.57"},{"v":-23.359945458685015,"d":"-23.36"},{"v":21.715258107592998,"d":"21.72"},{"v":27.657034566346603,"d":"27.66"},null,{"v":54.78167386233689,"d":"54.78"},{"v":32.01177711004983,"d":"32.01"},{"v":-54.78167386233689,"d":"-54.78"},{"v":-32.01177711004983,"d":"-32.01"},{"v":-0.4935285933543838,"d":"-0.49"},{"v":19.005202914981744,"d":"19.01"},null,{"v":40.99690970312817,"d":"41.00"},{"v":27.067873309269924,"d":"27.07"},{"v":-40.99690970312817,"d":"-41.00"},{"v":-27.067873309269924,"d":"-27.07"},{"v":13.291235565854336,"d":"13.29"},{"v":23.949106715761708,"d":"23.95"},null,null,{"v":20.728200920884234,"d":"20.73"},{"v":16.915822573530527,"d":"16.92"},{"v":-20.728200920884234,"d":"-20.73"},{"v":-16.915822573530527,"d":"-16.92"},{"v":33.55994434809827,"d":"33.56"},{"v":34.1011574515011,"d":"34.10"},null,{"v":9.500425422071938,"d":"9.50"},{"v":8.919251902407016,"d":"8.92"},{"v":-9.500425422071938,"d":"-9.50"},{"v":-8.919251902407016,"d":"-8.92"},{"v":44.78771984691056,"d":"44.79"},{"v":42.0977281226246,"d":"42.10"},null,{"v":32.57288716138951,"d":"32.57"},{"v":23.359945458685015,"d":"23.36"},{"v":-32.57288716138951,"d":"-32.57"},{"v":-23.359945458685015,"d":"-23.36"},{"v":21.715258107592998,"d":"21.72"},{"v":27.657034566346603,"d":"27.66"}]
[{"v":52.116619458223205,"d":"52.12"},{"v":10.083116013900867,"d":"10.08"},17,{"v":0.8,"d":"0.80"},{"v":1.6,"d":"1.60"},{"v":52.116619458223205,"d":"52.12"},{"v":52.116619458223205,"d":"52.12"},{"v":10.083116013900867,"d":"10.08"},{"v":52.116619458223205,"d":"52.12"},{"v":1.8053029583543911,"d":"1.81"},{"v":52.116619458223205,"d":"52.12"},{"v":5.783827312224367,"d":"5.78"},{"v":52.116619458223205,"d":"52.12"},{"v":19.74174319408114,"d":"19.74"},{"v":52.116619458223205,"d":"52.12"},{"v":34.71346717754933,"d":"34.71"},52.116619458223205,{"v":10.083116013900867,"d":"10.08"},null,{"v":43.430516215186,"d":"43.43"},{"v":20.40679201001265,"d":"20.41"},{"v":32.5728871613895,"d":"32.57"},{"v":40.8135840200253,"d":"40.81"},{"v":20.40679201001265,"d":"20.41"},{"v":32.5728871613895,"d":"32.57"},{"v":32.5728871613895,"d":"32.57"},{"v":92.10110496549646,"d":"92.10"},{"v":54.288145268982504,"d":"54.29"},{"v":51.01698002503162,"d":"51.02"},0,null,{"v":34.74441297214881,"d":"34.74"},{"v":22.37618318148659,"d":"22.38"},{"v":-34.74441297214881,"d":"-34.74"},{"v":-22.37618318148659,"d":"-22.38"},{"v":19.5437322968337,"d":"19.54"},{"v":28.640796843545033,"d":"28.64"},null,{"v":58.43378545315935,"d":"58.43"},{"v":30.663658433888997,"d":"30.66"},{"v":-58.43378545315935,"d":"-58.43"},{"v":-30.663658433888997,"d":"-30.66"},{"v":-4.145640184176848,"d":"-4.15"},{"v":20.353321591142574,"d":"20.35"},null,{"v":43.730037016670046,"d":"43.73"},{"v":25.92795828965907,"d":"25.93"},{"v":-43.730037016670046,"d":"-43.73"},{"v":-25.92795828965907,"d":"-25.93"},{"v":10.558108252312458,"d":"10.56"},{"v":25.08902173537256,"d":"25.09"},null,null,{"v":22.110080982276514,"d":"22.11"},{"v":16.20344299349029,"d":"16.20"},{"v":-22.110080982276514,"d":"-22.11"},{"v":-16.20344299349029,"d":"-16.20"},{"v":32.17806428670599,"d":"32.18"},{"v":34.81353703154134,"d":"34.81"},null,{"v":10.133787116876736,"d":"10.13"},{"v":8.54363357838579,"d":"8.54"},{"v":-10.133787116876736,"d":"-10.13"},{"v":-8.54363357838579,"d":"-8.54"},{"v":44.154358152105765,"d":"44.15"},{"v":42.473346446645834,"d":"42.47"},null,{"v":34.74441297214881,"d":"34.74"},{"v":22.37618318148659,"d":"22.38"},{"v":-34.74441297214881,"d":"-34.74"},{"v":-22.37618318148659,"d":"-22.38"},{"v":19.5437322968337,"d":"19.54"},{"v":28.640796843545033,"d":"28.64"}]
[{"v":55.37390817436215,"d":"55.37"},{"v":9.48421987251571,"d":"9.48"},18,0.85,{"v":1.7,"d":"1.70"},{"v":54.288145268982504,"d":"54.29"},{"v":54.288145268982504,"d":"54.29"},{"v":9.48421987251571,"d":"9.48"},{"v":54.288145268982504,"d":"54.29"},{"v":1.6980752943764006,"d":"1.70"},{"v":54.288145268982504,"d":"54.29"},{"v":5.44029145932395,"d":"5.44"},{"v":54.288145268982504,"d":"54.29"},{"v":18.56916382408757,"d":"18.57"},{"v":54.288145268982504,"d":"54.29"},{"v":32.651628206533495,"d":"32.65"},54.288145268982504,{"v":9.48421987251571,"d":"9.48"},null,{"v":46.14492347863513,"d":"46.14"},{"v":20.40679201001265,"d":"20.41"},{"v":32.5728871613895,"d":"32.57"},{"v":43.364433021276874,"d":"43.36"},{"v":20.40679201001265,"d":"20.41"},{"v":32.5728871613895,"d":"32.57"},{"v":32.5728871613895,"d":"32.57"},{"v":86.63067337420053,"d":"86.63"},{"v":54.288145268982504,"d":"54.29"},{"v":51.01698002503162,"d":"51.02"},0,null,{"v":36.91593878290811,"d":"36.92"},{"v":21.489849939800443,"d":"21.49"},{"v":-36.91593878290811,"d":"-36.92"},{"v":-21.489849939800443,"d":"-21.49"},{"v":17.3722064860744,"d":"17.37"},{"v":29.527130085231178,"d":"29.53"},null,{"v":62.08589704398181,"d":"62.09"},{"v":29.449053621207995,"d":"29.45"},{"v":-62.08589704398181,"d":"-62.09"},{"v":-29.449053621207995,"d":"-29.45"},{"v":-7.7977517749993055,"d":"-7.80"},{"v":21.567926403823577,"d":"21.57"},null,{"v":46.46316433021192,"d":"46.46"},{"v":24.900937231832255,"d":"24.90"},{"v":-46.46316433021192,"d":"-46.46"},{"v":-24.900937231832255,"d":"-24.90"},{"v":7.824980938770587,"d":"7.82"},{"v":26.116042793199377,"d":"26.12"},null,null,{"v":23.491961043668795,"d":"23.49"},{"v":15.561615473648601,"d":"15.56"},{"v":-23.491961043668795,"d":"-23.49"},{"v":-15.561615473648601,"d":"-15.56"},{"v":30.796184225313713,"d":"30.80"},{"v":35.45536455138303,"d":"35.46"},null,{"v":10.767148811681531,"d":"10.77"},{"v":8.205215431560173,"d":"8.21"},{"v":-10.767148811681531,"d":"-10.77"},{"v":-8.205215431560173,"d":"-8.21"},{"v":43.52099645730097,"d":"43.52"},{"v":42.81176459347145,"d":"42.81"},null,{"v":36.91593878290811,"d":"36.92"},{"v":21.489849939800443,"d":"21.49"},{"v":-36.91593878290811,"d":"-36.92"},{"v":-21.489849939800443,"d":"-21.49"},{"v":17.3722064860744,"d":"17.37"},{"v":29.527130085231178,"d":"29.53"}]
[{"v":58.63119689050111,"d":"58.63"},{"v":9.48421987251571,"d":"9.48"},19,{"v":0.9,"d":"0.90"},{"v":1.8,"d":"1.80"},{"v":54.288145268982504,"d":"54.29"},{"v":54.288145268982504,"d":"54.29"},{"v":9.48421987251571,"d":"9.48"},{"v":54.288145268982504,"d":"54.29"},{"v":1.6980752943764006,"d":"1.70"},{"v":54.288145268982504,"d":"54.29"},{"v":5.44029145932395,"d":"5.44"},{"v":54.288145268982504,"d":"54.29"},{"v":18.56916382408757,"d":"18.57"},{"v":54.288145268982504,"d":"54.29"},{"v":32.651628206533495,"d":"32.65"},54.288145268982504,{"v":9.48421987251571,"d":"9.48"},null,{"v":48.85933074208425,"d":"48.86"},{"v":20.40679201001265,"d":"20.41"},{"v":32.5728871613895,"d":"32.57"},{"v":45.91528202252846,"d":"45.92"},{"v":20.40679201001265,"d":"20.41"},{"v":32.5728871613895,"d":"32.57"},{"v":32.5728871613895,"d":"32.57"},{"v":86.63067337420053,"d":"86.63"},{"v":54.288145268982504,"d":"54.29"},{"v":51.01698002503162,"d":"51.02"},0,null,{"v":39.08746459366741,"d":"39.09"},{"v":20.68637184775837,"d":"20.69"},{"v":-39.08746459366741,"d":"-39.09"},{"v":-20.68637184775837,"d":"-20.69"},{"v":15.200680675315095,"d":"15.20"},{"v":30.330608177273255,"d":"30.33"},null,{"v":65.73800863480427,"d":"65.74"},{"v":28.347991050631833,"d":"28.35"},{"v":-65.73800863480427,"d":"-65.74"},{"v":-28.347991050631833,"d":"-28.35"},{"v":-11.44986336582177,"d":"-11.45"},{"v":22.66898897439974,"d":"22.67"},null,{"v":49.196291643753796,"d":"49.20"},{"v":23.96992293470414,"d":"23.97"},{"v":-49.196291643753796,"d":"-49.20"},{"v":-23.96992293470414,"d":"-23.97"},{"v":5.091853625228708,"d":"5.09"},{"v":27.047057090327492,"d":"27.05"},null,null,{"v":24.87384110506108,"d":"24.87"},{"v":14.97978651044572,"d":"14.98"},{"v":-24.87384110506108,"d":"-24.87"},{"v":-14.97978651044572,"d":"-14.98"},{"v":29.41430416392143,"d":"29.41"},{"v":36.03719351458591,"d":"36.04"},null,{"v":11.400510506486327,"d":"11.40"},{"v":7.898432887325928,"d":"7.90"},{"v":-11.400510506486327,"d":"-11.40"},{"v":-7.898432887325928,"d":"-7.90"},{"v":42.88763476249618,"d":"42.89"},{"v":43.11854713770569,"d":"43.12"},null,{"v":39.08746459366741,"d":"39.09"},{"v":20.68637184775837,"d":"20.69"},{"v":-39.08746459366741,"d":"-39.09"},{"v":-20.68637184775837,"d":"-20.69"},{"v":15.200680675315095,"d":"15.20"},{"v":30.330608177273255,"d":"30.33"}]
[{"v":61.88848560664005,"d":"61.89"},{"v":9.48421987251571,"d":"9.48"},20,0.95,{"v":1.9,"d":"1.90"},{"v":54.288145268982504,"d":"54.29"},{"v":54.288145268982504,"d":"54.29"},{"v":9.48421987251571,"d":"9.48"},{"v":54.288145268982504,"d":"54.29"},{"v":1.6980752943764006,"d":"1.70"},{"v":54.288145268982504,"d":"54.29"},{"v":5.44029145932395,"d":"5.44"},{"v":54.288145268982504,"d":"54.29"},{"v":18.56916382408757,"d":"18.57"},{"v":54.288145268982504,"d":"54.29"},{"v":32.651628206533495,"d":"32.65"},54.288145268982504,{"v":9.48421987251571,"d":"9.48"},null,{"v":51.57373800553338,"d":"51.57"},{"v":20.40679201001265,"d":"20.41"},{"v":32.5728871613895,"d":"32.57"},{"v":48.46613102378004,"d":"48.47"},{"v":20.40679201001265,"d":"20.41"},{"v":32.5728871613895,"d":"32.57"},{"v":32.5728871613895,"d":"32.57"},{"v":86.63067337420053,"d":"86.63"},{"v":54.288145268982504,"d":"54.29"},{"v":51.01698002503162,"d":"51.02"},0,null,{"v":41.258990404426704,"d":"41.26"},{"v":19.954013567526022,"d":"19.95"},{"v":-41.258990404426704,"d":"-41.26"},{"v":-19.954013567526022,"d":"-19.95"},{"v":13.029154864555803,"d":"13.03"},{"v":31.062966457505603,"d":"31.06"},null,{"v":69.39012022562673,"d":"69.39"},{"v":27.344388962906002,"d":"27.34"},{"v":-69.39012022562673,"d":"-69.39"},{"v":-27.344388962906002,"d":"-27.34"},{"v":-15.101974956644227,"d":"-15.10"},{"v":23.67259106212557,"d":"23.67"},null,{"v":51.929418957295674,"d":"51.93"},{"v":23.121317308403157,"d":"23.12"},{"v":-51.929418957295674,"d":"-51.93"},{"v":-23.121317308403157,"d":"-23.12"},{"v":2.35872631168683,"d":"2.36"},{"v":27.89566271662848,"d":"27.90"},null,null,{"v":26.25572116645336,"d":"26.26"},{"v":14.449458100622286,"d":"14.45"},{"v":-26.25572116645336,"d":"-26.26"},{"v":-14.449458100622286,"d":"-14.45"},{"v":28.03242410252915,"d":"28.03"},{"v":36.56752192440934,"d":"36.57"},null,{"v":12.033872201291123,"d":"12.03"},{"v":7.61880518032812,"d":"7.62"},{"v":-12.033872201291123,"d":"-12.03"},{"v":-7.61880518032812,"d":"-7.62"},{"v":42.25427306769138,"d":"42.25"},{"v":43.398174844703505,"d":"43.40"},null,{"v":41.258990404426704,"d":"41.26"},{"v":19.954013567526022,"d":"19.95"},{"v":-41.258990404426704,"d":"-41.26"},{"v":-19.954013567526022,"d":"-19.95"},{"v":13.029154864555803,"d":"13.03"},{"v":31.062966457505603,"d":"31.06"}]
[{"v":65.145774322779,"d":"65.15"},{"v":9.48421987251571,"d":"9.48"},21,{"v":1,"d":"1.00"},{"v":2,"d":"2.00"},{"v":54.288145268982504,"d":"54.29"},{"v":54.288145268982504,"d":"54.29"},{"v":9.48421987251571,"d":"9.48"},{"v":54.288145268982504,"d":"54.29"},{"v":1.6980752943764006,"d":"1.70"},{"v":54.288145268982504,"d":"54.29"},{"v":5.44029145932395,"d":"5.44"},{"v":54.288145268982504,"d":"54.29"},{"v":18.56916382408757,"d":"18.57"},{"v":54.288145268982504,"d":"54.29"},{"v":32.651628206533495,"d":"32.65"},54.288145268982504,{"v":9.48421987251571,"d":"9.48"},null,{"v":54.288145268982504,"d":"54.29"},{"v":20.40679201001265,"d":"20.41"},{"v":32.5728871613895,"d":"32.57"},{"v":51.01698002503162,"d":"51.02"},{"v":20.40679201001265,"d":"20.41"},{"v":32.5728871613895,"d":"32.57"},{"v":32.5728871613895,"d":"32.57"},{"v":86.63067337420053,"d":"86.63"},{"v":54.288145268982504,"d":"54.29"},{"v":51.01698002503162,"d":"51.02"},0,null,{"v":43.43051621518601,"d":"43.43"},{"v":19.283210110681082,"d":"19.28"},{"v":-43.43051621518601,"d":"-43.43"},{"v":-19.283210110681082,"d":"-19.28"},{"v":10.857629053796497,"d":"10.86"},{"v":31.73376991435054,"d":"31.73"},null,{"v":73.04223181644919,"d":"73.04"},{"v":26.42513978130368,"d":"26.43"},{"v":-73.04223181644919,"d":"-73.04"},{"v":-26.42513978130368,"d":"-26.43"},{"v":-18.754086547466684,"d":"-18.75"},{"v":24.591840243727887,"d":"24.59"},null,{"v":54.66254627083755,"d":"54.66"},{"v":22.344037112376483,"d":"22.34"},{"v":-54.66254627083755,"d":"-54.66"},{"v":-22.344037112376483,"d":"-22.34"},{"v":-0.3744010018550483,"d":"-0.37"},{"v":28.672942912655152,"d":"28.67"},null,null,{"v":27.637601227845643,"d":"27.64"},{"v":13.963703873251818,"d":"13.96"},{"v":-27.637601227845643,"d":"-27.64"},{"v":-13.963703873251818,"d":"-13.96"},{"v":26.650544041136865,"d":"26.65"},{"v":37.05327615177981,"d":"37.05"},null,{"v":12.667233896095919,"d":"12.67"},{"v":7.362680224078233,"d":"7.36"},{"v":-12.667233896095919,"d":"-12.67"},{"v":-7.362680224078233,"d":"-7.36"},{"v":41.62091137288658,"d":"41.62"},{"v":43.65429980095339,"d":"43.65"},null,{"v":43.43051621518601,"d":"43.43"},{"v":19.283210110681082,"d":"19.28"},{"v":-43.43051621518601,"d":"-43.43"},{"v":-19.283210110681082,"d":"-19.28"},{"v":10.857629053796497,"d":"10.86"},{"v":31.73376991435054,"d":"31.73"}]
[{"v":68.40306303891796,"d":"68.40"},{"v":9.48421987251571,"d":"9.48"},22,1.05,{"v":2.1,"d":"2.10"},{"v":54.288145268982504,"d":"54.29"},{"v":54.288145268982504,"d":"54.29"},{"v":9.48421987251571,"d":"9.48"},{"v":54.288145268982504,"d":"54.29"},{"v":1.6980752943764006,"d":"1.70"},{"v":54.288145268982504,"d":"54.29"},{"v":5.44029145932395,"d":"5.44"},{"v":54.288145268982504,"d":"54.29"},{"v":18.56916382408757,"d":"18.57"},{"v":54.288145268982504,"d":"54.29"},{"v":32.651628206533495,"d":"32.65"},54.288145268982504,{"v":9.48421987251571,"d":"9.48"},null,{"v":57.00255253243163,"d":"57.00"},{"v":20.40679201001265,"d":"20.41"},{"v":32.5728871613895,"d":"32.57"},{"v":53.567829026283206,"d":"53.57"},{"v":20.40679201001265,"d":"20.41"},{"v":32.5728871613895,"d":"32.57"},{"v":32.5728871613895,"d":"32.57"},{"v":86.63067337420053,"d":"86.63"},{"v":54.288145268982504,"d":"54.29"},{"v":51.01698002503162,"d":"51.02"},0,null,{"v":45.602042025945316,"d":"45.60"},{"v":18.66608048018247,"d":"18.67"},{"v":-45.602042025945316,"d":"-45.60"},{"v":-18.66608048018247,"d":"-18.67"},{"v":8.686103243037191,"d":"8.69"},{"v":32.35089954484915,"d":"32.35"},null,{"v":76.69434340727165,"d":"76.69"},{"v":25.579443620990787,"d":"25.58"},{"v":-76.69434340727165,"d":"-76.69"},{"v":-25.579443620990787,"d":"-25.58"},{"v":-22.40619813828914,"d":"-22.41"},{"v":25.437536404040785,"d":"25.44"},null,{"v":57.39567358437943,"d":"57.40"},{"v":21.62895039767176,"d":"21.63"},{"v":-57.39567358437943,"d":"-57.40"},{"v":-21.62895039767176,"d":"-21.63"},{"v":-3.1075283153969266,"d":"-3.11"},{"v":29.388029627359877,"d":"29.39"},null,null,{"v":29.019481289237927,"d":"29.02"},{"v":13.516816899442482,"d":"13.52"},{"v":-29.019481289237927,"d":"-29.02"},{"v":-13.516816899442482,"d":"-13.52"},{"v":25.26866397974458,"d":"25.27"},{"v":37.50016312558915,"d":"37.50"},null,{"v":13.300595590900715,"d":"13.30"},{"v":7.12704891061513,"d":"7.13"},{"v":-13.300595590900715,"d":"-13.30"},{"v":-7.12704891061513,"d":"-7.13"},{"v":40.987549678081784,"d":"40.99"},{"v":43.88993111441649,"d":"43.89"},null,{"v":45.602042025945316,"d":"45.60"},{"v":18.66608048018247,"d":"18.67"},{"v":-45.602042025945316,"d":"-45.60"},{"v":-18.66608048018247,"d":"-18.67"},{"v":8.686103243037191,"d":"8.69"},{"v":32.35089954484915,"d":"32.35"}]
[{"v":71.66035175505691,"d":"71.66"},{"v":9.48421987251571,"d":"9.48"},23,{"v":1.1,"d":"1.10"},{"v":2.2,"d":"2.20"},{"v":54.288145268982504,"d":"54.29"},{"v":54.288145268982504,"d":"54.29"},{"v":9.48421987251571,"d":"9.48"},{"v":54.288145268982504,"d":"54.29"},{"v":1.6980752943764006,"d":"1.70"},{"v":54.288145268982504,"d":"54.29"},{"v":5.44029145932395,"d":"5.44"},{"v":54.288145268982504,"d":"54.29"},{"v":18.56916382408757,"d":"18.57"},{"v":54.288145268982504,"d":"54.29"},{"v":32.651628206533495,"d":"32.65"},54.288145268982504,{"v":9.48421987251571,"d":"9.48"},null,{"v":59.71695979588076,"d":"59.72"},{"v":20.40679201001265,"d":"20.41"},{"v":32.5728871613895,"d":"32.57"},{"v":56.11867802753479,"d":"56.12"},{"v":20.40679201001265,"d":"20.41"},{"v":32.5728871613895,"d":"32.57"},{"v":32.5728871613895,"d":"32.57"},{"v":86.63067337420053,"d":"86.63"},{"v":54.288145268982504,"d":"54.29"},{"v":51.01698002503162,"d":"51.02"},0,null,{"v":47.773567836704615,"d":"47.77"},{"v":18.096067599475685,"d":"18.10"},{"v":-47.773567836704615,"d":"-47.77"},{"v":-18.096067599475685,"d":"-18.10"},{"v":6.514577432277893,"d":"6.51"},{"v":32.92091242555593,"d":"32.92"},null,{"v":80.34645499809412,"d":"80.35"},{"v":24.798314858540728,"d":"24.80"},{"v":-80.34645499809412,"d":"-80.35"},{"v":-24.798314858540728,"d":"-24.80"},{"v":-26.058309729111613,"d":"-26.06"},{"v":26.218665166490844,"d":"26.22"},null,{"v":60.12880089792131,"d":"60.13"},{"v":20.968459281932134,"d":"20.97"},{"v":-60.12880089792131,"d":"-60.13"},{"v":-20.968459281932134,"d":"-20.97"},{"v":-5.840655628938805,"d":"-5.84"},{"v":30.048520743099502,"d":"30.05"},null,null,{"v":30.40136135063021,"d":"30.40"},{"v":13.10404895134446,"d":"13.10"},{"v":-30.40136135063021,"d":"-30.40"},{"v":-13.10404895134446,"d":"-13.10"},{"v":23.886783918352297,"d":"23.89"},{"v":37.91293107368717,"d":"37.91"},null,{"v":13.933957285705512,"d":"13.93"},{"v":6.909407628890717,"d":"6.91"},{"v":-13.933957285705512,"d":"-13.93"},{"v":-6.909407628890717,"d":"-6.91"},{"v":40.35418798327699,"d":"40.35"},{"v":44.1075723961409,"d":"44.11"},null,{"v":47.773567836704615,"d":"47.77"},{"v":18.096067599475685,"d":"18.10"},{"v":-47.773567836704615,"d":"-47.77"},{"v":-18.096067599475685,"d":"-18.10"},{"v":6.514577432277893,"d":"6.51"},{"v":32.92091242555593,"d":"32.92"}]
[{"v":74.91764047119585,"d":"74.92"},{"v":9.48421987251571,"d":"9.48"},24,1.15,{"v":2.3,"d":"2.30"},{"v":54.288145268982504,"d":"54.29"},{"v":54.288145268982504,"d":"54.29"},{"v":9.48421987251571,"d":"9.48"},{"v":54.288145268982504,"d":"54.29"},{"v":1.6980752943764006,"d":"1.70"},{"v":54.288145268982504,"d":"54.29"},{"v":5.44029145932395,"d":"5.44"},{"v":54.288145268982504,"d":"54.29"},{"v":18.56916382408757,"d":"18.57"},{"v":54.288145268982504,"d":"54.29"},{"v":32.651628206533495,"d":"32.65"},54.288145268982504,{"v":9.48421987251571,"d":"9.48"},null,{"v":62.43136705932987,"d":"62.43"},{"v":20.40679201001265,"d":"20.41"},{"v":32.5728871613895,"d":"32.57"},{"v":58.66952702878636,"d":"58.67"},{"v":20.40679201001265,"d":"20.41"},{"v":32.5728871613895,"d":"32.57"},{"v":32.5728871613895,"d":"32.57"},{"v":86.63067337420053,"d":"86.63"},{"v":54.288145268982504,"d":"54.29"},{"v":51.01698002503162,"d":"51.02"},0,null,{"v":49.94509364746391,"d":"49.95"},{"v":17.5676676387604,"d":"17.57"},{"v":-49.94509364746391,"d":"-49.95"},{"v":-17.5676676387604,"d":"-17.57"},{"v":4.343051621518601,"d":"4.34"},{"v":33.449312386271224,"d":"33.45"},null,{"v":83.99856658891656,"d":"84.00"},{"v":24.074211208671635,"d":"24.07"},{"v":-83.99856658891656,"d":"-84.00"},{"v":-24.074211208671635,"d":"-24.07"},{"v":-29.710421319934056,"d":"-29.71"},{"v":26.942768816359937,"d":"26.94"},null,{"v":62.86192821146318,"d":"62.86"},{"v":20.3561863115795,"d":"20.36"},{"v":-62.86192821146318,"d":"-62.86"},{"v":-20.3561863115795,"d":"-20.36"},{"v":-8.573782942480676,"d":"-8.57"},{"v":30.660793713452136,"d":"30.66"},null,null,{"v":31.783241412022488,"d":"31.78"},{"v":12.721414497033392,"d":"12.72"},{"v":-31.783241412022488,"d":"-31.78"},{"v":-12.721414497033392,"d":"-12.72"},{"v":22.50490385696002,"d":"22.50"},{"v":38.295565527998235,"d":"38.30"},null,{"v":14.567318980510306,"d":"14.57"},{"v":6.707654916617608,"d":"6.71"},{"v":-14.567318980510306,"d":"-14.57"},{"v":-6.707654916617608,"d":"-6.71"},{"v":39.720826288472196,"d":"39.72"},{"v":44.309325108414015,"d":"44.31"},null,{"v":49.94509364746391,"d":"49.95"},{"v":17.5676676387604,"d":"17.57"},{"v":-49.94509364746391,"d":"-49.95"},{"v":-17.5676676387604,"d":"-17.57"},{"v":4.343051621518601,"d":"4.34"},{"v":33.449312386271224,"d":"33.45"}]
[{"v":78.1749291873348,"d":"78.17"},{"$f":"($F$58/($F29^($D$52)))^(1/$D$53)","v":{"v":9.48421987251571,"d":"9.48"}},25,{"v":1.2,"d":"1.20"},{"v":2.4,"d":"2.40"},{"$f":"IF($D$46*E29>$F$43,$F$43,$D$46*E29)","v":{"v":54.288145268982504,"d":"54.29"}},{"v":54.288145268982504,"d":"54.29"},{"v":9.48421987251571,"d":"9.48"},{"v":54.288145268982504,"d":"54.29"},{"v":1.6980752943764006,"d":"1.70"},{"v":54.288145268982504,"d":"54.29"},{"v":5.44029145932395,"d":"5.44"},{"v":54.288145268982504,"d":"54.29"},{"v":18.56916382408757,"d":"18.57"},{"v":54.288145268982504,"d":"54.29"},{"v":32.651628206533495,"d":"32.65"},54.288145268982504,{"v":9.48421987251571,"d":"9.48"},null,{"v":65.145774322779,"d":"65.15"},{"v":20.40679201001265,"d":"20.41"},{"v":32.5728871613895,"d":"32.57"},{"v":61.22037603003794,"d":"61.22"},{"v":20.40679201001265,"d":"20.41"},{"v":32.5728871613895,"d":"32.57"},{"v":32.5728871613895,"d":"32.57"},{"v":86.63067337420053,"d":"86.63"},{"v":54.288145268982504,"d":"54.29"},{"v":51.01698002503162,"d":"51.02"},0,null,{"v":52.11661945822321,"d":"52.12"},{"v":17.076223721220018,"d":"17.08"},{"v":-52.11661945822321,"d":"-52.12"},{"v":-17.076223721220018,"d":"-17.08"},{"v":2.171525810759295,"d":"2.17"},{"v":33.940756303811604,"d":"33.94"},null,{"v":87.65067817973902,"d":"87.65"},{"v":23.400751025375556,"d":"23.40"},{"v":-87.65067817973902,"d":"-87.65"},{"v":-23.400751025375556,"d":"-23.40"},{"v":-33.362532910756514,"d":"-33.36"},{"v":27.616228999656016,"d":"27.62"},null,{"v":65.59505552500507,"d":"65.60"},{"v":19.786735423000973,"d":"19.79"},{"v":-65.59505552500507,"d":"-65.60"},{"v":-19.786735423000973,"d":"-19.79"},{"v":-11.306910256022562,"d":"-11.31"},{"v":31.23024460203066,"d":"31.23"},null,null,{"v":33.16512147341477,"d":"33.17"},{"v":12.365541315366219,"d":"12.37"},{"v":-33.16512147341477,"d":"-33.17"},{"v":-12.365541315366219,"d":"-12.37"},{"v":21.123023795567736,"d":"21.12"},{"v":38.65143870966541,"d":"38.65"},null,{"v":15.200680675315102,"d":"15.20"},{"v":6.520012693556735,"d":"6.52"},{"v":-15.200680675315102,"d":"-15.20"},{"v":-6.520012693556735,"d":"-6.52"},{"v":39.0874645936674,"d":"39.09"},{"v":44.496967331474885,"d":"44.50"},null,{"v":52.11661945822321,"d":"52.12"},{"v":17.076223721220018,"d":"17.08"},{"v":-52.11661945822321,"d":"-52.12"},{"v":-17.076223721220018,"d":"-17.08"},{"v":2.171525810759295,"d":"2.17"},{"v":33.940756303811604,"d":"33.94"}]
[{"v":81.43221790347376,"d":"81.43"},{"v":9.48421987251571,"d":"9.48"},26,1.25,{"v":2.5,"d":"2.50"},{"v":54.288145268982504,"d":"54.29"},{"v":54.288145268982504,"d":"54.29"},{"v":9.48421987251571,"d":"9.48"},{"v":54.288145268982504,"d":"54.29"},{"v":1.6980752943764006,"d":"1.70"},{"v":54.288145268982504,"d":"54.29"},{"v":5.44029145932395,"d":"5.44"},{"v":54.288145268982504,"d":"54.29"},{"v":18.56916382408757,"d":"18.57"},{"v":54.288145268982504,"d":"54.29"},{"v":32.651628206533495,"d":"32.65"},54.288145268982504,{"v":9.48421987251571,"d":"9.48"},null,{"v":67.86018158622812,"d":"67.86"},{"v":20.40679201001265,"d":"20.41"},{"v":32.5728871613895,"d":"32.57"},{"v":63.771225031289525,"d":"63.77"},{"v":20.40679201001265,"d":"20.41"},{"v":32.5728871613895,"d":"32.57"},{"v":32.5728871613895,"d":"32.57"},{"v":86.63067337420053,"d":"86.63"},{"v":54.288145268982504,"d":"54.29"},{"v":51.01698002503162,"d":"51.02"},0,null,{"v":54.28814526898251,"d":"54.29"},{"v":16.617766719049946,"d":"16.62"},{"v":-54.28814526898251,"d":"-54.29"},{"v":-16.617766719049946,"d":"-16.62"},0,{"v":34.399213305981675,"d":"34.40"},null,{"v":91.30278977056149,"d":"91.30"},{"v":22.772495133512887,"d":"22.77"},{"v":-91.30278977056149,"d":"-91.30"},{"v":-22.772495133512887,"d":"-22.77"},{"v":-37.014644501578985,"d":"-37.01"},{"v":28.24448489151868,"d":"28.24"},null,{"v":68.32818283854694,"d":"68.33"},{"v":19.255507468105503,"d":"19.26"},{"v":-68.32818283854694,"d":"-68.33"},{"v":-19.255507468105503,"d":"-19.26"},{"v":-14.040037569564433,"d":"-14.04"},{"v":31.76147255692613,"d":"31.76"},null,null,{"v":34.54700153480705,"d":"34.55"},{"v":12.033555210346519,"d":"12.03"},{"v":-34.54700153480705,"d":"-34.55"},{"v":-12.033555210346519,"d":"-12.03"},{"v":19.741143734175456,"d":"19.74"},{"v":38.98342481468511,"d":"38.98"},null,{"v":15.8340423701199,"d":"15.83"},{"v":6.344965474546349,"d":"6.34"},{"v":-15.8340423701199,"d":"-15.83"},{"v":-6.344965474546349,"d":"-6.34"},{"v":38.4541028988626,"d":"38.45"},{"v":44.67201455048527,"d":"44.67"},null,{"v":54.28814526898251,"d":"54.29"},{"v":16.617766719049946,"d":"16.62"},{"v":-54.28814526898251,"d":"-54.29"},{"v":-16.617766719049946,"d":"-16.62"},0,{"v":34.399213305981675,"d":"34.40"}]
[{"v":84.68950661961271,"d":"84.69"},{"v":9.48421987251571,"d":"9.48"},27,{"v":1.3,"d":"1.30"},{"v":2.6,"d":"2.60"},{"v":54.288145268982504,"d":"54.29"},{"v":54.288145268982504,"d":"54.29"},{"v":9.48421987251571,"d":"9.48"},{"v":54.288145268982504,"d":"54.29"},{"v":1.6980752943764006,"d":"1.70"},{"v":54.288145268982504,"d":"54.29"},{"v":5.44029145932395,"d":"5.44"},{"v":54.288145268982504,"d":"54.29"},{"v":18.56916382408757,"d":"18.57"},{"v":54.288145268982504,"d":"54.29"},{"v":32.651628206533495,"d":"32.65"},54.288145268982504,{"v":9.48421987251571,"d":"9.48"},null,{"v":70.57458884967726,"d":"70.57"},{"v":20.40679201001265,"d":"20.41"},{"v":32.5728871613895,"d":"32.57"},{"v":66.32207403254111,"d":"66.32"},{"v":20.40679201001265,"d":"20.41"},{"v":32.5728871613895,"d":"32.57"},{"v":32.5728871613895,"d":"32.57"},{"v":86.63067337420053,"d":"86.63"},{"v":54.288145268982504,"d":"54.29"},{"v":51.01698002503162,"d":"51.02"},0,null,{"v":56.45967107974182,"d":"56.46"},{"v":16.18889098259176,"d":"16.19"},{"v":-56.45967107974182,"d":"-56.46"},{"v":-16.18889098259176,"d":"-16.19"},{"v":-2.1715258107593094,"d":"-2.17"},{"v":34.82808904243986,"d":"34.83"},null,{"v":94.95490136138395,"d":"94.95"},{"v":22.184776531699807,"d":"22.18"},{"v":-94.95490136138395,"d":"-94.95"},{"v":-22.184776531699807,"d":"-22.18"},{"v":-40.66675609240144,"d":"-40.67"},{"v":28.83220349333176,"d":"28.83"},null,{"v":71.06131015208882,"d":"71.06"},{"v":18.758556217923786,"d":"18.76"},{"v":-71.06131015208882,"d":"-71.06"},{"v":-18.758556217923786,"d":"-18.76"},{"v":-16.77316488310632,"d":"-16.77"},{"v":32.25842380710785,"d":"32.26"},null,null,{"v":35.92888159619934,"d":"35.93"},{"v":11.722990021876791,"d":"11.72"},{"v":-35.92888159619934,"d":"-35.93"},{"v":-11.722990021876791,"d":"-11.72"},{"v":18.359263672783168,"d":"18.36"},{"v":39.29399000315484,"d":"39.29"},null,{"v":16.467404064924693,"d":"16.47"},{"v":6.181212920625949,"d":"6.18"},{"v":-16.467404064924693,"d":"-16.47"},{"v":-6.181212920625949,"d":"-6.18"},{"v":37.82074120405781,"d":"37.82"},{"v":44.835767104405676,"d":"44.84"},null,{"v":56.45967107974182,"d":"56.46"},{"v":16.18889098259176,"d":"16.19"},{"v":-56.45967107974182,"d":"-56.46"},{"v":-16.18889098259176,"d":"-16.19"},{"v":-2.1715258107593094,"d":"-2.17"},{"v":34.82808904243986,"d":"34.83"}]
[{"v":87.94679533575166,"d":"87.95"},{"v":9.48421987251571,"d":"9.48"},28,1.35,{"v":2.7,"d":"2.70"},{"v":54.288145268982504,"d":"54.29"},{"v":54.288145268982504,"d":"54.29"},{"v":9.48421987251571,"d":"9.48"},{"v":54.288145268982504,"d":"54.29"},{"v":1.6980752943764006,"d":"1.70"},{"v":54.288145268982504,"d":"54.29"},{"v":5.44029145932395,"d":"5.44"},{"v":54.288145268982504,"d":"54.29"},{"v":18.56916382408757,"d":"18.57"},{"v":54.288145268982504,"d":"54.29"},{"v":32.651628206533495,"d":"32.65"},54.288145268982504,{"v":9.48421987251571,"d":"9.48"},null,{"v":73.28899611312639,"d":"73.29"},{"v":20.40679201001265,"d":"20.41"},{"v":32.5728871613895,"d":"32.57"},{"v":68.87292303379269,"d":"68.87"},{"v":20.40679201001265,"d":"20.41"},{"v":32.5728871613895,"d":"32.57"},{"v":32.5728871613895,"d":"32.57"},{"v":86.63067337420053,"d":"86.63"},{"v":54.288145268982504,"d":"54.29"},{"v":51.01698002503162,"d":"51.02"},0,null,{"v":58.631196890501116,"d":"58.63"},{"v":15.786656320588868,"d":"15.79"},{"$f":"AF32*-1","v":{"v":-58.631196890501116,"d":"-58.63"}},{"v":-15.786656320588868,"d":"-15.79"},{"v":-4.343051621518608,"d":"-4.34"},{"v":35.23032370444275,"d":"35.23"},null,{"v":98.60701295220642,"d":"98.61"},{"v":21.633566068955083,"d":"21.63"},{"$f":"AM32*-1","v":{"v":-98.60701295220642,"d":"-98.61"}},{"v":-21.633566068955083,"d":"-21.63"},{"v":-44.318867683223914,"d":"-44.32"},{"v":29.383413956076488,"d":"29.38"},null,{"v":73.7944374656307,"d":"73.79"},{"v":18.292474784174395,"d":"18.29"},{"$f":"AT32*-1","v":{"v":-73.7944374656307,"d":"-73.79"}},{"v":-18.292474784174395,"d":"-18.29"},{"v":-19.50629219664819,"d":"-19.51"},{"v":32.72450524085724,"d":"32.72"},null,null,{"v":37.31076165759162,"d":"37.31"},{"v":11.431716645943657,"d":"11.43"},{"$f":"BB32*-1","v":{"v":-37.31076165759162,"d":"-37.31"}},{"v":-11.431716645943657,"d":"-11.43"},{"v":16.977383611390888,"d":"16.98"},{"v":39.58526337908797,"d":"39.59"},null,{"v":17.10076575972949,"d":"17.10"},{"v":6.027632413315751,"d":"6.03"},{"$f":"BI32*-1","v":{"v":-17.10076575972949,"d":"-17.10"}},{"v":-6.027632413315751,"d":"-6.03"},{"v":37.187379509253006,"d":"37.19"},{"v":44.98934761171587,"d":"44.99"},null,{"v":58.631196890501116,"d":"58.63"},{"v":15.786656320588868,"d":"15.79"},{"$f":"BP32*-1","v":{"v":-58.631196890501116,"d":"-58.63"}},{"v":-15.786656320588868,"d":"-15.79"},{"v":-4.343051621518608,"d":"-4.34"},{"v":35.23032370444275,"d":"35.23"}]
[{"v":91.2040840518906,"d":"91.20"},{"v":9.48421987251571,"d":"9.48"},29,{"v":1.4,"d":"1.40"},{"v":2.8,"d":"2.80"},{"v":54.288145268982504,"d":"54.29"},{"v":54.288145268982504,"d":"54.29"},{"v":9.48421987251571,"d":"9.48"},{"v":54.288145268982504,"d":"54.29"},{"v":1.6980752943764006,"d":"1.70"},{"v":54.288145268982504,"d":"54.29"},{"v":5.44029145932395,"d":"5.44"},{"v":54.288145268982504,"d":"54.29"},{"v":18.56916382408757,"d":"18.57"},{"v":54.288145268982504,"d":"54.29"},{"v":32.651628206533495,"d":"32.65"},54.288145268982504,{"v":9.48421987251571,"d":"9.48"},null,{"v":76.0034033765755,"d":"76.00"},{"v":20.40679201001265,"d":"20.41"},{"v":32.5728871613895,"d":"32.57"},{"v":71.42377203504427,"d":"71.42"},{"v":20.40679201001265,"d":"20.41"},{"v":32.5728871613895,"d":"32.57"},{"v":32.5728871613895,"d":"32.57"},{"v":86.63067337420053,"d":"86.63"},{"v":54.288145268982504,"d":"54.29"},{"v":51.01698002503162,"d":"51.02"},0,null,{"v":60.80272270126041,"d":"60.80"},{"v":15.408509941893646,"d":"15.41"},{"v":-60.80272270126041,"d":"-60.80"},{"v":-15.408509941893646,"d":"-15.41"},{"v":-6.5145774322779,"d":"-6.51"},{"v":35.60847008313797,"d":"35.61"},null,{"v":102.25912454302886,"d":"102.26"},{"v":21.11536547592833,"d":"21.12"},{"v":-102.25912454302886,"d":"-102.26"},{"v":-21.11536547592833,"d":"-21.12"},{"v":-47.97097927404636,"d":"-47.97"},{"v":29.901614549103243,"d":"29.90"},null,{"v":76.52756477917256,"d":"76.53"},{"v":17.85430517076566,"d":"17.85"},{"v":-76.52756477917256,"d":"-76.53"},{"v":-17.85430517076566,"d":"-17.85"},{"v":-22.23941951019006,"d":"-22.24"},{"v":33.16267485426598,"d":"33.16"},null,null,{"v":38.6926417189839,"d":"38.69"},{"v":11.157886509647128,"d":"11.16"},{"v":-38.6926417189839,"d":"-38.69"},{"v":-11.157886509647128,"d":"-11.16"},{"v":15.595503549998607,"d":"15.60"},{"v":39.8590935153845,"d":"39.86"},null,{"v":17.734127454534285,"d":"17.73"},{"v":5.8832492505412155,"d":"5.88"},{"v":-17.734127454534285,"d":"-17.73"},{"v":-5.8832492505412155,"d":"-5.88"},{"v":36.554017814448216,"d":"36.55"},{"v":45.1337307744904,"d":"45.13"},null,{"v":60.80272270126041,"d":"60.80"},{"v":15.408509941893646,"d":"15.41"},{"v":-60.80272270126041,"d":"-60.80"},{"v":-15.408509941893646,"d":"-15.41"},{"v":-6.5145774322779,"d":"-6.51"},{"v":35.60847008313797,"d":"35.61"}]
[{"v":94.46137276802955,"d":"94.46"},{"v":9.48421987251571,"d":"9.48"},30,1.45,{"v":2.9,"d":"2.90"},{"v":54.288145268982504,"d":"54.29"},{"v":54.288145268982504,"d":"54.29"},{"v":9.48421987251571,"d":"9.48"},{"v":54.288145268982504,"d":"54.29"},{"v":1.6980752943764006,"d":"1.70"},{"v":54.288145268982504,"d":"54.29"},{"v":5.44029145932395,"d":"5.44"},{"v":54.288145268982504,"d":"54.29"},{"v":18.56916382408757,"d":"18.57"},{"v":54.288145268982504,"d":"54.29"},{"v":32.651628206533495,"d":"32.65"},54.288145268982504,{"v":9.48421987251571,"d":"9.48"},null,{"v":78.71781064002462,"d":"78.72"},{"v":20.40679201001265,"d":"20.41"},{"v":32.5728871613895,"d":"32.57"},{"v":73.97462103629584,"d":"73.97"},{"v":20.40679201001265,"d":"20.41"},{"v":32.5728871613895,"d":"32.57"},{"v":32.5728871613895,"d":"32.57"},{"v":86.63067337420053,"d":"86.63"},{"v":54.288145268982504,"d":"54.29"},{"v":51.01698002503162,"d":"51.02"},0,null,{"v":62.97424851201971,"d":"62.97"},{"v":15.05222374191672,"d":"15.05"},{"v":-62.97424851201971,"d":"-62.97"},{"v":-15.05222374191672,"d":"-15.05"},{"v":-8.686103243037206,"d":"-8.69"},{"v":35.9647562831149,"d":"35.96"},null,{"v":105.91123613385132,"d":"105.91"},{"v":20.627121424108093,"d":"20.63"},{"v":-105.91123613385132,"d":"-105.91"},{"v":-20.627121424108093,"d":"-20.63"},{"v":-51.623090864868814,"d":"-51.62"},{"v":30.389858600923475,"d":"30.39"},null,{"v":79.26069209271445,"d":"79.26"},{"v":17.441465605713024,"d":"17.44"},{"v":-79.26069209271445,"d":"-79.26"},{"v":-17.441465605713024,"d":"-17.44"},{"v":-24.972546823731946,"d":"-24.97"},{"v":33.575514419318615,"d":"33.58"},null,null,{"v":40.07452178037618,"d":"40.07"},{"v":10.899886157939697,"d":"10.90"},{"v":-40.07452178037618,"d":"-40.07"},{"v":-10.899886157939697,"d":"-10.90"},{"v":14.213623488606327,"d":"14.21"},{"v":40.11709386709193,"d":"40.12"},null,{"v":18.367489149339082,"d":"18.37"},{"v":5.747212701459118,"d":"5.75"},{"v":-18.367489149339082,"d":"-18.37"},{"v":-5.747212701459118,"d":"-5.75"},{"v":35.92065611964342,"d":"35.92"},{"v":45.2697673235725,"d":"45.27"},null,{"v":62.97424851201971,"d":"62.97"},{"v":15.05222374191672,"d":"15.05"},{"v":-62.97424851201971,"d":"-62.97"},{"v":-15.05222374191672,"d":"-15.05"},{"v":-8.686103243037206,"d":"-8.69"},{"v":35.9647562831149,"d":"35.96"}]
[{"v":97.7186614841685,"d":"97.72"},{"v":9.48421987251571,"d":"9.48"},31,{"v":1.5,"d":"1.50"},{"v":3,"d":"3.00"},{"v":54.288145268982504,"d":"54.29"},{"v":54.288145268982504,"d":"54.29"},{"v":9.48421987251571,"d":"9.48"},{"v":54.288145268982504,"d":"54.29"},{"v":1.6980752943764006,"d":"1.70"},{"v":54.288145268982504,"d":"54.29"},{"v":5.44029145932395,"d":"5.44"},{"v":54.288145268982504,"d":"54.29"},{"v":18.56916382408757,"d":"18.57"},{"v":54.288145268982504,"d":"54.29"},{"v":32.651628206533495,"d":"32.65"},54.288145268982504,{"v":9.48421987251571,"d":"9.48"},null,{"v":81.43221790347376,"d":"81.43"},{"v":20.40679201001265,"d":"20.41"},{"v":32.5728871613895,"d":"32.57"},{"v":76.52547003754744,"d":"76.53"},{"v":20.40679201001265,"d":"20.41"},{"v":32.5728871613895,"d":"32.57"},{"v":32.5728871613895,"d":"32.57"},{"v":86.63067337420053,"d":"86.63"},{"v":54.288145268982504,"d":"54.29"},{"v":51.01698002503162,"d":"51.02"},0,null,{"v":65.14577432277902,"d":"65.15"},{"v":14.715843503896693,"d":"14.72"},{"v":-65.14577432277902,"d":"-65.15"},{"v":-14.715843503896693,"d":"-14.72"},{"v":-10.857629053796511,"d":"-10.86"},{"v":36.30113652113493,"d":"36.30"},null,{"v":109.56334772467378,"d":"109.56"},{"v":20.16615591274731,"d":"20.17"},{"v":-109.56334772467378,"d":"-109.56"},{"v":-20.16615591274731,"d":"-20.17"},{"v":-55.27520245569127,"d":"-55.28"},{"v":30.850824112284258,"d":"30.85"},null,{"v":81.99381940625634,"d":"81.99"},{"v":17.051691679118406,"d":"17.05"},{"v":-81.99381940625634,"d":"-81.99"},{"v":-17.051691679118406,"d":"-17.05"},{"v":-27.70567413727383,"d":"-27.71"},{"v":33.96528834591323,"d":"33.97"},null,null,{"v":41.45640184176847,"d":"41.46"},{"v":10.656300468338989,"d":"10.66"},{"v":-41.45640184176847,"d":"-41.46"},{"v":-10.656300468338989,"d":"-10.66"},{"v":12.83174342721404,"d":"12.83"},{"v":40.36067955669264,"d":"40.36"},null,{"v":19.000850844143876,"d":"19.00"},{"v":5.618776610578743,"d":"5.62"},{"v":-19.000850844143876,"d":"-19.00"},{"v":-5.618776610578743,"d":"-5.62"},{"v":35.28729442483862,"d":"35.29"},{"v":45.39820341445288,"d":"45.40"},null,{"v":65.14577432277902,"d":"65.15"},{"v":14.715843503896693,"d":"14.72"},{"v":-65.14577432277902,"d":"-65.15"},{"v":-14.715843503896693,"d":"-14.72"},{"v":-10.857629053796511,"d":"-10.86"},{"v":36.30113652113493,"d":"36.30"}]
[{"v":100.97595020030747,"d":"100.98"},{"v":9.48421987251571,"d":"9.48"},32,1.55,{"v":3.1,"d":"3.10"},{"v":54.288145268982504,"d":"54.29"},{"v":54.288145268982504,"d":"54.29"},{"v":9.48421987251571,"d":"9.48"},{"v":54.288145268982504,"d":"54.29"},{"v":1.6980752943764006,"d":"1.70"},{"v":54.288145268982504,"d":"54.29"},{"v":5.44029145932395,"d":"5.44"},{"v":54.288145268982504,"d":"54.29"},{"v":18.56916382408757,"d":"18.57"},{"v":54.288145268982504,"d":"54.29"},{"v":32.651628206533495,"d":"32.65"},54.288145268982504,{"v":9.48421987251571,"d":"9.48"},null,{"v":84.14662516692289,"d":"84.15"},{"v":20.40679201001265,"d":"20.41"},{"v":32.5728871613895,"d":"32.57"},{"v":79.07631903879901,"d":"79.08"},{"v":20.40679201001265,"d":"20.41"},{"v":32.5728871613895,"d":"32.57"},{"v":32.5728871613895,"d":"32.57"},{"v":86.63067337420053,"d":"86.63"},{"v":54.288145268982504,"d":"54.29"},{"v":51.01698002503162,"d":"51.02"},0,null,{"v":67.31730013353832,"d":"67.32"},{"v":14.397647438162945,"d":"14.40"},{"v":-67.31730013353832,"d":"-67.32"},{"v":-14.397647438162945,"d":"-14.40"},{"v":-13.029154864555817,"d":"-13.03"},{"v":36.61933258686867,"d":"36.62"},null,{"v":113.21545931549625,"d":"113.22"},{"v":19.73010945229736,"d":"19.73"},{"v":-113.21545931549625,"d":"-113.22"},{"v":-19.73010945229736,"d":"-19.73"},{"v":-58.92731404651374,"d":"-58.93"},{"v":31.286870572734216,"d":"31.29"},null,{"v":84.7269467197982,"d":"84.73"},{"v":16.682988301363405,"d":"16.68"},{"v":-84.7269467197982,"d":"-84.73"},{"v":-16.682988301363405,"d":"-16.68"},{"v":-30.438801450815703,"d":"-30.44"},{"v":34.33399172366823,"d":"34.33"},null,null,{"v":42.83828190316075,"d":"42.84"},{"v":10.425882627635236,"d":"10.43"},{"v":-42.83828190316075,"d":"-42.84"},{"v":-10.425882627635236,"d":"-10.43"},{"v":11.44986336582176,"d":"11.45"},{"v":40.59109739739639,"d":"40.59"},null,{"v":19.634212538948674,"d":"19.63"},{"v":5.497283567298582,"d":"5.50"},{"v":-19.634212538948674,"d":"-19.63"},{"v":-5.497283567298582,"d":"-5.50"},{"v":34.65393273003383,"d":"34.65"},{"v":45.51969645773304,"d":"45.52"},null,{"v":67.31730013353832,"d":"67.32"},{"v":14.397647438162945,"d":"14.40"},{"v":-67.31730013353832,"d":"-67.32"},{"v":-14.397647438162945,"d":"-14.40"},{"v":-13.029154864555817,"d":"-13.03"},{"v":36.61933258686867,"d":"36.62"}]
[{"v":104.23323891644641,"d":"104.23"},{"v":9.48421987251571,"d":"9.48"},33,{"v":1.6,"d":"1.60"},{"v":3.2,"d":"3.20"},{"v":54.288145268982504,"d":"54.29"},{"v":54.288145268982504,"d":"54.29"},{"v":9.48421987251571,"d":"9.48"},{"v":54.288145268982504,"d":"54.29"},{"v":1.6980752943764006,"d":"1.70"},{"v":54.288145268982504,"d":"54.29"},{"v":5.44029145932395,"d":"5.44"},{"v":54.288145268982504,"d":"54.29"},{"v":18.56916382408757,"d":"18.57"},{"v":54.288145268982504,"d":"54.29"},{"v":32.651628206533495,"d":"32.65"},54.288145268982504,{"v":9.48421987251571,"d":"9.48"},null,{"v":86.861032430372,"d":"86.86"},{"v":20.40679201001265,"d":"20.41"},{"v":32.5728871613895,"d":"32.57"},{"v":81.6271680400506,"d":"81.63"},{"v":20.40679201001265,"d":"20.41"},{"v":32.5728871613895,"d":"32.57"},{"v":32.5728871613895,"d":"32.57"},{"v":86.63067337420053,"d":"86.63"},{"v":54.288145268982504,"d":"54.29"},{"v":51.01698002503162,"d":"51.02"},0,null,{"v":69.48882594429762,"d":"69.49"},{"v":14.096112103329293,"d":"14.10"},{"v":-69.48882594429762,"d":"-69.49"},{"v":-14.096112103329293,"d":"-14.10"},{"v":-15.200680675315109,"d":"-15.20"},{"v":36.92086792170233,"d":"36.92"},null,{"v":116.8675709063187,"d":"116.87"},{"v":19.316894363821614,"d":"19.32"},{"v":-116.8675709063187,"d":"-116.87"},{"v":-19.316894363821614,"d":"-19.32"},{"v":-62.5794256373362,"d":"-62.58"},{"v":31.700085661209954,"d":"31.70"},null,{"v":87.46007403334009,"d":"87.46"},{"v":16.333590214968854,"d":"16.33"},{"v":-87.46007403334009,"d":"-87.46"},{"v":-16.333590214968854,"d":"-16.33"},{"v":-33.17192876435759,"d":"-33.17"},{"v":34.683389810062785,"d":"34.68"},null,null,{"v":44.22016196455303,"d":"44.22"},{"v":10.207529454135,"d":"10.21"},{"v":-44.22016196455303,"d":"-44.22"},{"v":-10.207529454135,"d":"-10.21"},{"v":10.067983304429479,"d":"10.07"},{"v":40.80945057089663,"d":"40.81"},null,{"v":20.26757423375347,"d":"20.27"},{"v":5.382151893998459,"d":"5.38"},{"v":-20.26757423375347,"d":"-20.27"},{"v":-5.382151893998459,"d":"-5.38"},{"v":34.020571035229025,"d":"34.02"},{"v":45.63482813103316,"d":"45.63"},null,{"v":69.48882594429762,"d":"69.49"},{"v":14.096112103329293,"d":"14.10"},{"v":-69.48882594429762,"d":"-69.49"},{"v":-14.096112103329293,"d":"-14.10"},{"v":-15.200680675315109,"d":"-15.20"},{"v":36.92086792170233,"d":"36.92"}]
[{"v":107.49052763258535,"d":"107.49"},{"v":9.48421987251571,"d":"9.48"},34,1.65,{"v":3.3,"d":"3.30"},{"v":54.288145268982504,"d":"54.29"},{"v":54.288145268982504,"d":"54.29"},{"v":9.48421987251571,"d":"9.48"},{"v":54.288145268982504,"d":"54.29"},{"v":1.6980752943764006,"d":"1.70"},{"v":54.288145268982504,"d":"54.29"},{"v":5.44029145932395,"d":"5.44"},{"v":54.288145268982504,"d":"54.29"},{"v":18.56916382408757,"d":"18.57"},{"v":54.288145268982504,"d":"54.29"},{"v":32.651628206533495,"d":"32.65"},54.288145268982504,{"v":9.48421987251571,"d":"9.48"},null,{"v":89.57543969382112,"d":"89.58"},{"v":20.40679201001265,"d":"20.41"},{"v":32.5728871613895,"d":"32.57"},{"v":84.17801704130217,"d":"84.18"},{"v":20.40679201001265,"d":"20.41"},{"v":32.5728871613895,"d":"32.57"},{"v":32.5728871613895,"d":"32.57"},{"v":86.63067337420053,"d":"86.63"},{"v":54.288145268982504,"d":"54.29"},{"v":51.01698002503162,"d":"51.02"},0,null,{"v":71.66035175505691,"d":"71.66"},{"v":13.809884210218462,"d":"13.81"},{"v":-71.66035175505691,"d":"-71.66"},{"v":-13.809884210218462,"d":"-13.81"},{"v":-17.3722064860744,"d":"-17.37"},{"v":37.20709581481316,"d":"37.21"},null,{"v":120.51968249714115,"d":"120.52"},{"v":18.924656139929002,"d":"18.92"},{"v":-120.51968249714115,"d":"-120.52"},{"v":-18.924656139929002,"d":"-18.92"},{"v":-66.23153722815864,"d":"-66.23"},{"v":32.09232388510257,"d":"32.09"},null,{"v":90.19320134688196,"d":"90.19"},{"v":16.001929322951558,"d":"16.00"},{"v":-90.19320134688196,"d":"-90.19"},{"v":-16.001929322951558,"d":"-16.00"},{"v":-35.90505607789946,"d":"-35.91"},{"v":35.01505070208008,"d":"35.02"},null,null,{"v":45.60204202594531,"d":"45.60"},{"v":10.000260979813376,"d":"10.00"},{"v":-45.60204202594531,"d":"-45.60"},{"v":-10.000260979813376,"d":"-10.00"},{"v":8.686103243037198,"d":"8.69"},{"v":41.01671904521825,"d":"41.02"},null,{"v":20.900935928558265,"d":"20.90"},{"v":5.272864880265237,"d":"5.27"},{"v":-20.900935928558265,"d":"-20.90"},{"v":-5.272864880265237,"d":"-5.27"},{"v":33.387209340424235,"d":"33.39"},{"v":45.74411514476638,"d":"45.74"},null,{"v":71.66035175505691,"d":"71.66"},{"v":13.809884210218462,"d":"13.81"},{"v":-71.66035175505691,"d":"-71.66"},{"v":-13.809884210218462,"d":"-13.81"},{"v":-17.3722064860744,"d":"-17.37"},{"v":37.20709581481316,"d":"37.21"}]
[{"v":110.7478163487243,"d":"110.75"},{"v":9.48421987251571,"d":"9.48"},35,{"v":1.7,"d":"1.70"},{"v":3.4,"d":"3.40"},{"v":54.288145268982504,"d":"54.29"},{"v":54.288145268982504,"d":"54.29"},{"v":9.48421987251571,"d":"9.48"},{"v":54.288145268982504,"d":"54.29"},{"v":1.6980752943764006,"d":"1.70"},{"v":54.288145268982504,"d":"54.29"},{"v":5.44029145932395,"d":"5.44"},{"v":54.288145268982504,"d":"54.29"},{"v":18.56916382408757,"d":"18.57"},{"v":54.288145268982504,"d":"54.29"},{"v":32.651628206533495,"d":"32.65"},54.288145268982504,{"v":9.48421987251571,"d":"9.48"},null,{"v":92.28984695727026,"d":"92.29"},{"v":20.40679201001265,"d":"20.41"},{"v":32.5728871613895,"d":"32.57"},{"v":86.72886604255375,"d":"86.73"},{"v":20.40679201001265,"d":"20.41"},{"v":32.5728871613895,"d":"32.57"},{"v":32.5728871613895,"d":"32.57"},{"v":86.63067337420053,"d":"86.63"},{"v":54.288145268982504,"d":"54.29"},{"v":51.01698002503162,"d":"51.02"},0,null,{"v":73.83187756581621,"d":"73.83"},{"v":13.537757149118326,"d":"13.54"},{"v":-73.83187756581621,"d":"-73.83"},{"v":-13.537757149118326,"d":"-13.54"},{"v":-19.543732296833706,"d":"-19.54"},{"v":37.479222875913294,"d":"37.48"},null,{"v":124.17179408796362,"d":"124.17"},{"v":18.5517412784214,"d":"18.55"},{"v":-124.17179408796362,"d":"-124.17"},{"v":-18.5517412784214,"d":"-18.55"},{"v":-69.88364881898111,"d":"-69.88"},{"v":32.46523874661017,"d":"32.47"},null,{"v":92.92632866042383,"d":"92.93"},{"v":15.68660749024821,"d":"15.69"},{"v":-92.92632866042383,"d":"-92.93"},{"v":-15.68660749024821,"d":"-15.69"},{"v":-38.63818339144133,"d":"-38.64"},{"v":35.33037253478343,"d":"35.33"},null,null,{"v":46.98392208733759,"d":"46.98"},{"v":9.803203452809822,"d":"9.80"},{"v":-46.98392208733759,"d":"-46.98"},{"v":-9.803203452809822,"d":"-9.80"},{"v":7.304223181644918,"d":"7.30"},{"v":41.21377657222181,"d":"41.21"},null,{"$f":"$E39*$BC$59","v":{"v":21.534297623363063,"d":"21.53"}},{"v":5.168961820572455,"d":"5.17"},{"v":-21.534297623363063,"d":"-21.53"},{"v":-5.168961820572455,"d":"-5.17"},{"v":32.75384764561944,"d":"32.75"},{"v":45.848018204459166,"d":"45.85"},null,{"v":73.83187756581621,"d":"73.83"},{"v":13.537757149118326,"d":"13.54"},{"v":-73.83187756581621,"d":"-73.83"},{"v":-13.537757149118326,"d":"-13.54"},{"v":-19.543732296833706,"d":"-19.54"},{"v":37.479222875913294,"d":"37.48"}]
[{"v":54.288145268982504,"d":"54.29"},{"$f":"($F$58/($F40^($D$52)))^(1/$D$53)","v":{"v":9.48421987251571,"d":"9.48"}},36,1.75,{"$f":"F43/D46","v":{"v":1.6666666666666667,"d":"1.67"}},{"v":54.288145268982504,"d":"54.29"},{"v":54.288145268982504,"d":"54.29"},{"v":9.48421987251571,"d":"9.48"},{"v":54.288145268982504,"d":"54.29"},{"v":1.6980752943764006,"d":"1.70"},{"v":54.288145268982504,"d":"54.29"},{"v":5.44029145932395,"d":"5.44"},{"v":54.288145268982504,"d":"54.29"},{"v":18.56916382408757,"d":"18.57"},{"v":54.288145268982504,"d":"54.29"},{"v":32.651628206533495,"d":"32.65"},54.288145268982504,{"v":9.48421987251571,"d":"9.48"},null,{"v":95.00425422071939,"d":"95.00"},{"v":20.40679201001265,"d":"20.41"},{"v":32.5728871613895,"d":"32.57"},{"v":89.27971504380534,"d":"89.28"},{"v":20.40679201001265,"d":"20.41"},{"v":32.5728871613895,"d":"32.57"},{"v":32.5728871613895,"d":"32.57"},{"v":86.63067337420053,"d":"86.63"},{"v":54.288145268982504,"d":"54.29"},{"v":51.01698002503162,"d":"51.02"},0,null,{"v":36.192096845988345,"d":"36.19"},{"v":21.775434559960587,"d":"21.78"},{"v":-36.192096845988345,"d":"-36.19"},{"v":-21.775434559960587,"d":"-21.78"},{"$f":"IF((AH40+($AF$15*2)+($D$46-$E$46))>AJ39,AJ39-0.001,(AH40+($AF$15*2)+($D$46-$E$46)))","v":{"v":-19.544732296833708,"d":"-19.54"}},{"$f":"IF((AI40+($E$47*2)+($D$47-$E$47))<AK39,AK39+0.001,(AI40+($E$47*2)+($D$47-$E$47)))","v":{"v":37.48022287591329,"d":"37.48"}},null,{"v":60.86852651370766,"d":"60.87"},{"v":29.840410322908923,"d":"29.84"},{"v":-60.86852651370766,"d":"-60.87"},{"v":-29.840410322908923,"d":"-29.84"},{"$f":"IF((AO40+($AM$15*2)+($AL$48-$AM$48))>AQ39,AQ39-0.001,(AO40+($AM$15*2)+($AL$48-$AM$48)))","v":{"v":-69.88464881898112,"d":"-69.88"}},{"$f":"IF((AP40+($AN$15*2)+($AL$49-$AM$49))<AR39,AR39+0.001,(AP40+($AN$15*2)+($AL$49-$AM$49)))","v":{"v":32.466238746610166,"d":"32.47"}},null,{"v":45.55212189236463,"d":"45.55"},{"v":25.231852744081312,"d":"25.23"},{"v":-45.55212189236463,"d":"-45.55"},{"v":-25.231852744081312,"d":"-25.23"},{"$f":"IF((AV40+($AT$15*2)+($AL$59-$AM$59))>AX39,AX39-0.001,(AV40+($AT$15*2)+($AL$59-$AM$59)))","v":{"v":-38.63918339144133,"d":"-38.64"}},{"$f":"IF((AW40+($AU$15*2)+($AL$60-$AM$60))<AY39,AY39+0.001,(AW40+($AU$15*2)+($AL$60-$AM$60)))","v":{"v":35.331372534783426,"d":"35.33"}},null,null,{"v":23.031334356538036,"d":"23.03"},{"v":15.768418129626637,"d":"15.77"},{"v":-23.031334356538036,"d":"-23.03"},{"v":-15.768418129626637,"d":"-15.77"},{"$f":"IF((BD40+($BB$15*2)+($BB$48-$BC$48))>BF39,BF39-0.001,(BD40+($BB$15*2)+($BB$48-$BC$48)))","v":{"v":7.303223181644918,"d":"7.30"}},{"$f":"IF((BE40+($BC$15*2)+($BB$49-$BC$49))<BG39,BG39+0.001,(BE40+($BC$15*2)+($BB$49-$BC$49)))","v":{"v":41.21477657222181,"d":"41.21"}},null,{"$f":"$E40*$BC$59","v":{"v":10.5560282467466,"d":"10.56"}},{"v":8.314256831984956,"d":"8.31"},{"v":-10.5560282467466,"d":"-10.56"},{"v":-8.314256831984956,"d":"-8.31"},{"$f":"IF((BK40+($BI$15*2)+($BB$59-$BC$59))>BM39,BM39-0.001,(BK40+($BI$15*2)+($BB$59-$BC$59)))","v":{"v":32.75284764561944,"d":"32.75"}},{"$f":"IF((BL40+($BJ$15*2)+($BB$60-$BC$60))<BN39,BN39+0.001,(BL40+($BJ$15*2)+($BB$60-$BC$60)))","v":{"v":45.84901820445916,"d":"45.85"}},null,{"v":36.192096845988345,"d":"36.19"},{"v":21.775434559960587,"d":"21.78"},{"v":-36.192096845988345,"d":"-36.19"},{"v":-21.775434559960587,"d":"-21.78"},{"$f":"IF((BR40+($BP$15*2)+($BK$46-$BL$46))>BT39,BT39-0.001,(BR40+($BP$15*2)+($BK$46-$BL$46)))","v":{"v":-19.544732296833708,"d":"-19.54"}},{"$f":"IF((BS40+($BQ$15*2)+($BK$47-$BL$47))<BU39,BU39+0.001,(BS40+($BQ$15*2)+($BK$47-$BL$47)))","v":{"v":37.48022287591329,"d":"37.48"}}]
[null,null,"original",{"$nulls":4},"menos 2",{"$nulls":5},"más 1"]
[{"$nulls":3},"Individuo A","Individuo B","Total",null,null,"Individuo A","Individuo B","Total",{"$nulls":3},"Individuo A","Individuo B","Total"]
[null,null,"Dotación Bien 1",{"$f":"D46","v":32.5728871613895},{"$f":"E46","v":21.715258107593005},{"$f":"E43+D43","v":54.288145268982504},null,"Dotación Bien 1",{"$f":"D43*0.5","v":16.28644358069475},{"$f":"K43-I43","v":38.00170168828775},{"$f":"F43","v":54.288145268982504},null,null,"Dotación Bien 1",{"$f":"((F43-D43)*0.2)+D43","v":36.9159387829081},{"$f":"Q43-O43","v":17.372206486074404},{"$f":"K43","v":54.288145268982504},{"$nulls":19},"MENOS 2",{"$nulls":15},"MÁS 1"]
[null,null,"Dotación Bien 2",{"$f":"D47","v":20.40679201001265},{"$f":"E47","v":30.61018801501897},{"$f":"E44+D44","v":51.01698002503162},null,"Dotación Bien 2",{"$f":"D44*0.5","v":10.203396005006326},{"$f":"K44-I44","v":40.813584020025296},{"$f":"F44","v":51.01698002503162},null,null,"Dotación Bien 2",{"$f":"((F44-D44)*0.4)+D44","v":32.65086721602024},{"$f":"Q44-O44","v":18.366112809011383},{"$f":"K44","v":51.01698002503162},{"$nulls":20},"Individuo A","Individuo B","Total",{"$nulls":13},"Individuo A","Individuo B","Total",{"$nulls":5},"DOTACIÓN"]
[null,null,"UTILIDAD",{"$f":"D43^($D$52)*D44^($D$53)","v":27.016161768481158},{"$f":"E43^($E$54)*E44^($E$55)","v":26.68244338367311},{"$nulls":31},"Dotación Bien 1",{"$f":"I43","v":16.28644358069475},38.00170168828775,54.288145268982504,{"$nulls":12},"Dotación Bien 1",{"$f":"O43","v":36.9159387829081},17.372206486074404,54.288145268982504,{"$nulls":6},"Individuo A","Individuo B","Total"]
[null,null,"Demanda Bruta Bien 1",{"$f":"(D52/(D52+E54))*D116","v":32.5728871613895},{"$f":"(E54/(D52+E54))*D116","v":21.715258107593005},{"$f":"E46+D46","v":54.288145268982504},null,"Demanda Bruta Bien 1",{"$f":"($D$52*I43)+(J49*I44*$D$52)","v":17.76702936075791},{"$f":"($E$54*J43)+($E$54*J49*J44)","v":36.521115908224594},{"$f":"J46+I46","v":54.288145268982504},null,null,"Demanda Bruta Bien 1",{"$f":"($D$52*O43)+(P49*O44*$D$52)","v":40.469344655059686},{"$f":"($E$54*P43)+($E$54*P49*P44)","v":13.818800613922821},{"$f":"P46+O46","v":54.288145268982504},{"$f":"($D$52*((O47/O46)^($D$53)))/($D$53*((O46/O47)^($D$52)))","v":1.069364307224536},{"$nulls":18},"Dotación Bien 2",10.203396005006326,40.813584020025296,51.01698002503162,{"$nulls":12},"Dotación Bien 2",32.65086721602024,18.366112809011383,51.01698002503162,{"$nulls":5},"Dotación Bien 1",{"$f":"D43","v":32.5728871613895},21.715258107593005,54.288145268982504]
[null,null,"Demanda Bruta Bien 2",{"$f":"(D53/(D53+E55))*E116","v":20.40679201001265},{"$f":"(E55/(D53+E55))*E116","v":30.61018801501897},{"$f":"E47+D47","v":51.01698002503162},null,"Demanda Bruta Bien 2",{"$f":"($D$53*J50*I43)+($D$53*I44)","v":9.069685337783401},{"$f":"($E$55*J50*J43)+($E$55*J44)","v":41.94729468724822},{"$f":"J47+I47","v":51.016980025031614},null,null,"Demanda Bruta Bien 2",{"$f":"($D$53*P50*O43)+($D$53*O44)","v":28.85098180725926},{"$f":"($E$55*P50*P43)+($E$55*P44)","v":22.165998217772362},{"$f":"P47+O47","v":51.01698002503162},{"$f":"($E$54*((P47/P46)^($E$55)))/($E$55*((P46/P47)^($E$54)))","v":1.0693643072245362},{"$nulls":18},"UTILIDAD",{"$f":"AL45^($D$52)*AL46^($D$53)","v":13.508080884240579},{"$f":"AM45^($E$54)*AM46^($E$55)","v":39.66468941802247},{"$nulls":13},"UTILIDAD",{"$f":"BB45^($D$52)*BB46^($D$53)","v":35.14683629637548},{"$f":"BC45^($E$54)*BC46^($E$55)","v":17.96190278843337},{"$nulls":6},"Dotación Bien 2",20.40679201001265,30.61018801501897,51.01698002503162]
[null,null,"UTILIDAD",{"$f":"D46^($D$52)*D47^($D$53)","v":27.016161768481158},{"$f":"E46^($E$54)*E47^($E$55)","v":26.68244338367311},{"$nulls":31},"Demanda Bruta Bien 1",{"$f":"I46","v":17.76702936075791},36.521115908224594,54.288145268982504,{"$nulls":12},"Demanda Bruta Bien 1",{"$f":"O46","v":40.469344655059686},13.818800613922821,54.288145268982504,{"$nulls":5},"UTILIDAD",{"$f":"BK46^($D$52)*BK47^($D$53)","v":27.016161768481158},{"$f":"BL46^($E$54)*BL47^($E$55)","v":26.68244338367311}]
[null,null,"Demanda Neta Bien 1",{"$f":"D46-D43","v":0},{"$f":"D47-D44","v":0},null,null,"P2/P1",null,{"$f":"(($D$53*I43)+($E$55*J43))/(($D$52*I44)+($E$54*J44))","v":1.305964407735459},"k inicial",null,null,"P2/P1",null,{"$f":"(($D$53*O43)+($E$55*P43))/(($D$52*O44)+($E$54*P44))","v":0.9351350080081064},"k inicial",{"$nulls":19},"Demanda Bruta Bien 2",9.069685337783401,41.94729468724822,51.016980025031614,{"$nulls":12},"Demanda Bruta Bien 2",28.85098180725926,22.165998217772362,51.01698002503162]
[null,null,"Demanda Neta Bien 2",{"$f":"E46-E43","v":0},{"$f":"E47-E44","v":0},null,null,"P1/P2",null,{"$f":"1/J49","v":0.765717652086705},{"$f":"(I46^($D$52))*(I47^($D$53))","v":13.577061336888056},null,null,"P1/P2",null,{"$f":"1/P49","v":1.0693643072245362},{"$f":"(O46^($D$52))*(O47^($D$53))","v":35.34597303116854},{"$nulls":19},"UTILIDAD",{"$f":"AL48^($D$52)*AL49^($D$53)","v":13.577061336888056},{"$f":"AM48^($E$54)*AM49^($E$55)","v":39.68624323570614},{"$nulls":13},"UTILIDAD",{"$f":"BB48^($D$52)*BB49^($D$53)","v":35.34597303116854},{"$f":"BC48^($E$54)*BC49^($E$55)","v":18.348497904713575}]
[null,null,"RMT",{"$f":"SLOPE(E65:K65,E64:K64)","v":0.9197484125640439},{"$nulls":32},"P2/P1",null,{"$f":"J49","v":1.305964407735459},{"$f":"K49","v":"k inicial"},{"$nulls":12},"P2/P1",null,{"$f":"P49","v":0.9351350080081064},{"$f":"Q49","v":"k inicial"}]
[null,null,"a",{"$f":"EOC2descentral!C38","v":0.6},{"$nulls":3},"menos 1",{"$nulls":5},"más 2",{"$nulls":22},"P1/P2",null,{"$f":"J50","v":0.765717652086705},{"$f":"K50","v":13.577061336888056},{"$nulls":12},"P1/P2",null,{"$f":"P50","v":1.0693643072245362},{"$f":"Q50","v":35.34597303116854}]
[null,null,"1-a",{"$f":"1-D52","v":0.4},{"$nulls":4},"Individuo A","Individuo B","Total",{"$nulls":3},"Individuo A","Individuo B","Total"]
[null,null,"b",null,{"$f":"EOC2descentral!D40","v":0.4},null,null,"Dotación Bien 1",{"$f":"D43*0.8","v":26.058309729111603},{"$f":"K54-I54","v":28.2298355398709},{"$f":"K43","v":54.288145268982504},null,null,"Dotación Bien 1",{"$f":"((F43-D43)*0.5)+D43","v":43.430516215186},{"$f":"Q54-O54","v":10.8576290537965},{"$f":"Q43","v":54.288145268982504},{"$nulls":19},"MENOS 1",{"$nulls":15},"MÁS 2"]
[null,null,"1-b",null,{"$f":"1-E54","v":0.6},null,null,"Dotación Bien 2",{"$f":"D44*0.8","v":16.325433608010123},{"$f":"K55-I55","v":34.6915464170215},{"$f":"K44","v":51.01698002503162},null,null,"Dotación Bien 2",{"$f":"((F44-D44)*0.8)+D44","v":44.894942422027825},{"$f":"Q55-O55","v":6.122037603003797},{"$f":"Q44","v":51.01698002503162},{"$nulls":20},"Individuo A","Individuo B","Total",{"$nulls":13},"Individuo A","Individuo B","Total"]
[{"$nulls":36},"Dotación Bien 1",{"$f":"I54","v":26.058309729111603},28.2298355398709,54.288145268982504,{"$nulls":12},"Dotación Bien 1",{"$f":"O54","v":43.430516215186},10.8576290537965,54.288145268982504]
[null,null,"P2/P1",null,{"$f":"((D53*D43)+(E55*E43))/((D52*D44)+(E54*E44))","v":1.0641191470437075},"k inicial",null,"Demanda Bruta Bien 1",{"$f":"($D$52*I54)+(J60*I55*$D$52)","v":26.956872133563728},{"$f":"($E$54*J54)+($E$54*J60*J55)","v":27.331273135418776},{"$f":"J57+I57","v":54.288145268982504},null,null,"Demanda Bruta Bien 1",{"$f":"($D$52*O54)+(P60*O55*$D$52)","v":47.95452832093454},{"$f":"($E$54*P54)+($E$54*P60*P55)","v":6.333616948047959},{"$f":"P57+O57","v":54.288145268982504},{"$f":"($D$52*((O58/O57)^($D$53)))/($D$53*((O57/O58)^($D$52)))","v":1.2302108393855824},{"$nulls":18},"Dotación Bien 2",16.325433608010123,34.6915464170215,51.01698002503162,{"$nulls":12},"Dotación Bien 2",44.894942422027825,6.122037603003797,51.01698002503162]
[null,null,"P1/P2",null,{"$f":"1/E57","v":0.9397443911973197},{"$f":"(D46^($D$52))*(D47^($D$53))","v":27.016161768481158},null,"Demanda Bruta Bien 2",{"$f":"($D$53*J61*I54)+($D$53*I55)","v":15.548032007628686},{"$f":"($E$55*J61*J54)+($E$55*J55)","v":35.46894801740294},{"$f":"J58+I58","v":51.01698002503162},null,null,"Demanda Bruta Bien 2",{"$f":"($D$53*P61*O54)+($D$53*O55)","v":39.32945369202438},{"$f":"($E$55*P61*P54)+($E$55*P55)","v":11.687526333007247},{"$f":"P58+O58","v":51.01698002503163},{"$f":"($E$54*((P58/P57)^($E$55)))/($E$55*((P57/P58)^($E$54)))","v":1.2302108393855826},{"$nulls":18},"UTILIDAD",{"$f":"AL56^($D$52)*AL57^($D$53)","v":21.612929414784926},{"$f":"AM56^($E$54)*AM57^($E$55)","v":31.946077058411888},{"$nulls":13},"UTILIDAD",{"$f":"BB56^($D$52)*BB57^($D$53)","v":44.01046552862225},{"$f":"BC56^($E$54)*BC57^($E$55)","v":7.698951711799952}]
[{"$nulls":36},"Demanda Bruta Bien 1",{"$f":"($D$52*AL56)+(AM62*AL57*$D$52)","v":26.956872133563728},{"$f":"J57","v":27.331273135418776},{"$f":"K57","v":54.288145268982504},{"$nulls":12},"Demanda Bruta Bien 1",{"$f":"O57","v":47.95452832093454},6.333616948047959,54.288145268982504]
[null,null,"RMS",{"$f":"($D$52*((D47/D46)^($D$53)))/($D$53*((D46/D47)^($D$52)))","v":0.9397443911973199},{"$f":"($E$54*((E47/E46)^($E$55)))/($E$55*((E46/E47)^($E$54)))","v":0.9397443911973197},null,null,"P2/P1",null,{"$f":"(($D$53*I54)+($E$55*J54))/(($D$52*I55)+($E$54*J55))","v":1.155853556271613},"k inicial",null,null,"P2/P1",null,{"$f":"(($D$53*O54)+($E$55*P54))/(($D$52*O55)+($E$54*P55))","v":0.8128687928806098},"k inicial",{"$nulls":19},"Demanda Bruta Bien 2",{"$f":"($D$53*AM63*AL56)+($D$53*AL57)","v":15.548032007628686},{"$f":"J58","v":35.46894801740294},{"$f":"K58","v":51.01698002503162},{"$nulls":12},"Demanda Bruta Bien 2",39.32945369202438,11.687526333007247,51.01698002503163]
[{"$nulls":7},"P1/P2",null,{"$f":"1/J60","v":0.8651615030070564},{"$f":"(I57^($D$52))*(I58^($D$53))","v":21.630764525875165},null,null,"P1/P2",null,{"$f":"1/P60","v":1.2302108393855824},{"$f":"(O57^($D$52))*(O58^($D$53))","v":44.29808373422117},{"$nulls":19},"UTILIDAD",{"$f":"AL59^($D$52)*AL60^($D$53)","v":21.630764525875165},{"$f":"AM59^($E$54)*AM60^($E$55)","v":31.957509714640054},{"$nulls":13},"UTILIDAD",{"$f":"BB59^($D$52)*BB60^($D$53)","v":44.29808373422117},{"$f":"BC59^($E$54)*BC60^($E$55)","v":9.147328568470055}]
[{"$nulls":36},"P2/P1",null,{"$f":"J60","v":1.155853556271613},{"$f":"K60","v":"k inicial"},{"$nulls":12},"P2/P1",null,{"$f":"P60","v":0.8128687928806098},{"$f":"Q60","v":"k inicial"}]
[{"$nulls":3},"curva de tranasformación","Inicio","menos 2","menos 1","original","más 1","más 2","final",{"$nulls":25},"P1/P2",null,{"$f":"J61","v":0.8651615030070564},{"$f":"K61","v":21.630764525875165},{"$nulls":12},"P1/P2",null,{"$f":"P61","v":1.2302108393855824},{"$f":"Q61","v":44.29808373422117}]
[{"$nulls":3},"x1",0,{"$f":"I46","v":17.76702936075791},{"$f":"I57","v":26.956872133563728},{"$f":"D46","v":32.5728871613895},{"$f":"O46","v":40.469344655059686},{"$f":"O57","v":47.95452832093454},{"$f":"F43","v":54.288145268982504}]
[{"$nulls":3},"x2",0,{"$f":"I47","v":9.069685337783401},{"$f":"I58","v":15.548032007628686},{"$f":"D47","v":20.40679201001265},{"$f":"O47","v":28.85098180725926},{"$f":"O58","v":39.32945369202438},{"$f":"F44","v":51.01698002503162}]
[]
[]
[{"$nulls":16},{"$f":"IF(($D$113/($F73^($D$120)))^(1/$D$121)>$F$112,$Q$70,F73)","v":44.08908297523647}]
[null,null,"FRONTERA DE POSIBILIDADES DE PRODUCCIÓN"]
[{"$nulls":6},{"$f":"POWER((F126/(F112^D121)),1/D120)","v":43.71369344007113},{"$f":"($F$126/($G70^($D$120)))^(1/$D$121)","v":90.00000000000016},{"$f":"POWER((K118/(K112^D121)),1/D120)","v":16.55685384092296},{"$f":"($K$118/($I70^($D$120)))^(1/$D$121)","v":90.00000000000007},{"$f":"POWER((K129/(K123^D121)),1/D120)","v":33.06702192270144},{"$f":"($K$129/($K70^($D$120)))^(1/$D$121)","v":90},{"$f":"POWER((Q118/(Q112^D121)),1/D120)","v":68.13930613847505},{"$f":"($Q$118/($M70^($D$120)))^(1/$D$121)","v":90.00000000000007},{"$f":"POWER((Q129/(Q123^D121)),1/D120)","v":90.48026202444862},{"$f":"($Q$129/($O70^($D$120)))^(1/$D$121)","v":90.00000000000007},{"$f":"POWER((D113/(F112^D121)),1/D120)","v":44.08908297523647},{"$f":"($D$113/($Q70^($D$120)))^(1/$D$121)","v":89.99999999999991},{"$nulls":8},"ORIGINAL",{"$nulls":6},"MENOS 2",{"$nulls":6},"MENOS 1",{"$nulls":7},"MAS 1",{"$nulls":6},"MAS 2",{"$nulls":6},"DOTACIÓN"]
["Original","Original",{"$nulls":3},"Original",null,"Original","menos 2","menos 2","menos 1","menos 1","mas 1","mas 1","masn2","masn2",{"$nulls":3},"DOTACIÓN",{"$nulls":3},"OPTIMO",{"$nulls":3},"CAJA",{"$nulls":3},"ORIGINAL","ORIGINAL","NEGATIVO","NEGATIVO","TRANSFORMADA",null,null,"ORIGINAL","ORIGINAL","NEGATIVO","NEGATIVO","TRANSFORMADA",null,null,"ORIGINAL","ORIGINAL","NEGATIVO","NEGATIVO","TRANSFORMADA",{"$nulls":3},"ORIGINAL","ORIGINAL","NEGATIVO","NEGATIVO","TRANSFORMADA",null,null,"ORIGINAL","ORIGINAL","NEGATIVO","NEGATIVO","TRANSFORMADA",null,null,"ORIGINAL","ORIGINAL","NEGATIVO","NEGATIVO","TRANSFORMADA"]
["x1","x2","Unidades","ponderador",null,"x1","x1","x2","x1","x2","x1","x2","x1","x2","x1","x2","DOTA","DOTA",null,"<",null,"x2line",null,"x1linedotación",null,"x2line",{"$nulls":5},"x1","x2","MENOS X1","MENOS X2","x1","x2",null,"x1","x2","MENOS X1","MENOS X2","x1","x2",null,"x1","x2","MENOS X1","MENOS X2","x1","x2",null,null,"x1","x2","MENOS X1","MENOS X2","x1","x2",null,"x1","x2","MENOS X1","MENOS X2","x1","x2",null,"x1","x2","MENOS X1","MENOS X2","x1","x2"]
[{"$f":"$D$114*E73","v":{"v":0.6999999999999998,"d":"0.70"}},{"$f":"($F$126/($A73^($D$120)))^(1/$D$121)","v":{"v":1392476.6500838308,"d":"1,392,476.65"}},1,0,0.01,{"$f":"IF($D$114*E73>$F$111,$F$111,$D$114*E73)","v":{"v":0.6999999999999998,"d":"0.70"}},{"$f":"IF(($F$126/($F73^($D$120)))^(1/$D$121)>$F$112,$G$70,$F73)","v":{"v":43.71369344007113,"d":"43.71"}},{"$f":"($F$126/($G73^($D$120)))^(1/$D$121)","v":{"v":90.00000000000016,"d":"90.00"}},{"$f":"IF(($K$118/($F73^($D$120)))^(1/$D$121)>$F$112,$I$70,F73)","v":{"v":16.55685384092296,"d":"16.56"}},{"$f":"($K$118/($I73^($D$120)))^(1/$D$121)","v":{"v":90.00000000000007,"d":"90.00"}},{"$f":"IF(($K$129/($F73^($D$120)))^(1/$D$121)>$F$112,$K$70,F73)","v":{"v":33.06702192270144,"d":"33.07"}},{"$f":"($K$129/($K73^($D$120)))^(1/$D$121)","v":{"v":90,"d":"90.00"}},{"$f":"IF(($Q$118/($F73^($D$120)))^(1/$D$121)>$F$112,$M$70,F73)","v":{"v":68.13930613847505,"d":"68.14"}},{"$f":"($Q$118/($M73^($D$120)))^(1/$D$121)","v":{"v":90.00000000000007,"d":"90.00"}},{"$f":"IF(($Q$129/($F73^($D$120)))^(1/$D$121)>$F$112,$O$70,F73)","v":{"v":90.48026202444862,"d":"90.48"}},{"$f":"($Q$129/($O73^($D$120)))^(1/$D$121)","v":{"v":90.00000000000007,"d":"90.00"}},null,null,{"$f":"IF(B73>$F$112,1,0)","v":1},{"$f":"D73*$F$111","v":0},{"$f":"$D$112","v":{"v":20,"d":"20.00"}},{"$f":"$D$111","v":{"v":84,"d":"84.00"}},{"$f":"$F$112*D73","v":0},{"$f":"$D$115","v":{"v":30.000000000000004,"d":"30.00"}},{"$f":"$D$114","v":{"v":69.99999999999999,"d":"70.00"}},{"$f":"$D$111","v":{"v":84,"d":"84.00"}},{"$f":"$F$112*J73","v":{"v":8100.000000000006,"d":"8,100.00"}},{"$f":"$F$111","v":{"v":110,"d":"110.00"}},{"$f":"$F$112","v":{"v":90,"d":"90.00"}},0,null,{"$f":"$E73*$E$114","v":{"v":0.4,"d":"0.40"}},{"$f":"(($E$116)/(AF73^($E$122)))^(1/$E$123)","v":{"v":1292.6608140191302,"d":"1,292.66"}},{"$f":"AF73*-1","v":{"v":-0.4,"d":"-0.40"}},{"$f":"AG73*-1","v":{"v":-1292.6608140191302,"d":"-1,292.66"}},{"$f":"AH73+($AF$83*2)+($D$114-$E$114)","v":{"v":109.59999999999998,"d":"109.60"}},{"$f":"AI73+($E$115*2)+($D$115-$E$115)","v":{"v":-1202.6608140191302,"d":"-1,202.66"}},null,{"$f":"$E73*$AM$116","v":{"v":0.7101538461538462,"d":"0.71"}},{"$f":"(($AM$118)/(AM73^($E$122)))^(1/$E$123)","v":{"v":1676.1017745821073,"d":"1,676.10"}},{"$f":"AM73*-1","v":{"v":-0.7101538461538462,"d":"-0.71"}},{"$f":"AN73*-1","v":{"v":-1676.1017745821073,"d":"-1,676.10"}},{"$f":"AO73+($AM$83*2)+($AL$116-$AM$116)","v":{"v":109.28984615384616,"d":"109.29"}},{"$f":"AP73+($AN$83*2)+($AL$117-$AM$117)","v":{"v":-1586.1017745821073,"d":"-1,586.10"}},null,{"$f":"$E73*$AM$127","v":{"v":0.5037647058823531,"d":"0.50"}},{"$f":"(($AM$129)/(AT73^($E$122)))^(1/$E$123)","v":{"v":1448.9983260811307,"d":"1,449.00"}},{"$f":"AT73*-1","v":{"v":-0.5037647058823531,"d":"-0.50"}},{"$f":"AU73*-1","v":{"v":-1448.9983260811307,"d":"-1,449.00"}},{"$f":"AV73+($AT$83*2)+($AL$127-$AM$127)","v":{"v":109.49623529411767,"d":"109.50"}},{"$f":"AW73+($AU$83*2)+($AL$128-$AM$128)","v":{"v":-1358.9983260811305,"d":"-1,359.00"}},null,null,{"$f":"$E73*$BC$116","v":{"v":0.21400000000000002,"d":"0.21"}},{"$f":"(($BC$118)/(BB73^($E$122)))^(1/$E$123)","v":{"v":888.259586881036,"d":"888.26"}},{"$f":"BB73*-1","v":{"v":-0.21400000000000002,"d":"-0.21"}},{"$f":"BC73*-1","v":{"v":-888.259586881036,"d":"-888.26"}},{"$f":"BD73+($BB$83*2)+($BB$116-$BC$116)","v":{"v":109.786,"d":"109.79"}},{"$f":"BE73+($BC$83*2)+($BB$117-$BC$117)","v":{"v":-798.259586881036,"d":"-798.26"}},null,{"$f":"$E73*$BC$127","v":{"v":0.08714285714285716,"d":"0.09"}},{"$f":"(($BC$129)/(BI73^($E$122)))^(1/$E$123)","v":{"v":448.75298177737267,"d":"448.75"}},{"$f":"BI73*-1","v":{"v":-0.08714285714285716,"d":"-0.09"}},{"$f":"BJ73*-1","v":{"v":-448.75298177737267,"d":"-448.75"}},{"$f":"BK73+($BI$83*2)+($BB$127-$BC$127)","v":{"v":109.91285714285712,"d":"109.91"}},{"$f":"BL73+($BJ$83*2)+($BB$128-$BC$128)","v":{"v":-358.7529817773727,"d":"-358.75"}},null,{"$f":"$E73*$BL$114","v":0.26},{"$f":"(($BL$116)/(BP73^($E$122)))^(1/$E$123)","v":{"v":1508.104283022321,"d":"1,508.10"}},{"$f":"BP73*-1","v":-0.26},{"$f":"BQ73*-1","v":{"v":-1508.104283022321,"d":"-1,508.10"}},{"$f":"BR73+($BP$83*2)+($BK$114-$BL$114)","v":{"v":109.74000000000001,"d":"109.74"}},{"$f":"BS73+($BQ$83*2)+($BK$115-$BL$115)","v":{"v":-1418.104283022321,"d":"-1,418.10"}}]
[{"v":6.999999999999999,"d":"7.00"},{"$f":"($F$126/($A74^($D$120)))^(1/$D$121)","v":{"v":6463.304070095641,"d":"6,463.30"}},2,0.01,{"v":0.1,"d":"0.10"},{"$f":"IF($D$114*E74>$F$111,$F$111,$D$114*E74)","v":{"v":6.999999999999999,"d":"7.00"}},{"$f":"IF(($F$126/($F74^($D$120)))^(1/$D$121)>$F$112,$G$70,$F74)","v":{"v":43.71369344007113,"d":"43.71"}},{"$f":"($F$126/($G74^($D$120)))^(1/$D$121)","v":{"v":90.00000000000016,"d":"90.00"}},{"$f":"IF(($K$118/($F74^($D$120)))^(1/$D$121)>$F$112,$I$70,F74)","v":{"v":16.55685384092296,"d":"16.56"}},{"$f":"($K$118/($I74^($D$120)))^(1/$D$121)","v":{"v":90.00000000000007,"d":"90.00"}},{"$f":"IF(($K$129/($F74^($D$120)))^(1/$D$121)>$F$112,$K$70,F74)","v":{"v":33.06702192270144,"d":"33.07"}},{"$f":"($K$129/($K74^($D$120)))^(1/$D$121)","v":{"v":90,"d":"90.00"}},{"$f":"IF(($Q$118/($F74^($D$120)))^(1/$D$121)>$F$112,$M$70,F74)","v":{"v":68.13930613847505,"d":"68.14"}},{"$f":"($Q$118/($M74^($D$120)))^(1/$D$121)","v":{"v":90.00000000000007,"d":"90.00"}},{"$f":"IF(($Q$129/($F74^($D$120)))^(1/$D$121)>$F$112,$O$70,F74)","v":{"v":90.48026202444862,"d":"90.48"}},{"$f":"($Q$129/($O74^($D$120)))^(1/$D$121)","v":{"v":90.00000000000007,"d":"90.00"}},null,null,{"$f":"IF(B74>$F$112,1,0)","v":1},{"$f":"D74*$F$111","v":{"v":1.1,"d":"1.10"}},{"$f":"$D$112","v":{"v":20,"d":"20.00"}},{"$f":"$D$111","v":{"v":84,"d":"84.00"}},{"$f":"$F$112*D74","v":{"v":0.9,"d":"0.90"}},{"$f":"$D$115","v":{"v":30.000000000000004,"d":"30.00"}},{"$f":"$D$114","v":{"v":69.99999999999999,"d":"70.00"}},{"$f":"$D$111","v":{"v":84,"d":"84.00"}},{"$f":"$F$112*J74","v":{"v":8100.000000000006,"d":"8,100.00"}},{"$f":"$F$111","v":{"v":110,"d":"110.00"}},{"$f":"$F$112","v":{"v":90,"d":"90.00"}},0,null,{"$f":"$E74*$E$114","v":{"v":4,"d":"4.00"}},{"$f":"(($E$116)/(AF74^($E$122)))^(1/$E$123)","v":{"v":278.4953300167667,"d":"278.50"}},{"$f":"AF74*-1","v":{"v":-4,"d":"-4.00"}},{"v":-278.4953300167667,"d":"-278.50"},{"$f":"AH74+($AF$83*2)+($D$114-$E$114)","v":{"v":105.99999999999999,"d":"106.00"}},{"$f":"AI74+($E$115*2)+($D$115-$E$115)","v":{"v":-188.49533001676667,"d":"-188.50"}},null,{"$f":"$E74*$AM$116","v":{"v":7.101538461538462,"d":"7.10"}},{"$f":"(($AM$118)/(AM74^($E$122)))^(1/$E$123)","v":{"v":361.1051807183695,"d":"361.11"}},{"$f":"AM74*-1","v":{"v":-7.101538461538462,"d":"-7.10"}},{"v":-361.1051807183695,"d":"-361.11"},{"$f":"AO74+($AM$83*2)+($AL$116-$AM$116)","v":{"v":102.89846153846153,"d":"102.90"}},{"$f":"AP74+($AN$83*2)+($AL$117-$AM$117)","v":{"v":-271.1051807183695,"d":"-271.11"}},null,{"$f":"$E74*$AM$127","v":{"v":5.037647058823531,"d":"5.04"}},{"$f":"(($AM$129)/(AT74^($E$122)))^(1/$E$123)","v":{"v":312.1772259507322,"d":"312.18"}},{"$f":"AT74*-1","v":{"v":-5.037647058823531,"d":"-5.04"}},{"v":-312.1772259507322,"d":"-312.18"},{"$f":"AV74+($AT$83*2)+($AL$127-$AM$127)","v":{"v":104.96235294117649,"d":"104.96"}},{"$f":"AW74+($AU$83*2)+($AL$128-$AM$128)","v":{"v":-222.17722595073212,"d":"-222.18"}},null,null,{"$f":"$E74*$BC$116","v":2.14},{"$f":"(($BC$118)/(BB74^($E$122)))^(1/$E$123)","v":{"v":191.36972677298937,"d":"191.37"}},{"$f":"BB74*-1","v":-2.14},{"v":-191.36972677298937,"d":"-191.37"},{"$f":"BD74+($BB$83*2)+($BB$116-$BC$116)","v":{"v":107.85999999999999,"d":"107.86"}},{"$f":"BE74+($BC$83*2)+($BB$117-$BC$117)","v":{"v":-101.36972677298937,"d":"-101.37"}},null,{"$f":"$E74*$BC$127","v":{"v":0.8714285714285716,"d":"0.87"}},{"$f":"(($BC$129)/(BI74^($E$122)))^(1/$E$123)","v":{"v":96.68089911964174,"d":"96.68"}},{"$f":"BI74*-1","v":{"v":-0.8714285714285716,"d":"-0.87"}},{"v":-96.68089911964174,"d":"-96.68"},{"$f":"BK74+($BI$83*2)+($BB$127-$BC$127)","v":{"v":109.12857142857142,"d":"109.13"}},{"$f":"BL74+($BJ$83*2)+($BB$128-$BC$128)","v":{"v":-6.680899119641744,"d":"-6.68"}},null,{"$f":"$E74*$BL$114","v":{"v":2.6,"d":"2.60"}},{"$f":"(($BL$116)/(BP74^($E$122)))^(1/$E$123)","v":{"v":324.9112183528947,"d":"324.91"}},{"$f":"BP74*-1","v":{"v":-2.6,"d":"-2.60"}},{"v":-324.9112183528947,"d":"-324.91"},{"$f":"BR74+($BP$83*2)+($BK$114-$BL$114)","v":{"v":107.4,"d":"107.40"}},{"$f":"BS74+($BQ$83*2)+($BK$115-$BL$115)","v":{"v":-234.91121835289465,"d":"-234.91"}}]
[{"v":13.999999999999998,"d":"14.00"},{"v":1282.4819600075207,"d":"1,282.48"},3,{"v":0.1,"d":"0.10"},{"v":0.2,"d":"0.20"},{"v":13.999999999999998,"d":"14.00"},{"v":43.71369344007113,"d":"43.71"},{"v":90.00000000000016,"d":"90.00"},{"v":16.55685384092296,"d":"16.56"},{"v":90.00000000000007,"d":"90.00"},{"v":33.06702192270144,"d":"33.07"},{"v":90,"d":"90.00"},{"v":68.13930613847505,"d":"68.14"},{"v":90.00000000000007,"d":"90.00"},{"v":90.48026202444862,"d":"90.48"},{"v":90.00000000000007,"d":"90.00"},null,null,1,{"v":11,"d":"11.00"},{"v":20,"d":"20.00"},{"v":84,"d":"84.00"},{"v":9,"d":"9.00"},{"v":30.000000000000004,"d":"30.00"},{"v":69.99999999999999,"d":"70.00"},{"v":84,"d":"84.00"},{"v":8100.000000000006,"d":"8,100.00"},{"v":110,"d":"110.00"},{"v":90,"d":"90.00"},0,null,{"v":8,"d":"8.00"},{"v":175.44106429277187,"d":"175.44"},{"v":-8,"d":"-8.00"},{"v":-175.44106429277187,"d":"-175.44"},{"v":101.99999999999999,"d":"102.00"},{"v":-85.44106429277187,"d":"-85.44"},null,{"v":14.203076923076924,"d":"14.20"},{"v":227.48200920658294,"d":"227.48"},{"v":-14.203076923076924,"d":"-14.20"},{"v":-227.48200920658294,"d":"-227.48"},{"v":95.79692307692308,"d":"95.80"},{"v":-137.48200920658294,"d":"-137.48"},null,{"v":10.075294117647061,"d":"10.08"},{"v":196.6593291365577,"d":"196.66"},{"v":-10.075294117647061,"d":"-10.08"},{"v":-196.6593291365577,"d":"-196.66"},{"v":99.92470588235295,"d":"99.92"},{"v":-106.65932913655763,"d":"-106.66"},null,null,4.28,{"v":120.55537353695983,"d":"120.56"},-4.28,{"v":-120.55537353695983,"d":"-120.56"},105.72,{"v":-30.55537353695984,"d":"-30.56"},null,{"v":1.742857142857143,"d":"1.74"},{"v":60.905149961799694,"d":"60.91"},{"v":-1.742857142857143,"d":"-1.74"},{"v":-60.905149961799694,"d":"-60.91"},{"v":108.25714285714284,"d":"108.26"},{"v":29.0948500382003,"d":"29.09"},null,{"v":5.2,"d":"5.20"},{"v":204.68124167490083,"d":"204.68"},{"v":-5.2,"d":"-5.20"},{"v":-204.68124167490083,"d":"-204.68"},{"v":104.8,"d":"104.80"},{"v":-114.68124167490078,"d":"-114.68"}]
[{"v":20.999999999999996,"d":"21.00"},{"v":497.93386072857356,"d":"497.93"},4,0.15,{"v":0.3,"d":"0.30"},{"v":20.999999999999996,"d":"21.00"},{"v":43.71369344007113,"d":"43.71"},{"v":90.00000000000016,"d":"90.00"},{"v":20.999999999999996,"d":"21.00"},{"v":51.68276300201335,"d":"51.68"},{"v":33.06702192270144,"d":"33.07"},{"v":90,"d":"90.00"},{"v":68.13930613847505,"d":"68.14"},{"v":90.00000000000007,"d":"90.00"},{"v":90.48026202444862,"d":"90.48"},{"v":90.00000000000007,"d":"90.00"},null,null,1,{"v":16.5,"d":"16.50"},{"v":20,"d":"20.00"},{"v":84,"d":"84.00"},{"v":13.5,"d":"13.50"},{"v":30.000000000000004,"d":"30.00"},{"v":69.99999999999999,"d":"70.00"},{"v":84,"d":"84.00"},{"v":4651.448670181202,"d":"4,651.45"},{"v":110,"d":"110.00"},{"v":90,"d":"90.00"},0,null,{"v":12,"d":"12.00"},{"v":133.88659001643387,"d":"133.89"},{"v":-12,"d":"-12.00"},{"v":-133.88659001643387,"d":"-133.89"},{"v":97.99999999999999,"d":"98.00"},{"v":-43.88659001643387,"d":"-43.89"},null,{"v":21.304615384615385,"d":"21.30"},{"v":173.60126390894914,"d":"173.60"},{"v":-21.304615384615385,"d":"-21.30"},{"v":-173.60126390894914,"d":"-173.60"},{"v":88.69538461538461,"d":"88.70"},{"v":-83.60126390894914,"d":"-83.60"},null,{"v":15.112941176470592,"d":"15.11"},{"v":150.07915666240055,"d":"150.08"},{"v":-15.112941176470592,"d":"-15.11"},{"v":-150.07915666240055,"d":"-150.08"},{"v":94.88705882352942,"d":"94.89"},{"v":-60.07915666240049,"d":"-60.08"},null,null,{"v":6.420000000000001,"d":"6.42"},{"v":92.00096873606324,"d":"92.00"},{"v":-6.420000000000001,"d":"-6.42"},{"v":-92.00096873606324,"d":"-92.00"},{"v":103.57999999999998,"d":"103.58"},{"v":-2.0009687360632498,"d":"-2.00"},null,{"v":2.6142857142857143,"d":"2.61"},{"v":46.47932840407907,"d":"46.48"},{"v":-2.6142857142857143,"d":"-2.61"},{"v":-46.47932840407907,"d":"-46.48"},{"v":107.38571428571427,"d":"107.39"},{"v":43.52067159592092,"d":"43.52"},null,{"v":7.8,"d":"7.80"},{"v":156.2010216858396,"d":"156.20"},{"v":-7.8,"d":"-7.80"},{"v":-156.2010216858396,"d":"-156.20"},{"v":102.2,"d":"102.20"},{"v":-66.20102168583955,"d":"-66.20"}]
[{"v":27.999999999999996,"d":"28.00"},{"v":254.47665155577212,"d":"254.48"},5,{"v":0.2,"d":"0.20"},{"v":0.4,"d":"0.40"},{"v":27.999999999999996,"d":"28.00"},{"v":43.71369344007113,"d":"43.71"},{"v":90.00000000000016,"d":"90.00"},{"v":27.999999999999996,"d":"28.00"},{"v":26.413259890899766,"d":"26.41"},{"v":33.06702192270144,"d":"33.07"},{"v":90,"d":"90.00"},{"v":68.13930613847505,"d":"68.14"},{"v":90.00000000000007,"d":"90.00"},{"v":90.48026202444862,"d":"90.48"},{"v":90.00000000000007,"d":"90.00"},null,null,1,{"v":22,"d":"22.00"},{"v":20,"d":"20.00"},{"v":84,"d":"84.00"},{"v":18,"d":"18.00"},{"v":30.000000000000004,"d":"30.00"},{"v":69.99999999999999,"d":"70.00"},{"v":84,"d":"84.00"},{"v":2377.193390180979,"d":"2,377.19"},{"v":110,"d":"110.00"},{"v":90,"d":"90.00"},0,null,{"v":16,"d":"16.00"},{"v":110.5209449592116,"d":"110.52"},{"v":-16,"d":"-16.00"},{"v":-110.5209449592116,"d":"-110.52"},{"v":93.99999999999999,"d":"94.00"},{"v":-20.5209449592116,"d":"-20.52"},null,{"v":28.40615384615385,"d":"28.41"},{"v":143.30468593587653,"d":"143.30"},{"v":-28.40615384615385,"d":"-28.41"},{"v":-143.30468593587653,"d":"-143.30"},{"v":81.59384615384616,"d":"81.59"},{"v":-53.304685935876535,"d":"-53.30"},null,{"v":20.150588235294123,"d":"20.15"},{"v":123.88761421867655,"d":"123.89"},{"v":-20.150588235294123,"d":"-20.15"},{"v":-123.88761421867655,"d":"-123.89"},{"v":89.84941176470589,"d":"89.85"},{"v":-33.88761421867649,"d":"-33.89"},null,null,8.56,{"v":75.9451263985775,"d":"75.95"},-8.56,{"v":-75.9451263985775,"d":"-75.95"},101.44,{"v":14.054873601422493,"d":"14.05"},null,{"v":3.485714285714286,"d":"3.49"},{"v":38.36784024193767,"d":"38.37"},{"v":-3.485714285714286,"d":"-3.49"},{"v":-38.36784024193767,"d":"-38.37"},{"v":106.5142857142857,"d":"106.51"},{"v":51.63215975806232,"d":"51.63"},null,{"v":10.4,"d":"10.40"},{"v":128.94110245241362,"d":"128.94"},{"v":-10.4,"d":"-10.40"},{"v":-128.94110245241362,"d":"-128.94"},{"v":99.6,"d":"99.60"},{"v":-38.94110245241356,"d":"-38.94"}]
[{"v":34.99999999999999,"d":"35.00"},{"v":151.19052598738458,"d":"151.19"},6,0.25,{"v":0.5,"d":"0.50"},{"v":34.99999999999999,"d":"35.00"},{"v":43.71369344007113,"d":"43.71"},{"v":90.00000000000016,"d":"90.00"},{"v":34.99999999999999,"d":"35.00"},{"v":15.692734997620827,"d":"15.69"},{"v":34.99999999999999,"d":"35.00"},{"v":78.82650422229355,"d":"78.83"},{"v":68.13930613847505,"d":"68.14"},{"v":90.00000000000007,"d":"90.00"},{"v":90.48026202444862,"d":"90.48"},{"v":90.00000000000007,"d":"90.00"},null,null,{"$f":"IF(B78>$F$112,1,0)","v":1},{"v":27.5,"d":"27.50"},{"v":20,"d":"20.00"},{"v":84,"d":"84.00"},{"v":22.5,"d":"22.50"},{"v":30.000000000000004,"d":"30.00"},{"v":69.99999999999999,"d":"70.00"},{"v":84,"d":"84.00"},{"v":1412.3461497858743,"d":"1,412.35"},{"v":110,"d":"110.00"},{"v":90,"d":"90.00"},0,null,{"v":20,"d":"20.00"},{"v":95.24406311809197,"d":"95.24"},{"v":-20,"d":"-20.00"},{"v":-95.24406311809197,"d":"-95.24"},{"v":89.99999999999999,"d":"90.00"},{"v":-5.244063118091969,"d":"-5.24"},null,{"v":35.50769230769231,"d":"35.51"},{"v":123.49623464975065,"d":"123.50"},{"v":-35.50769230769231,"d":"-35.51"},{"v":-123.49623464975065,"d":"-123.50"},{"v":74.49230769230769,"d":"74.49"},{"v":-33.49623464975065,"d":"-33.50"},null,{"v":25.188235294117653,"d":"25.19"},{"v":106.7631094952016,"d":"106.76"},{"v":-25.188235294117653,"d":"-25.19"},{"v":-106.7631094952016,"d":"-106.76"},{"v":84.81176470588237,"d":"84.81"},{"v":-16.763109495201547,"d":"-16.76"},null,null,{"v":10.700000000000001,"d":"10.70"},{"v":65.44752594078062,"d":"65.45"},{"v":-10.700000000000001,"d":"-10.70"},{"v":-65.44752594078062,"d":"-65.45"},{"v":99.29999999999998,"d":"99.30"},{"v":24.55247405921937,"d":"24.55"},null,{"v":4.357142857142858,"d":"4.36"},{"v":33.06440239953272,"d":"33.06"},{"v":-4.357142857142858,"d":"-4.36"},{"v":-33.06440239953272,"d":"-33.06"},{"v":105.64285714285712,"d":"105.64"},{"v":56.935597600467275,"d":"56.94"},null,{"v":13,"d":"13.00"},{"v":111.11807363777405,"d":"111.12"},{"v":-13,"d":"-13.00"},{"v":-111.11807363777405,"d":"-111.12"},{"v":97,"d":"97.00"},{"v":-21.11807363777399,"d":"-21.12"}]
[{"v":41.99999999999999,"d":"42.00"},{"v":98.8025917913905,"d":"98.80"},7,{"v":0.3,"d":"0.30"},{"v":0.6,"d":"0.60"},{"v":41.99999999999999,"d":"42.00"},{"v":43.71369344007113,"d":"43.71"},{"v":90.00000000000016,"d":"90.00"},{"v":41.99999999999999,"d":"42.00"},{"v":10.255159044752387,"d":"10.26"},{"v":41.99999999999999,"d":"42.00"},{"v":51.512903127722744,"d":"51.51"},{"v":68.13930613847505,"d":"68.14"},{"v":90.00000000000007,"d":"90.00"},{"v":90.48026202444862,"d":"90.48"},{"v":90.00000000000007,"d":"90.00"},null,null,1,{"v":33,"d":"33.00"},{"v":20,"d":"20.00"},{"v":84,"d":"84.00"},{"v":27,"d":"27.00"},{"v":30.000000000000004,"d":"30.00"},{"v":69.99999999999999,"d":"70.00"},{"v":84,"d":"84.00"},{"v":922.9643140277149,"d":"922.96"},{"v":110,"d":"110.00"},{"v":90,"d":"90.00"},0,null,{"v":24,"d":"24.00"},{"v":84.34326653017487,"d":"84.34"},{"v":-24,"d":"-24.00"},{"v":-84.34326653017487,"d":"-84.34"},{"v":85.99999999999999,"d":"86.00"},{"v":5.656733469825131,"d":"5.66"},null,{"v":42.60923076923077,"d":"42.61"},{"v":109.36194334362003,"d":"109.36"},{"v":-42.60923076923077,"d":"-42.61"},{"v":-109.36194334362003,"d":"-109.36"},{"v":67.39076923076922,"d":"67.39"},{"v":-19.361943343620027,"d":"-19.36"},null,{"v":30.225882352941184,"d":"30.23"},{"v":94.54394431471448,"d":"94.54"},{"v":-30.225882352941184,"d":"-30.23"},{"v":-94.54394431471448,"d":"-94.54"},{"v":79.77411764705883,"d":"79.77"},{"v":-4.543944314714423,"d":"-4.54"},null,null,{"v":12.840000000000002,"d":"12.84"},{"v":57.956978560643186,"d":"57.96"},{"v":-12.840000000000002,"d":"-12.84"},{"v":-57.956978560643186,"d":"-57.96"},97.16,{"v":32.04302143935681,"d":"32.04"},null,{"v":5.228571428571429,"d":"5.23"},{"v":29.280142120637954,"d":"29.28"},{"v":-5.228571428571429,"d":"-5.23"},{"v":-29.280142120637954,"d":"-29.28"},{"v":104.77142857142856,"d":"104.77"},{"v":60.71985787936204,"d":"60.72"},null,{"v":15.6,"d":"15.60"},{"v":98.4004776185375,"d":"98.40"},{"v":-15.6,"d":"-15.60"},{"v":-98.4004776185375,"d":"-98.40"},{"v":94.4,"d":"94.40"},{"v":-8.400477618537437,"d":"-8.40"}]
[{"v":48.999999999999986,"d":"49.00"},{"v":68.95395186389422,"d":"68.95"},8,0.35,{"v":0.7,"d":"0.70"},{"v":48.999999999999986,"d":"49.00"},{"v":48.999999999999986,"d":"49.00"},{"v":68.95395186389422,"d":"68.95"},{"v":48.999999999999986,"d":"49.00"},{"v":7.157036372299437,"d":"7.16"},{"v":48.999999999999986,"d":"49.00"},{"v":35.950658563067734,"d":"35.95"},{"v":68.13930613847505,"d":"68.14"},{"v":90.00000000000007,"d":"90.00"},{"v":90.48026202444862,"d":"90.48"},{"v":90.00000000000007,"d":"90.00"},null,null,0,{"v":38.5,"d":"38.50"},{"v":20,"d":"20.00"},{"v":84,"d":"84.00"},{"v":31.499999999999996,"d":"31.50"},{"v":30.000000000000004,"d":"30.00"},{"v":69.99999999999999,"d":"70.00"},{"v":84,"d":"84.00"},{"v":644.1332735069493,"d":"644.13"},{"v":110,"d":"110.00"},{"v":90,"d":"90.00"},0,null,{"v":28,"d":"28.00"},{"v":76.10605729222293,"d":"76.11"},{"v":-28,"d":"-28.00"},{"v":-76.10605729222293,"d":"-76.11"},{"v":81.99999999999999,"d":"82.00"},{"v":13.893942707777075,"d":"13.89"},null,{"v":49.71076923076923,"d":"49.71"},{"v":98.68133720811821,"d":"98.68"},{"v":-49.71076923076923,"d":"-49.71"},{"v":-98.68133720811821,"d":"-98.68"},{"v":60.28923076923077,"d":"60.29"},{"v":-8.681337208118208,"d":"-8.68"},null,{"v":35.263529411764715,"d":"35.26"},{"v":85.31050715321958,"d":"85.31"},{"v":-35.263529411764715,"d":"-35.26"},{"v":-85.31050715321958,"d":"-85.31"},{"v":74.73647058823529,"d":"74.74"},{"v":4.689492846780482,"d":"4.69"},null,null,14.98,{"v":52.29673111181191,"d":"52.30"},-14.98,{"v":-52.29673111181191,"d":"-52.30"},95.02,{"v":37.703268888188084,"d":"37.70"},null,{"v":6.1000000000000005,"d":"6.10"},{"v":26.420558100633475,"d":"26.42"},{"v":-6.1000000000000005,"d":"-6.10"},{"v":-26.420558100633475,"d":"-26.42"},{"v":103.89999999999998,"d":"103.90"},{"v":63.579441899366515,"d":"63.58"},null,{"v":18.2,"d":"18.20"},{"v":88.79040017426006,"d":"88.79"},{"v":-18.2,"d":"-18.20"},{"v":-88.79040017426006,"d":"-88.79"},{"v":91.8,"d":"91.80"},{"v":1.2095998257399998,"d":"1.21"}]
[{"v":55.99999999999999,"d":"56.00"},{"v":50.49456304762227,"d":"50.49"},9,{"v":0.4,"d":"0.40"},{"v":0.8,"d":"0.80"},{"v":55.99999999999999,"d":"56.00"},{"v":55.99999999999999,"d":"56.00"},{"v":50.49456304762227,"d":"50.49"},{"v":55.99999999999999,"d":"56.00"},{"v":5.241054567090476,"d":"5.24"},{"v":55.99999999999999,"d":"56.00"},{"v":26.32645042592406,"d":"26.33"},{"v":68.13930613847505,"d":"68.14"},{"v":90.00000000000007,"d":"90.00"},{"v":90.48026202444862,"d":"90.48"},{"v":90.00000000000007,"d":"90.00"},null,null,0,{"v":44,"d":"44.00"},{"v":20,"d":"20.00"},{"v":84,"d":"84.00"},{"v":36,"d":"36.00"},{"v":30.000000000000004,"d":"30.00"},{"v":69.99999999999999,"d":"70.00"},{"v":84,"d":"84.00"},{"v":471.69491103814283,"d":"471.69"},{"v":110,"d":"110.00"},{"v":90,"d":"90.00"},0,null,{"v":32,"d":"32.00"},{"v":69.6238325041916,"d":"69.62"},{"v":-32,"d":"-32.00"},{"v":-69.6238325041916,"d":"-69.62"},{"v":77.99999999999999,"d":"78.00"},{"v":20.376167495808406,"d":"20.38"},null,{"v":56.8123076923077,"d":"56.81"},{"v":90.27629517959228,"d":"90.28"},{"v":-56.8123076923077,"d":"-56.81"},{"v":-90.27629517959228,"d":"-90.28"},{"v":53.1876923076923,"d":"53.19"},{"v":-0.27629517959228167,"d":"-0.28"},null,{"v":40.301176470588246,"d":"40.30"},{"v":78.04430648768303,"d":"78.04"},{"v":-40.301176470588246,"d":"-40.30"},{"v":-78.04430648768303,"d":"-78.04"},{"v":69.69882352941177,"d":"69.70"},{"v":11.955693512317026,"d":"11.96"},null,null,17.12,{"v":47.842431693247306,"d":"47.84"},-17.12,{"v":-47.842431693247306,"d":"-47.84"},92.88,{"v":42.15756830675269,"d":"42.16"},null,{"v":6.971428571428572,"d":"6.97"},{"v":24.170224779910427,"d":"24.17"},{"v":-6.971428571428572,"d":"-6.97"},{"v":-24.170224779910427,"d":"-24.17"},{"v":103.02857142857141,"d":"103.03"},{"v":65.82977522008957,"d":"65.83"},null,{"v":20.8,"d":"20.80"},{"v":81.22780458822366,"d":"81.23"},{"v":-20.8,"d":"-20.80"},{"v":-81.22780458822366,"d":"-81.23"},{"v":89.2,"d":"89.20"},{"v":8.772195411776394,"d":"8.77"}]
[{"v":62.999999999999986,"d":"63.00"},{"v":38.36089513523282,"d":"38.36"},10,0.45,{"v":0.9,"d":"0.90"},{"v":62.999999999999986,"d":"63.00"},{"v":62.999999999999986,"d":"63.00"},{"v":38.36089513523282,"d":"38.36"},{"v":62.999999999999986,"d":"63.00"},{"v":3.9816473796708722,"d":"3.98"},{"v":62.999999999999986,"d":"63.00"},{"v":20.00029593521424,"d":"20.00"},{"v":68.13930613847505,"d":"68.14"},{"v":90.00000000000007,"d":"90.00"},{"v":90.48026202444862,"d":"90.48"},{"v":90.00000000000007,"d":"90.00"},null,null,0,{"v":49.5,"d":"49.50"},{"v":20,"d":"20.00"},{"v":84,"d":"84.00"},{"v":40.5,"d":"40.50"},{"v":30.000000000000004,"d":"30.00"},{"v":69.99999999999999,"d":"70.00"},{"v":84,"d":"84.00"},{"v":358.3482641703785,"d":"358.35"},{"v":110,"d":"110.00"},{"v":90,"d":"90.00"},0,null,{"v":36,"d":"36.00"},{"v":64.36595897370862,"d":"64.37"},{"v":-36,"d":"-36.00"},{"v":-64.36595897370862,"d":"-64.37"},{"v":73.99999999999999,"d":"74.00"},{"v":25.63404102629139,"d":"25.63"},null,{"v":63.91384615384616,"d":"63.91"},{"v":83.4587827591682,"d":"83.46"},{"v":-63.91384615384616,"d":"-63.91"},{"v":-83.4587827591682,"d":"-83.46"},{"v":46.08615384615385,"d":"46.09"},{"v":6.541217240831799,"d":"6.54"},null,{"v":45.338823529411776,"d":"45.34"},{"v":72.15053306948187,"d":"72.15"},{"v":-45.338823529411776,"d":"-45.34"},{"v":-72.15053306948187,"d":"-72.15"},{"v":64.66117647058823,"d":"64.66"},{"v":17.84946693051819,"d":"17.85"},null,null,19.26,{"v":44.2294525424842,"d":"44.23"},-19.26,{"v":-44.2294525424842,"d":"-44.23"},90.74,{"v":45.77054745751579,"d":"45.77"},null,{"v":7.842857142857144,"d":"7.84"},{"v":22.34493047298665,"d":"22.34"},{"v":-7.842857142857144,"d":"-7.84"},{"v":-22.34493047298665,"d":"-22.34"},{"v":102.15714285714284,"d":"102.16"},{"v":67.65506952701334,"d":"67.66"},null,{"v":23.400000000000002,"d":"23.40"},{"v":75.09361880266016,"d":"75.09"},{"v":-23.400000000000002,"d":"-23.40"},{"v":-75.09361880266016,"d":"-75.09"},{"v":86.6,"d":"86.60"},{"v":14.906381197339897,"d":"14.91"}]
[{"v":69.99999999999999,"d":"70.00"},{"$f":"($F$126/($F83^($D$120)))^(1/$D$121)","v":{"v":30.000000000000014,"d":"30.00"}},11,{"v":0.5,"d":"0.50"},{"v":1,"d":"1.00"},{"v":69.99999999999999,"d":"70.00"},{"v":69.99999999999999,"d":"70.00"},{"v":30.000000000000014,"d":"30.00"},{"v":69.99999999999999,"d":"70.00"},{"v":3.1138330054351897,"d":"3.11"},{"v":69.99999999999999,"d":"70.00"},{"v":15.641159465680586,"d":"15.64"},{"v":69.99999999999999,"d":"70.00"},{"v":84.51654442818604,"d":"84.52"},{"v":90.48026202444862,"d":"90.48"},{"v":90.00000000000007,"d":"90.00"},{"$nulls":3},{"v":55,"d":"55.00"},{"v":20,"d":"20.00"},{"v":84,"d":"84.00"},{"v":45,"d":"45.00"},{"v":30.000000000000004,"d":"30.00"},{"v":69.99999999999999,"d":"70.00"},{"v":84,"d":"84.00"},{"v":280.2449704891671,"d":"280.24"},{"v":110,"d":"110.00"},{"v":90,"d":"90.00"},0,null,{"v":40,"d":"40.00"},{"v":59.999999999999986,"d":"60.00"},{"v":-40,"d":"-40.00"},{"v":-59.999999999999986,"d":"-60.00"},{"v":69.99999999999999,"d":"70.00"},{"v":30.000000000000018,"d":"30.00"},null,{"v":71.01538461538462,"d":"71.02"},{"v":77.79775280898876,"d":"77.80"},{"v":-71.01538461538462,"d":"-71.02"},{"v":-77.79775280898876,"d":"-77.80"},{"v":38.98461538461538,"d":"38.98"},{"v":12.202247191011239,"d":"12.20"},null,{"v":50.37647058823531,"d":"50.38"},{"v":67.25654450261783,"d":"67.26"},{"v":-50.37647058823531,"d":"-50.38"},{"v":-67.25654450261783,"d":"-67.26"},{"v":59.62352941176471,"d":"59.62"},{"v":22.74345549738223,"d":"22.74"},null,null,{"v":21.400000000000002,"d":"21.40"},{"v":41.22935779816513,"d":"41.23"},{"v":-21.400000000000002,"d":"-21.40"},{"v":-41.22935779816513,"d":"-41.23"},{"v":88.6,"d":"88.60"},{"v":48.77064220183486,"d":"48.77"},null,{"v":8.714285714285715,"d":"8.71"},{"v":20.829268292682922,"d":"20.83"},{"v":-8.714285714285715,"d":"-8.71"},{"v":-20.829268292682922,"d":"-20.83"},{"v":101.28571428571428,"d":"101.29"},{"v":69.17073170731707,"d":"69.17"},null,{"v":26,"d":"26.00"},{"v":70.00000000000003,"d":"70.00"},{"v":-26,"d":"-26.00"},{"v":-70.00000000000003,"d":"-70.00"},{"v":84,"d":"84.00"},{"v":20.00000000000003,"d":"20.00"}]
[{"v":76.99999999999999,"d":"77.00"},{"$f":"($F$126/($F84^($D$120)))^(1/$D$121)","v":{"v":24.018081970697484,"d":"24.02"}},12,0.55,{"v":1.1,"d":"1.10"},{"v":76.99999999999999,"d":"77.00"},{"v":76.99999999999999,"d":"77.00"},{"v":24.018081970697484,"d":"24.02"},{"v":76.99999999999999,"d":"77.00"},{"v":2.4929432122535213,"d":"2.49"},{"v":76.99999999999999,"d":"77.00"},{"v":12.5223550054489,"d":"12.52"},{"v":76.99999999999999,"d":"77.00"},{"v":67.6641763985422,"d":"67.66"},{"v":90.48026202444862,"d":"90.48"},{"v":90.00000000000007,"d":"90.00"},{"$nulls":3},{"v":60.50000000000001,"d":"60.50"},{"v":20,"d":"20.00"},{"v":84,"d":"84.00"},{"v":49.50000000000001,"d":"49.50"},{"v":30.000000000000004,"d":"30.00"},{"v":69.99999999999999,"d":"70.00"},{"v":84,"d":"84.00"},{"v":224.36488910281693,"d":"224.36"},{"v":110,"d":"110.00"},{"v":90,"d":"90.00"},0,null,{"v":44,"d":"44.00"},{"v":56.30618811580185,"d":"56.31"},{"v":-44,"d":"-44.00"},{"v":-56.30618811580185,"d":"-56.31"},{"v":65.99999999999999,"d":"66.00"},{"v":33.693811884198155,"d":"33.69"},null,{"v":78.11692307692309,"d":"78.12"},{"v":73.00824841082618,"d":"73.01"},{"v":-78.11692307692309,"d":"-78.12"},{"v":-73.00824841082618,"d":"-73.01"},{"v":31.883076923076914,"d":"31.88"},{"v":16.991751589173816,"d":"16.99"},null,{"v":55.414117647058845,"d":"55.41"},{"v":63.11599411305332,"d":"63.12"},{"v":-55.414117647058845,"d":"-55.41"},{"v":-63.11599411305332,"d":"-63.12"},{"v":54.58588235294117,"d":"54.59"},{"v":26.88400588694674,"d":"26.88"},null,null,{"v":23.540000000000003,"d":"23.54"},{"v":38.69113293461981,"d":"38.69"},{"v":-23.540000000000003,"d":"-23.54"},{"v":-38.69113293461981,"d":"-38.69"},86.46,{"v":51.308867065380184,"d":"51.31"},null,{"v":9.585714285714287,"d":"9.59"},{"v":19.54694498003851,"d":"19.55"},{"v":-9.585714285714287,"d":"-9.59"},{"v":-19.54694498003851,"d":"-19.55"},{"v":100.4142857142857,"d":"100.41"},{"v":70.45305501996148,"d":"70.45"},null,{"v":28.6,"d":"28.60"},{"v":65.69055280176887,"d":"65.69"},{"v":-28.6,"d":"-28.60"},{"v":-65.69055280176887,"d":"-65.69"},{"v":81.4,"d":"81.40"},{"v":24.309447198231183,"d":"24.31"}]
[{"v":83.99999999999999,"d":"84.00"},{"v":19.604917268354754,"d":"19.60"},13,{"v":0.6,"d":"0.60"},{"v":1.2,"d":"1.20"},{"v":83.99999999999999,"d":"84.00"},{"v":83.99999999999999,"d":"84.00"},{"v":19.604917268354754,"d":"19.60"},{"v":83.99999999999999,"d":"84.00"},{"v":2.0348812819676425,"d":"2.03"},{"v":83.99999999999999,"d":"84.00"},{"v":10.221454576860385,"d":"10.22"},{"v":83.99999999999999,"d":"84.00"},{"v":55.23132871072713,"d":"55.23"},{"v":90.48026202444862,"d":"90.48"},{"v":90.00000000000007,"d":"90.00"},{"$nulls":3},{"v":66,"d":"66.00"},{"v":20,"d":"20.00"},{"v":84,"d":"84.00"},{"v":54,"d":"54.00"},{"v":30.000000000000004,"d":"30.00"},{"v":69.99999999999999,"d":"70.00"},{"v":84,"d":"84.00"},{"v":183.13931537708783,"d":"183.14"},{"v":110,"d":"110.00"},{"v":90,"d":"90.00"},0,null,{"v":48,"d":"48.00"},{"v":53.13292845913052,"d":"53.13"},{"v":-48,"d":"-48.00"},{"v":-53.13292845913052,"d":"-53.13"},{"v":61.999999999999986,"d":"62.00"},{"v":36.86707154086949,"d":"36.87"},null,{"v":85.21846153846154,"d":"85.22"},{"v":68.89370723801866,"d":"68.89"},{"v":-85.21846153846154,"d":"-85.22"},{"v":-68.89370723801866,"d":"-68.89"},{"v":24.78153846153846,"d":"24.78"},{"v":21.106292761981337,"d":"21.11"},null,{"v":60.45176470588237,"d":"60.45"},{"v":59.55895279109878,"d":"59.56"},{"v":-60.45176470588237,"d":"-60.45"},{"v":-59.55895279109878,"d":"-59.56"},{"v":49.548235294117646,"d":"49.55"},{"v":30.441047208901267,"d":"30.44"},null,null,{"v":25.680000000000003,"d":"25.68"},{"v":36.5106086384301,"d":"36.51"},{"v":-25.680000000000003,"d":"-25.68"},{"v":-36.5106086384301,"d":"-36.51"},84.32,{"v":53.48939136156989,"d":"53.49"},null,{"v":10.457142857142857,"d":"10.46"},{"v":18.44533370085263,"d":"18.45"},{"v":-10.457142857142857,"d":"-10.46"},{"v":-18.44533370085263,"d":"-18.45"},{"v":99.54285714285713,"d":"99.54"},{"v":71.55466629914736,"d":"71.55"},null,{"v":31.2,"d":"31.20"},{"v":61.9884165356524,"d":"61.99"},{"v":-31.2,"d":"-31.20"},{"v":-61.9884165356524,"d":"-61.99"},{"v":78.8,"d":"78.80"},{"v":28.011583464347666,"d":"28.01"}]
[{"v":90.99999999999999,"d":"91.00"},{"v":16.26497622025169,"d":"16.26"},14,0.65,{"v":1.3,"d":"1.30"},{"v":90.99999999999999,"d":"91.00"},{"v":90.99999999999999,"d":"91.00"},{"v":16.26497622025169,"d":"16.26"},{"v":90.99999999999999,"d":"91.00"},{"v":1.6882139929079396,"d":"1.69"},{"v":90.99999999999999,"d":"91.00"},{"v":8.480102892215312,"d":"8.48"},{"v":90.99999999999999,"d":"91.00"},{"v":45.82198617807634,"d":"45.82"},{"v":90.99999999999999,"d":"91.00"},{"v":88.80516859364076,"d":"88.81"},{"$nulls":3},{"v":71.5,"d":"71.50"},{"v":20,"d":"20.00"},{"v":84,"d":"84.00"},{"v":58.5,"d":"58.50"},{"v":30.000000000000004,"d":"30.00"},{"v":69.99999999999999,"d":"70.00"},{"v":84,"d":"84.00"},{"v":151.93925936171456,"d":"151.94"},{"v":110,"d":"110.00"},{"v":90,"d":"90.00"},0,null,{"v":52,"d":"52.00"},{"v":50.371979218204885,"d":"50.37"},{"v":-52,"d":"-52.00"},{"v":-50.371979218204885,"d":"-50.37"},{"v":57.999999999999986,"d":"58.00"},{"v":39.628020781795115,"d":"39.63"},null,{"v":92.32000000000001,"d":"92.32"},{"v":65.31377979529032,"d":"65.31"},{"v":-92.32000000000001,"d":"-92.32"},{"v":-65.31377979529032,"d":"-65.31"},{"v":17.679999999999993,"d":"17.68"},{"v":24.686220204709684,"d":"24.69"},null,{"v":65.4894117647059,"d":"65.49"},{"v":56.46408769956899,"d":"56.46"},{"v":-65.4894117647059,"d":"-65.49"},{"v":-56.46408769956899,"d":"-56.46"},{"v":44.51058823529411,"d":"44.51"},{"v":33.535912300431065,"d":"33.54"},null,null,{"v":27.820000000000004,"d":"27.82"},{"v":34.61340590315181,"d":"34.61"},{"v":-27.820000000000004,"d":"-27.82"},{"v":-34.61340590315181,"d":"-34.61"},{"v":82.17999999999999,"d":"82.18"},{"v":55.386594096848185,"d":"55.39"},null,{"v":11.328571428571431,"d":"11.33"},{"v":17.48685782615729,"d":"17.49"},{"v":-11.328571428571431,"d":"-11.33"},{"v":-17.48685782615729,"d":"-17.49"},{"v":98.67142857142855,"d":"98.67"},{"v":72.51314217384271,"d":"72.51"},null,{"v":33.800000000000004,"d":"33.80"},{"v":58.76730908790571,"d":"58.77"},{"v":-33.800000000000004,"d":"-33.80"},{"v":-58.76730908790571,"d":"-58.77"},{"v":76.19999999999999,"d":"76.20"},{"v":31.23269091209434,"d":"31.23"}]
[{"v":97.99999999999997,"d":"98.00"},{"v":13.682196965763797,"d":"13.68"},15,{"v":0.7,"d":"0.70"},{"v":1.4,"d":"1.40"},{"v":97.99999999999997,"d":"98.00"},{"v":97.99999999999997,"d":"98.00"},{"v":13.682196965763797,"d":"13.68"},{"v":97.99999999999997,"d":"98.00"},{"v":1.4201358832953506,"d":"1.42"},{"v":97.99999999999997,"d":"98.00"},{"v":7.133514152745416,"d":"7.13"},{"v":97.99999999999997,"d":"98.00"},{"v":38.545733591072235,"d":"38.55"},{"v":97.99999999999997,"d":"98.00"},{"v":74.70344818353816,"d":"74.70"},{"$nulls":3},{"v":77,"d":"77.00"},{"v":20,"d":"20.00"},{"v":84,"d":"84.00"},{"v":62.99999999999999,"d":"63.00"},{"v":30.000000000000004,"d":"30.00"},{"v":69.99999999999999,"d":"70.00"},{"v":84,"d":"84.00"},{"v":127.81222949658155,"d":"127.81"},{"v":110,"d":"110.00"},{"v":90,"d":"90.00"},0,null,{"v":56,"d":"56.00"},{"v":47.9438118034884,"d":"47.94"},{"v":-56,"d":"-56.00"},{"v":-47.9438118034884,"d":"-47.94"},{"v":53.999999999999986,"d":"54.00"},{"v":42.0561881965116,"d":"42.06"},null,{"v":99.42153846153846,"d":"99.42"},{"v":62.16534699014113,"d":"62.17"},{"v":-99.42153846153846,"d":"-99.42"},{"v":-62.16534699014113,"d":"-62.17"},{"v":10.57846153846154,"d":"10.58"},{"v":27.83465300985887,"d":"27.83"},null,{"v":70.52705882352943,"d":"70.53"},{"v":53.74225186977425,"d":"53.74"},{"v":-70.52705882352943,"d":"-70.53"},{"v":-53.74225186977425,"d":"-53.74"},{"v":39.472941176470584,"d":"39.47"},{"v":36.25774813022581,"d":"36.26"},null,null,29.96,{"v":32.94487618423197,"d":"32.94"},-29.96,{"v":-32.94487618423197,"d":"-32.94"},{"v":80.03999999999999,"d":"80.04"},{"v":57.05512381576802,"d":"57.06"},null,{"v":12.200000000000001,"d":"12.20"},{"v":16.643908650479315,"d":"16.64"},{"v":-12.200000000000001,"d":"-12.20"},{"v":-16.643908650479315,"d":"-16.64"},{"v":97.79999999999998,"d":"97.80"},{"v":73.35609134952068,"d":"73.36"},null,{"v":36.4,"d":"36.40"},{"v":55.93444710406991,"d":"55.93"},{"v":-36.4,"d":"-36.40"},{"v":-55.93444710406991,"d":"-55.93"},{"v":73.6,"d":"73.60"},{"v":34.06555289593015,"d":"34.07"}]
[{"v":104.99999999999997,"d":"105.00"},{"v":11.64773952981731,"d":"11.65"},16,0.75,{"v":1.5,"d":"1.50"},{"v":104.99999999999997,"d":"105.00"},{"v":104.99999999999997,"d":"105.00"},{"v":11.64773952981731,"d":"11.65"},{"v":104.99999999999997,"d":"105.00"},{"v":1.20897052622191,"d":"1.21"},{"v":104.99999999999997,"d":"105.00"},{"v":6.072805046686132,"d":"6.07"},{"v":104.99999999999997,"d":"105.00"},{"v":32.814223181991416,"d":"32.81"},{"v":104.99999999999997,"d":"105.00"},{"v":63.59551091088123,"d":"63.60"},{"$nulls":3},{"v":82.5,"d":"82.50"},{"v":20,"d":"20.00"},{"v":84,"d":"84.00"},{"v":67.5,"d":"67.50"},{"v":30.000000000000004,"d":"30.00"},{"v":69.99999999999999,"d":"70.00"},{"v":84,"d":"84.00"},{"v":108.8073473599719,"d":"108.81"},{"v":110,"d":"110.00"},{"v":90,"d":"90.00"},0,null,{"v":60,"d":"60.00"},{"v":45.788569702133266,"d":"45.79"},{"v":-60,"d":"-60.00"},{"v":-45.788569702133266,"d":"-45.79"},{"v":49.999999999999986,"d":"50.00"},{"v":44.21143029786674,"d":"44.21"},null,{"v":106.52307692307693,"d":"106.52"},{"v":59.370797119395235,"d":"59.37"},{"v":-106.52307692307693,"d":"-106.52"},{"v":-59.370797119395235,"d":"-59.37"},{"v":3.4769230769230717,"d":"3.48"},{"v":30.629202880604765,"d":"30.63"},null,{"v":75.56470588235297,"d":"75.56"},{"v":51.32634959804578,"d":"51.33"},{"v":-75.56470588235297,"d":"-75.56"},{"v":-51.32634959804578,"d":"-51.33"},{"v":34.43529411764705,"d":"34.44"},{"v":38.673650401954276,"d":"38.67"},null,null,{"v":32.1,"d":"32.10"},{"v":31.46388872192461,"d":"31.46"},{"v":-32.1,"d":"-32.10"},{"v":-31.46388872192461,"d":"-31.46"},{"v":77.89999999999999,"d":"77.90"},{"v":58.53611127807538,"d":"58.54"},null,{"v":13.071428571428573,"d":"13.07"},{"v":15.895706717732438,"d":"15.90"},{"v":-13.071428571428573,"d":"-13.07"},{"v":-15.895706717732438,"d":"-15.90"},{"v":96.92857142857142,"d":"96.93"},{"v":74.10429328226755,"d":"74.10"},null,{"v":39,"d":"39.00"},{"v":53.41999798582221,"d":"53.42"},{"v":-39,"d":"-39.00"},{"v":-53.41999798582221,"d":"-53.42"},{"v":71,"d":"71.00"},{"v":36.58000201417785,"d":"36.58"}]
[{"v":111.99999999999999,"d":"112.00"},{"v":10.449618037022375,"d":"10.45"},17,{"v":0.8,"d":"0.80"},{"v":1.6,"d":"1.60"},{"v":110,"d":"110.00"},{"v":110,"d":"110.00"},{"v":10.449618037022375,"d":"10.45"},{"v":110,"d":"110.00"},{"v":1.0846121845957046,"d":"1.08"},{"v":110,"d":"110.00"},{"v":5.448138069083969,"d":"5.45"},{"v":110,"d":"110.00"},{"v":29.4388535694525,"d":"29.44"},{"v":110,"d":"110.00"},{"v":57.05388553605649,"d":"57.05"},{"$nulls":3},{"v":88,"d":"88.00"},{"v":20,"d":"20.00"},{"v":84,"d":"84.00"},{"v":72,"d":"72.00"},{"v":30.000000000000004,"d":"30.00"},{"v":69.99999999999999,"d":"70.00"},{"v":84,"d":"84.00"},{"v":97.61509661361342,"d":"97.62"},{"v":110,"d":"110.00"},{"v":90,"d":"90.00"},0,null,{"v":64,"d":"64.00"},{"v":43.86026607319298,"d":"43.86"},{"v":-64,"d":"-64.00"},{"v":-43.86026607319298,"d":"-43.86"},{"v":45.999999999999986,"d":"46.00"},{"v":46.139733926807025,"d":"46.14"},null,{"v":113.6246153846154,"d":"113.62"},{"v":56.87050230164567,"d":"56.87"},{"v":-113.6246153846154,"d":"-113.62"},{"v":-56.87050230164567,"d":"-56.87"},{"v":-3.624615384615396,"d":"-3.62"},{"v":33.12949769835433,"d":"33.13"},null,{"v":80.60235294117649,"d":"80.60"},{"v":49.16483228413941,"d":"49.16"},{"v":-80.60235294117649,"d":"-80.60"},{"v":-49.16483228413941,"d":"-49.16"},{"v":29.397647058823523,"d":"29.40"},{"v":40.83516771586065,"d":"40.84"},null,null,34.24,{"v":30.138843384239955,"d":"30.14"},-34.24,{"v":-30.138843384239955,"d":"-30.14"},{"v":75.75999999999999,"d":"75.76"},{"v":59.86115661576004,"d":"59.86"},null,{"v":13.942857142857145,"d":"13.94"},{"v":15.226287490449915,"d":"15.23"},{"v":-13.942857142857145,"d":"-13.94"},{"v":-15.226287490449915,"d":"-15.23"},{"v":96.05714285714284,"d":"96.06"},{"v":74.77371250955008,"d":"74.77"},null,{"v":41.6,"d":"41.60"},{"v":51.17031041872516,"d":"51.17"},{"v":-41.6,"d":"-41.60"},{"v":-51.17031041872516,"d":"-51.17"},{"v":68.4,"d":"68.40"},{"v":38.82968958127489,"d":"38.83"}]
[{"v":118.99999999999997,"d":"119.00"},{"v":10.449618037022375,"d":"10.45"},18,0.85,{"v":1.7,"d":"1.70"},{"v":110,"d":"110.00"},{"v":110,"d":"110.00"},{"v":10.449618037022375,"d":"10.45"},{"v":110,"d":"110.00"},{"v":1.0846121845957046,"d":"1.08"},{"v":110,"d":"110.00"},{"v":5.448138069083969,"d":"5.45"},{"v":110,"d":"110.00"},{"v":29.4388535694525,"d":"29.44"},{"v":110,"d":"110.00"},{"v":57.05388553605649,"d":"57.05"},{"$nulls":3},{"v":93.5,"d":"93.50"},{"v":20,"d":"20.00"},{"v":84,"d":"84.00"},{"v":76.5,"d":"76.50"},{"v":30.000000000000004,"d":"30.00"},{"v":69.99999999999999,"d":"70.00"},{"v":84,"d":"84.00"},{"v":97.61509661361342,"d":"97.62"},{"v":110,"d":"110.00"},{"v":90,"d":"90.00"},0,null,{"v":68,"d":"68.00"},{"v":42.12293618567068,"d":"42.12"},{"v":-68,"d":"-68.00"},{"v":-42.12293618567068,"d":"-42.12"},{"v":41.999999999999986,"d":"42.00"},{"v":47.87706381432932,"d":"47.88"},null,{"v":120.72615384615385,"d":"120.73"},{"v":54.617829616026945,"d":"54.62"},{"v":-120.72615384615385,"d":"-120.73"},{"v":-54.617829616026945,"d":"-54.62"},{"v":-10.72615384615385,"d":"-10.73"},{"v":35.38217038397306,"d":"35.38"},null,{"v":85.64000000000001,"d":"85.64"},{"v":47.21738553587488,"d":"47.22"},{"v":-85.64000000000001,"d":"-85.64"},{"v":-47.21738553587488,"d":"-47.22"},24.36,{"v":42.782614464125174,"d":"42.78"},null,null,36.38,{"v":28.94502679180492,"d":"28.95"},-36.38,{"v":-28.94502679180492,"d":"-28.95"},{"v":73.61999999999999,"d":"73.62"},{"v":61.05497320819507,"d":"61.05"},null,{"v":14.814285714285715,"d":"14.81"},{"v":14.623165651448284,"d":"14.62"},{"v":-14.814285714285715,"d":"-14.81"},{"v":-14.623165651448284,"d":"-14.62"},{"v":95.18571428571427,"d":"95.19"},{"v":75.37683434855171,"d":"75.38"},null,{"v":44.199999999999996,"d":"44.20"},{"v":49.143425549949185,"d":"49.14"},{"v":-44.199999999999996,"d":"-44.20"},{"v":-49.143425549949185,"d":"-49.14"},{"v":65.80000000000001,"d":"65.80"},{"v":40.85657445005087,"d":"40.86"}]
[{"v":125.99999999999997,"d":"126.00"},{"v":10.449618037022375,"d":"10.45"},19,{"v":0.9,"d":"0.90"},{"v":1.8,"d":"1.80"},{"v":110,"d":"110.00"},{"v":110,"d":"110.00"},{"v":10.449618037022375,"d":"10.45"},{"v":110,"d":"110.00"},{"v":1.0846121845957046,"d":"1.08"},{"v":110,"d":"110.00"},{"v":5.448138069083969,"d":"5.45"},{"v":110,"d":"110.00"},{"v":29.4388535694525,"d":"29.44"},{"v":110,"d":"110.00"},{"v":57.05388553605649,"d":"57.05"},{"$nulls":3},{"v":99,"d":"99.00"},{"v":20,"d":"20.00"},{"v":84,"d":"84.00"},{"v":81,"d":"81.00"},{"v":30.000000000000004,"d":"30.00"},{"v":69.99999999999999,"d":"70.00"},{"v":84,"d":"84.00"},{"v":97.61509661361342,"d":"97.62"},{"v":110,"d":"110.00"},{"v":90,"d":"90.00"},0,null,{"v":72,"d":"72.00"},{"v":40.54801330382265,"d":"40.55"},{"v":-72,"d":"-72.00"},{"v":-40.54801330382265,"d":"-40.55"},{"v":37.999999999999986,"d":"38.00"},{"v":49.45198669617736,"d":"49.45"},null,{"v":127.82769230769232,"d":"127.83"},{"v":52.57573859843972,"d":"52.58"},{"v":-127.82769230769232,"d":"-127.83"},{"v":-52.57573859843972,"d":"-52.58"},{"v":-17.827692307692317,"d":"-17.83"},{"v":37.42426140156027,"d":"37.42"},null,{"v":90.67764705882355,"d":"90.68"},{"v":45.45198768768816,"d":"45.45"},{"v":-90.67764705882355,"d":"-90.68"},{"v":-45.45198768768816,"d":"-45.45"},{"v":19.32235294117646,"d":"19.32"},{"v":44.5480123123119,"d":"44.55"},null,null,38.52,{"v":27.862809141801087,"d":"27.86"},-38.52,{"v":-27.862809141801087,"d":"-27.86"},{"v":71.47999999999999,"d":"71.48"},{"v":62.137190858198906,"d":"62.14"},null,{"v":15.685714285714289,"d":"15.69"},{"v":14.076424130676644,"d":"14.08"},{"v":-15.685714285714289,"d":"-15.69"},{"v":-14.076424130676644,"d":"-14.08"},{"v":94.3142857142857,"d":"94.31"},{"v":75.92357586932334,"d":"75.92"},null,{"v":46.800000000000004,"d":"46.80"},{"v":47.306015521126476,"d":"47.31"},{"v":-46.800000000000004,"d":"-46.80"},{"v":-47.306015521126476,"d":"-47.31"},{"v":63.199999999999996,"d":"63.20"},{"v":42.693984478873574,"d":"42.69"}]
[{"v":132.99999999999997,"d":"133.00"},{"v":10.449618037022375,"d":"10.45"},20,0.95,{"v":1.9,"d":"1.90"},{"v":110,"d":"110.00"},{"v":110,"d":"110.00"},{"v":10.449618037022375,"d":"10.45"},{"v":110,"d":"110.00"},{"v":1.0846121845957046,"d":"1.08"},{"v":110,"d":"110.00"},{"v":5.448138069083969,"d":"5.45"},{"v":110,"d":"110.00"},{"v":29.4388535694525,"d":"29.44"},{"v":110,"d":"110.00"},{"v":57.05388553605649,"d":"57.05"},{"$nulls":3},{"v":104.5,"d":"104.50"},{"v":20,"d":"20.00"},{"v":84,"d":"84.00"},{"v":85.5,"d":"85.50"},{"v":30.000000000000004,"d":"30.00"},{"v":69.99999999999999,"d":"70.00"},{"v":84,"d":"84.00"},{"v":97.61509661361342,"d":"97.62"},{"v":110,"d":"110.00"},{"v":90,"d":"90.00"},0,null,{"v":76,"d":"76.00"},{"v":39.112494619900104,"d":"39.11"},{"v":-76,"d":"-76.00"},{"v":-39.112494619900104,"d":"-39.11"},{"v":33.999999999999986,"d":"34.00"},{"v":50.887505380099896,"d":"50.89"},null,{"v":134.92923076923077,"d":"134.93"},{"v":50.714403136364844,"d":"50.71"},{"v":-134.92923076923077,"d":"-134.93"},{"v":-50.714403136364844,"d":"-50.71"},{"v":-24.92923076923077,"d":"-24.93"},{"v":39.28559686363516,"d":"39.29"},null,{"v":95.71529411764708,"d":"95.72"},{"v":43.84285391686191,"d":"43.84"},{"v":-95.71529411764708,"d":"-95.72"},{"v":-43.84285391686191,"d":"-43.84"},{"v":14.284705882352938,"d":"14.28"},{"v":46.157146083138144,"d":"46.16"},null,null,{"v":40.660000000000004,"d":"40.66"},{"v":26.876383917711202,"d":"26.88"},{"v":-40.660000000000004,"d":"-40.66"},{"v":-26.876383917711202,"d":"-26.88"},{"v":69.33999999999999,"d":"69.34"},{"v":63.12361608228879,"d":"63.12"},null,{"v":16.557142857142857,"d":"16.56"},{"v":13.578077400566952,"d":"13.58"},{"v":-16.557142857142857,"d":"-16.56"},{"v":-13.578077400566952,"d":"-13.58"},{"v":93.44285714285712,"d":"93.44"},{"v":76.42192259943303,"d":"76.42"},null,{"v":49.4,"d":"49.40"},{"v":45.631243723216855,"d":"45.63"},{"v":-49.4,"d":"-49.40"},{"v":-45.631243723216855,"d":"-45.63"},{"v":60.6,"d":"60.60"},{"v":44.3687562767832,"d":"44.37"}]
[{"v":139.99999999999997,"d":"140.00"},{"v":10.449618037022375,"d":"10.45"},21,{"v":1,"d":"1.00"},{"v":2,"d":"2.00"},{"v":110,"d":"110.00"},{"v":110,"d":"110.00"},{"v":10.449618037022375,"d":"10.45"},{"v":110,"d":"110.00"},{"v":1.0846121845957046,"d":"1.08"},{"v":110,"d":"110.00"},{"v":5.448138069083969,"d":"5.45"},{"v":110,"d":"110.00"},{"v":29.4388535694525,"d":"29.44"},{"v":110,"d":"110.00"},{"v":57.05388553605649,"d":"57.05"},{"$nulls":3},{"v":110,"d":"110.00"},{"v":20,"d":"20.00"},{"v":84,"d":"84.00"},{"v":90,"d":"90.00"},{"v":30.000000000000004,"d":"30.00"},{"v":69.99999999999999,"d":"70.00"},{"v":84,"d":"84.00"},{"v":97.61509661361342,"d":"97.62"},{"v":110,"d":"110.00"},{"v":90,"d":"90.00"},0,null,{"v":80,"d":"80.00"},{"v":37.79763149684617,"d":"37.80"},{"v":-80,"d":"-80.00"},{"v":-37.79763149684617,"d":"-37.80"},{"v":29.999999999999986,"d":"30.00"},{"v":52.20236850315382,"d":"52.20"},null,{"v":142.03076923076924,"d":"142.03"},{"v":49.00951319928146,"d":"49.01"},{"v":-142.03076923076924,"d":"-142.03"},{"v":-49.00951319928146,"d":"-49.01"},{"v":-32.03076923076924,"d":"-32.03"},{"v":40.99048680071854,"d":"40.99"},null,{"v":100.75294117647061,"d":"100.75"},{"v":42.36896808101976,"d":"42.37"},{"v":-100.75294117647061,"d":"-100.75"},{"v":-42.36896808101976,"d":"-42.37"},{"v":9.2470588235294,"d":"9.25"},{"v":47.6310319189803,"d":"47.63"},null,null,{"v":42.800000000000004,"d":"42.80"},{"v":25.9728678817778,"d":"25.97"},{"v":-42.800000000000004,"d":"-42.80"},{"v":-25.9728678817778,"d":"-25.97"},{"v":67.19999999999999,"d":"67.20"},{"v":64.0271321182222,"d":"64.03"},null,{"v":17.42857142857143,"d":"17.43"},{"v":13.121616787929526,"d":"13.12"},{"v":-17.42857142857143,"d":"-17.43"},{"v":-13.121616787929526,"d":"-13.12"},{"v":92.57142857142856,"d":"92.57"},{"v":76.87838321207047,"d":"76.88"},null,{"v":52,"d":"52.00"},{"v":44.09723674632058,"d":"44.10"},{"v":-52,"d":"-52.00"},{"v":-44.09723674632058,"d":"-44.10"},{"v":58,"d":"58.00"},{"v":45.90276325367947,"d":"45.90"}]
[{"v":146.99999999999997,"d":"147.00"},{"v":10.449618037022375,"d":"10.45"},22,1.05,{"v":2.1,"d":"2.10"},{"v":110,"d":"110.00"},{"v":110,"d":"110.00"},{"v":10.449618037022375,"d":"10.45"},{"v":110,"d":"110.00"},{"v":1.0846121845957046,"d":"1.08"},{"v":110,"d":"110.00"},{"v":5.448138069083969,"d":"5.45"},{"v":110,"d":"110.00"},{"v":29.4388535694525,"d":"29.44"},{"v":110,"d":"110.00"},{"v":57.05388553605649,"d":"57.05"},{"$nulls":3},{"v":115.5,"d":"115.50"},{"v":20,"d":"20.00"},{"v":84,"d":"84.00"},{"v":94.5,"d":"94.50"},{"v":30.000000000000004,"d":"30.00"},{"v":69.99999999999999,"d":"70.00"},{"v":84,"d":"84.00"},{"v":97.61509661361342,"d":"97.62"},{"v":110,"d":"110.00"},{"v":90,"d":"90.00"},0,null,{"v":84,"d":"84.00"},{"v":36.58797614249985,"d":"36.59"},{"v":-84,"d":"-84.00"},{"v":-36.58797614249985,"d":"-36.59"},{"v":25.999999999999986,"d":"26.00"},{"v":53.412023857500145,"d":"53.41"},null,{"v":149.1323076923077,"d":"149.13"},{"v":47.44103872858962,"d":"47.44"},{"v":-149.1323076923077,"d":"-149.13"},{"v":-47.44103872858962,"d":"-47.44"},{"v":-39.132307692307705,"d":"-39.13"},{"v":42.55896127141038,"d":"42.56"},null,{"v":105.79058823529415,"d":"105.79"},{"v":41.01301409481266,"d":"41.01"},{"v":-105.79058823529415,"d":"-105.79"},{"v":-41.01301409481266,"d":"-41.01"},{"v":4.209411764705862,"d":"4.21"},{"v":48.986985905187396,"d":"48.99"},null,null,{"v":44.940000000000005,"d":"44.94"},{"v":25.141645991497583,"d":"25.14"},{"v":-44.940000000000005,"d":"-44.94"},{"v":-25.141645991497583,"d":"-25.14"},{"v":65.05999999999999,"d":"65.06"},{"v":64.8583540085024,"d":"64.86"},null,{"v":18.300000000000004,"d":"18.30"},{"v":12.70167952264018,"d":"12.70"},{"v":-18.300000000000004,"d":"-18.30"},{"v":-12.70167952264018,"d":"-12.70"},{"v":91.69999999999999,"d":"91.70"},{"v":77.29832047735981,"d":"77.30"},null,{"v":54.6,"d":"54.60"},{"v":42.68597216624983,"d":"42.69"},{"v":-54.6,"d":"-54.60"},{"v":-42.68597216624983,"d":"-42.69"},{"v":55.4,"d":"55.40"},{"v":47.31402783375023,"d":"47.31"}]
[{"v":153.99999999999997,"d":"154.00"},{"v":10.449618037022375,"d":"10.45"},23,{"v":1.1,"d":"1.10"},{"v":2.2,"d":"2.20"},{"v":110,"d":"110.00"},{"v":110,"d":"110.00"},{"v":10.449618037022375,"d":"10.45"},{"v":110,"d":"110.00"},{"v":1.0846121845957046,"d":"1.08"},{"v":110,"d":"110.00"},{"v":5.448138069083969,"d":"5.45"},{"v":110,"d":"110.00"},{"v":29.4388535694525,"d":"29.44"},{"v":110,"d":"110.00"},{"v":57.05388553605649,"d":"57.05"},{"$nulls":3},{"v":121.00000000000001,"d":"121.00"},{"v":20,"d":"20.00"},{"v":84,"d":"84.00"},{"v":99.00000000000001,"d":"99.00"},{"v":30.000000000000004,"d":"30.00"},{"v":69.99999999999999,"d":"70.00"},{"v":84,"d":"84.00"},{"v":97.61509661361342,"d":"97.62"},{"v":110,"d":"110.00"},{"v":90,"d":"90.00"},0,null,{"v":88,"d":"88.00"},{"v":35.47067582321962,"d":"35.47"},{"v":-88,"d":"-88.00"},{"v":-35.47067582321962,"d":"-35.47"},{"v":21.999999999999986,"d":"22.00"},{"v":54.52932417678038,"d":"54.53"},null,{"v":156.23384615384617,"d":"156.23"},{"v":45.99231449437689,"d":"45.99"},{"v":-156.23384615384617,"d":"-156.23"},{"v":-45.99231449437689,"d":"-45.99"},{"v":-46.23384615384617,"d":"-46.23"},{"v":44.0076855056231,"d":"44.01"},null,{"v":110.82823529411769,"d":"110.83"},{"v":39.76058478403837,"d":"39.76"},{"v":-110.82823529411769,"d":"-110.83"},{"v":-39.76058478403837,"d":"-39.76"},{"v":-0.8282352941176754,"d":"-0.83"},{"v":50.239415215961685,"d":"50.24"},null,null,{"v":47.080000000000005,"d":"47.08"},{"v":24.373886414304152,"d":"24.37"},{"v":-47.080000000000005,"d":"-47.08"},{"v":-24.373886414304152,"d":"-24.37"},{"v":62.91999999999999,"d":"62.92"},{"v":65.62611358569583,"d":"65.63"},null,{"v":19.171428571428574,"d":"19.17"},{"v":12.313803720743728,"d":"12.31"},{"v":-19.171428571428574,"d":"-19.17"},{"v":-12.313803720743728,"d":"-12.31"},{"v":90.82857142857141,"d":"90.83"},{"v":77.68619627925627,"d":"77.69"},null,{"v":57.2,"d":"57.20"},{"v":41.38245512708962,"d":"41.38"},{"v":-57.2,"d":"-57.20"},{"v":-41.38245512708962,"d":"-41.38"},{"v":52.8,"d":"52.80"},{"v":48.61754487291043,"d":"48.62"}]
[{"v":160.99999999999994,"d":"161.00"},{"v":10.449618037022375,"d":"10.45"},24,1.15,{"v":2.3,"d":"2.30"},{"v":110,"d":"110.00"},{"v":110,"d":"110.00"},{"v":10.449618037022375,"d":"10.45"},{"v":110,"d":"110.00"},{"v":1.0846121845957046,"d":"1.08"},{"v":110,"d":"110.00"},{"v":5.448138069083969,"d":"5.45"},{"v":110,"d":"110.00"},{"v":29.4388535694525,"d":"29.44"},{"v":110,"d":"110.00"},{"v":57.05388553605649,"d":"57.05"},{"$nulls":3},{"v":126.49999999999999,"d":"126.50"},{"v":20,"d":"20.00"},{"v":84,"d":"84.00"},{"v":103.49999999999999,"d":"103.50"},{"v":30.000000000000004,"d":"30.00"},{"v":69.99999999999999,"d":"70.00"},{"v":84,"d":"84.00"},{"v":97.61509661361342,"d":"97.62"},{"v":110,"d":"110.00"},{"v":90,"d":"90.00"},0,null,{"v":92,"d":"92.00"},{"v":34.434942307719425,"d":"34.43"},{"v":-92,"d":"-92.00"},{"v":-34.434942307719425,"d":"-34.43"},{"v":17.999999999999986,"d":"18.00"},{"v":55.565057692280575,"d":"55.57"},null,{"v":163.3353846153846,"d":"163.34"},{"v":44.64935216079578,"d":"44.65"},{"v":-163.3353846153846,"d":"-163.34"},{"v":-44.64935216079578,"d":"-44.65"},{"v":-53.33538461538461,"d":"-53.34"},{"v":45.350647839204214,"d":"45.35"},null,{"v":115.8658823529412,"d":"115.87"},{"v":38.59958716273686,"d":"38.60"},{"v":-115.8658823529412,"d":"-115.87"},{"v":-38.59958716273686,"d":"-38.60"},{"v":-5.865882352941185,"d":"-5.87"},{"v":51.40041283726319,"d":"51.40"},null,null,49.22,{"v":23.662175952735666,"d":"23.66"},-49.22,{"v":-23.662175952735666,"d":"-23.66"},{"v":60.779999999999994,"d":"60.78"},{"v":66.33782404726432,"d":"66.34"},null,{"v":20.042857142857144,"d":"20.04"},{"v":11.954244199509107,"d":"11.95"},{"v":-20.042857142857144,"d":"-20.04"},{"v":-11.954244199509107,"d":"-11.95"},{"v":89.95714285714284,"d":"89.96"},{"v":78.0457558004909,"d":"78.05"},null,{"v":59.8,"d":"59.80"},{"v":40.17409935900606,"d":"40.17"},{"v":-59.8,"d":"-59.80"},{"v":-40.17409935900606,"d":"-40.17"},{"v":50.2,"d":"50.20"},{"v":49.82590064099401,"d":"49.83"}]
[{"v":167.99999999999997,"d":"168.00"},{"v":10.449618037022375,"d":"10.45"},25,{"v":1.2,"d":"1.20"},{"v":2.4,"d":"2.40"},{"v":110,"d":"110.00"},{"v":110,"d":"110.00"},{"v":10.449618037022375,"d":"10.45"},{"v":110,"d":"110.00"},{"v":1.0846121845957046,"d":"1.08"},{"v":110,"d":"110.00"},{"v":5.448138069083969,"d":"5.45"},{"v":110,"d":"110.00"},{"v":29.4388535694525,"d":"29.44"},{"v":110,"d":"110.00"},{"v":57.05388553605649,"d":"57.05"},{"$nulls":3},{"v":132,"d":"132.00"},{"v":20,"d":"20.00"},{"v":84,"d":"84.00"},{"v":108,"d":"108.00"},{"v":30.000000000000004,"d":"30.00"},{"v":69.99999999999999,"d":"70.00"},{"v":84,"d":"84.00"},{"v":97.61509661361342,"d":"97.62"},{"v":110,"d":"110.00"},{"v":90,"d":"90.00"},0,null,{"v":96,"d":"96.00"},{"v":33.471647504108475,"d":"33.47"},{"v":-96,"d":"-96.00"},{"v":-33.471647504108475,"d":"-33.47"},{"v":13.999999999999986,"d":"14.00"},{"v":56.528352495891525,"d":"56.53"},null,{"v":170.43692307692308,"d":"170.44"},{"v":43.40031597723729,"d":"43.40"},{"v":-170.43692307692308,"d":"-170.44"},{"v":-43.40031597723729,"d":"-43.40"},{"v":-60.43692307692308,"d":"-60.44"},{"v":46.599684022762716,"d":"46.60"},null,{"v":120.90352941176474,"d":"120.90"},{"v":37.51978916560014,"d":"37.52"},{"v":-120.90352941176474,"d":"-120.90"},{"v":-37.51978916560014,"d":"-37.52"},{"v":-10.903529411764723,"d":"-10.90"},{"v":52.48021083439991,"d":"52.48"},null,null,{"v":51.36000000000001,"d":"51.36"},{"v":23.000242184015818,"d":"23.00"},{"v":-51.36000000000001,"d":"-51.36"},{"v":-23.000242184015818,"d":"-23.00"},{"v":58.639999999999986,"d":"58.64"},{"v":66.99975781598417,"d":"67.00"},null,{"v":20.914285714285715,"d":"20.91"},{"v":11.619832101019766,"d":"11.62"},{"v":-20.914285714285715,"d":"-20.91"},{"v":-11.619832101019766,"d":"-11.62"},{"v":89.08571428571427,"d":"89.09"},{"v":78.38016789898023,"d":"78.38"},null,{"v":62.4,"d":"62.40"},{"v":39.05025542145993,"d":"39.05"},{"v":-62.4,"d":"-62.40"},{"v":-39.05025542145993,"d":"-39.05"},{"v":47.6,"d":"47.60"},{"v":50.949744578540134,"d":"50.95"}]
[{"v":174.99999999999997,"d":"175.00"},{"v":10.449618037022375,"d":"10.45"},26,1.25,{"v":2.5,"d":"2.50"},{"v":110,"d":"110.00"},{"v":110,"d":"110.00"},{"v":10.449618037022375,"d":"10.45"},{"v":110,"d":"110.00"},{"v":1.0846121845957046,"d":"1.08"},{"v":110,"d":"110.00"},{"v":5.448138069083969,"d":"5.45"},{"v":110,"d":"110.00"},{"v":29.4388535694525,"d":"29.44"},{"v":110,"d":"110.00"},{"v":57.05388553605649,"d":"57.05"},{"$nulls":3},{"v":137.5,"d":"137.50"},{"v":20,"d":"20.00"},{"v":84,"d":"84.00"},{"v":112.5,"d":"112.50"},{"v":30.000000000000004,"d":"30.00"},{"v":69.99999999999999,"d":"70.00"},{"v":84,"d":"84.00"},{"v":97.61509661361342,"d":"97.62"},{"v":110,"d":"110.00"},{"v":90,"d":"90.00"},0,null,{"v":100,"d":"100.00"},{"v":32.573011399138856,"d":"32.57"},{"v":-100,"d":"-100.00"},{"v":-32.573011399138856,"d":"-32.57"},{"v":9.999999999999986,"d":"10.00"},{"v":57.42698860086114,"d":"57.43"},null,{"v":177.53846153846155,"d":"177.54"},{"v":42.235118151242986,"d":"42.24"},{"v":-177.53846153846155,"d":"-177.54"},{"v":-42.235118151242986,"d":"-42.24"},{"v":-67.53846153846155,"d":"-67.54"},{"v":47.764881848757014,"d":"47.76"},null,{"v":125.94117647058826,"d":"125.94"},{"v":36.51246984584103,"d":"36.51"},{"v":-125.94117647058826,"d":"-125.94"},{"v":-36.51246984584103,"d":"-36.51"},{"v":-15.941176470588246,"d":"-15.94"},{"v":53.48753015415903,"d":"53.49"},null,null,{"v":53.50000000000001,"d":"53.50"},{"v":22.38273902564682,"d":"22.38"},{"v":-53.50000000000001,"d":"-53.50"},{"v":-22.38273902564682,"d":"-22.38"},{"v":56.499999999999986,"d":"56.50"},{"v":67.61726097435317,"d":"67.62"},null,{"v":21.78571428571429,"d":"21.79"},{"v":11.307866558888044,"d":"11.31"},{"v":-21.78571428571429,"d":"-21.79"},{"v":-11.307866558888044,"d":"-11.31"},{"v":88.2142857142857,"d":"88.21"},{"v":78.69213344111195,"d":"78.69"},null,{"v":65,"d":"65.00"},{"v":38.00184663232871,"d":"38.00"},{"v":-65,"d":"-65.00"},{"v":-38.00184663232871,"d":"-38.00"},{"v":45,"d":"45.00"},{"v":51.99815336767135,"d":"52.00"}]
[{"v":181.99999999999997,"d":"182.00"},{"v":10.449618037022375,"d":"10.45"},27,{"v":1.3,"d":"1.30"},{"v":2.6,"d":"2.60"},{"v":110,"d":"110.00"},{"v":110,"d":"110.00"},{"v":10.449618037022375,"d":"10.45"},{"v":110,"d":"110.00"},{"v":1.0846121845957046,"d":"1.08"},{"v":110,"d":"110.00"},{"v":5.448138069083969,"d":"5.45"},{"v":110,"d":"110.00"},{"v":29.4388535694525,"d":"29.44"},{"v":110,"d":"110.00"},{"v":57.05388553605649,"d":"57.05"},{"$nulls":3},{"v":143,"d":"143.00"},{"v":20,"d":"20.00"},{"v":84,"d":"84.00"},{"v":117,"d":"117.00"},{"v":30.000000000000004,"d":"30.00"},{"v":69.99999999999999,"d":"70.00"},{"v":84,"d":"84.00"},{"v":97.61509661361342,"d":"97.62"},{"v":110,"d":"110.00"},{"v":90,"d":"90.00"},0,null,{"v":104,"d":"104.00"},{"v":31.732358470941705,"d":"31.73"},{"v":-104,"d":"-104.00"},{"v":-31.732358470941705,"d":"-31.73"},{"v":5.999999999999986,"d":"6.00"},{"v":58.267641529058295,"d":"58.27"},null,{"v":184.64000000000001,"d":"184.64"},{"v":41.145103006142364,"d":"41.15"},{"v":-184.64000000000001,"d":"-184.64"},{"v":-41.145103006142364,"d":"-41.15"},{"v":-74.64000000000001,"d":"-74.64"},{"v":48.854896993857636,"d":"48.85"},null,{"v":130.9788235294118,"d":"130.98"},{"v":35.57014632789857,"d":"35.57"},{"v":-130.9788235294118,"d":"-130.98"},{"v":-35.57014632789857,"d":"-35.57"},{"v":-20.978823529411798,"d":"-20.98"},{"v":54.42985367210149,"d":"54.43"},null,null,{"v":55.64000000000001,"d":"55.64"},{"v":21.805079352968214,"d":"21.81"},{"v":-55.64000000000001,"d":"-55.64"},{"v":-21.805079352968214,"d":"-21.81"},{"v":54.359999999999985,"d":"54.36"},{"v":68.19492064703178,"d":"68.19"},null,{"v":22.657142857142862,"d":"22.66"},{"v":11.016030135847238,"d":"11.02"},{"v":-22.657142857142862,"d":"-22.66"},{"v":-11.016030135847238,"d":"-11.02"},{"v":87.34285714285713,"d":"87.34"},{"v":78.98396986415275,"d":"78.98"},null,{"v":67.60000000000001,"d":"67.60"},{"v":37.021084882765365,"d":"37.02"},{"v":-67.60000000000001,"d":"-67.60"},{"v":-37.021084882765365,"d":"-37.02"},{"v":42.39999999999999,"d":"42.40"},{"v":52.97891511723469,"d":"52.98"}]
[{"v":188.99999999999997,"d":"189.00"},{"v":10.449618037022375,"d":"10.45"},28,1.35,{"v":2.7,"d":"2.70"},{"v":110,"d":"110.00"},{"v":110,"d":"110.00"},{"v":10.449618037022375,"d":"10.45"},{"v":110,"d":"110.00"},{"v":1.0846121845957046,"d":"1.08"},{"v":110,"d":"110.00"},{"v":5.448138069083969,"d":"5.45"},{"v":110,"d":"110.00"},{"v":29.4388535694525,"d":"29.44"},{"v":110,"d":"110.00"},{"v":57.05388553605649,"d":"57.05"},{"$nulls":3},{"v":148.5,"d":"148.50"},{"v":20,"d":"20.00"},{"v":84,"d":"84.00"},{"v":121.50000000000001,"d":"121.50"},{"v":30.000000000000004,"d":"30.00"},{"v":69.99999999999999,"d":"70.00"},{"v":84,"d":"84.00"},{"v":97.61509661361342,"d":"97.62"},{"v":110,"d":"110.00"},{"v":90,"d":"90.00"},0,null,{"v":108,"d":"108.00"},{"v":30.943925557418517,"d":"30.94"},{"v":-108,"d":"-108.00"},{"v":-30.943925557418517,"d":"-30.94"},{"v":1.9999999999999858,"d":"2.00"},{"v":59.05607444258149,"d":"59.06"},null,{"v":191.74153846153848,"d":"191.74"},{"v":40.122797857596574,"d":"40.12"},{"v":-191.74153846153848,"d":"-191.74"},{"v":-40.122797857596574,"d":"-40.12"},{"v":-81.74153846153848,"d":"-81.74"},{"v":49.87720214240343,"d":"49.88"},null,{"v":136.01647058823534,"d":"136.02"},{"v":34.68635843897022,"d":"34.69"},{"v":-136.01647058823534,"d":"-136.02"},{"v":-34.68635843897022,"d":"-34.69"},{"v":-26.01647058823532,"d":"-26.02"},{"v":55.31364156102984,"d":"55.31"},null,null,{"v":57.78000000000001,"d":"57.78"},{"v":21.26330297477659,"d":"21.26"},{"v":-57.78000000000001,"d":"-57.78"},{"v":-21.26330297477659,"d":"-21.26"},{"v":52.219999999999985,"d":"52.22"},{"v":68.7366970252234,"d":"68.74"},null,{"v":23.528571428571432,"d":"23.53"},{"v":10.742322124404636,"d":"10.74"},{"v":-23.528571428571432,"d":"-23.53"},{"v":-10.742322124404636,"d":"-10.74"},{"v":86.47142857142856,"d":"86.47"},{"v":79.25767787559536,"d":"79.26"},null,{"v":70.2,"d":"70.20"},{"v":36.10124648365494,"d":"36.10"},{"v":-70.2,"d":"-70.20"},{"v":-36.10124648365494,"d":"-36.10"},{"v":39.8,"d":"39.80"},{"v":53.898753516345124,"d":"53.90"}]
[{"v":195.99999999999994,"d":"196.00"},{"v":10.449618037022375,"d":"10.45"},29,{"v":1.4,"d":"1.40"},{"v":2.8,"d":"2.80"},{"v":110,"d":"110.00"},{"v":110,"d":"110.00"},{"v":10.449618037022375,"d":"10.45"},{"v":110,"d":"110.00"},{"v":1.0846121845957046,"d":"1.08"},{"v":110,"d":"110.00"},{"v":5.448138069083969,"d":"5.45"},{"v":110,"d":"110.00"},{"v":29.4388535694525,"d":"29.44"},{"v":110,"d":"110.00"},{"v":57.05388553605649,"d":"57.05"},{"$nulls":3},{"v":154,"d":"154.00"},{"v":20,"d":"20.00"},{"v":84,"d":"84.00"},{"v":125.99999999999999,"d":"126.00"},{"v":30.000000000000004,"d":"30.00"},{"v":69.99999999999999,"d":"70.00"},{"v":84,"d":"84.00"},{"v":97.61509661361342,"d":"97.62"},{"v":110,"d":"110.00"},{"v":90,"d":"90.00"},0,null,{"v":112,"d":"112.00"},{"v":30.202708851706674,"d":"30.20"},{"v":-112,"d":"-112.00"},{"v":-30.202708851706674,"d":"-30.20"},{"v":-2.000000000000014,"d":"-2.00"},{"v":59.797291148293326,"d":"59.80"},null,{"v":198.84307692307692,"d":"198.84"},{"v":39.16171462344886,"d":"39.16"},{"v":-198.84307692307692,"d":"-198.84"},{"v":-39.16171462344886,"d":"-39.16"},{"v":-88.84307692307692,"d":"-88.84"},{"v":50.83828537655114,"d":"50.84"},null,{"v":141.05411764705886,"d":"141.05"},{"v":33.85549719974034,"d":"33.86"},{"v":-141.05411764705886,"d":"-141.05"},{"v":-33.85549719974034,"d":"-33.86"},{"v":-31.054117647058845,"d":"-31.05"},{"v":56.144502800259716,"d":"56.14"},null,null,59.92,{"v":20.753971495347066,"d":"20.75"},-59.92,{"v":-20.753971495347066,"d":"-20.75"},{"v":50.07999999999999,"d":"50.08"},{"v":69.24602850465293,"d":"69.25"},null,{"v":24.400000000000002,"d":"24.40"},{"v":10.485005430633125,"d":"10.49"},{"v":-24.400000000000002,"d":"-24.40"},{"v":-10.485005430633125,"d":"-10.49"},{"v":85.59999999999998,"d":"85.60"},{"v":79.51499456936688,"d":"79.51"},null,{"v":72.8,"d":"72.80"},{"v":35.23649366032449,"d":"35.24"},{"v":-72.8,"d":"-72.80"},{"v":-35.23649366032449,"d":"-35.24"},{"v":37.2,"d":"37.20"},{"v":54.76350633967556,"d":"54.76"}]
[{"v":202.99999999999994,"d":"203.00"},{"v":10.449618037022375,"d":"10.45"},30,1.45,{"v":2.9,"d":"2.90"},{"v":110,"d":"110.00"},{"v":110,"d":"110.00"},{"v":10.449618037022375,"d":"10.45"},{"v":110,"d":"110.00"},{"v":1.0846121845957046,"d":"1.08"},{"v":110,"d":"110.00"},{"v":5.448138069083969,"d":"5.45"},{"v":110,"d":"110.00"},{"v":29.4388535694525,"d":"29.44"},{"v":110,"d":"110.00"},{"v":57.05388553605649,"d":"57.05"},{"$nulls":3},{"v":159.5,"d":"159.50"},{"v":20,"d":"20.00"},{"v":84,"d":"84.00"},{"v":130.5,"d":"130.50"},{"v":30.000000000000004,"d":"30.00"},{"v":69.99999999999999,"d":"70.00"},{"v":84,"d":"84.00"},{"v":97.61509661361342,"d":"97.62"},{"v":110,"d":"110.00"},{"v":90,"d":"90.00"},0,null,{"v":116,"d":"116.00"},{"v":29.50434097536017,"d":"29.50"},{"v":-116,"d":"-116.00"},{"v":-29.50434097536017,"d":"-29.50"},{"v":-6.000000000000014,"d":"-6.00"},{"v":60.495659024639835,"d":"60.50"},null,{"v":205.9446153846154,"d":"205.94"},{"v":38.25619043321979,"d":"38.26"},{"v":-205.9446153846154,"d":"-205.94"},{"v":-38.25619043321979,"d":"-38.26"},{"v":-95.94461538461539,"d":"-95.94"},{"v":51.743809566780214,"d":"51.74"},null,{"v":146.09176470588238,"d":"146.09"},{"v":33.07266703049539,"d":"33.07"},{"v":-146.09176470588238,"d":"-146.09"},{"v":-33.07266703049539,"d":"-33.07"},{"v":-36.09176470588237,"d":"-36.09"},{"v":56.927332969504675,"d":"56.93"},null,null,62.06,{"v":20.2740838445365,"d":"20.27"},-62.06,{"v":-20.2740838445365,"d":"-20.27"},{"v":47.93999999999999,"d":"47.94"},{"v":69.7259161554635,"d":"69.73"},null,{"v":25.271428571428572,"d":"25.27"},{"v":10.242563899576254,"d":"10.24"},{"v":-25.271428571428572,"d":"-25.27"},{"v":-10.242563899576254,"d":"-10.24"},{"v":84.72857142857141,"d":"84.73"},{"v":79.75743610042375,"d":"79.76"},null,{"v":75.39999999999999,"d":"75.40"},{"v":34.42173113792023,"d":"34.42"},{"v":-75.39999999999999,"d":"-75.40"},{"v":-34.42173113792023,"d":"-34.42"},{"v":34.60000000000001,"d":"34.60"},{"v":55.578268862079824,"d":"55.58"}]
[{"v":209.99999999999994,"d":"210.00"},{"v":10.449618037022375,"d":"10.45"},31,{"v":1.5,"d":"1.50"},{"v":3,"d":"3.00"},{"v":110,"d":"110.00"},{"v":110,"d":"110.00"},{"v":10.449618037022375,"d":"10.45"},{"v":110,"d":"110.00"},{"v":1.0846121845957046,"d":"1.08"},{"v":110,"d":"110.00"},{"v":5.448138069083969,"d":"5.45"},{"v":110,"d":"110.00"},{"v":29.4388535694525,"d":"29.44"},{"v":110,"d":"110.00"},{"v":57.05388553605649,"d":"57.05"},{"$nulls":3},{"v":165,"d":"165.00"},{"v":20,"d":"20.00"},{"v":84,"d":"84.00"},{"v":135,"d":"135.00"},{"v":30.000000000000004,"d":"30.00"},{"v":69.99999999999999,"d":"70.00"},{"v":84,"d":"84.00"},{"v":97.61509661361342,"d":"97.62"},{"v":110,"d":"110.00"},{"v":90,"d":"90.00"},0,null,{"v":120,"d":"120.00"},{"v":28.844991406148168,"d":"28.84"},{"v":-120,"d":"-120.00"},{"v":-28.844991406148168,"d":"-28.84"},{"v":-10.000000000000014,"d":"-10.00"},{"v":61.15500859385183,"d":"61.16"},null,{"v":213.04615384615386,"d":"213.05"},{"v":37.401258519882,"d":"37.40"},{"v":-213.04615384615386,"d":"-213.05"},{"v":-37.401258519882,"d":"-37.40"},{"v":-103.04615384615386,"d":"-103.05"},{"v":52.59874148011801,"d":"52.60"},null,{"v":151.12941176470594,"d":"151.13"},{"v":32.33357413642057,"d":"32.33"},{"v":-151.12941176470594,"d":"-151.13"},{"v":-32.33357413642057,"d":"-32.33"},{"v":-41.12941176470592,"d":"-41.13"},{"v":57.66642586357949,"d":"57.67"},null,null,{"v":64.2,"d":"64.20"},{"v":19.82100785615136,"d":"19.82"},{"v":-64.2,"d":"-64.20"},{"v":-19.82100785615136,"d":"-19.82"},{"v":45.79999999999999,"d":"45.80"},{"v":70.17899214384863,"d":"70.18"},null,{"v":26.142857142857146,"d":"26.14"},{"v":10.013667748313217,"d":"10.01"},{"v":-26.142857142857146,"d":"-26.14"},{"v":-10.013667748313217,"d":"-10.01"},{"v":83.85714285714283,"d":"83.86"},{"v":79.98633225168678,"d":"79.99"},null,{"v":78,"d":"78.00"},{"v":33.65248997383955,"d":"33.65"},{"v":-78,"d":"-78.00"},{"v":-33.65248997383955,"d":"-33.65"},{"v":32,"d":"32.00"},{"v":56.347510026160506,"d":"56.35"}]
[{"v":216.99999999999997,"d":"217.00"},{"v":10.449618037022375,"d":"10.45"},32,1.55,{"v":3.1,"d":"3.10"},{"v":110,"d":"110.00"},{"v":110,"d":"110.00"},{"v":10.449618037022375,"d":"10.45"},{"v":110,"d":"110.00"},{"v":1.0846121845957046,"d":"1.08"},{"v":110,"d":"110.00"},{"v":5.448138069083969,"d":"5.45"},{"v":110,"d":"110.00"},{"v":29.4388535694525,"d":"29.44"},{"v":110,"d":"110.00"},{"v":57.05388553605649,"d":"57.05"},{"$nulls":3},{"v":170.5,"d":"170.50"},{"v":20,"d":"20.00"},{"v":84,"d":"84.00"},{"v":139.5,"d":"139.50"},{"v":30.000000000000004,"d":"30.00"},{"v":69.99999999999999,"d":"70.00"},{"v":84,"d":"84.00"},{"v":97.61509661361342,"d":"97.62"},{"v":110,"d":"110.00"},{"v":90,"d":"90.00"},0,null,{"v":124,"d":"124.00"},{"v":28.221285209549237,"d":"28.22"},{"v":-124,"d":"-124.00"},{"v":-28.221285209549237,"d":"-28.22"},{"v":-14.000000000000014,"d":"-14.00"},{"v":61.77871479045076,"d":"61.78"},null,{"v":220.14769230769232,"d":"220.15"},{"v":36.59254284474138,"d":"36.59"},{"v":-220.14769230769232,"d":"-220.15"},{"v":-36.59254284474138,"d":"-36.59"},{"v":-110.14769230769232,"d":"-110.15"},{"v":53.40745715525861,"d":"53.41"},null,{"v":156.16705882352946,"d":"156.17"},{"v":31.63443541028533,"d":"31.63"},{"v":-156.16705882352946,"d":"-156.17"},{"v":-31.63443541028533,"d":"-31.63"},{"v":-46.167058823529445,"d":"-46.17"},{"v":58.36556458971472,"d":"58.37"},null,null,66.34,{"v":19.392424423809533,"d":"19.39"},-66.34,{"v":-19.392424423809533,"d":"-19.39"},{"v":43.65999999999999,"d":"43.66"},{"v":70.60757557619047,"d":"70.61"},null,{"v":27.01428571428572,"d":"27.01"},{"v":9.79714535323376,"d":"9.80"},{"v":-27.01428571428572,"d":"-27.01"},{"v":-9.79714535323376,"d":"-9.80"},{"v":82.98571428571427,"d":"82.99"},{"v":80.20285464676624,"d":"80.20"},null,{"v":80.60000000000001,"d":"80.60"},{"v":32.924832744474145,"d":"32.92"},{"v":-80.60000000000001,"d":"-80.60"},{"v":-32.924832744474145,"d":"-32.92"},{"v":29.39999999999999,"d":"29.40"},{"v":57.07516725552591,"d":"57.08"}]
[{"v":223.99999999999997,"d":"224.00"},{"v":10.449618037022375,"d":"10.45"},33,{"v":1.6,"d":"1.60"},{"v":3.2,"d":"3.20"},{"v":110,"d":"110.00"},{"v":110,"d":"110.00"},{"v":10.449618037022375,"d":"10.45"},{"v":110,"d":"110.00"},{"v":1.0846121845957046,"d":"1.08"},{"v":110,"d":"110.00"},{"v":5.448138069083969,"d":"5.45"},{"v":110,"d":"110.00"},{"v":29.4388535694525,"d":"29.44"},{"v":110,"d":"110.00"},{"v":57.05388553605649,"d":"57.05"},{"$nulls":3},{"v":176,"d":"176.00"},{"v":20,"d":"20.00"},{"v":84,"d":"84.00"},{"v":144,"d":"144.00"},{"v":30.000000000000004,"d":"30.00"},{"v":69.99999999999999,"d":"70.00"},{"v":84,"d":"84.00"},{"v":97.61509661361342,"d":"97.62"},{"v":110,"d":"110.00"},{"v":90,"d":"90.00"},0,null,{"v":128,"d":"128.00"},{"v":27.630236239802898,"d":"27.63"},{"v":-128,"d":"-128.00"},{"v":-27.630236239802898,"d":"-27.63"},{"v":-18.000000000000014,"d":"-18.00"},{"v":62.3697637601971,"d":"62.37"},null,{"v":227.2492307692308,"d":"227.25"},{"v":35.82617148396911,"d":"35.83"},{"v":-227.2492307692308,"d":"-227.25"},{"v":-35.82617148396911,"d":"-35.83"},{"v":-117.24923076923079,"d":"-117.25"},{"v":54.17382851603088,"d":"54.17"},null,{"v":161.20470588235298,"d":"161.20"},{"v":30.97190355466913,"d":"30.97"},{"v":-161.20470588235298,"d":"-161.20"},{"v":-30.97190355466913,"d":"-30.97"},{"v":-51.20470588235297,"d":"-51.20"},{"v":59.02809644533093,"d":"59.03"},null,null,68.48,{"v":18.98628159964439,"d":"18.99"},-68.48,{"v":-18.98628159964439,"d":"-18.99"},{"v":41.51999999999999,"d":"41.52"},{"v":71.0137184003556,"d":"71.01"},null,{"v":27.88571428571429,"d":"27.89"},{"v":9.591960060484416,"d":"9.59"},{"v":-27.88571428571429,"d":"-27.89"},{"v":-9.591960060484416,"d":"-9.59"},{"v":82.1142857142857,"d":"82.11"},{"v":80.40803993951558,"d":"80.41"},null,{"v":83.2,"d":"83.20"},{"v":32.2352756131034,"d":"32.24"},{"v":-83.2,"d":"-83.20"},{"v":-32.2352756131034,"d":"-32.24"},{"v":26.799999999999997,"d":"26.80"},{"v":57.76472438689666,"d":"57.76"}]
[{"v":230.99999999999994,"d":"231.00"},{"v":10.449618037022375,"d":"10.45"},34,1.65,{"v":3.3,"d":"3.30"},{"v":110,"d":"110.00"},{"v":110,"d":"110.00"},{"v":10.449618037022375,"d":"10.45"},{"v":110,"d":"110.00"},{"v":1.0846121845957046,"d":"1.08"},{"v":110,"d":"110.00"},{"v":5.448138069083969,"d":"5.45"},{"v":110,"d":"110.00"},{"v":29.4388535694525,"d":"29.44"},{"v":110,"d":"110.00"},{"v":57.05388553605649,"d":"57.05"},{"$nulls":3},{"v":181.5,"d":"181.50"},{"v":20,"d":"20.00"},{"v":84,"d":"84.00"},{"v":148.5,"d":"148.50"},{"v":30.000000000000004,"d":"30.00"},{"v":69.99999999999999,"d":"70.00"},{"v":84,"d":"84.00"},{"v":97.61509661361342,"d":"97.62"},{"v":110,"d":"110.00"},{"v":90,"d":"90.00"},0,null,{"v":132,"d":"132.00"},{"v":27.06919187188778,"d":"27.07"},{"v":-132,"d":"-132.00"},{"v":-27.06919187188778,"d":"-27.07"},{"v":-22.000000000000014,"d":"-22.00"},{"v":62.93080812811222,"d":"62.93"},null,{"v":234.35076923076923,"d":"234.35"},{"v":35.09870496647017,"d":"35.10"},{"v":-234.35076923076923,"d":"-234.35"},{"v":-35.09870496647017,"d":"-35.10"},{"v":-124.35076923076923,"d":"-124.35"},{"v":54.901295033529834,"d":"54.90"},null,{"v":166.2423529411765,"d":"166.24"},{"v":30.343005129692017,"d":"30.34"},{"v":-166.2423529411765,"d":"-166.24"},{"v":-30.343005129692017,"d":"-30.34"},{"v":-56.24235294117649,"d":"-56.24"},{"v":59.65699487030804,"d":"59.66"},null,null,70.62,{"v":18.600756616554076,"d":"18.60"},-70.62,{"v":-18.600756616554076,"d":"-18.60"},{"v":39.37999999999999,"d":"39.38"},{"v":71.3992433834459,"d":"71.40"},null,{"v":28.75714285714286,"d":"28.76"},{"v":9.397190999427702,"d":"9.40"},{"v":-28.75714285714286,"d":"-28.76"},{"v":-9.397190999427702,"d":"-9.40"},{"v":81.24285714285713,"d":"81.24"},{"v":80.6028090005723,"d":"80.60"},null,{"v":85.8,"d":"85.80"},{"v":31.58072385053575,"d":"31.58"},{"v":-85.8,"d":"-85.80"},{"v":-31.58072385053575,"d":"-31.58"},{"v":24.200000000000003,"d":"24.20"},{"v":58.41927614946431,"d":"58.42"}]
[{"v":237.99999999999994,"d":"238.00"},{"v":10.449618037022375,"d":"10.45"},35,{"v":1.7,"d":"1.70"},{"v":3.4,"d":"3.40"},{"v":110,"d":"110.00"},{"v":110,"d":"110.00"},{"v":10.449618037022375,"d":"10.45"},{"v":110,"d":"110.00"},{"v":1.0846121845957046,"d":"1.08"},{"v":110,"d":"110.00"},{"v":5.448138069083969,"d":"5.45"},{"v":110,"d":"110.00"},{"v":29.4388535694525,"d":"29.44"},{"v":110,"d":"110.00"},{"v":57.05388553605649,"d":"57.05"},{"$nulls":3},{"v":187,"d":"187.00"},{"v":20,"d":"20.00"},{"v":84,"d":"84.00"},{"v":153,"d":"153.00"},{"v":30.000000000000004,"d":"30.00"},{"v":69.99999999999999,"d":"70.00"},{"v":84,"d":"84.00"},{"v":97.61509661361342,"d":"97.62"},{"v":110,"d":"110.00"},{"v":90,"d":"90.00"},0,null,{"v":136,"d":"136.00"},{"v":26.53578699185249,"d":"26.54"},{"v":-136,"d":"-136.00"},{"v":-26.53578699185249,"d":"-26.54"},{"v":-26.000000000000014,"d":"-26.00"},{"v":63.46421300814751,"d":"63.46"},null,{"v":241.4523076923077,"d":"241.45"},{"v":34.407076616402,"d":"34.41"},{"v":-241.4523076923077,"d":"-241.45"},{"v":-34.407076616402,"d":"-34.41"},{"v":-131.4523076923077,"d":"-131.45"},{"v":55.59292338359799,"d":"55.59"},null,{"v":171.28000000000003,"d":"171.28"},{"v":29.74508897882527,"d":"29.75"},{"v":-171.28000000000003,"d":"-171.28"},{"v":-29.74508897882527,"d":"-29.75"},{"v":-61.280000000000015,"d":"-61.28"},{"v":60.25491102117479,"d":"60.25"},null,null,72.76,{"v":18.234224272383045,"d":"18.23"},-72.76,{"v":-18.234224272383045,"d":"-18.23"},{"v":37.23999999999999,"d":"37.24"},{"v":71.76577572761695,"d":"71.77"},null,{"v":29.62857142857143,"d":"29.63"},{"v":9.212017110179682,"d":"9.21"},{"v":-29.62857142857143,"d":"-29.63"},{"v":-9.212017110179682,"d":"-9.21"},{"v":80.37142857142855,"d":"80.37"},{"v":80.78798288982031,"d":"80.79"},null,{"v":88.39999999999999,"d":"88.40"},{"v":30.958418157161272,"d":"30.96"},{"v":-88.39999999999999,"d":"-88.40"},{"v":-30.958418157161272,"d":"-30.96"},{"v":21.60000000000001,"d":"21.60"},{"v":59.04158184283878,"d":"59.04"}]
[{"v":110,"d":"110.00"},{"v":10.449618037022375,"d":"10.45"},36,1.75,{"$f":"F111/D114","v":{"v":1.5714285714285718,"d":"1.57"}},{"v":110,"d":"110.00"},{"v":110,"d":"110.00"},{"v":10.449618037022375,"d":"10.45"},{"v":110,"d":"110.00"},{"v":1.0846121845957046,"d":"1.08"},{"v":110,"d":"110.00"},{"v":5.448138069083969,"d":"5.45"},{"v":110,"d":"110.00"},{"v":29.4388535694525,"d":"29.44"},{"v":110,"d":"110.00"},{"v":57.05388553605649,"d":"57.05"},{"$nulls":3},{"v":192.5,"d":"192.50"},{"v":20,"d":"20.00"},{"v":84,"d":"84.00"},{"v":157.5,"d":"157.50"},{"v":30.000000000000004,"d":"30.00"},{"v":69.99999999999999,"d":"70.00"},{"v":84,"d":"84.00"},{"v":97.61509661361342,"d":"97.62"},{"v":110,"d":"110.00"},{"v":90,"d":"90.00"},0,null,{"v":62.857142857142875,"d":"62.86"},{"v":44.39030751489654,"d":"44.39"},{"v":-62.857142857142875,"d":"-62.86"},{"v":-44.39030751489654,"d":"-44.39"},{"$f":"IF((AH108+($AF$83*2)+($D$114-$E$114))>AJ107,AJ107-0.001,(AH108+($AF$83*2)+($D$114-$E$114)))","v":{"v":-26.001000000000015,"d":"-26.00"}},{"$f":"IF((AI108+($E$115*2)+($D$115-$E$115))<AK107,AK107+0.001,(AI108+($E$115*2)+($D$115-$E$115)))","v":{"v":63.46521300814751,"d":"63.47"}},null,{"v":111.59560439560443,"d":"111.60"},{"v":57.55776951931531,"d":"57.56"},{"v":-111.59560439560443,"d":"-111.60"},{"v":-57.55776951931531,"d":"-57.56"},{"$f":"IF((AO108+($AM$83*2)+($AL$116-$AM$116))>AQ107,AQ107-0.001,(AO108+($AM$83*2)+($AL$116-$AM$116)))","v":{"v":-131.4533076923077,"d":"-131.45"}},{"$f":"IF((AP108+($AN$83*2)+($AL$117-$AM$117))<AR107,AR107+0.001,(AP108+($AN$83*2)+($AL$117-$AM$117)))","v":{"v":55.59392338359799,"d":"55.59"}},null,{"v":79.16302521008407,"d":"79.16"},{"v":49.7589782143422,"d":"49.76"},{"v":-79.16302521008407,"d":"-79.16"},{"v":-49.7589782143422,"d":"-49.76"},{"$f":"IF((AV108+($AT$83*2)+($AL$127-$AM$127))>AX107,AX107-0.001,(AV108+($AT$83*2)+($AL$127-$AM$127)))","v":{"v":-61.28100000000001,"d":"-61.28"}},{"$f":"IF((AW108+($AU$83*2)+($AL$128-$AM$128))<AY107,AY107+0.001,(AW108+($AU$83*2)+($AL$128-$AM$128)))","v":{"v":60.25591102117479,"d":"60.26"}},null,null,{"v":33.62857142857144,"d":"33.63"},{"v":30.503064521704147,"d":"30.50"},{"v":-33.62857142857144,"d":"-33.63"},{"v":-30.503064521704147,"d":"-30.50"},{"$f":"IF((BD108+($BB$83*2)+($BB$116-$BC$116))>BF107,BF107-0.001,(BD108+($BB$83*2)+($BB$116-$BC$116)))","v":{"v":37.23899999999999,"d":"37.24"}},{"$f":"IF((BE108+($BC$83*2)+($BB$117-$BC$117))<BG107,BG107+0.001,(BE108+($BC$83*2)+($BB$117-$BC$117)))","v":{"v":71.76677572761696,"d":"71.77"}},null,{"v":13.693877551020414,"d":"13.69"},{"v":15.410293747041313,"d":"15.41"},{"v":-13.693877551020414,"d":"-13.69"},{"v":-15.410293747041313,"d":"-15.41"},{"$f":"IF((BK108+($BI$83*2)+($BB$127-$BC$127))>BM107,BM107-0.001,(BK108+($BI$83*2)+($BB$127-$BC$127)))","v":{"v":80.37042857142855,"d":"80.37"}},{"$f":"IF((BL108+($BJ$83*2)+($BB$128-$BC$128))<BN107,BN107+0.001,(BL108+($BJ$83*2)+($BB$128-$BC$128)))","v":{"v":80.78898288982032,"d":"80.79"}},null,{"v":40.85714285714287,"d":"40.86"},{"v":51.788692100712666,"d":"51.79"},{"v":-40.85714285714287,"d":"-40.86"},{"v":-51.788692100712666,"d":"-51.79"},{"$f":"IF((BR108+($BP$83*2)+($BK$114-$BL$114))>BT107,BT107-0.001,(BR108+($BP$83*2)+($BK$114-$BL$114)))","v":{"v":21.599000000000007,"d":"21.60"}},{"$f":"IF((BS108+($BQ$83*2)+($BK$115-$BL$115))<BU107,BU107+0.001,(BS108+($BQ$83*2)+($BK$115-$BL$115)))","v":{"v":59.04258184283878,"d":"59.04"}}]
[null,null,"original",{"$nulls":4},"menos 2",{"$nulls":5},"más 1"]
[{"$nulls":3},"Productor C","Productor D","Total",null,null,"Individuo A","Individuo B","Total",{"$nulls":3},"Individuo A","Individuo B","Total"]
[null,null,"Dotación factor 1",{"$f":"EOC2descentral!C7","v":84},{"$f":"EOC2descentral!D7","v":26},{"$f":"E111+D111","v":110},{"$f":"(D120*((D112/D111)^(D121)))/(D121*((D111/D112)^(D120)))","v":0.5555555555555554},"Dotación Bien 1",{"$f":"D111*0.5","v":42},{"$f":"K111-I111","v":68},{"$f":"F111","v":110},null,null,"Dotación Bien 1",{"$f":"((F111-D111)*0.2)+D111","v":89.2},{"$f":"Q111-O111","v":20.799999999999997},{"$f":"K111","v":110},{"$nulls":19},"MENOS 2",{"$nulls":15},"MÁS 1"]
[null,null,"Dotación factor 2",{"$f":"EOC2descentral!C8","v":20},{"$f":"EOC2descentral!D8","v":70},{"$f":"E112+D112","v":90},{"$f":"(E122*((E112/E111)^(E123)))/(E123*((E111/E112)^(E122)))","v":{"v":1.794871794871795,"d":"1.8"}},"Dotación Bien 2",{"$f":"D112*0.5","v":10},{"$f":"K112-I112","v":80},{"$f":"F112","v":90},null,null,"Dotación Bien 2",{"$f":"((F112-D112)*0.4)+D112","v":48},{"$f":"Q112-O112","v":42},{"$f":"K112","v":90},{"$nulls":20},"Individuo A","Individuo B","Total",{"$nulls":13},"Individuo A","Individuo B","Total",{"$nulls":5},"DOTACIÓN"]
[null,null,"producción",{"$f":"D111^(D120)*D112^(D121)*D128","v":54.61406450554765},{"$f":"E111^(E122)*E112^(E123)*D129","v":47.102956061245266},{"$nulls":3},{"$f":"(I111^(D120)*I112^(D121))*D128","v":27.30703225277383},{"$f":"J111^(E122)*J112^(E123)*D129","v":74.96482944941441},{"$nulls":4},{"$f":"O111^(D120)*O112^(D121)*D128","v":74.06751417528416},{"$f":"P111^(E122)*P112^(E123)*D129","v":31.708442351184207},{"$nulls":20},"Dotación Bien 1",{"$f":"I111","v":42},68,110,{"$nulls":12},"Dotación Bien 1",{"$f":"O111","v":89.2},20.799999999999997,110,{"$nulls":6},"Individuo A","Individuo B","Total"]
[null,null,"Demanda Bruta factor 1",{"$f":"(D120/(D120+E122))*F111","v":69.99999999999999},{"$f":"(E122/(D120+E122))*F111","v":40},{"$f":"E114+D114","v":109.99999999999999},{"$f":"(D120*((D115/D114)^(D121)))/(D121*((D114/D115)^(D120)))","v":1.0000000000000002},"Demanda Bruta Bien 1",{"$f":"(D120*I111)+(J117*I112*D120)","v":38.98461538461538},{"$f":"(E122*J111)+(E122*J117*J112)","v":71.01538461538462},{"$f":"J114+I114","v":110},null,null,"Demanda Bruta Bien 1",{"$f":"($D$120*O111)+(P117*O112*$D$120)","v":88.6},{"$f":"($E$122*P111)+($E$122*P117*P112)","v":21.400000000000002},{"$f":"P114+O114","v":110},{"$f":"($D$120*((O115/O114)^($D$121)))/($D$121*((O114/O115)^($D$120)))","v":1.2844036697247703},{"$nulls":18},"Dotación Bien 2",10,80,90,{"$nulls":12},"Dotación Bien 2",48,42,90,{"$nulls":5},"Dotación Bien 1",{"$f":"D111","v":84},26,110]
[null,null,"Demanda Bruta factpr 2",{"$f":"(D121/(D121+E123))*F112","v":30.000000000000004},{"$f":"(E123/(E123+D121))*F112","v":60},{"$f":"E115+D115","v":90},{"$f":"(E122*((E115/E114)^(E123)))/(E123*((E114/E115)^(E122)))","v":1},"Demanda Bruta Bien 2",{"$f":"(D121*J118*I111)+(D121*I112)","v":12.202247191011237},{"$f":"(E123*J118*J111)+(E123*J112)","v":77.79775280898876},{"$f":"J115+I115","v":90},null,null,"Demanda Bruta Bien 2",{"$f":"($D$121*P118*O111)+($D$121*O112)","v":48.77064220183486},{"$f":"($E$123*P118*P111)+($E$123*P112)","v":41.22935779816513},{"$f":"P115+O115","v":90},{"$f":"($E$122*((P115/P114)^($E$123)))/($E$123*((P114/P115)^($E$122)))","v":1.2844036697247705},{"$nulls":18},"UTILIDAD",{"$f":"AL113^($D$120)*AL114^($D$121)","v":27.30703225277383},{"$f":"AM113^($E$122)*AM114^($E$123)","v":74.96482944941441},{"$nulls":13},"UTILIDAD",{"$f":"BB113^($D$120)*BB114^($D$121)","v":74.06751417528416},{"$f":"BC113^($E$122)*BC114^($E$123)","v":31.708442351184207},{"$nulls":6},"Dotación Bien 2",20,70,90]
[null,null,"producción",{"$f":"D114^(D120)*D115^(D121)*D128","v":54.28814526898251},{"$f":"E114^(E122)*E115^(E123)*D129","v":51.01698002503162},{"$nulls":3},{"$f":"(I114^(D120)*I115^(D121))*D128","v":27.514221127592016},{"$f":"J114^(E122)*J115^(E123)*D129","v":75.01035294341435},{"$nulls":4},{"$f":"O114^($D$120)*O115^($D$121)*D128","v":74.07150138328262},{"$f":"P114^($E$122)*P115^($E$123)*D129","v":31.716806412090683},{"$nulls":20},"Demanda Bruta Bien 1",{"$f":"I114","v":38.98461538461538},71.01538461538462,110,{"$nulls":12},"Demanda Bruta Bien 1",{"$f":"O114","v":88.6},21.400000000000002,110,{"$nulls":5},"UTILIDAD",{"$f":"BK114^($D$120)*BK115^($D$121)","v":54.61406450554765},{"$f":"BL114^($E$122)*BL115^($E$123)","v":47.102956061245266}]
[null,null,"Demanda Neta factor 1",{"$f":"D114-D111","v":-14.000000000000014},{"$f":"E114-E111","v":14},null,null,"P2/P1",null,{"$f":"((D121*I111)+(E123*J111))/((D120*I112)+(E122*J112))","v":1.3692307692307693},"k inicial",null,null,"P2/P1",null,{"$f":"(($D$121*O111)+($E$123*P111))/(($D$120*O112)+($E$122*P112))","v":0.7785714285714287},"k inicial",{"$nulls":19},"Demanda Bruta Bien 2",12.202247191011237,77.79775280898876,90,{"$nulls":12},"Demanda Bruta Bien 2",48.77064220183486,41.22935779816513,90]
[null,null,"Demanda Neta factor 2",{"$f":"D115-D112","v":10.000000000000004},{"$f":"E115-E112","v":-10},null,null,"P1/P2",null,{"$f":"1/J117","v":0.7303370786516854},{"$f":"(I114^(D120))*(I115^(D121))","v":27.514221127592016},null,null,"P1/P2",null,{"$f":"1/P117","v":1.2844036697247705},{"$f":"(O114^($D$120))*(O115^($D$121))","v":74.07150138328262},{"$nulls":19},"UTILIDAD",{"$f":"AL116^($D$120)*AL117^($D$121)","v":27.514221127592016},{"$f":"AM116^($E$122)*AM117^($E$123)","v":75.01035294341435},{"$nulls":13},"UTILIDAD",{"$f":"BB116^($D$120)*BB117^($D$121)","v":74.07150138328262},{"$f":"BC116^($E$122)*BC117^($E$123)","v":31.716806412090683}]
[null,null,"RMT",{"$f":"B133/B132","v":0.941575061486872},{"$nulls":32},"P2/P1",null,{"$f":"J117","v":1.3692307692307693},{"$f":"K117","v":"k inicial"},{"$nulls":12},"P2/P1",null,{"$f":"P117","v":0.7785714285714287},{"$f":"Q117","v":"k inicial"}]
["a",{"$f":"EOC2descentral!C38","v":0.6},"g",{"$f":"EOC2descentral!C23","v":0.7},{"$nulls":3},"menos 1",{"$nulls":5},"más 2",{"$nulls":22},"P1/P2",null,{"$f":"J118","v":0.7303370786516854},{"$f":"K118","v":27.514221127592016},{"$nulls":12},"P1/P2",null,{"$f":"P118","v":1.2844036697247705},{"$f":"Q118","v":74.07150138328262}]
["1-a",{"$f":"1-B120","v":0.4},"1-r",{"$f":"1-D120","v":0.30000000000000004},{"$nulls":4},"Individuo A","Individuo B","Total",{"$nulls":3},"Individuo A","Individuo B","Total"]
["b",{"$f":"EOC2descentral!D40","v":0.4},"d",null,{"$f":"EOC2descentral!D25","v":0.4},null,null,"Dotación Bien 1",{"$f":"D111*0.8","v":67.2},{"$f":"K122-I122","v":42.8},{"$f":"K111","v":110},null,null,"Dotación Bien 1",{"$f":"((F111-D111)*0.5)+D111","v":97},{"$f":"Q122-O122","v":13},{"$f":"Q111","v":110},{"$nulls":19},"MENOS 1",{"$nulls":15},"MÁS 2"]
["1-b",{"$f":"1-B122","v":0.6},"1-d",null,{"$f":"1-E122","v":0.6},null,null,"Dotación Bien 2",{"$f":"D112*0.8","v":16},{"$f":"K123-I123","v":74},{"$f":"K112","v":90},null,null,"Dotación Bien 2",{"$f":"((F112-D112)*0.8)+D112","v":76},{"$f":"Q123-O123","v":14},{"$f":"Q112","v":90},{"$nulls":20},"Individuo A","Individuo B","Total",{"$nulls":13},"Individuo A","Individuo B","Total"]
[{"$nulls":8},{"$f":"I122^($D$120)*I123^($D$121)*D128","v":43.691251604438115},{"$f":"J122^($E$122)*J123^($E$123)*D129","v":59.44516535524153},{"$nulls":4},{"$f":"O122^($D$120)*O123^($D$121)*D128","v":90.15385285794301},{"$f":"P122^($E$122)*P123^($E$123)*D129","v":13.591086055502025},{"$nulls":20},"Dotación Bien 1",{"$f":"I122","v":67.2},42.8,110,{"$nulls":12},"Dotación Bien 1",{"$f":"O122","v":97},13,110]
[null,null,"P2/P1",null,{"$f":"((D121*D111)+(E123*E111))/((D120*D112)+(E122*E112))","v":0.9714285714285715},"k inicial",null,"Demanda Bruta Bien 1",{"$f":"($D$120*I122)+(J128*I123*$D$120)","v":59.62352941176471},{"$f":"($E$122*J122)+($E$122*J128*J123)","v":50.37647058823531},{"$f":"J125+I125","v":110.00000000000001},null,null,"Demanda Bruta Bien 1",{"$f":"($D$120*O122)+(P128*O123*$D$120)","v":101.28571428571428},{"$f":"($E$122*P122)+($E$122*P128*P123)","v":8.714285714285715},{"$f":"P125+O125","v":110},{"$f":"($D$120*((O126/O125)^($D$121)))/($D$121*((O125/O126)^($D$120)))","v":1.5934959349593494},{"$nulls":18},"Dotación Bien 2",16,74,90,{"$nulls":12},"Dotación Bien 2",76,14,90]
[null,null,"P1/P2",null,{"$f":"1/E125","v":1.0294117647058822},{"$f":"(D114^(D120))*(D115^(D121))","v":54.28814526898251},null,"Demanda Bruta Bien 2",{"$f":"($D$121*J129*I122)+($D$121*I123)","v":22.7434554973822},{"$f":"($E$123*J129*J122)+($E$123*J123)","v":67.2565445026178},{"$f":"J126+I126","v":90},null,null,"Demanda Bruta Bien 2",{"$f":"($D$121*P129*O122)+($D$121*O123)","v":69.17073170731707},{"$f":"($E$123*P129*P122)+($E$123*P123)","v":20.829268292682926},{"$f":"P126+O126","v":90},{"$f":"($E$122*((P126/P125)^($E$123)))/($E$123*((P125/P126)^($E$122)))","v":1.5934959349593494},{"$nulls":18},"UTILIDAD",{"$f":"AL124^($D$120)*AL125^($D$121)","v":43.691251604438115},{"$f":"AM124^($E$122)*AM125^($E$123)","v":59.44516535524153},{"$nulls":13},"UTILIDAD",{"$f":"BB124^($D$120)*BB125^($D$121)","v":90.15385285794301},{"$f":"BC124^($E$122)*BC125^($E$123)","v":13.591086055502025}]
[{"$nulls":8},{"$f":"I125^($D$120)*I126^($D$121)*D128","v":44.65286314861116},{"$f":"J125^($E$122)*J126^($E$123)*D129","v":59.91448424143217},{"$nulls":4},{"$f":"O125^($D$120)*O126^($D$121)*D128","v":90.3359149439086},{"$f":"P125^($E$122)*P126^($E$123)*D129","v":14.699316003055884},{"$nulls":20},"Demanda Bruta Bien 1",{"$f":"I125","v":59.62352941176471},50.37647058823531,110.00000000000001,{"$nulls":12},"Demanda Bruta Bien 1",{"$f":"O125","v":101.28571428571428},8.714285714285715,110]
[null,null,"AC",{"$f":"EOC2descentral!C9","v":1},{"$nulls":3},"P2/P1",null,{"$f":"((D121*I122)+(E123*J122))/((D120*I123)+(E122*J123))","v":1.123529411764706},"k inicial",null,null,"P2/P1",null,{"$f":"(($D$121*O122)+($E$123*P122))/(($D$120*O123)+($E$122*P123))","v":0.6275510204081634},"k inicial",{"$nulls":19},"Demanda Bruta Bien 2",22.7434554973822,67.2565445026178,90,{"$nulls":12},"Demanda Bruta Bien 2",69.17073170731707,20.829268292682926,90]
[null,null,"AD",{"$f":"EOC2descentral!D9","v":1},{"$nulls":3},"P1/P2",null,{"$f":"1/J128","v":0.8900523560209422},{"$f":"(I125^($D$120))*(I126^($D$121))","v":44.65286314861116},null,null,"P1/P2",null,{"$f":"1/P128","v":1.5934959349593494},{"$f":"(O125^($D$120))*(O126^($D$121))","v":90.3359149439086},{"$nulls":19},"UTILIDAD",{"$f":"AL127^($D$120)*AL128^($D$121)","v":44.65286314861116},{"$f":"AM127^(E122)*AM128^(E123)","v":59.91448424143217},{"$nulls":13},"UTILIDAD",{"$f":"BB127^($D$120)*BB128^($D$121)","v":90.3359149439086},{"$f":"BC127^($E$122)*BC128^($E$123)","v":14.699316003055884}]
[{"$nulls":36},"P2/P1",null,{"$f":"J128","v":1.123529411764706},{"$f":"K128","v":"k inicial"},{"$nulls":12},"P2/P1",null,{"$f":"P128","v":0.6275510204081634},{"$f":"Q128","v":"k inicial"}]
["MAXIMA PRODUCCIÓN",null,null,"curva de tranasformación","Inicio","menos 2","menos 1","original","más 1","más 2","final",{"$nulls":25},"P1/P2",null,{"$f":"J129","v":0.8900523560209422},{"$f":"K129","v":44.65286314861116},{"$nulls":12},"P1/P2",null,{"$f":"P129","v":1.5934959349593494},{"$f":"Q129","v":90.3359149439086}]
["C",{"$f":"F111^(D120)*F112^(D121)*D128","v":103.57325676355602},null,"x1",0,{"$f":"I114","v":38.98461538461538},{"$f":"I125","v":59.62352941176471},{"$f":"D114","v":69.99999999999999},{"$f":"O114","v":88.6},{"$f":"O125","v":101.28571428571428},{"$f":"F111","v":110}]
["D",{"$f":"F111^(E122)*F112^(E123)*D129","v":97.52199560554084},null,"x2",0,{"$f":"I115","v":12.202247191011237},{"$f":"I126","v":22.7434554973822},{"$f":"D115","v":30.000000000000004},{"$f":"O115","v":48.77064220183486},{"$f":"O126","v":69.17073170731707},{"$f":"F112","v":90}]
[]
[{"$nulls":3},"Frontera de Posibilidades de Producción","Inicio","menos 2","menos 1","original","más 1","más 2","final"]
[{"$nulls":3},"x1",0,{"$f":"I116","v":{"v":27.514221127592016,"d":"27.51"}},{"$f":"I127","v":{"v":44.65286314861116,"d":"44.65"}},{"$f":"D116","v":{"v":54.28814526898251,"d":"54.29"}},{"$f":"O116","v":{"v":74.07150138328262,"d":"74.07"}},{"$f":"O127","v":{"v":90.3359149439086,"d":"90.34"}},{"$f":"(F111^$D$120)*(F112^$D$121)*D128","v":{"v":103.57325676355602,"d":"103.57"}}]
[{"$nulls":3},"x2",{"$f":"(F111^$E$122)*(F112^$E$123)*D129","v":{"v":97.52199560554084,"d":"97.52"}},{"$f":"J116","v":{"v":75.01035294341435,"d":"75.01"}},{"$f":"J127","v":{"v":59.91448424143217,"d":"59.91"}},{"$f":"E116","v":{"v":51.01698002503162,"d":"51.02"}},{"$f":"P116","v":{"v":31.716806412090683,"d":"31.72"}},{"$f":"P127","v":{"v":14.699316003055884,"d":"14.70"}},0]
[{"$nulls":4},{"$f":"SUM(E136:E137)","v":{"v":97.52199560554084,"d":"97.52"}},{"v":102.52457407100636,"d":"102.52"},{"v":104.56734739004332,"d":"104.57"},{"v":105.30512529401413,"d":"105.31"},{"v":105.7883077953733,"d":"105.79"},{"v":105.03523094696449,"d":"105.04"},{"v":103.57325676355602,"d":"103.57"}]
[]
[]
[{"$nulls":3},"Empresa C","Empresa D"]
[]
[null,null,"A",{"$f":"D120*D116","v":{"v":38.00170168828775,"d":"38"}},{"$f":"D121*E116","v":15.305094007509489}]
[null,null,"B",{"$f":"E122*D116","v":{"v":21.715258107593005,"d":"21.72"}},{"$f":"E123*E116","v":30.61018801501897}]
[{"$nulls":3},{"$f":"D144+D143","v":{"v":59.716959795880754,"d":"59.72"}},{"$f":"E144+E143","v":{"v":45.91528202252846,"d":"45.92"}}]

{"sheet":"Hoja1","index":3,"n_rows":18,"n_cols":14,"rows_kept":18,"hidden":true}
[null,null,0.5,0.5,{"$nulls":3},0.5,0.5,{"$nulls":3},"x1","x2"]
[null,"ua","xi alfa","xi 1-alfa",null,null,"ub","xi beta","x2 1-beta",null,0,1,{"$f":"$A$9*L2","v":13853.045413306954},{"$f":"$F$9-($F$16*M2)","v":0}]
[null,{"$f":"C3*D3","v":2436.028664261548},{"$f":"C14^(C1)","v":58.84948048476502},{"$f":"C15^(D1)","v":41.394225474805815},null,null,{"$f":"H3*I3","v":2436.028664261548},{"$f":"C16^(H1)","v":58.84948048476502},{"$f":"C17^(I1)","v":41.394225474805815},null,0.1,0.9,{"$f":"$A$9*L3","v":12467.740871976259},{"$f":"$F$9-($F$16*M3)","v":685.3927610636256}]
[{"$nulls":10},0.2,0.8,11082.436330645563,1370.7855221272503]
[null,null,0.8,0.9,{"$nulls":3},0.9,0.8,null,0.3,0.7,9697.131789314868,2056.178283190875]
["yc","a","xi alfa","xi 1-alfa",null,"yd","a","xi beta","x2 1-beta",null,0.4,0.6,8311.827247984173,2741.5710442545005]
[{"$f":"B7*C7*D7","v":1331.2224644367247},6,{"$f":"C8^(C5)","v":13.966610165238238},{"$f":"D8^(D5)","v":15.885773864561036},null,{"$f":"G7*H7*I7","v":4092.4237781440506},3,{"$f":"H8^(H5)","v":41.630008015669745},{"$f":"I8^(I5)","v":32.76821995489121},null,0.5,0.5,6926.522706653477,3426.963805318125]
[null,null,27,21.6,{"$nulls":3},63,78.4,null,0.6,0.4,5541.218165322782,4112.35656638175]
[{"$f":"B7*H10^(C5)*I10^(D5)","v":13853.045413306954},null,"q1c","q2c",null,{"$f":"G7*H10^(H5)*I10^(I5)","v":6853.92761063625},null,"q1d","q2d",null,0.7,0.3,4155.913623992086,4797.7493274453755]
[{"$nulls":7},{"$f":"H8+C8","v":90},{"$f":"I8+D8","v":100},null,0.8,0.2,2770.609082661391,5483.142088509]
[{"$nulls":10},0.9,0.1,1385.3045413306954,6168.534849572626]
[{"$nulls":3},{"$f":"F9*0.5+A9*0.5","v":10353.486511971601},{"$nulls":6},1,0,0,6853.92761063625]
[{"$nulls":3},{"$f":"D14+D15","v":10353.486511971601}]
[null,"x1A",{"$f":"0.5*C1*B7*H10^(C5)*I10^(D5)","v":3463.2613533267386},{"$f":"C14+C16","v":6926.522706653477},null,{"$f":"(C1/D1)*(C15/C14)","v":0.4947596291031073},{"$f":"C5/D5*D8/C8","v":0.7111111111111112}]
[null,"x2A",{"$f":"0.5*D1*G7*H10^(H5)*I10^(I5)","v":1713.4819026590626},{"$f":"C15+C17","v":3426.963805318125},null,{"$f":"H1/I1*C17/C16","v":0.4947596291031073},{"$f":"H5/I5*I8/H8","v":1.4000000000000001}]
[null,"X1B",{"$f":"0.5*H1*B7*H10^(C5)*I10^(D5)","v":3463.2613533267386},null,null,{"$f":"F9/A9","v":0.4947596291031073}]
[null,"X2B",{"$f":"0.5*I1*G7*H10^(H5)*I10^(I5)","v":1713.4819026590626}]
[{"$nulls":5},{"$f":"F14-F16+F15-F16","v":0},{"$f":"G15-G14","v":0.6888888888888889}]