{"text_format":"3","workbook":"xlsx","n_sheets":7,"sheets":["Inicio MBcp","mlc_Demanda_Factor_Variable","mlc_Elección_Ocio_Consumo","mlc_Ingreso","mlc_Oferta_Curva_Ocio_Consumo","mlc_Oferta_Trabajo","Ocultomlabcom"],"not_rendered":{"charts":8,"images":6,"macros":1,"defined_names":5},"read":"whole","date_system":"1900"}

{"sheet":"Inicio MBcp","index":0,"n_rows":32,"n_cols":11,"rows_kept":32,"merged":[[23,0,23,2],[31,10,31,11]]}
{"$rows_empty":23}
["    Descargue la versión Kindle"]
{"$rows_empty":7}
[{"$nulls":10},"Miguel Cervantes Jiménez"]

{"sheet":"mlc_Demanda_Factor_Variable","index":1,"n_rows":30,"n_cols":7,"rows_kept":30,"hidden":true,"merged":[[0,0,0,6],[1,0,1,6],[4,1,4,2],[4,3,4,4],[4,5,4,6],[13,1,13,6],[14,3,14,4],[14,5,14,6],[15,3,15,4],[15,5,15,6],[17,1,17,6],[18,3,18,4],[18,5,18,6],[19,3,19,4],[19,5,19,6],[21,2,21,4],[22,2,22,4],[23,2,23,4],[25,1,25,3],[26,1,26,3],[27,1,27,2],[28,1,28,3],[29,1,29,3]]}
["MERCADO LABORAL"]
["Maximización del beneficio y la demanda del factor variable"]
[]
[]
[null,"Función de producción",null,"Isobeneficio inicial",null,"Isobeneficio final"]
[null,"y",{"$f":"Ocultomlabcom!C27","v":{"v":250,"d":"250.0"}},"p",{"$f":"Ocultomlabcom!E27","v":{"v":850,"d":"850.0"}},"p",{"$f":"Ocultomlabcom!P27","v":{"v":850,"d":"850.0"}}]
[null,"A",{"v":1,"d":"1.0"},"p",{"v":10,"d":"10.0"},"p",{"$f":"E7","v":{"v":10,"d":"10.0"}}]
[null,"q1",{"$f":"Ocultomlabcom!C29","v":{"v":625,"d":"625.0"}},"w1",{"v":2,"d":"2.0"},"w1",{"$f":"E8","v":{"v":2,"d":"2.0"}}]
[null,"a",0.5,"x1",{"$f":"Ocultomlabcom!E32","v":{"v":625,"d":"625.0"}},"q1",{"$f":"Ocultomlabcom!P32","v":{"v":625,"d":"625.0"}}]
[null,"q2",{"v":100,"d":"100.0"},"w2",{"v":4,"d":"4.0"},"w2",{"$f":"E10","v":{"v":4,"d":"4.0"}}]
[null,"b",0.5,"x2",{"$f":"Ocultomlabcom!E34","v":{"v":100,"d":"100.0"}},"q2",{"$f":"C10","v":{"v":100,"d":"100.0"}}]
[null,null,"Insertar datos correspondientes",null,null,"y",{"$f":"Ocultomlabcom!N27","v":{"v":250,"d":"250.0"}}]
[]
[null,"Parámetros del isobeneficio 1 (inicial)"]
[null,"y","p / P","(w2 * q2)/p ",null,"(w1 * q1)/p "]
[null,{"$f":"SUM(C16:F16)","v":{"v":250,"d":"250.0"}},{"$f":"E6/E7","v":{"v":85,"d":"85.0"}},{"$f":"(E10/E7)*C10","v":{"v":40,"d":"40.0"}},null,{"$f":"(E8/E7)*E9","v":{"v":125,"d":"125.0"}}]
[]
[null,"Parámetros del isobeneficio 2 (final)"]
[null,"y","p / P","(w2 * q2)/p ",null,"(w1' * q1)/p "]
[null,{"$f":"SUM(C20:F20)","v":250},{"$f":"G6/G7","v":{"v":85,"d":"85.0"}},{"$f":"G10/G7*G11","v":{"v":40,"d":"40.0"}},null,{"$f":"G8/G7*G9","v":{"v":125,"d":"125.0"}}]
[]
[null,null,"Demanda factor variable",null,null,"Inicial","Final"]
[null,null,"w1",null,null,{"$f":"E8","v":{"v":2,"d":"2.0"}},{"$f":"G8","v":{"v":2,"d":"2.0"}}]
[null,null,"q1",null,null,{"$f":"E9","v":625},{"$f":"G9","v":625}]
[]
[null,"Títulos"]
[null,"Resultados"]
[null,"Insertar Datos"]
[null,"Insertar datos"]
[null,"Valores de equilibrio"]

{"sheet":"mlc_Elección_Ocio_Consumo","index":2,"n_rows":28,"n_cols":3,"rows_kept":28,"hidden":true,"merged":[[0,0,0,3],[1,0,1,3],[17,1,17,2],[18,1,18,2],[25,1,25,2]]}
["MERCADO LABORAL"]
["Elección ocio-consumo"]
[]
[null,"Restricción presupuestal","Caso 1"]
[null,"q ",{"$f":"Ocultomlabcom!CA31","v":11.8}]
[null,"Ocio",{"$f":"Ocultomlabcom!CA32","v":12.2}]
[null,"c",{"$f":"Ocultomlabcom!CA33","v":{"v":61,"d":"61.0"}}]
[null,"m",{"v":20,"d":"20.0"}]
[null,"w",{"v":50,"d":"50.0"}]
[null,"p",{"v":10,"d":"10.0"}]
[null,"q max",{"$f":"Ocultomlabcom!CA37","v":{"v":24,"d":"24.0"}}]
[]
[null,"Función de utilidad","Caso 1"]
[null,"a",0.5]
[null,"1-a",{"$f":"Ocultomlabcom!CA41","v":0.5}]
[null,"U",{"$f":"Ocultomlabcom!CA42","v":{"v":27.280029325497434,"d":"27.3"}}]
[null,"Insertar datos correspondientes"]
[]
[]
[]
[]
[]
[]
[null,"Títulos"]
[null,"Resultados"]
[null,"Insertar Datos"]
[null,"Insertar datos"]
[null,"Valores de equilibrio"]

{"sheet":"mlc_Ingreso","index":3,"n_rows":28,"n_cols":4,"rows_kept":28,"hidden":true,"merged":[[0,0,0,4],[1,0,1,4],[17,1,17,2],[18,1,18,2],[25,1,25,2]]}
["MERCADO LABORAL"]
["Variación del salario"]
[]
[null,"Restricción presupuestal","Caso 1","Caso 2"]
[null,"q ",{"$f":"Ocultomlabcom!CO31","v":11.8},{"$f":"Ocultomlabcom!CP31","v":11.8}]
[null,"Ocio",{"$f":"Ocultomlabcom!CO32","v":12.2},{"$f":"Ocultomlabcom!CP32","v":12.2}]
[null,"c",{"$f":"Ocultomlabcom!CO33","v":{"v":61,"d":"61.0"}},{"$f":"Ocultomlabcom!CP33","v":{"v":61,"d":"61.0"}}]
[null,"m",{"v":20,"d":"20.0"},{"$f":"Ocultomlabcom!CP34","v":{"v":20,"d":"20.0"}}]
[null,"w",{"v":50,"d":"50.0"},{"$f":"C9","v":{"v":50,"d":"50.0"}}]
[null,"p",{"v":10,"d":"10.0"},{"$f":"Ocultomlabcom!CP36","v":{"v":10,"d":"10.0"}}]
[null,"q max",{"$f":"Ocultomlabcom!CO37","v":{"v":24,"d":"24.0"}},{"$f":"Ocultomlabcom!CP37","v":{"v":24,"d":"24.0"}}]
[]
[null,"Función de utilidad","Caso 1","Caso 2"]
[null,"a",0.5,{"$f":"Ocultomlabcom!CP40","v":0.5}]
[null,"1-a",{"$f":"Ocultomlabcom!CO41","v":0.5},{"$f":"Ocultomlabcom!CP41","v":0.5}]
[null,"U",{"$f":"Ocultomlabcom!CO42","v":{"v":27.280029325497434,"d":"27.3"}},{"$f":"Ocultomlabcom!CP42","v":{"v":27.280029325497434,"d":"27.3"}}]
[null,"Insertar datos correspondientes"]
[]
[]
[]
[]
[]
[]
[null,"Títulos"]
[null,"Resultados"]
[null,"Insertar Datos"]
[null,"Insertar datos "]
[null,"Valores de equilibrio "]

{"sheet":"mlc_Oferta_Curva_Ocio_Consumo","index":4,"n_rows":28,"n_cols":9,"rows_kept":28,"hidden":true,"merged":[[0,0,0,5],[1,0,1,5],[17,1,17,2],[18,1,18,2],[25,1,25,2]]}
["MERCADO LABORAL"]
["Curva ocio - consumo"]
[]
[null,"Restricción presupuestal","Caso 1","Caso 2","Caso 3"]
[null,"q ",{"$f":"Ocultomlabcom!AA31","v":11.8},{"$f":"Ocultomlabcom!AB31","v":11.8},{"$f":"Ocultomlabcom!AC31","v":11.8}]
[null,"Ocio",{"$f":"Ocultomlabcom!AA32","v":12.2},{"$f":"Ocultomlabcom!AB32","v":12.2},{"$f":"Ocultomlabcom!AC32","v":12.2}]
[null,"c",{"$f":"Ocultomlabcom!AA33","v":{"v":61,"d":"61.0"}},{"$f":"Ocultomlabcom!AB33","v":{"v":61,"d":"61.0"}},{"$f":"Ocultomlabcom!AC33","v":{"v":61,"d":"61.0"}}]
[null,"m",{"v":20,"d":"20.0"},{"$f":"Ocultomlabcom!AB34","v":{"v":20,"d":"20.0"}},{"$f":"Ocultomlabcom!AC34","v":{"v":20,"d":"20.0"}}]
[null,"w",{"v":50,"d":"50.0"},{"v":50,"d":"50.0"},{"v":50,"d":"50.0"}]
[null,"p",{"v":10,"d":"10.0"},{"$f":"Ocultomlabcom!AB36","v":{"v":10,"d":"10.0"}},{"$f":"Ocultomlabcom!AC36","v":{"v":10,"d":"10.0"}}]
[null,"q max",{"v":24,"d":"24.0"},{"v":24,"d":"24.0"},{"v":24,"d":"24.0"}]
[]
[null,"Función de utilidad","Caso 1","Caso 2","Caso 3"]
[null,"a",0.5,{"$f":"Ocultomlabcom!AB40","v":0.5},{"$f":"Ocultomlabcom!AC40","v":0.5}]
[null,"1-a",{"$f":"Ocultomlabcom!AA41","v":0.5},{"$f":"Ocultomlabcom!AB41","v":0.5},{"$f":"Ocultomlabcom!AC41","v":0.5}]
[null,"U",{"$f":"Ocultomlabcom!AA42","v":{"v":27.280029325497434,"d":"27.3"}},{"$f":"Ocultomlabcom!AB42","v":{"v":27.280029325497434,"d":"27.3"}},{"$f":"Ocultomlabcom!AC42","v":{"v":27.280029325497434,"d":"27.3"}},{"$nulls":3},{"$f":"Ocultomlabcom!AD35","v":50}]
[null,"Insertar datos correspondientes"]
[]
[]
[]
[]
[]
[]
[null,"Títulos"]
[null,"Resultados"]
[null,"Insertar Datos"]
[null,"Insertar datos "]
[null,"Valores de equilibrio "]

{"sheet":"mlc_Oferta_Trabajo","index":5,"n_rows":28,"n_cols":9,"rows_kept":28,"hidden":true,"merged":[[0,0,0,5],[1,0,1,5],[17,1,17,2],[18,1,18,2],[25,1,25,2]]}
["MERCADO LABORAL"]
["Oferta de trabajo"]
[]
[null,"Restricción presupuestal","Caso 1","Caso 2","Caso 3"]
[null,"q ",{"$f":"Ocultomlabcom!DQ31","v":{"v":10,"d":"10.0"}},{"$f":"Ocultomlabcom!DR31","v":{"v":10,"d":"10.0"}},{"$f":"Ocultomlabcom!DS31","v":{"v":10,"d":"10.0"}}]
[null,"Ocio",{"$f":"Ocultomlabcom!DQ32","v":{"v":14,"d":"14.0"}},{"$f":"Ocultomlabcom!DR32","v":{"v":14,"d":"14.0"}},{"$f":"Ocultomlabcom!DS32","v":{"v":14,"d":"14.0"}}]
[null,"c",{"$f":"Ocultomlabcom!DQ33","v":{"v":70,"d":"70.0"}},{"$f":"Ocultomlabcom!DR33","v":{"v":70,"d":"70.0"}},{"$f":"Ocultomlabcom!DS33","v":{"v":70,"d":"70.0"}}]
[null,"m",{"v":20,"d":"20.0"},{"$f":"Ocultomlabcom!DR34","v":{"v":20,"d":"20.0"}},{"$f":"Ocultomlabcom!DS34","v":{"v":20,"d":"20.0"}}]
[null,"w",{"v":50,"d":"50.0"},{"v":50,"d":"50.0"},{"v":50,"d":"50.0"}]
[null,"p",{"v":10,"d":"10.0"},{"$f":"Ocultomlabcom!DR36","v":{"v":10,"d":"10.0"}},{"$f":"Ocultomlabcom!DS36","v":{"v":10,"d":"10.0"}}]
[null,"q max",{"v":24,"d":"24.0"},{"v":24,"d":"24.0"},{"v":24,"d":"24.0"}]
[]
[null,"Función de utilidad","Caso 1","Caso 2","Caso 3"]
[null,"a",0.5,{"$f":"Ocultomlabcom!DR40","v":0.5},{"$f":"Ocultomlabcom!DS40","v":0.5}]
[null,"1-a",{"$f":"Ocultomlabcom!DQ41","v":0.5},{"$f":"Ocultomlabcom!DR41","v":0.5},{"$f":"Ocultomlabcom!DS41","v":0.5}]
[null,"U",{"$f":"Ocultomlabcom!DP42","v":{"v":31.304951684997057,"d":"31.3"}},{"$f":"Ocultomlabcom!DR42","v":{"v":31.304951684997057,"d":"31.3"}},{"$f":"Ocultomlabcom!DS42","v":{"v":31.304951684997057,"d":"31.3"}},{"$nulls":3},{"$f":"Ocultomlabcom!DT35","v":50}]
[null,"Insertar datos correspondientes"]
[]
[]
[]
[]
[]
[]
[null,"Títulos"]
[null,"Resultados"]
[null,"Insertar Datos"]
[null,"Insertar datos "]
[null,"Valores de equilibrio "]

{"sheet":"Ocultomlabcom","index":6,"n_rows":42,"n_cols":179,"rows_kept":42,"hidden":true,"merged":[[0,0,0,6],[0,11,0,17]]}
["Maximización del Beneficio Sistema Ampliado Demanda del Factor Variable",{"$nulls":10},"Maximización del Beneficio Sistema Ampliado Modificado",{"$nulls":12},"Senda Expansión","recta presupuestaria 1",{"$nulls":8},"COBB-DOUGLAS",{"$nulls":31},"Oculta Caso 0.5",{"$nulls":9},"Punto","recta presupuestaria 1",{"$nulls":8},"COBB-DOUGLAS",{"$nulls":3},"Ingreso","recta presupuestaria 1",{"$nulls":8},"COBB-DOUGLAS",{"$nulls":17},"Oferta de trabajo","recta presupuestaria 1",{"$nulls":8},"COBB-DOUGLAS",{"$nulls":3},"Caso 0.5",{"$nulls":9},"Caso 2",{"$nulls":13},"Oculta Caso 3",{"$nulls":13},"Caso 5"]
["Ponderador","Función de Producción","x1","Producto Marginal","Isobeneficio Inicial","x1 line",null,"y1Line",null,"X1 GRAF","PT GRAF","Ponderador","Función de Producción","x1","Producto Marginal","Isobeneficio Final","x2 line",null,"y2Line",{"$nulls":5},"Ponderador","ocio","consumo","q","x1 line",null,"x","y","x","y","Consumo","ocio rest","consrest",null,"Ponderador","ocio","consumo","q","x1 line",null,"x","y","x","y","Consumo","ocio rest","consrest",null,"Ponderador","ocio","consumo","q","x1 line",null,"x","y","x","y","Consumo","ocio rest","consrest",null,"Ponderador","ocio","consumo","q","x1 line",null,"Consumo","ocio rest","consrest",null,"Ponderador","ocio","consumo","q","x1 line",null,"x","y","x","y","Consumo","ocio rest","consrest",null,"Ponderador","ocio","consumo","q","x1 line",null,"x","y","x","y","Consumo","ocio rest","consrest",null,"Ponderador","ocio","consumo","q","x1 line",null,"x","y","x","y","Consumo","ocio rest","consrest",null,"Ponderador","ocio","consumo","q","x1 line",null,"x","y","x","y","Consumo","ocio rest","consrest",null,"Ponderador","ocio","consumo","q","x1 line",null,"Consumo","ocio rest","consrest",null,"Ponderador","ocio","consumo","q","x1 line",null,"x","y","x","y","Consumo","ocio rest","consrest",null,"Ponderador","ocio","consumo","q","x1 line",null,"x","y","x","y","Consumo","ocio rest","consrest",null,"Ponderador","ocio","consumo","q","x1 line",null,"Consumo","ocio rest","consrest"]
[0,{"$f":"C$28*(C3^(C$30))*(C$32^(C$33))","v":0},{"$f":"C$29*1.6*A3","v":0},0,{"$f":"((E$27/E$28)+(E$33*E$34)/E$28)+((E$30/E$28)*C3)","v":{"v":125,"d":"125.00"}},{"$f":"C$29","v":{"v":625,"d":"625.00"}},{"$f":"C$27*A3","v":0},{"$f":"$C$29*A3","v":0},{"$f":"$E$29","v":{"v":250,"d":"250.00"}},{"$f":"IF($E$30<$P$30,C3,N3)","v":0},{"$f":"IF($E$30<$P$30,B3,M3)","v":0},0,{"$f":"N$28*(N3^(N$30))*(N$32^(N$33))","v":0},{"$f":"N$29*1.6*L3","v":0},0,{"$f":"((P$27/P$28)+(P$33*P$34)/P$28)+((P$30/P$28)*N3)","v":{"v":125,"d":"125.00"}},{"$f":"N$29","v":{"v":625,"d":"625.00"}},{"$f":"N$27*L3","v":0},{"$f":"$N$29*L3","v":0},{"$f":"$P$29","v":{"v":250,"d":"250.00"}},{"$nulls":4},0,{"$f":"$AA$37-($AA$37*Y3)","v":{"v":24,"d":"24.0"}},{"$f":"(($AA$34+($AA$35*$AA$37))/$AA$36)-(($AA$35/$AA$36)*(Z3))","v":{"v":2,"d":"2.00"}},{"v":24,"d":"24.00"},{"$f":"$Z$3","v":{"v":24,"d":"24.00"}},{"$f":"$AA$3*Y3","v":0},{"$f":"$AA$32","v":{"v":12.2,"d":"12.20"}},{"$f":"$AA$33*Y3","v":0},{"$f":"$AA$32*Y3","v":0},{"$f":"$AA$33","v":{"v":61,"d":"61.00"}},{"$f":"($AA$42/(Z3^$AA$40))^(1/($AA$41))","v":{"v":31.00833333333334,"d":"31.01"}},{"$f":"($AA$42/(AK3^$AA$41))^(1/($AA$40))","v":{"v":23.999999999999996,"d":"24.00"}},{"$f":"IF(AI3>$AA$23,AK2,AI3)","v":31.00833333333334},null,0,{"$f":"$AB$37-($AA$37*AM3)","v":{"v":24,"d":"24.0"}},{"$f":"($AB$34/$AB$36)+($AB$35/$AB$36*$AB$37)-(($AB$35/$AB$36)*(AN3))","v":{"v":2,"d":"2.00"}},{"v":24,"d":"24.00"},{"$f":"$AN$3","v":{"v":24,"d":"24.00"}},{"$f":"$AO$3*AM3","v":0},{"$f":"$AB$32","v":{"v":12.2,"d":"12.20"}},{"$f":"$AB$33*AM3","v":0},{"$f":"$AB$32*AM3","v":0},{"$f":"$AB$33","v":{"v":61,"d":"61.00"}},{"$f":"($AB$42/(AN3^$AB$40))^(1/($AB$41))","v":{"v":31.00833333333334,"d":"31.01"}},{"$f":"($AB$42/(AY3^$AB$41))^(1/($AB$40))","v":{"v":23.999999999999996,"d":"24.00"}},{"$f":"IF(AW3>$AO$23,AY2,AW3)","v":31.00833333333334},null,0,{"$f":"$AC$37-($AA$37*BA3)","v":{"v":24,"d":"24.0"}},{"$f":"($AC$34/$AC$36)+($AC$35/$AC$36*$AC$37)-(($AC$35/$AC$36)*(BB3))","v":{"v":2,"d":"2.00"}},{"v":24,"d":"24.00"},{"$f":"$BB$3","v":{"v":24,"d":"24.00"}},{"$f":"$BC$3*BA3","v":0},{"$f":"$AC$32","v":{"v":12.2,"d":"12.20"}},{"$f":"$AC$33*BA3","v":0},{"$f":"$AC$32*BA3","v":0},{"$f":"$AC$33","v":{"v":61,"d":"61.00"}},{"$f":"($AC$42/(BB3^$AC$40))^(1/($AC$41))","v":{"v":31.00833333333334,"d":"31.01"}},{"$f":"($AC$42/(BM3^$AC$41))^(1/($AC$40))","v":{"v":23.999999999999996,"d":"24.00"}},{"$f":"IF(BK3>$BC$23,BM2,BK3)","v":31.00833333333334},null,0,{"$f":"$Z$37-($Z$37*BO3)","v":{"v":24,"d":"24.0"}},{"$f":"$Z$34+($Z$35/$Z$36*$Z$37)-(($Z$35/$Z$36)*(BP3))","v":{"v":20,"d":"20.00"}},{"v":24,"d":"24.00"},{"$f":"$BP$3","v":{"v":24,"d":"24.00"}},{"$f":"$BQ$3*BO3","v":0},{"$f":"($Z$42/(BP3^$Z$40))^(1/($Z$41))","v":{"v":31.00833333333334,"d":"31.01"}},{"$f":"($Z$42/(BW3^$Z$41))^(1/($Z$40))","v":{"v":23.999999999999996,"d":"24.00"}},{"$f":"IF(BU3>$BC$23,BW2,BU3)","v":31.00833333333334},{"v":1,"d":"1.00"},0,{"$f":"$CA$37-($CA$37*BY3)","v":{"v":24,"d":"24.0"}},{"$f":"(($CA$34+($CA$35*$CA$37))/$CA$36)-(($CA$35/$CA$36)*(BZ3))","v":{"v":2,"d":"2.00"}},{"$f":"BX3*$CA$37","v":{"v":24,"d":"24.00"}},{"$f":"$BZ$3","v":{"v":24,"d":"24.00"}},{"$f":"($CA$34/$CA$36)*BY3","v":0},{"$f":"$CA$32","v":{"v":12.2,"d":"12.20"}},{"$f":"$CA$33*BY3","v":0},{"$f":"$CA$32*BY3","v":0},{"$f":"$CA$33","v":{"v":61,"d":"61.00"}},{"$f":"($CA$42/(BZ3^$CA$40))^(1/($CA$41))","v":{"v":31.00833333333334,"d":"31.01"}},{"$f":"($CA$42/(CK3^$CA$41))^(1/($CA$40))","v":{"v":23.999999999999996,"d":"24.00"}},{"$f":"IF(CI3>$CA$23,CK2,CI3)","v":31.00833333333334},{"v":1,"d":"1.00"},0,{"$f":"$CO$37-($CO$37*CM3)","v":{"v":24,"d":"24.0"}},{"$f":"($CO$34/$CO$36)+($CO$35/$CO$36*$CO$37)-(($CO$35/$CO$36)*(CN3))","v":{"v":2,"d":"2.00"}},{"$f":"24*CL3","v":{"v":24,"d":"24.00"}},{"$f":"$CN$3","v":{"v":24,"d":"24.00"}},{"$f":"$CO$3*CM3","v":0},{"$f":"$CO$32","v":{"v":12.2,"d":"12.20"}},{"$f":"$CO$33*CM3","v":0},{"$f":"$CO$32*CM3","v":0},{"$f":"$CO$33","v":{"v":61,"d":"61.00"}},{"$f":"($CO$42/(CN3^$CO$40))^(1/($CO$41))","v":{"v":31.00833333333334,"d":"31.01"}},{"$f":"($CO$42/(CY3^$CO$41))^(1/($CO$40))","v":{"v":23.999999999999996,"d":"24.00"}},{"$f":"IF(CW3>$CO$23,CY2,CW3)","v":31.00833333333334},null,0,{"$f":"$CP$37-($CP$37*DA3)","v":{"v":24,"d":"24.0"}},{"$f":"($CP$34/$CO$36)+($CP$35/$CP$36*$CP$37)-(($CP$35/$CP$36)*(DB3))","v":{"v":2,"d":"2.00"}},{"$f":"CP3","v":{"v":24,"d":"24.00"}},{"$f":"$DB$3","v":{"v":24,"d":"24.00"}},{"$f":"$DC$3*DA3","v":0},{"$f":"$CP$32","v":{"v":12.2,"d":"12.20"}},{"$f":"$CP$33*DA3","v":0},{"$f":"$CP$32*DA3","v":0},{"$f":"$CP$33","v":{"v":61,"d":"61.00"}},{"$f":"($CP$42/(DB3^$CP$40))^(1/($CP$41))","v":{"v":31.00833333333334,"d":"31.01"}},{"$f":"($CP$42/(DM3^$CP$41))^(1/($CP$40))","v":{"v":23.999999999999996,"d":"24.00"}},{"$f":"IF(DK3>$DC$23,DM2,DK3)","v":31.00833333333334},null,0,{"$f":"$DP$37-($DP$37*DO3)","v":{"v":24,"d":"24.0"}},{"$f":"$DQ$34+($DQ$35/$DQ$36*$DQ$37)-(($DQ$35/$DQ$36)*(DP3))","v":{"v":20,"d":"20.00"}},{"v":24,"d":"24.00"},{"$f":"$DP$3","v":{"v":24,"d":"24.00"}},{"$f":"$DQ$3*DO3","v":0},{"$f":"$DQ$32","v":{"v":14,"d":"14.00"}},{"$f":"$DQ$33*DO3","v":0},{"$f":"$DQ$32*DO3","v":0},{"$f":"$DQ$33","v":{"v":70,"d":"70.00"}},{"$f":"($DQ$42/(DP3^$DQ$40))^(1/($DQ$41))","v":{"v":40.83333333333335,"d":"40.83"}},{"$f":"($DQ$42/(EA3^$DQ$41))^(1/($DQ$40))","v":{"v":23.999999999999996,"d":"24.00"}},{"$f":"IF(DY3>$DQ$23,EA2,DY3)","v":40.83333333333335},null,0,{"$f":"$DP$37-($DP$37*EC3)","v":{"v":24,"d":"24.0"}},{"$f":"$DP$34+($DP$35/$DP$36*$DP$37)-(($DP$35/$DP$36)*(ED3))","v":{"v":20,"d":"20.00"}},{"v":24,"d":"24.00"},{"$f":"$ED$3","v":{"v":24,"d":"24.00"}},{"$f":"$EE$3*EC3","v":0},{"$f":"($DP$42/(ED3^$DP$40))^(1/($DP$41))","v":{"v":40.83333333333335,"d":"40.83"}},{"$f":"($DP$42/(EK3^$DP$41))^(1/($DP$40))","v":{"v":23.999999999999996,"d":"24.00"}},{"$f":"IF(EI3>$EE$23,EK2,EI3)","v":40.83333333333335},null,0,{"$f":"$DR$37-($DR$37*EM3)","v":{"v":24,"d":"24.0"}},{"$f":"$DR$34+($DR$35/$DR$36*$DR$37)-(($DR$35/$DR$36)*(EN3))","v":{"v":20,"d":"20.00"}},{"v":24,"d":"24.00"},{"$f":"$EN$3","v":{"v":24,"d":"24.00"}},{"$f":"$EO$3*EM3","v":0},{"$f":"$DR$32","v":{"v":14,"d":"14.00"}},{"$f":"$DR$33*EM3","v":0},{"$f":"$DR$32*EM3","v":0},{"$f":"$DR$33","v":{"v":70,"d":"70.00"}},{"$f":"($DR$42/(EN3^$DR$40))^(1/($DR$41))","v":{"v":40.83333333333335,"d":"40.83"}},{"$f":"($DR$42/(EY3^$DR$41))^(1/($DR$40))","v":{"v":23.999999999999996,"d":"24.00"}},{"$f":"IF(EW3>$EO$23,EY2,EW3)","v":40.83333333333335},null,0,{"$f":"$DS$37-($DS$37*FA3)","v":{"v":24,"d":"24.0"}},{"$f":"$DS$34+($DS$35/$DS$36*$DS$37)-(($DS$35/$DS$36)*(FB3))","v":{"v":20,"d":"20.00"}},{"v":24,"d":"24.00"},{"$f":"$FB$3","v":{"v":24,"d":"24.00"}},{"$f":"$FC$3*FA3","v":0},{"$f":"$DS$32","v":{"v":14,"d":"14.00"}},{"$f":"$DS$33*FA3","v":0},{"$f":"$DS$32*FA3","v":0},{"$f":"$DS$33","v":{"v":70,"d":"70.00"}},{"$f":"($DS$42/(FB3^$DS$40))^(1/($DS$41))","v":{"v":40.83333333333335,"d":"40.83"}},{"$f":"($DS$42/(FM3^$DS$41))^(1/($DS$40))","v":{"v":23.999999999999996,"d":"24.00"}},{"$f":"IF(FK3>$FC$23,FM2,FK3)","v":40.83333333333335},null,0,{"$f":"$DT$37-($DT$37*FO3)","v":{"v":24,"d":"24.0"}},{"$f":"$DT$34+($DT$35/$DT$36*$DT$37)-(($DT$35/$DT$36)*(FP3))","v":{"v":20,"d":"20.00"}},{"v":24,"d":"24.00"},{"$f":"$FP$3","v":{"v":24,"d":"24.00"}},{"$f":"$FQ$3*FO3","v":0},{"$f":"($DT$42/(FP3^$DT$40))^(1/($DT$41))","v":{"v":40.83333333333335,"d":"40.83"}},{"$f":"($DT$42/(FW3^$DT$41))^(1/($DT$40))","v":{"v":23.999999999999996,"d":"24.00"}},{"$f":"IF(FU3>$FQ$23,FW2,FU3)","v":40.83333333333335}]
[0.05,{"$f":"C$28*(C4^(C$30))*(C$32^(C$33))","v":{"v":70.71067811865476,"d":"70.71"}},{"$f":"C$29*1.6*A4","v":{"v":50,"d":"50.00"}},{"$f":"C$30*C$28*((C$32/C4)^(C$33))","v":{"v":0.7071067811865476,"d":"0.71"}},{"$f":"((E$27/E$28)+(E$33*E$34)/E$28)+((E$30/E$28)*C4)","v":{"v":135,"d":"135.00"}},{"$f":"C$29","v":{"v":625,"d":"625.00"}},{"$f":"C$27*A4","v":{"v":12.5,"d":"12.50"}},{"$f":"$C$29*A4","v":31.25},{"$f":"$E$29","v":{"v":250,"d":"250.00"}},{"$f":"IF($E$30<$P$30,C4,N4)","v":{"v":50,"d":"50.00"}},{"$f":"IF($E$30<$P$30,B4,M4)","v":{"v":70.71067811865476,"d":"70.71"}},0.05,{"$f":"N$28*(N4^(N$30))*(N$32^(N$33))","v":{"v":70.71067811865476,"d":"70.71"}},{"$f":"N$29*1.6*L4","v":{"v":50,"d":"50.00"}},{"$f":"N$30*N$28*((N$32/N4)^(N$33))","v":{"v":0.7071067811865476,"d":"0.71"}},{"$f":"((P$27/P$28)+(P$33*P$34)/P$28)+((P$30/P$28)*N4)","v":{"v":135,"d":"135.00"}},{"$f":"N$29","v":{"v":625,"d":"625.00"}},{"$f":"N$27*L4","v":{"v":12.5,"d":"12.50"}},{"$f":"$N$29*L4","v":31.25},{"$f":"$P$29","v":{"v":250,"d":"250.00"}},{"$nulls":4},0.05,{"$f":"$AA$37-($AA$37*Y4)","v":22.8},{"v":8,"d":"8.00"},{"v":23,"d":"23.00"},{"$f":"$Z$3","v":{"v":24,"d":"24.00"}},{"$f":"$AA$3*Y4","v":{"v":0.1,"d":"0.10"}},{"$f":"$AA$32","v":{"v":12.2,"d":"12.20"}},{"$f":"$AA$33*Y4","v":{"v":3.0500000000000003,"d":"3.05"}},{"$f":"$AA$32*Y4","v":0.61},{"$f":"$AA$33","v":{"v":61,"d":"61.00"}},{"$f":"($AA$42/(Z4^$AA$40))^(1/($AA$41))","v":{"v":32.64035087719298,"d":"32.64"}},{"$f":"($AA$42/(AK4^$AA$41))^(1/($AA$40))","v":{"v":22.8,"d":"22.80"}},32.64035087719298,null,0.05,{"$f":"$AB$37-($AA$37*AM4)","v":22.8},{"$f":"($AB$34/$AB$36)+($AB$35/$AB$36*$AB$37)-(($AB$35/$AB$36)*(AN4))","v":{"v":8,"d":"8.00"}},{"v":23,"d":"23.00"},{"$f":"$AN$3","v":{"v":24,"d":"24.00"}},{"$f":"$AO$3*AM4","v":{"v":0.1,"d":"0.10"}},{"$f":"$AB$32","v":{"v":12.2,"d":"12.20"}},{"$f":"$AB$33*AM4","v":{"v":3.0500000000000003,"d":"3.05"}},{"$f":"$AB$32*AM4","v":0.61},{"$f":"$AB$33","v":{"v":61,"d":"61.00"}},{"$f":"($AB$42/(AN4^$AB$40))^(1/($AB$41))","v":{"v":32.64035087719298,"d":"32.64"}},{"$f":"($AB$42/(AY4^$AB$41))^(1/($AB$40))","v":{"v":22.8,"d":"22.80"}},{"$f":"IF(AW4>$AO$23,AY3,AW4)","v":32.64035087719298},null,0.05,{"$f":"$AC$37-($AA$37*BA4)","v":22.8},{"$f":"($AC$34/$AC$36)+($AC$35/$AC$36*$AC$37)-(($AC$35/$AC$36)*(BB4))","v":{"v":8,"d":"8.00"}},{"v":23,"d":"23.00"},{"$f":"$BB$3","v":{"v":24,"d":"24.00"}},{"$f":"$BC$3*BA4","v":{"v":0.1,"d":"0.10"}},{"$f":"$AC$32","v":{"v":12.2,"d":"12.20"}},{"$f":"$AC$33*BA4","v":{"v":3.0500000000000003,"d":"3.05"}},{"$f":"$AC$32*BA4","v":0.61},{"$f":"$AC$33","v":{"v":61,"d":"61.00"}},{"$f":"($AC$42/(BB4^$AC$40))^(1/($AC$41))","v":{"v":32.64035087719298,"d":"32.64"}},{"$f":"($AC$42/(BM4^$AC$41))^(1/($AC$40))","v":{"v":22.8,"d":"22.80"}},{"$f":"IF(BK4>$BC$23,BM3,BK4)","v":32.64035087719298},null,0.05,22.8,{"v":26,"d":"26.00"},{"v":23,"d":"23.00"},{"$f":"$BP$3","v":{"v":24,"d":"24.00"}},{"$f":"$BQ$3*BO4","v":{"v":1,"d":"1.00"}},{"v":32.64035087719298,"d":"32.64"},{"v":22.8,"d":"22.80"},{"$f":"IF(BU4>$BC$23,BW3,BU4)","v":32.64035087719298},0.95,0.05,{"$f":"$CA$37-($CA$37*BY4)","v":22.8},{"$f":"(($CA$34+($CA$35*$CA$37))/$CA$36)-(($CA$35/$CA$36)*(BZ4))","v":{"v":8,"d":"8.00"}},{"$f":"BX4*$CA$37","v":{"v":22.799999999999997,"d":"22.80"}},{"$f":"$BZ$3","v":{"v":24,"d":"24.00"}},{"v":0.1,"d":"0.10"},{"$f":"$CA$32","v":{"v":12.2,"d":"12.20"}},{"$f":"$CA$33*BY4","v":{"v":3.0500000000000003,"d":"3.05"}},{"$f":"$CA$32*BY4","v":0.61},{"$f":"$CA$33","v":{"v":61,"d":"61.00"}},{"$f":"($CA$42/(BZ4^$CA$40))^(1/($CA$41))","v":{"v":32.64035087719298,"d":"32.64"}},{"$f":"($CA$42/(CK4^$CA$41))^(1/($CA$40))","v":{"v":22.8,"d":"22.80"}},{"$f":"IF(CI4>$CA$23,CK3,CI4)","v":32.64035087719298},0.95,0.05,{"$f":"$CO$37-($CO$37*CM4)","v":22.8},{"$f":"($CO$34/$CO$36)+($CO$35/$CO$36*$CO$37)-(($CO$35/$CO$36)*(CN4))","v":{"v":8,"d":"8.00"}},{"$f":"24*CL4","v":{"v":22.799999999999997,"d":"22.80"}},{"$f":"$CN$3","v":{"v":24,"d":"24.00"}},{"$f":"$CO$3*CM4","v":{"v":0.1,"d":"0.10"}},{"$f":"$CO$32","v":{"v":12.2,"d":"12.20"}},{"$f":"$CO$33*CM4","v":{"v":3.0500000000000003,"d":"3.05"}},{"$f":"$CO$32*CM4","v":0.61},{"$f":"$CO$33","v":{"v":61,"d":"61.00"}},{"$f":"($CO$42/(CN4^$CO$40))^(1/($CO$41))","v":{"v":32.64035087719298,"d":"32.64"}},{"$f":"($CO$42/(CY4^$CO$41))^(1/($CO$40))","v":{"v":22.8,"d":"22.80"}},{"$f":"IF(CW4>$CO$23,CY3,CW4)","v":32.64035087719298},null,0.05,{"$f":"$CP$37-($CP$37*DA4)","v":22.8},{"$f":"($CP$34/$CO$36)+($CP$35/$CP$36*$CP$37)-(($CP$35/$CP$36)*(DB4))","v":{"v":8,"d":"8.00"}},{"$f":"CP4","v":{"v":22.799999999999997,"d":"22.80"}},{"$f":"$DB$3","v":{"v":24,"d":"24.00"}},{"$f":"$DC$3*DA4","v":{"v":0.1,"d":"0.10"}},{"$f":"$CP$32","v":{"v":12.2,"d":"12.20"}},{"$f":"$CP$33*DA4","v":{"v":3.0500000000000003,"d":"3.05"}},{"$f":"$CP$32*DA4","v":0.61},{"$f":"$CP$33","v":{"v":61,"d":"61.00"}},{"$f":"($CP$42/(DB4^$CP$40))^(1/($CP$41))","v":{"v":32.64035087719298,"d":"32.64"}},{"$f":"($CP$42/(DM4^$CP$41))^(1/($CP$40))","v":{"v":22.8,"d":"22.80"}},{"$f":"IF(DK4>$DC$23,DM3,DK4)","v":32.64035087719298},null,0.05,{"$f":"$DP$37-($DP$37*DO4)","v":22.8},{"$f":"$DQ$34+($DQ$35/$DQ$36*$DQ$37)-(($DQ$35/$DQ$36)*(DP4))","v":{"v":26,"d":"26.00"}},{"v":23,"d":"23.00"},{"$f":"$DP$3","v":{"v":24,"d":"24.00"}},{"$f":"$DQ$3*DO4","v":{"v":1,"d":"1.00"}},{"$f":"$DQ$32","v":{"v":14,"d":"14.00"}},{"$f":"$DQ$33*DO4","v":{"v":3.5,"d":"3.50"}},{"$f":"$DQ$32*DO4","v":{"v":0.7000000000000001,"d":"0.70"}},{"$f":"$DQ$33","v":{"v":70,"d":"70.00"}},{"$f":"($DQ$42/(DP4^$DQ$40))^(1/($DQ$41))","v":{"v":42.982456140350884,"d":"42.98"}},{"$f":"($DQ$42/(EA4^$DQ$41))^(1/($DQ$40))","v":{"v":22.8,"d":"22.80"}},{"$f":"IF(DY4>$DQ$23,EA3,DY4)","v":42.982456140350884},null,0.05,{"$f":"$DP$37-($DP$37*EC4)","v":22.8},{"$f":"$DP$34+($DP$35/$DP$36*$DP$37)-(($DP$35/$DP$36)*(ED4))","v":{"v":26,"d":"26.00"}},{"v":23,"d":"23.00"},{"$f":"$ED$3","v":{"v":24,"d":"24.00"}},{"$f":"$EE$3*EC4","v":{"v":1,"d":"1.00"}},{"$f":"($DP$42/(ED4^$DP$40))^(1/($DP$41))","v":{"v":42.982456140350884,"d":"42.98"}},{"$f":"($DP$42/(EK4^$DP$41))^(1/($DP$40))","v":{"v":22.8,"d":"22.80"}},{"$f":"IF(EI4>$EE$23,EK3,EI4)","v":42.982456140350884},null,0.05,{"$f":"$DR$37-($DR$37*EM4)","v":22.8},{"$f":"$DR$34+($DR$35/$DR$36*$DR$37)-(($DR$35/$DR$36)*(EN4))","v":{"v":26,"d":"26.00"}},{"v":23,"d":"23.00"},{"$f":"$EN$3","v":{"v":24,"d":"24.00"}},{"$f":"$EO$3*EM4","v":{"v":1,"d":"1.00"}},{"$f":"$DR$32","v":{"v":14,"d":"14.00"}},{"$f":"$DR$33*EM4","v":{"v":3.5,"d":"3.50"}},{"$f":"$DR$32*EM4","v":{"v":0.7000000000000001,"d":"0.70"}},{"$f":"$DR$33","v":{"v":70,"d":"70.00"}},{"$f":"($DR$42/(EN4^$DR$40))^(1/($DR$41))","v":{"v":42.982456140350884,"d":"42.98"}},{"$f":"($DR$42/(EY4^$DR$41))^(1/($DR$40))","v":{"v":22.8,"d":"22.80"}},42.982456140350884,null,0.05,{"$f":"$DS$37-($DS$37*FA4)","v":22.8},{"$f":"$DS$34+($DS$35/$DS$36*$DS$37)-(($DS$35/$DS$36)*(FB4))","v":{"v":26,"d":"26.00"}},{"v":23,"d":"23.00"},{"$f":"$FB$3","v":{"v":24,"d":"24.00"}},{"$f":"$FC$3*FA4","v":{"v":1,"d":"1.00"}},{"$f":"$DS$32","v":{"v":14,"d":"14.00"}},{"$f":"$DS$33*FA4","v":{"v":3.5,"d":"3.50"}},{"$f":"$DS$32*FA4","v":{"v":0.7000000000000001,"d":"0.70"}},{"$f":"$DS$33","v":{"v":70,"d":"70.00"}},{"$f":"($DS$42/(FB4^$DS$40))^(1/($DS$41))","v":{"v":42.982456140350884,"d":"42.98"}},{"$f":"($DS$42/(FM4^$DS$41))^(1/($DS$40))","v":{"v":22.8,"d":"22.80"}},{"$f":"IF(FK4>$FC$23,FM3,FK4)","v":42.982456140350884},null,0.05,{"$f":"$DT$37-($DT$37*FO4)","v":22.8},{"$f":"$DT$34+($DT$35/$DT$36*$DT$37)-(($DT$35/$DT$36)*(FP4))","v":{"v":26,"d":"26.00"}},{"v":23,"d":"23.00"},{"$f":"$FP$3","v":{"v":24,"d":"24.00"}},{"$f":"$FQ$3*FO4","v":{"v":1,"d":"1.00"}},{"$f":"($DT$42/(FP4^$DT$40))^(1/($DT$41))","v":{"v":42.982456140350884,"d":"42.98"}},{"$f":"($DT$42/(FW4^$DT$41))^(1/($DT$40))","v":{"v":22.8,"d":"22.80"}},{"$f":"IF(FU4>$FQ$23,FW3,FU4)","v":42.982456140350884}]
[{"v":0.1,"d":"0.10"},{"v":100,"d":"100.00"},{"v":100,"d":"100.00"},{"$f":"C$30*C$28*((C$32/C5)^(C$33))","v":{"v":0.5,"d":"0.50"}},{"v":145,"d":"145.00"},{"v":625,"d":"625.00"},{"v":25,"d":"25.00"},{"v":62.5,"d":"62.50"},{"v":250,"d":"250.00"},{"$f":"IF($E$30<$P$30,C5,N5)","v":{"v":100,"d":"100.00"}},{"v":100,"d":"100.00"},{"v":0.1,"d":"0.10"},{"v":100,"d":"100.00"},{"v":100,"d":"100.00"},{"$f":"N$30*N$28*((N$32/N5)^(N$33))","v":{"v":0.5,"d":"0.50"}},{"v":145,"d":"145.00"},{"v":625,"d":"625.00"},{"v":25,"d":"25.00"},{"v":62.5,"d":"62.50"},{"v":250,"d":"250.00"},{"$nulls":4},{"v":0.1,"d":"0.10"},21.6,{"v":14,"d":"14.00"},{"v":22,"d":"22.00"},{"v":24,"d":"24.00"},{"v":0.2,"d":"0.20"},{"v":12.2,"d":"12.20"},{"v":6.1000000000000005,"d":"6.10"},1.22,{"v":61,"d":"61.00"},{"v":34.4537037037037,"d":"34.45"},{"v":21.6,"d":"21.60"},34.4537037037037,null,{"v":0.1,"d":"0.10"},21.6,{"v":14,"d":"14.00"},{"v":22,"d":"22.00"},{"v":24,"d":"24.00"},{"v":0.2,"d":"0.20"},{"v":12.2,"d":"12.20"},{"v":6.1000000000000005,"d":"6.10"},1.22,{"v":61,"d":"61.00"},{"v":34.4537037037037,"d":"34.45"},{"v":21.6,"d":"21.60"},34.4537037037037,null,{"v":0.1,"d":"0.10"},21.6,{"v":14,"d":"14.00"},{"v":22,"d":"22.00"},{"v":24,"d":"24.00"},{"v":0.2,"d":"0.20"},{"v":12.2,"d":"12.20"},{"v":6.1000000000000005,"d":"6.10"},1.22,{"v":61,"d":"61.00"},{"v":34.4537037037037,"d":"34.45"},{"v":21.6,"d":"21.60"},34.4537037037037,null,{"v":0.1,"d":"0.10"},21.6,{"v":32,"d":"32.00"},{"v":22,"d":"22.00"},{"v":24,"d":"24.00"},{"v":2,"d":"2.00"},{"v":34.4537037037037,"d":"34.45"},{"v":21.6,"d":"21.60"},34.4537037037037,{"v":0.9,"d":"0.90"},{"v":0.1,"d":"0.10"},21.6,{"v":14,"d":"14.00"},{"v":21.6,"d":"21.60"},{"v":24,"d":"24.00"},{"v":0.2,"d":"0.20"},{"v":12.2,"d":"12.20"},{"v":6.1000000000000005,"d":"6.10"},1.22,{"v":61,"d":"61.00"},{"v":34.4537037037037,"d":"34.45"},{"v":21.6,"d":"21.60"},34.4537037037037,{"v":0.9,"d":"0.90"},{"v":0.1,"d":"0.10"},21.6,{"v":14,"d":"14.00"},{"v":21.6,"d":"21.60"},{"v":24,"d":"24.00"},{"v":0.2,"d":"0.20"},{"v":12.2,"d":"12.20"},{"v":6.1000000000000005,"d":"6.10"},1.22,{"v":61,"d":"61.00"},{"v":34.4537037037037,"d":"34.45"},{"v":21.6,"d":"21.60"},34.4537037037037,null,{"v":0.1,"d":"0.10"},21.6,{"v":14,"d":"14.00"},{"v":21.6,"d":"21.60"},{"v":24,"d":"24.00"},{"v":0.2,"d":"0.20"},{"v":12.2,"d":"12.20"},{"v":6.1000000000000005,"d":"6.10"},1.22,{"v":61,"d":"61.00"},{"v":34.4537037037037,"d":"34.45"},{"v":21.6,"d":"21.60"},34.4537037037037,null,{"v":0.1,"d":"0.10"},21.6,{"v":32,"d":"32.00"},{"v":22,"d":"22.00"},{"v":24,"d":"24.00"},{"v":2,"d":"2.00"},{"v":14,"d":"14.00"},{"v":7,"d":"7.00"},{"v":1.4000000000000001,"d":"1.40"},{"v":70,"d":"70.00"},{"v":45.37037037037037,"d":"45.37"},{"v":21.6,"d":"21.60"},45.37037037037037,null,{"v":0.1,"d":"0.10"},21.6,{"v":32,"d":"32.00"},{"v":22,"d":"22.00"},{"v":24,"d":"24.00"},{"v":2,"d":"2.00"},{"v":45.37037037037037,"d":"45.37"},{"v":21.6,"d":"21.60"},45.37037037037037,null,{"v":0.1,"d":"0.10"},21.6,{"v":32,"d":"32.00"},{"v":22,"d":"22.00"},{"v":24,"d":"24.00"},{"v":2,"d":"2.00"},{"v":14,"d":"14.00"},{"v":7,"d":"7.00"},{"v":1.4000000000000001,"d":"1.40"},{"v":70,"d":"70.00"},{"v":45.37037037037037,"d":"45.37"},{"v":21.6,"d":"21.60"},45.37037037037037,null,{"v":0.1,"d":"0.10"},21.6,{"v":32,"d":"32.00"},{"v":22,"d":"22.00"},{"v":24,"d":"24.00"},{"v":2,"d":"2.00"},{"v":14,"d":"14.00"},{"v":7,"d":"7.00"},{"v":1.4000000000000001,"d":"1.40"},{"v":70,"d":"70.00"},{"v":45.37037037037037,"d":"45.37"},{"v":21.6,"d":"21.60"},45.37037037037037,null,{"v":0.1,"d":"0.10"},21.6,{"v":32,"d":"32.00"},{"v":22,"d":"22.00"},{"v":24,"d":"24.00"},{"v":2,"d":"2.00"},{"v":45.37037037037037,"d":"45.37"},{"v":21.6,"d":"21.60"},45.37037037037037]
[0.15,{"v":122.4744871391589,"d":"122.47"},{"v":150,"d":"150.00"},{"v":0.408248290463863,"d":"0.41"},{"v":155,"d":"155.00"},{"v":625,"d":"625.00"},{"v":37.5,"d":"37.50"},93.75,{"v":250,"d":"250.00"},{"v":150,"d":"150.00"},{"v":122.4744871391589,"d":"122.47"},0.15,{"v":122.4744871391589,"d":"122.47"},{"v":150,"d":"150.00"},{"v":0.408248290463863,"d":"0.41"},{"v":155,"d":"155.00"},{"v":625,"d":"625.00"},{"v":37.5,"d":"37.50"},93.75,{"v":250,"d":"250.00"},{"$nulls":4},0.15,20.4,{"v":20,"d":"20.00"},{"v":21,"d":"21.00"},{"v":24,"d":"24.00"},{"v":0.3,"d":"0.30"},{"v":12.2,"d":"12.20"},9.15,{"v":1.8299999999999998,"d":"1.83"},{"v":61,"d":"61.00"},{"v":36.480392156862756,"d":"36.48"},{"v":20.399999999999995,"d":"20.40"},36.480392156862756,null,0.15,20.4,{"v":20,"d":"20.00"},{"v":21,"d":"21.00"},{"v":24,"d":"24.00"},{"v":0.3,"d":"0.30"},{"v":12.2,"d":"12.20"},9.15,{"v":1.8299999999999998,"d":"1.83"},{"v":61,"d":"61.00"},{"v":36.480392156862756,"d":"36.48"},{"v":20.399999999999995,"d":"20.40"},36.480392156862756,null,0.15,20.4,{"v":20,"d":"20.00"},{"v":21,"d":"21.00"},{"v":24,"d":"24.00"},{"v":0.3,"d":"0.30"},{"v":12.2,"d":"12.20"},9.15,{"v":1.8299999999999998,"d":"1.83"},{"v":61,"d":"61.00"},{"v":36.480392156862756,"d":"36.48"},{"v":20.399999999999995,"d":"20.40"},36.480392156862756,null,0.15,20.4,{"v":38,"d":"38.00"},{"v":21,"d":"21.00"},{"v":24,"d":"24.00"},{"v":3,"d":"3.00"},{"v":36.480392156862756,"d":"36.48"},{"v":20.399999999999995,"d":"20.40"},36.480392156862756,0.85,0.15,20.4,{"v":20,"d":"20.00"},{"v":20.4,"d":"20.40"},{"v":24,"d":"24.00"},{"v":0.3,"d":"0.30"},{"v":12.2,"d":"12.20"},9.15,{"v":1.8299999999999998,"d":"1.83"},{"v":61,"d":"61.00"},{"v":36.480392156862756,"d":"36.48"},{"v":20.399999999999995,"d":"20.40"},36.480392156862756,0.85,0.15,20.4,{"v":20,"d":"20.00"},{"v":20.4,"d":"20.40"},{"v":24,"d":"24.00"},{"v":0.3,"d":"0.30"},{"v":12.2,"d":"12.20"},9.15,{"v":1.8299999999999998,"d":"1.83"},{"v":61,"d":"61.00"},{"v":36.480392156862756,"d":"36.48"},{"v":20.399999999999995,"d":"20.40"},36.480392156862756,null,0.15,20.4,{"v":20,"d":"20.00"},{"v":20.4,"d":"20.40"},{"v":24,"d":"24.00"},{"v":0.3,"d":"0.30"},{"v":12.2,"d":"12.20"},9.15,{"v":1.8299999999999998,"d":"1.83"},{"v":61,"d":"61.00"},{"v":36.480392156862756,"d":"36.48"},{"v":20.399999999999995,"d":"20.40"},36.480392156862756,null,0.15,20.4,{"v":38,"d":"38.00"},{"v":21,"d":"21.00"},{"v":24,"d":"24.00"},{"v":3,"d":"3.00"},{"v":14,"d":"14.00"},{"v":10.5,"d":"10.50"},{"v":2.1,"d":"2.10"},{"v":70,"d":"70.00"},{"v":48.03921568627453,"d":"48.04"},{"v":20.399999999999995,"d":"20.40"},48.03921568627453,null,0.15,20.4,{"v":38,"d":"38.00"},{"v":21,"d":"21.00"},{"v":24,"d":"24.00"},{"v":3,"d":"3.00"},{"v":48.03921568627453,"d":"48.04"},{"v":20.399999999999995,"d":"20.40"},48.03921568627453,null,0.15,20.4,{"v":38,"d":"38.00"},{"v":21,"d":"21.00"},{"v":24,"d":"24.00"},{"v":3,"d":"3.00"},{"v":14,"d":"14.00"},{"v":10.5,"d":"10.50"},{"v":2.1,"d":"2.10"},{"v":70,"d":"70.00"},{"v":48.03921568627453,"d":"48.04"},{"v":20.399999999999995,"d":"20.40"},48.03921568627453,null,0.15,20.4,{"v":38,"d":"38.00"},{"v":21,"d":"21.00"},{"v":24,"d":"24.00"},{"v":3,"d":"3.00"},{"v":14,"d":"14.00"},{"v":10.5,"d":"10.50"},{"v":2.1,"d":"2.10"},{"v":70,"d":"70.00"},{"v":48.03921568627453,"d":"48.04"},{"v":20.399999999999995,"d":"20.40"},48.03921568627453,null,0.15,20.4,{"v":38,"d":"38.00"},{"v":21,"d":"21.00"},{"v":24,"d":"24.00"},{"v":3,"d":"3.00"},{"v":48.03921568627453,"d":"48.04"},{"v":20.399999999999995,"d":"20.40"},48.03921568627453]
[{"v":0.2,"d":"0.20"},{"v":141.4213562373095,"d":"141.42"},{"v":200,"d":"200.00"},{"v":0.3535533905932738,"d":"0.35"},{"v":165,"d":"165.00"},{"v":625,"d":"625.00"},{"v":50,"d":"50.00"},{"v":125,"d":"125.00"},{"v":250,"d":"250.00"},{"v":200,"d":"200.00"},{"v":141.4213562373095,"d":"141.42"},{"v":0.2,"d":"0.20"},{"v":141.4213562373095,"d":"141.42"},{"v":200,"d":"200.00"},{"v":0.3535533905932738,"d":"0.35"},{"v":165,"d":"165.00"},{"v":625,"d":"625.00"},{"v":50,"d":"50.00"},{"v":125,"d":"125.00"},{"v":250,"d":"250.00"},{"$nulls":4},{"v":0.2,"d":"0.20"},19.2,{"v":26,"d":"26.00"},{"v":20,"d":"20.00"},{"v":24,"d":"24.00"},{"v":0.4,"d":"0.40"},{"v":12.2,"d":"12.20"},{"v":12.200000000000001,"d":"12.20"},2.44,{"v":61,"d":"61.00"},{"v":38.76041666666668,"d":"38.76"},{"v":19.199999999999996,"d":"19.20"},38.76041666666668,null,{"v":0.2,"d":"0.20"},19.2,{"v":26,"d":"26.00"},{"v":20,"d":"20.00"},{"v":24,"d":"24.00"},{"v":0.4,"d":"0.40"},{"v":12.2,"d":"12.20"},{"v":12.200000000000001,"d":"12.20"},2.44,{"v":61,"d":"61.00"},{"v":38.76041666666668,"d":"38.76"},{"v":19.199999999999996,"d":"19.20"},38.76041666666668,null,{"v":0.2,"d":"0.20"},19.2,{"v":26,"d":"26.00"},{"v":20,"d":"20.00"},{"v":24,"d":"24.00"},{"v":0.4,"d":"0.40"},{"v":12.2,"d":"12.20"},{"v":12.200000000000001,"d":"12.20"},2.44,{"v":61,"d":"61.00"},{"v":38.76041666666668,"d":"38.76"},{"v":19.199999999999996,"d":"19.20"},38.76041666666668,null,{"v":0.2,"d":"0.20"},19.2,{"v":44,"d":"44.00"},{"v":20,"d":"20.00"},{"v":24,"d":"24.00"},{"v":4,"d":"4.00"},{"v":38.76041666666668,"d":"38.76"},{"v":19.199999999999996,"d":"19.20"},38.76041666666668,{"v":0.8,"d":"0.80"},{"v":0.2,"d":"0.20"},19.2,{"v":26,"d":"26.00"},{"v":19.200000000000003,"d":"19.20"},{"v":24,"d":"24.00"},{"v":0.4,"d":"0.40"},{"v":12.2,"d":"12.20"},{"v":12.200000000000001,"d":"12.20"},2.44,{"v":61,"d":"61.00"},{"v":38.76041666666668,"d":"38.76"},{"v":19.199999999999996,"d":"19.20"},38.76041666666668,{"v":0.8,"d":"0.80"},{"v":0.2,"d":"0.20"},19.2,{"v":26,"d":"26.00"},{"v":19.200000000000003,"d":"19.20"},{"v":24,"d":"24.00"},{"v":0.4,"d":"0.40"},{"v":12.2,"d":"12.20"},{"v":12.200000000000001,"d":"12.20"},2.44,{"v":61,"d":"61.00"},{"v":38.76041666666668,"d":"38.76"},{"v":19.199999999999996,"d":"19.20"},38.76041666666668,null,{"v":0.2,"d":"0.20"},19.2,{"v":26,"d":"26.00"},{"v":19.200000000000003,"d":"19.20"},{"v":24,"d":"24.00"},{"v":0.4,"d":"0.40"},{"v":12.2,"d":"12.20"},{"v":12.200000000000001,"d":"12.20"},2.44,{"v":61,"d":"61.00"},{"v":38.76041666666668,"d":"38.76"},{"v":19.199999999999996,"d":"19.20"},38.76041666666668,null,{"v":0.2,"d":"0.20"},19.2,{"v":44,"d":"44.00"},{"v":20,"d":"20.00"},{"v":24,"d":"24.00"},{"v":4,"d":"4.00"},{"v":14,"d":"14.00"},{"v":14,"d":"14.00"},{"v":2.8000000000000003,"d":"2.80"},{"v":70,"d":"70.00"},{"v":51.04166666666668,"d":"51.04"},{"v":19.199999999999996,"d":"19.20"},51.04166666666668,null,{"v":0.2,"d":"0.20"},19.2,{"v":44,"d":"44.00"},{"v":20,"d":"20.00"},{"v":24,"d":"24.00"},{"v":4,"d":"4.00"},{"v":51.04166666666668,"d":"51.04"},{"v":19.199999999999996,"d":"19.20"},51.04166666666668,null,{"v":0.2,"d":"0.20"},19.2,{"v":44,"d":"44.00"},{"v":20,"d":"20.00"},{"v":24,"d":"24.00"},{"v":4,"d":"4.00"},{"v":14,"d":"14.00"},{"v":14,"d":"14.00"},{"v":2.8000000000000003,"d":"2.80"},{"v":70,"d":"70.00"},{"v":51.04166666666668,"d":"51.04"},{"v":19.199999999999996,"d":"19.20"},51.04166666666668,null,{"v":0.2,"d":"0.20"},19.2,{"v":44,"d":"44.00"},{"v":20,"d":"20.00"},{"v":24,"d":"24.00"},{"v":4,"d":"4.00"},{"v":14,"d":"14.00"},{"v":14,"d":"14.00"},{"v":2.8000000000000003,"d":"2.80"},{"v":70,"d":"70.00"},{"v":51.04166666666668,"d":"51.04"},{"v":19.199999999999996,"d":"19.20"},51.04166666666668,null,{"v":0.2,"d":"0.20"},19.2,{"v":44,"d":"44.00"},{"v":20,"d":"20.00"},{"v":24,"d":"24.00"},{"v":4,"d":"4.00"},{"v":51.04166666666668,"d":"51.04"},{"v":19.199999999999996,"d":"19.20"},51.04166666666668]
[0.25,{"v":158.11388300841895,"d":"158.11"},{"v":250,"d":"250.00"},{"v":0.31622776601683794,"d":"0.32"},{"v":175,"d":"175.00"},{"v":625,"d":"625.00"},{"v":62.5,"d":"62.50"},156.25,{"v":250,"d":"250.00"},{"v":250,"d":"250.00"},{"v":158.11388300841895,"d":"158.11"},0.25,{"v":158.11388300841895,"d":"158.11"},{"v":250,"d":"250.00"},{"v":0.31622776601683794,"d":"0.32"},{"v":175,"d":"175.00"},{"v":625,"d":"625.00"},{"v":62.5,"d":"62.50"},156.25,{"v":250,"d":"250.00"},{"$nulls":4},0.25,{"v":18,"d":"18.0"},{"v":32,"d":"32.00"},{"v":19,"d":"19.00"},{"v":24,"d":"24.00"},{"v":0.5,"d":"0.50"},{"v":12.2,"d":"12.20"},15.25,3.05,{"v":61,"d":"61.00"},{"v":41.344444444444456,"d":"41.34"},{"v":17.999999999999996,"d":"18.00"},41.344444444444456,null,0.25,{"v":18,"d":"18.0"},{"v":32,"d":"32.00"},{"v":19,"d":"19.00"},{"v":24,"d":"24.00"},{"v":0.5,"d":"0.50"},{"v":12.2,"d":"12.20"},15.25,3.05,{"v":61,"d":"61.00"},{"v":41.344444444444456,"d":"41.34"},{"v":17.999999999999996,"d":"18.00"},41.344444444444456,null,0.25,{"v":18,"d":"18.0"},{"v":32,"d":"32.00"},{"v":19,"d":"19.00"},{"v":24,"d":"24.00"},{"v":0.5,"d":"0.50"},{"v":12.2,"d":"12.20"},15.25,3.05,{"v":61,"d":"61.00"},{"v":41.344444444444456,"d":"41.34"},{"v":17.999999999999996,"d":"18.00"},41.344444444444456,null,0.25,{"v":18,"d":"18.0"},{"v":50,"d":"50.00"},{"v":19,"d":"19.00"},{"v":24,"d":"24.00"},{"v":5,"d":"5.00"},{"v":41.344444444444456,"d":"41.34"},{"v":17.999999999999996,"d":"18.00"},41.344444444444456,0.75,0.25,{"v":18,"d":"18.0"},{"v":32,"d":"32.00"},{"v":18,"d":"18.00"},{"v":24,"d":"24.00"},{"v":0.5,"d":"0.50"},{"v":12.2,"d":"12.20"},15.25,3.05,{"v":61,"d":"61.00"},{"v":41.344444444444456,"d":"41.34"},{"v":17.999999999999996,"d":"18.00"},41.344444444444456,0.75,0.25,{"v":18,"d":"18.0"},{"v":32,"d":"32.00"},{"v":18,"d":"18.00"},{"v":24,"d":"24.00"},{"v":0.5,"d":"0.50"},{"v":12.2,"d":"12.20"},15.25,3.05,{"v":61,"d":"61.00"},{"v":41.344444444444456,"d":"41.34"},{"v":17.999999999999996,"d":"18.00"},41.344444444444456,null,0.25,{"v":18,"d":"18.0"},{"v":32,"d":"32.00"},{"v":18,"d":"18.00"},{"v":24,"d":"24.00"},{"v":0.5,"d":"0.50"},{"v":12.2,"d":"12.20"},15.25,3.05,{"v":61,"d":"61.00"},{"v":41.344444444444456,"d":"41.34"},{"v":17.999999999999996,"d":"18.00"},41.344444444444456,null,0.25,{"v":18,"d":"18.0"},{"v":50,"d":"50.00"},{"v":19,"d":"19.00"},{"v":24,"d":"24.00"},{"v":5,"d":"5.00"},{"v":14,"d":"14.00"},{"v":17.5,"d":"17.50"},{"v":3.5,"d":"3.50"},{"v":70,"d":"70.00"},{"v":54.44444444444446,"d":"54.44"},{"v":17.999999999999996,"d":"18.00"},54.44444444444446,null,0.25,{"v":18,"d":"18.0"},{"v":50,"d":"50.00"},{"v":19,"d":"19.00"},{"v":24,"d":"24.00"},{"v":5,"d":"5.00"},{"v":54.44444444444446,"d":"54.44"},{"v":17.999999999999996,"d":"18.00"},54.44444444444446,null,0.25,{"v":18,"d":"18.0"},{"v":50,"d":"50.00"},{"v":19,"d":"19.00"},{"v":24,"d":"24.00"},{"v":5,"d":"5.00"},{"v":14,"d":"14.00"},{"v":17.5,"d":"17.50"},{"v":3.5,"d":"3.50"},{"v":70,"d":"70.00"},{"v":54.44444444444446,"d":"54.44"},{"v":17.999999999999996,"d":"18.00"},54.44444444444446,null,0.25,{"v":18,"d":"18.0"},{"v":50,"d":"50.00"},{"v":19,"d":"19.00"},{"v":24,"d":"24.00"},{"v":5,"d":"5.00"},{"v":14,"d":"14.00"},{"v":17.5,"d":"17.50"},{"v":3.5,"d":"3.50"},{"v":70,"d":"70.00"},{"v":54.44444444444446,"d":"54.44"},{"v":17.999999999999996,"d":"18.00"},54.44444444444446,null,0.25,{"v":18,"d":"18.0"},{"v":50,"d":"50.00"},{"v":19,"d":"19.00"},{"v":24,"d":"24.00"},{"v":5,"d":"5.00"},{"v":54.44444444444446,"d":"54.44"},{"v":17.999999999999996,"d":"18.00"},54.44444444444446]
[{"v":0.3,"d":"0.30"},{"v":173.20508075688775,"d":"173.21"},{"v":300,"d":"300.00"},{"v":0.28867513459481287,"d":"0.29"},{"v":185,"d":"185.00"},{"v":625,"d":"625.00"},{"v":75,"d":"75.00"},{"v":187.5,"d":"187.50"},{"v":250,"d":"250.00"},{"v":300,"d":"300.00"},{"v":173.20508075688775,"d":"173.21"},{"v":0.3,"d":"0.30"},{"v":173.20508075688775,"d":"173.21"},{"v":300,"d":"300.00"},{"v":0.28867513459481287,"d":"0.29"},{"v":185,"d":"185.00"},{"v":625,"d":"625.00"},{"v":75,"d":"75.00"},{"v":187.5,"d":"187.50"},{"v":250,"d":"250.00"},{"$nulls":4},{"v":0.3,"d":"0.30"},16.8,{"v":38,"d":"38.00"},{"v":18,"d":"18.00"},{"v":24,"d":"24.00"},{"v":0.6,"d":"0.60"},{"v":12.2,"d":"12.20"},{"v":18.3,"d":"18.30"},{"v":3.6599999999999997,"d":"3.66"},{"v":61,"d":"61.00"},{"v":44.29761904761904,"d":"44.30"},{"v":16.800000000000004,"d":"16.80"},44.29761904761904,null,{"v":0.3,"d":"0.30"},16.8,{"v":38,"d":"38.00"},{"v":18,"d":"18.00"},{"v":24,"d":"24.00"},{"v":0.6,"d":"0.60"},{"v":12.2,"d":"12.20"},{"v":18.3,"d":"18.30"},{"v":3.6599999999999997,"d":"3.66"},{"v":61,"d":"61.00"},{"v":44.29761904761904,"d":"44.30"},{"v":16.800000000000004,"d":"16.80"},44.29761904761904,null,{"v":0.3,"d":"0.30"},16.8,{"v":38,"d":"38.00"},{"v":18,"d":"18.00"},{"v":24,"d":"24.00"},{"v":0.6,"d":"0.60"},{"v":12.2,"d":"12.20"},{"v":18.3,"d":"18.30"},{"v":3.6599999999999997,"d":"3.66"},{"v":61,"d":"61.00"},{"v":44.29761904761904,"d":"44.30"},{"v":16.800000000000004,"d":"16.80"},44.29761904761904,null,{"v":0.3,"d":"0.30"},16.8,{"v":56,"d":"56.00"},{"v":18,"d":"18.00"},{"v":24,"d":"24.00"},{"v":6,"d":"6.00"},{"v":44.29761904761904,"d":"44.30"},{"v":16.800000000000004,"d":"16.80"},44.29761904761904,{"v":0.7,"d":"0.70"},{"v":0.3,"d":"0.30"},16.8,{"v":38,"d":"38.00"},{"v":16.799999999999997,"d":"16.80"},{"v":24,"d":"24.00"},{"v":0.6,"d":"0.60"},{"v":12.2,"d":"12.20"},{"v":18.3,"d":"18.30"},{"v":3.6599999999999997,"d":"3.66"},{"v":61,"d":"61.00"},{"v":44.29761904761904,"d":"44.30"},{"v":16.800000000000004,"d":"16.80"},44.29761904761904,{"v":0.7,"d":"0.70"},{"v":0.3,"d":"0.30"},16.8,{"v":38,"d":"38.00"},{"v":16.799999999999997,"d":"16.80"},{"v":24,"d":"24.00"},{"v":0.6,"d":"0.60"},{"v":12.2,"d":"12.20"},{"v":18.3,"d":"18.30"},{"v":3.6599999999999997,"d":"3.66"},{"v":61,"d":"61.00"},{"v":44.29761904761904,"d":"44.30"},{"v":16.800000000000004,"d":"16.80"},44.29761904761904,null,{"v":0.3,"d":"0.30"},16.8,{"v":38,"d":"38.00"},{"v":16.799999999999997,"d":"16.80"},{"v":24,"d":"24.00"},{"v":0.6,"d":"0.60"},{"v":12.2,"d":"12.20"},{"v":18.3,"d":"18.30"},{"v":3.6599999999999997,"d":"3.66"},{"v":61,"d":"61.00"},{"v":44.29761904761904,"d":"44.30"},{"v":16.800000000000004,"d":"16.80"},44.29761904761904,null,{"v":0.3,"d":"0.30"},16.8,{"v":56,"d":"56.00"},{"v":18,"d":"18.00"},{"v":24,"d":"24.00"},{"v":6,"d":"6.00"},{"v":14,"d":"14.00"},{"v":21,"d":"21.00"},{"v":4.2,"d":"4.20"},{"v":70,"d":"70.00"},{"v":58.333333333333336,"d":"58.33"},{"v":16.800000000000004,"d":"16.80"},58.333333333333336,null,{"v":0.3,"d":"0.30"},16.8,{"v":56,"d":"56.00"},{"v":18,"d":"18.00"},{"v":24,"d":"24.00"},{"v":6,"d":"6.00"},{"v":58.333333333333336,"d":"58.33"},{"v":16.800000000000004,"d":"16.80"},58.333333333333336,null,{"v":0.3,"d":"0.30"},16.8,{"v":56,"d":"56.00"},{"v":18,"d":"18.00"},{"v":24,"d":"24.00"},{"v":6,"d":"6.00"},{"v":14,"d":"14.00"},{"v":21,"d":"21.00"},{"v":4.2,"d":"4.20"},{"v":70,"d":"70.00"},{"v":58.333333333333336,"d":"58.33"},{"v":16.800000000000004,"d":"16.80"},58.333333333333336,null,{"v":0.3,"d":"0.30"},16.8,{"v":56,"d":"56.00"},{"v":18,"d":"18.00"},{"v":24,"d":"24.00"},{"v":6,"d":"6.00"},{"v":14,"d":"14.00"},{"v":21,"d":"21.00"},{"v":4.2,"d":"4.20"},{"v":70,"d":"70.00"},{"v":58.333333333333336,"d":"58.33"},{"v":16.800000000000004,"d":"16.80"},58.333333333333336,null,{"v":0.3,"d":"0.30"},16.8,{"v":56,"d":"56.00"},{"v":18,"d":"18.00"},{"v":24,"d":"24.00"},{"v":6,"d":"6.00"},{"v":58.333333333333336,"d":"58.33"},{"v":16.800000000000004,"d":"16.80"},58.333333333333336]
[0.35,{"v":187.0828693386971,"d":"187.08"},{"v":350,"d":"350.00"},{"v":0.2672612419124244,"d":"0.27"},{"v":195,"d":"195.00"},{"v":625,"d":"625.00"},{"v":87.5,"d":"87.50"},218.75,{"v":250,"d":"250.00"},{"v":350,"d":"350.00"},{"v":187.0828693386971,"d":"187.08"},0.35,{"v":187.0828693386971,"d":"187.08"},{"v":350,"d":"350.00"},{"v":0.2672612419124244,"d":"0.27"},{"v":195,"d":"195.00"},{"v":625,"d":"625.00"},{"v":87.5,"d":"87.50"},218.75,{"v":250,"d":"250.00"},{"$nulls":4},0.35,{"v":15.600000000000001,"d":"15.6"},{"v":44,"d":"44.00"},{"v":17,"d":"17.00"},{"v":24,"d":"24.00"},{"v":0.7,"d":"0.70"},{"v":12.2,"d":"12.20"},{"v":21.349999999999998,"d":"21.35"},4.27,{"v":61,"d":"61.00"},{"v":47.70512820512819,"d":"47.71"},{"v":15.600000000000003,"d":"15.60"},47.70512820512819,null,0.35,{"v":15.600000000000001,"d":"15.6"},{"v":44,"d":"44.00"},{"v":17,"d":"17.00"},{"v":24,"d":"24.00"},{"v":0.7,"d":"0.70"},{"v":12.2,"d":"12.20"},{"v":21.349999999999998,"d":"21.35"},4.27,{"v":61,"d":"61.00"},{"v":47.70512820512819,"d":"47.71"},{"v":15.600000000000003,"d":"15.60"},47.70512820512819,null,0.35,{"v":15.600000000000001,"d":"15.6"},{"v":44,"d":"44.00"},{"v":17,"d":"17.00"},{"v":24,"d":"24.00"},{"v":0.7,"d":"0.70"},{"v":12.2,"d":"12.20"},{"v":21.349999999999998,"d":"21.35"},4.27,{"v":61,"d":"61.00"},{"v":47.70512820512819,"d":"47.71"},{"v":15.600000000000003,"d":"15.60"},47.70512820512819,null,0.35,{"v":15.600000000000001,"d":"15.6"},{"v":62,"d":"62.00"},{"v":17,"d":"17.00"},{"v":24,"d":"24.00"},{"v":7,"d":"7.00"},{"v":47.70512820512819,"d":"47.71"},{"v":15.600000000000003,"d":"15.60"},47.70512820512819,0.65,0.35,{"v":15.600000000000001,"d":"15.6"},{"v":44,"d":"44.00"},{"v":15.600000000000001,"d":"15.60"},{"v":24,"d":"24.00"},{"v":0.7,"d":"0.70"},{"v":12.2,"d":"12.20"},{"v":21.349999999999998,"d":"21.35"},4.27,{"v":61,"d":"61.00"},{"v":47.70512820512819,"d":"47.71"},{"v":15.600000000000003,"d":"15.60"},47.70512820512819,0.65,0.35,{"v":15.600000000000001,"d":"15.6"},{"v":44,"d":"44.00"},{"v":15.600000000000001,"d":"15.60"},{"v":24,"d":"24.00"},{"v":0.7,"d":"0.70"},{"v":12.2,"d":"12.20"},{"v":21.349999999999998,"d":"21.35"},4.27,{"v":61,"d":"61.00"},{"v":47.70512820512819,"d":"47.71"},{"v":15.600000000000003,"d":"15.60"},47.70512820512819,null,0.35,{"v":15.600000000000001,"d":"15.6"},{"v":44,"d":"44.00"},{"v":15.600000000000001,"d":"15.60"},{"v":24,"d":"24.00"},{"v":0.7,"d":"0.70"},{"v":12.2,"d":"12.20"},{"v":21.349999999999998,"d":"21.35"},4.27,{"v":61,"d":"61.00"},{"v":47.70512820512819,"d":"47.71"},{"v":15.600000000000003,"d":"15.60"},47.70512820512819,null,0.35,{"v":15.600000000000001,"d":"15.6"},{"v":62,"d":"62.00"},{"v":17,"d":"17.00"},{"v":24,"d":"24.00"},{"v":7,"d":"7.00"},{"v":14,"d":"14.00"},{"v":24.5,"d":"24.50"},{"v":4.8999999999999995,"d":"4.90"},{"v":70,"d":"70.00"},{"v":62.82051282051281,"d":"62.82"},{"v":15.600000000000003,"d":"15.60"},62.82051282051281,null,0.35,{"v":15.600000000000001,"d":"15.6"},{"v":62,"d":"62.00"},{"v":17,"d":"17.00"},{"v":24,"d":"24.00"},{"v":7,"d":"7.00"},{"v":62.82051282051281,"d":"62.82"},{"v":15.600000000000003,"d":"15.60"},62.82051282051281,null,0.35,{"v":15.600000000000001,"d":"15.6"},{"v":62,"d":"62.00"},{"v":17,"d":"17.00"},{"v":24,"d":"24.00"},{"v":7,"d":"7.00"},{"v":14,"d":"14.00"},{"v":24.5,"d":"24.50"},{"v":4.8999999999999995,"d":"4.90"},{"v":70,"d":"70.00"},{"v":62.82051282051281,"d":"62.82"},{"v":15.600000000000003,"d":"15.60"},62.82051282051281,null,0.35,{"v":15.600000000000001,"d":"15.6"},{"v":62,"d":"62.00"},{"v":17,"d":"17.00"},{"v":24,"d":"24.00"},{"v":7,"d":"7.00"},{"v":14,"d":"14.00"},{"v":24.5,"d":"24.50"},{"v":4.8999999999999995,"d":"4.90"},{"v":70,"d":"70.00"},{"v":62.82051282051281,"d":"62.82"},{"v":15.600000000000003,"d":"15.60"},62.82051282051281,null,0.35,{"v":15.600000000000001,"d":"15.6"},{"v":62,"d":"62.00"},{"v":17,"d":"17.00"},{"v":24,"d":"24.00"},{"v":7,"d":"7.00"},{"v":62.82051282051281,"d":"62.82"},{"v":15.600000000000003,"d":"15.60"},62.82051282051281]
[{"v":0.4,"d":"0.40"},{"v":200,"d":"200.00"},{"v":400,"d":"400.00"},0.25,{"v":205,"d":"205.00"},{"v":625,"d":"625.00"},{"v":100,"d":"100.00"},{"v":250,"d":"250.00"},{"v":250,"d":"250.00"},{"v":400,"d":"400.00"},{"v":200,"d":"200.00"},{"v":0.4,"d":"0.40"},{"v":200,"d":"200.00"},{"v":400,"d":"400.00"},0.25,{"v":205,"d":"205.00"},{"v":625,"d":"625.00"},{"v":100,"d":"100.00"},{"v":250,"d":"250.00"},{"v":250,"d":"250.00"},{"$nulls":4},{"v":0.4,"d":"0.40"},{"v":14.399999999999999,"d":"14.4"},{"v":50,"d":"50.00"},{"v":16,"d":"16.00"},{"v":24,"d":"24.00"},{"v":0.8,"d":"0.80"},{"v":12.2,"d":"12.20"},{"v":24.400000000000002,"d":"24.40"},4.88,{"v":61,"d":"61.00"},{"v":51.680555555555564,"d":"51.68"},{"v":14.399999999999999,"d":"14.40"},51.680555555555564,null,{"v":0.4,"d":"0.40"},{"v":14.399999999999999,"d":"14.4"},{"v":50,"d":"50.00"},{"v":16,"d":"16.00"},{"v":24,"d":"24.00"},{"v":0.8,"d":"0.80"},{"v":12.2,"d":"12.20"},{"v":24.400000000000002,"d":"24.40"},4.88,{"v":61,"d":"61.00"},{"v":51.680555555555564,"d":"51.68"},{"v":14.399999999999999,"d":"14.40"},51.680555555555564,null,{"v":0.4,"d":"0.40"},{"v":14.399999999999999,"d":"14.4"},{"v":50,"d":"50.00"},{"v":16,"d":"16.00"},{"v":24,"d":"24.00"},{"v":0.8,"d":"0.80"},{"v":12.2,"d":"12.20"},{"v":24.400000000000002,"d":"24.40"},4.88,{"v":61,"d":"61.00"},{"v":51.680555555555564,"d":"51.68"},{"v":14.399999999999999,"d":"14.40"},51.680555555555564,null,{"v":0.4,"d":"0.40"},{"v":14.399999999999999,"d":"14.4"},{"v":68,"d":"68.00"},{"v":16,"d":"16.00"},{"v":24,"d":"24.00"},{"v":8,"d":"8.00"},{"v":51.680555555555564,"d":"51.68"},{"v":14.399999999999999,"d":"14.40"},51.680555555555564,{"v":0.6,"d":"0.60"},{"v":0.4,"d":"0.40"},{"v":14.399999999999999,"d":"14.4"},{"v":50,"d":"50.00"},{"v":14.399999999999999,"d":"14.40"},{"v":24,"d":"24.00"},{"v":0.8,"d":"0.80"},{"v":12.2,"d":"12.20"},{"v":24.400000000000002,"d":"24.40"},4.88,{"v":61,"d":"61.00"},{"v":51.680555555555564,"d":"51.68"},{"v":14.399999999999999,"d":"14.40"},51.680555555555564,{"v":0.6,"d":"0.60"},{"v":0.4,"d":"0.40"},{"v":14.399999999999999,"d":"14.4"},{"v":50,"d":"50.00"},{"v":14.399999999999999,"d":"14.40"},{"v":24,"d":"24.00"},{"v":0.8,"d":"0.80"},{"v":12.2,"d":"12.20"},{"v":24.400000000000002,"d":"24.40"},4.88,{"v":61,"d":"61.00"},{"v":51.680555555555564,"d":"51.68"},{"v":14.399999999999999,"d":"14.40"},51.680555555555564,null,{"v":0.4,"d":"0.40"},{"v":14.399999999999999,"d":"14.4"},{"v":50,"d":"50.00"},{"v":14.399999999999999,"d":"14.40"},{"v":24,"d":"24.00"},{"v":0.8,"d":"0.80"},{"v":12.2,"d":"12.20"},{"v":24.400000000000002,"d":"24.40"},4.88,{"v":61,"d":"61.00"},{"v":51.680555555555564,"d":"51.68"},{"v":14.399999999999999,"d":"14.40"},51.680555555555564,null,{"v":0.4,"d":"0.40"},{"v":14.399999999999999,"d":"14.4"},{"v":68,"d":"68.00"},{"v":16,"d":"16.00"},{"v":24,"d":"24.00"},{"v":8,"d":"8.00"},{"v":14,"d":"14.00"},{"v":28,"d":"28.00"},{"v":5.6000000000000005,"d":"5.60"},{"v":70,"d":"70.00"},{"v":68.05555555555556,"d":"68.06"},{"v":14.399999999999999,"d":"14.40"},68.05555555555556,null,{"v":0.4,"d":"0.40"},{"v":14.399999999999999,"d":"14.4"},{"v":68,"d":"68.00"},{"v":16,"d":"16.00"},{"v":24,"d":"24.00"},{"v":8,"d":"8.00"},{"v":68.05555555555556,"d":"68.06"},{"v":14.399999999999999,"d":"14.40"},68.05555555555556,null,{"v":0.4,"d":"0.40"},{"v":14.399999999999999,"d":"14.4"},{"v":68,"d":"68.00"},{"v":16,"d":"16.00"},{"v":24,"d":"24.00"},{"v":8,"d":"8.00"},{"v":14,"d":"14.00"},{"v":28,"d":"28.00"},{"v":5.6000000000000005,"d":"5.60"},{"v":70,"d":"70.00"},{"v":68.05555555555556,"d":"68.06"},{"v":14.399999999999999,"d":"14.40"},68.05555555555556,null,{"v":0.4,"d":"0.40"},{"v":14.399999999999999,"d":"14.4"},{"v":68,"d":"68.00"},{"v":16,"d":"16.00"},{"v":24,"d":"24.00"},{"v":8,"d":"8.00"},{"v":14,"d":"14.00"},{"v":28,"d":"28.00"},{"v":5.6000000000000005,"d":"5.60"},{"v":70,"d":"70.00"},{"v":68.05555555555556,"d":"68.06"},{"v":14.399999999999999,"d":"14.40"},68.05555555555556,null,{"v":0.4,"d":"0.40"},{"v":14.399999999999999,"d":"14.4"},{"v":68,"d":"68.00"},{"v":16,"d":"16.00"},{"v":24,"d":"24.00"},{"v":8,"d":"8.00"},{"v":68.05555555555556,"d":"68.06"},{"v":14.399999999999999,"d":"14.40"},68.05555555555556]
[0.45,{"v":212.13203435596427,"d":"212.13"},{"v":450,"d":"450.00"},{"v":0.23570226039551584,"d":"0.24"},{"v":215,"d":"215.00"},{"v":625,"d":"625.00"},{"v":112.5,"d":"112.50"},281.25,{"v":250,"d":"250.00"},{"v":450,"d":"450.00"},{"v":212.13203435596427,"d":"212.13"},0.45,{"v":212.13203435596427,"d":"212.13"},{"v":450,"d":"450.00"},{"v":0.23570226039551584,"d":"0.24"},{"v":215,"d":"215.00"},{"v":625,"d":"625.00"},{"v":112.5,"d":"112.50"},281.25,{"v":250,"d":"250.00"},{"$nulls":4},0.45,13.2,{"v":56,"d":"56.00"},{"v":15,"d":"15.00"},{"v":24,"d":"24.00"},{"v":0.9,"d":"0.90"},{"v":12.2,"d":"12.20"},27.45,5.49,{"v":61,"d":"61.00"},{"v":56.37878787878789,"d":"56.38"},{"v":13.2,"d":"13.20"},56.37878787878789,null,0.45,13.2,{"v":56,"d":"56.00"},{"v":15,"d":"15.00"},{"v":24,"d":"24.00"},{"v":0.9,"d":"0.90"},{"v":12.2,"d":"12.20"},27.45,5.49,{"v":61,"d":"61.00"},{"v":56.37878787878789,"d":"56.38"},{"v":13.2,"d":"13.20"},56.37878787878789,null,0.45,13.2,{"v":56,"d":"56.00"},{"v":15,"d":"15.00"},{"v":24,"d":"24.00"},{"v":0.9,"d":"0.90"},{"v":12.2,"d":"12.20"},27.45,5.49,{"v":61,"d":"61.00"},{"v":56.37878787878789,"d":"56.38"},{"v":13.2,"d":"13.20"},56.37878787878789,null,0.45,13.2,{"v":74,"d":"74.00"},{"v":15,"d":"15.00"},{"v":24,"d":"24.00"},{"v":9,"d":"9.00"},{"v":56.37878787878789,"d":"56.38"},{"v":13.2,"d":"13.20"},56.37878787878789,0.55,0.45,13.2,{"v":56,"d":"56.00"},{"v":13.200000000000001,"d":"13.20"},{"v":24,"d":"24.00"},{"v":0.9,"d":"0.90"},{"v":12.2,"d":"12.20"},27.45,5.49,{"v":61,"d":"61.00"},{"v":56.37878787878789,"d":"56.38"},{"v":13.2,"d":"13.20"},56.37878787878789,0.55,0.45,13.2,{"v":56,"d":"56.00"},{"v":13.200000000000001,"d":"13.20"},{"v":24,"d":"24.00"},{"v":0.9,"d":"0.90"},{"v":12.2,"d":"12.20"},27.45,5.49,{"v":61,"d":"61.00"},{"v":56.37878787878789,"d":"56.38"},{"v":13.2,"d":"13.20"},56.37878787878789,null,0.45,13.2,{"v":56,"d":"56.00"},{"v":13.200000000000001,"d":"13.20"},{"v":24,"d":"24.00"},{"v":0.9,"d":"0.90"},{"v":12.2,"d":"12.20"},27.45,5.49,{"v":61,"d":"61.00"},{"v":56.37878787878789,"d":"56.38"},{"v":13.2,"d":"13.20"},56.37878787878789,null,0.45,13.2,{"v":74,"d":"74.00"},{"v":15,"d":"15.00"},{"v":24,"d":"24.00"},{"v":9,"d":"9.00"},{"v":14,"d":"14.00"},{"v":31.5,"d":"31.50"},{"v":6.3,"d":"6.30"},{"v":70,"d":"70.00"},{"v":74.24242424242425,"d":"74.24"},{"v":13.2,"d":"13.20"},74.24242424242425,null,0.45,13.2,{"v":74,"d":"74.00"},{"v":15,"d":"15.00"},{"v":24,"d":"24.00"},{"v":9,"d":"9.00"},{"v":74.24242424242425,"d":"74.24"},{"v":13.2,"d":"13.20"},74.24242424242425,null,0.45,13.2,{"v":74,"d":"74.00"},{"v":15,"d":"15.00"},{"v":24,"d":"24.00"},{"v":9,"d":"9.00"},{"v":14,"d":"14.00"},{"v":31.5,"d":"31.50"},{"v":6.3,"d":"6.30"},{"v":70,"d":"70.00"},{"v":74.24242424242425,"d":"74.24"},{"v":13.2,"d":"13.20"},74.24242424242425,null,0.45,13.2,{"v":74,"d":"74.00"},{"v":15,"d":"15.00"},{"v":24,"d":"24.00"},{"v":9,"d":"9.00"},{"v":14,"d":"14.00"},{"v":31.5,"d":"31.50"},{"v":6.3,"d":"6.30"},{"v":70,"d":"70.00"},{"v":74.24242424242425,"d":"74.24"},{"v":13.2,"d":"13.20"},74.24242424242425,null,0.45,13.2,{"v":74,"d":"74.00"},{"v":15,"d":"15.00"},{"v":24,"d":"24.00"},{"v":9,"d":"9.00"},{"v":74.24242424242425,"d":"74.24"},{"v":13.2,"d":"13.20"},74.24242424242425]
[{"v":0.5,"d":"0.50"},{"v":223.60679774997897,"d":"223.61"},{"v":500,"d":"500.00"},{"v":0.22360679774997896,"d":"0.22"},{"v":225,"d":"225.00"},{"v":625,"d":"625.00"},{"v":125,"d":"125.00"},{"v":312.5,"d":"312.50"},{"v":250,"d":"250.00"},{"v":500,"d":"500.00"},{"v":223.60679774997897,"d":"223.61"},{"v":0.5,"d":"0.50"},{"v":223.60679774997897,"d":"223.61"},{"v":500,"d":"500.00"},{"v":0.22360679774997896,"d":"0.22"},{"v":225,"d":"225.00"},{"v":625,"d":"625.00"},{"v":125,"d":"125.00"},{"v":312.5,"d":"312.50"},{"v":250,"d":"250.00"},{"$nulls":4},{"v":0.5,"d":"0.50"},{"v":12,"d":"12.0"},{"v":62,"d":"62.00"},{"v":14,"d":"14.00"},{"v":24,"d":"24.00"},{"v":1,"d":"1.00"},{"v":12.2,"d":"12.20"},{"v":30.5,"d":"30.50"},{"v":6.1,"d":"6.10"},{"v":61,"d":"61.00"},{"v":62.01666666666667,"d":"62.02"},{"v":11.999999999999998,"d":"12.00"},62.01666666666667,null,{"v":0.5,"d":"0.50"},{"v":12,"d":"12.0"},{"v":62,"d":"62.00"},{"v":14,"d":"14.00"},{"v":24,"d":"24.00"},{"v":1,"d":"1.00"},{"v":12.2,"d":"12.20"},{"v":30.5,"d":"30.50"},{"v":6.1,"d":"6.10"},{"v":61,"d":"61.00"},{"v":62.01666666666667,"d":"62.02"},{"v":11.999999999999998,"d":"12.00"},62.01666666666667,null,{"v":0.5,"d":"0.50"},{"v":12,"d":"12.0"},{"v":62,"d":"62.00"},{"v":14,"d":"14.00"},{"v":24,"d":"24.00"},{"v":1,"d":"1.00"},{"v":12.2,"d":"12.20"},{"v":30.5,"d":"30.50"},{"v":6.1,"d":"6.10"},{"v":61,"d":"61.00"},{"v":62.01666666666667,"d":"62.02"},{"v":11.999999999999998,"d":"12.00"},62.01666666666667,null,{"v":0.5,"d":"0.50"},{"v":12,"d":"12.0"},{"v":80,"d":"80.00"},{"v":14,"d":"14.00"},{"v":24,"d":"24.00"},{"v":10,"d":"10.00"},{"v":62.01666666666667,"d":"62.02"},{"v":11.999999999999998,"d":"12.00"},62.01666666666667,{"v":0.5,"d":"0.50"},{"v":0.5,"d":"0.50"},{"v":12,"d":"12.0"},{"v":62,"d":"62.00"},{"v":12,"d":"12.00"},{"v":24,"d":"24.00"},{"v":1,"d":"1.00"},{"v":12.2,"d":"12.20"},{"v":30.5,"d":"30.50"},{"v":6.1,"d":"6.10"},{"v":61,"d":"61.00"},{"v":62.01666666666667,"d":"62.02"},{"v":11.999999999999998,"d":"12.00"},62.01666666666667,{"v":0.5,"d":"0.50"},{"v":0.5,"d":"0.50"},{"v":12,"d":"12.0"},{"v":62,"d":"62.00"},{"v":12,"d":"12.00"},{"v":24,"d":"24.00"},{"v":1,"d":"1.00"},{"v":12.2,"d":"12.20"},{"v":30.5,"d":"30.50"},{"v":6.1,"d":"6.10"},{"v":61,"d":"61.00"},{"v":62.01666666666667,"d":"62.02"},{"v":11.999999999999998,"d":"12.00"},62.01666666666667,null,{"v":0.5,"d":"0.50"},{"v":12,"d":"12.0"},{"v":62,"d":"62.00"},{"v":12,"d":"12.00"},{"v":24,"d":"24.00"},{"v":1,"d":"1.00"},{"v":12.2,"d":"12.20"},{"v":30.5,"d":"30.50"},{"v":6.1,"d":"6.10"},{"v":61,"d":"61.00"},{"v":62.01666666666667,"d":"62.02"},{"v":11.999999999999998,"d":"12.00"},62.01666666666667,null,{"v":0.5,"d":"0.50"},{"v":12,"d":"12.0"},{"v":80,"d":"80.00"},{"v":14,"d":"14.00"},{"v":24,"d":"24.00"},{"v":10,"d":"10.00"},{"v":14,"d":"14.00"},{"v":35,"d":"35.00"},{"v":7,"d":"7.00"},{"v":70,"d":"70.00"},{"v":81.6666666666667,"d":"81.67"},{"v":11.999999999999995,"d":"12.00"},81.6666666666667,null,{"v":0.5,"d":"0.50"},{"v":12,"d":"12.0"},{"v":80,"d":"80.00"},{"v":14,"d":"14.00"},{"v":24,"d":"24.00"},{"v":10,"d":"10.00"},{"v":81.6666666666667,"d":"81.67"},{"v":11.999999999999995,"d":"12.00"},81.6666666666667,null,{"v":0.5,"d":"0.50"},{"v":12,"d":"12.0"},{"v":80,"d":"80.00"},{"v":14,"d":"14.00"},{"v":24,"d":"24.00"},{"v":10,"d":"10.00"},{"v":14,"d":"14.00"},{"v":35,"d":"35.00"},{"v":7,"d":"7.00"},{"v":70,"d":"70.00"},{"v":81.6666666666667,"d":"81.67"},{"v":11.999999999999995,"d":"12.00"},81.6666666666667,null,{"v":0.5,"d":"0.50"},{"v":12,"d":"12.0"},{"v":80,"d":"80.00"},{"v":14,"d":"14.00"},{"v":24,"d":"24.00"},{"v":10,"d":"10.00"},{"v":14,"d":"14.00"},{"v":35,"d":"35.00"},{"v":7,"d":"7.00"},{"v":70,"d":"70.00"},{"v":81.6666666666667,"d":"81.67"},{"v":11.999999999999995,"d":"12.00"},81.6666666666667,null,{"v":0.5,"d":"0.50"},{"v":12,"d":"12.0"},{"v":80,"d":"80.00"},{"v":14,"d":"14.00"},{"v":24,"d":"24.00"},{"v":10,"d":"10.00"},{"v":81.6666666666667,"d":"81.67"},{"v":11.999999999999995,"d":"12.00"},81.6666666666667]
[0.55,{"v":234.5207879911715,"d":"234.52"},{"v":550,"d":"550.00"},{"v":0.21320071635561044,"d":"0.21"},{"v":235,"d":"235.00"},{"v":625,"d":"625.00"},{"v":137.5,"d":"137.50"},343.75,{"v":250,"d":"250.00"},{"v":550,"d":"550.00"},{"v":234.5207879911715,"d":"234.52"},0.55,{"v":234.5207879911715,"d":"234.52"},{"v":550,"d":"550.00"},{"v":0.21320071635561044,"d":"0.21"},{"v":235,"d":"235.00"},{"v":625,"d":"625.00"},{"v":137.5,"d":"137.50"},343.75,{"v":250,"d":"250.00"},{"$nulls":4},0.55,{"v":10.799999999999999,"d":"10.8"},{"v":68,"d":"68.00"},{"v":13,"d":"13.00"},{"v":24,"d":"24.00"},{"v":1.1,"d":"1.10"},{"v":12.2,"d":"12.20"},{"v":33.550000000000004,"d":"33.55"},6.71,{"v":61,"d":"61.00"},{"v":68.9074074074074,"d":"68.91"},{"v":10.8,"d":"10.80"},68.9074074074074,null,0.55,{"v":10.799999999999999,"d":"10.8"},{"v":68,"d":"68.00"},{"v":13,"d":"13.00"},{"v":24,"d":"24.00"},{"v":1.1,"d":"1.10"},{"v":12.2,"d":"12.20"},{"v":33.550000000000004,"d":"33.55"},6.71,{"v":61,"d":"61.00"},{"v":68.9074074074074,"d":"68.91"},{"v":10.8,"d":"10.80"},68.9074074074074,null,0.55,{"v":10.799999999999999,"d":"10.8"},{"v":68,"d":"68.00"},{"v":13,"d":"13.00"},{"v":24,"d":"24.00"},{"v":1.1,"d":"1.10"},{"v":12.2,"d":"12.20"},{"v":33.550000000000004,"d":"33.55"},6.71,{"v":61,"d":"61.00"},{"v":68.9074074074074,"d":"68.91"},{"v":10.8,"d":"10.80"},68.9074074074074,null,0.55,{"v":10.799999999999999,"d":"10.8"},{"v":86,"d":"86.00"},{"v":13,"d":"13.00"},{"v":24,"d":"24.00"},{"v":11,"d":"11.00"},{"v":68.9074074074074,"d":"68.91"},{"v":10.8,"d":"10.80"},68.9074074074074,0.45,0.55,{"v":10.799999999999999,"d":"10.8"},{"v":68,"d":"68.00"},{"v":10.8,"d":"10.80"},{"v":24,"d":"24.00"},{"v":1.1,"d":"1.10"},{"v":12.2,"d":"12.20"},{"v":33.550000000000004,"d":"33.55"},6.71,{"v":61,"d":"61.00"},{"v":68.9074074074074,"d":"68.91"},{"v":10.8,"d":"10.80"},68.9074074074074,0.45,0.55,{"v":10.799999999999999,"d":"10.8"},{"v":68,"d":"68.00"},{"v":10.8,"d":"10.80"},{"v":24,"d":"24.00"},{"v":1.1,"d":"1.10"},{"v":12.2,"d":"12.20"},{"v":33.550000000000004,"d":"33.55"},6.71,{"v":61,"d":"61.00"},{"v":68.9074074074074,"d":"68.91"},{"v":10.8,"d":"10.80"},68.9074074074074,null,0.55,{"v":10.799999999999999,"d":"10.8"},{"v":68,"d":"68.00"},{"v":10.8,"d":"10.80"},{"v":24,"d":"24.00"},{"v":1.1,"d":"1.10"},{"v":12.2,"d":"12.20"},{"v":33.550000000000004,"d":"33.55"},6.71,{"v":61,"d":"61.00"},{"v":68.9074074074074,"d":"68.91"},{"v":10.8,"d":"10.80"},68.9074074074074,null,0.55,{"v":10.799999999999999,"d":"10.8"},{"v":86,"d":"86.00"},{"v":13,"d":"13.00"},{"v":24,"d":"24.00"},{"v":11,"d":"11.00"},{"v":14,"d":"14.00"},{"v":38.5,"d":"38.50"},{"v":7.700000000000001,"d":"7.70"},{"v":70,"d":"70.00"},{"v":90.74074074074078,"d":"90.74"},{"v":10.799999999999995,"d":"10.80"},90.74074074074078,null,0.55,{"v":10.799999999999999,"d":"10.8"},{"v":86,"d":"86.00"},{"v":13,"d":"13.00"},{"v":24,"d":"24.00"},{"v":11,"d":"11.00"},{"v":90.74074074074078,"d":"90.74"},{"v":10.799999999999995,"d":"10.80"},90.74074074074078,null,0.55,{"v":10.799999999999999,"d":"10.8"},{"v":86,"d":"86.00"},{"v":13,"d":"13.00"},{"v":24,"d":"24.00"},{"v":11,"d":"11.00"},{"v":14,"d":"14.00"},{"v":38.5,"d":"38.50"},{"v":7.700000000000001,"d":"7.70"},{"v":70,"d":"70.00"},{"v":90.74074074074078,"d":"90.74"},{"v":10.799999999999995,"d":"10.80"},90.74074074074078,null,0.55,{"v":10.799999999999999,"d":"10.8"},{"v":86,"d":"86.00"},{"v":13,"d":"13.00"},{"v":24,"d":"24.00"},{"v":11,"d":"11.00"},{"v":14,"d":"14.00"},{"v":38.5,"d":"38.50"},{"v":7.700000000000001,"d":"7.70"},{"v":70,"d":"70.00"},{"v":90.74074074074078,"d":"90.74"},{"v":10.799999999999995,"d":"10.80"},90.74074074074078,null,0.55,{"v":10.799999999999999,"d":"10.8"},{"v":86,"d":"86.00"},{"v":13,"d":"13.00"},{"v":24,"d":"24.00"},{"v":11,"d":"11.00"},{"v":90.74074074074078,"d":"90.74"},{"v":10.799999999999995,"d":"10.80"},90.74074074074078]
[{"v":0.6,"d":"0.60"},{"v":244.9489742783178,"d":"244.95"},{"v":600,"d":"600.00"},{"v":0.2041241452319315,"d":"0.20"},{"v":245,"d":"245.00"},{"v":625,"d":"625.00"},{"v":150,"d":"150.00"},{"v":375,"d":"375.00"},{"v":250,"d":"250.00"},{"v":600,"d":"600.00"},{"v":244.9489742783178,"d":"244.95"},{"v":0.6,"d":"0.60"},{"v":244.9489742783178,"d":"244.95"},{"v":600,"d":"600.00"},{"v":0.2041241452319315,"d":"0.20"},{"v":245,"d":"245.00"},{"v":625,"d":"625.00"},{"v":150,"d":"150.00"},{"v":375,"d":"375.00"},{"v":250,"d":"250.00"},{"$nulls":4},{"v":0.6,"d":"0.60"},{"v":9.600000000000001,"d":"9.6"},{"v":74,"d":"74.00"},{"v":12,"d":"12.00"},{"v":24,"d":"24.00"},{"v":1.2,"d":"1.20"},{"v":12.2,"d":"12.20"},{"v":36.6,"d":"36.60"},{"v":7.319999999999999,"d":"7.32"},{"v":61,"d":"61.00"},{"v":77.52083333333333,"d":"77.52"},{"v":9.600000000000001,"d":"9.60"},77.52083333333333,null,{"v":0.6,"d":"0.60"},{"v":9.600000000000001,"d":"9.6"},{"v":74,"d":"74.00"},{"v":12,"d":"12.00"},{"v":24,"d":"24.00"},{"v":1.2,"d":"1.20"},{"v":12.2,"d":"12.20"},{"v":36.6,"d":"36.60"},{"v":7.319999999999999,"d":"7.32"},{"v":61,"d":"61.00"},{"v":77.52083333333333,"d":"77.52"},{"v":9.600000000000001,"d":"9.60"},77.52083333333333,null,{"v":0.6,"d":"0.60"},{"v":9.600000000000001,"d":"9.6"},{"v":74,"d":"74.00"},{"v":12,"d":"12.00"},{"v":24,"d":"24.00"},{"v":1.2,"d":"1.20"},{"v":12.2,"d":"12.20"},{"v":36.6,"d":"36.60"},{"v":7.319999999999999,"d":"7.32"},{"v":61,"d":"61.00"},{"v":77.52083333333333,"d":"77.52"},{"v":9.600000000000001,"d":"9.60"},77.52083333333333,null,{"v":0.6,"d":"0.60"},{"v":9.600000000000001,"d":"9.6"},{"v":92,"d":"92.00"},{"v":12,"d":"12.00"},{"v":24,"d":"24.00"},{"v":12,"d":"12.00"},{"v":77.52083333333333,"d":"77.52"},{"v":9.600000000000001,"d":"9.60"},77.52083333333333,{"v":0.4,"d":"0.40"},{"v":0.6,"d":"0.60"},{"v":9.600000000000001,"d":"9.6"},{"v":74,"d":"74.00"},{"v":9.600000000000001,"d":"9.60"},{"v":24,"d":"24.00"},{"v":1.2,"d":"1.20"},{"v":12.2,"d":"12.20"},{"v":36.6,"d":"36.60"},{"v":7.319999999999999,"d":"7.32"},{"v":61,"d":"61.00"},{"v":77.52083333333333,"d":"77.52"},{"v":9.600000000000001,"d":"9.60"},77.52083333333333,{"v":0.4,"d":"0.40"},{"v":0.6,"d":"0.60"},{"v":9.600000000000001,"d":"9.6"},{"v":74,"d":"74.00"},{"v":9.600000000000001,"d":"9.60"},{"v":24,"d":"24.00"},{"v":1.2,"d":"1.20"},{"v":12.2,"d":"12.20"},{"v":36.6,"d":"36.60"},{"v":7.319999999999999,"d":"7.32"},{"v":61,"d":"61.00"},{"v":77.52083333333333,"d":"77.52"},{"v":9.600000000000001,"d":"9.60"},77.52083333333333,null,{"v":0.6,"d":"0.60"},{"v":9.600000000000001,"d":"9.6"},{"v":74,"d":"74.00"},{"v":9.600000000000001,"d":"9.60"},{"v":24,"d":"24.00"},{"v":1.2,"d":"1.20"},{"v":12.2,"d":"12.20"},{"v":36.6,"d":"36.60"},{"v":7.319999999999999,"d":"7.32"},{"v":61,"d":"61.00"},{"v":77.52083333333333,"d":"77.52"},{"v":9.600000000000001,"d":"9.60"},77.52083333333333,null,{"v":0.6,"d":"0.60"},{"v":9.600000000000001,"d":"9.6"},{"v":92,"d":"92.00"},{"v":12,"d":"12.00"},{"v":24,"d":"24.00"},{"v":12,"d":"12.00"},{"v":14,"d":"14.00"},{"v":42,"d":"42.00"},{"v":8.4,"d":"8.40"},{"v":70,"d":"70.00"},{"v":102.08333333333333,"d":"102.08"},{"v":9.600000000000001,"d":"9.60"},102.08333333333333,null,{"v":0.6,"d":"0.60"},{"v":9.600000000000001,"d":"9.6"},{"v":92,"d":"92.00"},{"v":12,"d":"12.00"},{"v":24,"d":"24.00"},{"v":12,"d":"12.00"},{"v":102.08333333333333,"d":"102.08"},{"v":9.600000000000001,"d":"9.60"},102.08333333333333,null,{"v":0.6,"d":"0.60"},{"v":9.600000000000001,"d":"9.6"},{"v":92,"d":"92.00"},{"v":12,"d":"12.00"},{"v":24,"d":"24.00"},{"v":12,"d":"12.00"},{"v":14,"d":"14.00"},{"v":42,"d":"42.00"},{"v":8.4,"d":"8.40"},{"v":70,"d":"70.00"},{"v":102.08333333333333,"d":"102.08"},{"v":9.600000000000001,"d":"9.60"},102.08333333333333,null,{"v":0.6,"d":"0.60"},{"v":9.600000000000001,"d":"9.6"},{"v":92,"d":"92.00"},{"v":12,"d":"12.00"},{"v":24,"d":"24.00"},{"v":12,"d":"12.00"},{"v":14,"d":"14.00"},{"v":42,"d":"42.00"},{"v":8.4,"d":"8.40"},{"v":70,"d":"70.00"},{"v":102.08333333333333,"d":"102.08"},{"v":9.600000000000001,"d":"9.60"},102.08333333333333,null,{"v":0.6,"d":"0.60"},{"v":9.600000000000001,"d":"9.6"},{"v":92,"d":"92.00"},{"v":12,"d":"12.00"},{"v":24,"d":"24.00"},{"v":12,"d":"12.00"},{"v":102.08333333333333,"d":"102.08"},{"v":9.600000000000001,"d":"9.60"},102.08333333333333]
[0.65,{"v":254.95097567963924,"d":"254.95"},{"v":650,"d":"650.00"},{"v":0.19611613513818404,"d":"0.20"},{"v":255,"d":"255.00"},{"v":625,"d":"625.00"},{"v":162.5,"d":"162.50"},406.25,{"v":250,"d":"250.00"},{"v":650,"d":"650.00"},{"v":254.95097567963924,"d":"254.95"},0.65,{"v":254.95097567963924,"d":"254.95"},{"v":650,"d":"650.00"},{"v":0.19611613513818404,"d":"0.20"},{"v":255,"d":"255.00"},{"v":625,"d":"625.00"},{"v":162.5,"d":"162.50"},406.25,{"v":250,"d":"250.00"},{"$nulls":4},0.65,{"v":8.399999999999999,"d":"8.4"},{"v":80,"d":"80.00"},{"v":11,"d":"11.00"},{"v":24,"d":"24.00"},{"v":1.3,"d":"1.30"},{"v":12.2,"d":"12.20"},39.65,7.93,{"v":61,"d":"61.00"},{"v":88.5952380952381,"d":"88.60"},{"v":8.399999999999999,"d":"8.40"},88.5952380952381,null,0.65,{"v":8.399999999999999,"d":"8.4"},{"v":80,"d":"80.00"},{"v":11,"d":"11.00"},{"v":24,"d":"24.00"},{"v":1.3,"d":"1.30"},{"v":12.2,"d":"12.20"},39.65,7.93,{"v":61,"d":"61.00"},{"v":88.5952380952381,"d":"88.60"},{"v":8.399999999999999,"d":"8.40"},88.5952380952381,null,0.65,{"v":8.399999999999999,"d":"8.4"},{"v":80,"d":"80.00"},{"v":11,"d":"11.00"},{"v":24,"d":"24.00"},{"v":1.3,"d":"1.30"},{"v":12.2,"d":"12.20"},39.65,7.93,{"v":61,"d":"61.00"},{"v":88.5952380952381,"d":"88.60"},{"v":8.399999999999999,"d":"8.40"},88.5952380952381,null,0.65,{"v":8.399999999999999,"d":"8.4"},{"v":98,"d":"98.00"},{"v":11,"d":"11.00"},{"v":24,"d":"24.00"},{"v":13,"d":"13.00"},{"v":88.5952380952381,"d":"88.60"},{"v":8.399999999999999,"d":"8.40"},88.5952380952381,0.35,0.65,{"v":8.399999999999999,"d":"8.4"},{"v":80,"d":"80.00"},{"v":8.399999999999999,"d":"8.40"},{"v":24,"d":"24.00"},{"v":1.3,"d":"1.30"},{"v":12.2,"d":"12.20"},39.65,7.93,{"v":61,"d":"61.00"},{"v":88.5952380952381,"d":"88.60"},{"v":8.399999999999999,"d":"8.40"},88.5952380952381,0.35,0.65,{"v":8.399999999999999,"d":"8.4"},{"v":80,"d":"80.00"},{"v":8.399999999999999,"d":"8.40"},{"v":24,"d":"24.00"},{"v":1.3,"d":"1.30"},{"v":12.2,"d":"12.20"},39.65,7.93,{"v":61,"d":"61.00"},{"v":88.5952380952381,"d":"88.60"},{"v":8.399999999999999,"d":"8.40"},88.5952380952381,null,0.65,{"v":8.399999999999999,"d":"8.4"},{"v":80,"d":"80.00"},{"v":8.399999999999999,"d":"8.40"},{"v":24,"d":"24.00"},{"v":1.3,"d":"1.30"},{"v":12.2,"d":"12.20"},39.65,7.93,{"v":61,"d":"61.00"},{"v":88.5952380952381,"d":"88.60"},{"v":8.399999999999999,"d":"8.40"},88.5952380952381,null,0.65,{"v":8.399999999999999,"d":"8.4"},{"v":98,"d":"98.00"},{"v":11,"d":"11.00"},{"v":24,"d":"24.00"},{"v":13,"d":"13.00"},{"v":14,"d":"14.00"},{"v":45.5,"d":"45.50"},{"v":9.1,"d":"9.10"},{"v":70,"d":"70.00"},{"v":116.6666666666667,"d":"116.67"},{"v":8.399999999999999,"d":"8.40"},116.6666666666667,null,0.65,{"v":8.399999999999999,"d":"8.4"},{"v":98,"d":"98.00"},{"v":11,"d":"11.00"},{"v":24,"d":"24.00"},{"v":13,"d":"13.00"},{"v":116.6666666666667,"d":"116.67"},{"v":8.399999999999999,"d":"8.40"},116.6666666666667,null,0.65,{"v":8.399999999999999,"d":"8.4"},{"v":98,"d":"98.00"},{"v":11,"d":"11.00"},{"v":24,"d":"24.00"},{"v":13,"d":"13.00"},{"v":14,"d":"14.00"},{"v":45.5,"d":"45.50"},{"v":9.1,"d":"9.10"},{"v":70,"d":"70.00"},{"v":116.6666666666667,"d":"116.67"},{"v":8.399999999999999,"d":"8.40"},116.6666666666667,null,0.65,{"v":8.399999999999999,"d":"8.4"},{"v":98,"d":"98.00"},{"v":11,"d":"11.00"},{"v":24,"d":"24.00"},{"v":13,"d":"13.00"},{"v":14,"d":"14.00"},{"v":45.5,"d":"45.50"},{"v":9.1,"d":"9.10"},{"v":70,"d":"70.00"},{"v":116.6666666666667,"d":"116.67"},{"v":8.399999999999999,"d":"8.40"},116.6666666666667,null,0.65,{"v":8.399999999999999,"d":"8.4"},{"v":98,"d":"98.00"},{"v":11,"d":"11.00"},{"v":24,"d":"24.00"},{"v":13,"d":"13.00"},{"v":116.6666666666667,"d":"116.67"},{"v":8.399999999999999,"d":"8.40"},116.6666666666667]
[{"v":0.7,"d":"0.70"},{"v":264.575131106459,"d":"264.58"},{"v":700,"d":"700.00"},{"v":0.1889822365046136,"d":"0.19"},{"v":265,"d":"265.00"},{"v":625,"d":"625.00"},{"v":175,"d":"175.00"},{"v":437.5,"d":"437.50"},{"v":250,"d":"250.00"},{"v":700,"d":"700.00"},{"v":264.575131106459,"d":"264.58"},{"v":0.7,"d":"0.70"},{"v":264.575131106459,"d":"264.58"},{"v":700,"d":"700.00"},{"v":0.1889822365046136,"d":"0.19"},{"v":265,"d":"265.00"},{"v":625,"d":"625.00"},{"v":175,"d":"175.00"},{"v":437.5,"d":"437.50"},{"v":250,"d":"250.00"},{"$nulls":4},{"v":0.7,"d":"0.70"},{"v":7.200000000000003,"d":"7.2"},{"v":85.99999999999999,"d":"86.00"},{"v":10,"d":"10.00"},{"v":24,"d":"24.00"},{"v":1.4,"d":"1.40"},{"v":12.2,"d":"12.20"},{"v":42.699999999999996,"d":"42.70"},8.54,{"v":61,"d":"61.00"},{"v":103.36111111111106,"d":"103.36"},{"v":7.200000000000003,"d":"7.20"},103.36111111111106,null,{"v":0.7,"d":"0.70"},{"v":7.200000000000003,"d":"7.2"},{"v":85.99999999999999,"d":"86.00"},{"v":10,"d":"10.00"},{"v":24,"d":"24.00"},{"v":1.4,"d":"1.40"},{"v":12.2,"d":"12.20"},{"v":42.699999999999996,"d":"42.70"},8.54,{"v":61,"d":"61.00"},{"v":103.36111111111106,"d":"103.36"},{"v":7.200000000000003,"d":"7.20"},103.36111111111106,null,{"v":0.7,"d":"0.70"},{"v":7.200000000000003,"d":"7.2"},{"v":85.99999999999999,"d":"86.00"},{"v":10,"d":"10.00"},{"v":24,"d":"24.00"},{"v":1.4,"d":"1.40"},{"v":12.2,"d":"12.20"},{"v":42.699999999999996,"d":"42.70"},8.54,{"v":61,"d":"61.00"},{"v":103.36111111111106,"d":"103.36"},{"v":7.200000000000003,"d":"7.20"},103.36111111111106,null,{"v":0.7,"d":"0.70"},{"v":7.200000000000003,"d":"7.2"},{"v":103.99999999999999,"d":"104.00"},{"v":10,"d":"10.00"},{"v":24,"d":"24.00"},{"v":14,"d":"14.00"},{"v":103.36111111111106,"d":"103.36"},{"v":7.200000000000003,"d":"7.20"},103.36111111111106,{"v":0.3,"d":"0.30"},{"v":0.7,"d":"0.70"},{"v":7.200000000000003,"d":"7.2"},{"v":85.99999999999999,"d":"86.00"},{"v":7.199999999999999,"d":"7.20"},{"v":24,"d":"24.00"},{"v":1.4,"d":"1.40"},{"v":12.2,"d":"12.20"},{"v":42.699999999999996,"d":"42.70"},8.54,{"v":61,"d":"61.00"},{"v":103.36111111111106,"d":"103.36"},{"v":7.200000000000003,"d":"7.20"},103.36111111111106,{"v":0.3,"d":"0.30"},{"v":0.7,"d":"0.70"},{"v":7.200000000000003,"d":"7.2"},{"v":85.99999999999999,"d":"86.00"},{"v":7.199999999999999,"d":"7.20"},{"v":24,"d":"24.00"},{"v":1.4,"d":"1.40"},{"v":12.2,"d":"12.20"},{"v":42.699999999999996,"d":"42.70"},8.54,{"v":61,"d":"61.00"},{"v":103.36111111111106,"d":"103.36"},{"v":7.200000000000003,"d":"7.20"},103.36111111111106,null,{"v":0.7,"d":"0.70"},{"v":7.200000000000003,"d":"7.2"},{"v":85.99999999999999,"d":"86.00"},{"v":7.199999999999999,"d":"7.20"},{"v":24,"d":"24.00"},{"v":1.4,"d":"1.40"},{"v":12.2,"d":"12.20"},{"v":42.699999999999996,"d":"42.70"},8.54,{"v":61,"d":"61.00"},{"v":103.36111111111106,"d":"103.36"},{"v":7.200000000000003,"d":"7.20"},103.36111111111106,null,{"v":0.7,"d":"0.70"},{"v":7.200000000000003,"d":"7.2"},{"v":103.99999999999999,"d":"104.00"},{"v":10,"d":"10.00"},{"v":24,"d":"24.00"},{"v":14,"d":"14.00"},{"v":14,"d":"14.00"},{"v":49,"d":"49.00"},{"v":9.799999999999999,"d":"9.80"},{"v":70,"d":"70.00"},{"v":136.11111111111106,"d":"136.11"},{"v":7.200000000000003,"d":"7.20"},136.11111111111106,null,{"v":0.7,"d":"0.70"},{"v":7.200000000000003,"d":"7.2"},{"v":103.99999999999999,"d":"104.00"},{"v":10,"d":"10.00"},{"v":24,"d":"24.00"},{"v":14,"d":"14.00"},{"v":136.11111111111106,"d":"136.11"},{"v":7.200000000000003,"d":"7.20"},136.11111111111106,null,{"v":0.7,"d":"0.70"},{"v":7.200000000000003,"d":"7.2"},{"v":103.99999999999999,"d":"104.00"},{"v":10,"d":"10.00"},{"v":24,"d":"24.00"},{"v":14,"d":"14.00"},{"v":14,"d":"14.00"},{"v":49,"d":"49.00"},{"v":9.799999999999999,"d":"9.80"},{"v":70,"d":"70.00"},{"v":136.11111111111106,"d":"136.11"},{"v":7.200000000000003,"d":"7.20"},136.11111111111106,null,{"v":0.7,"d":"0.70"},{"v":7.200000000000003,"d":"7.2"},{"v":103.99999999999999,"d":"104.00"},{"v":10,"d":"10.00"},{"v":24,"d":"24.00"},{"v":14,"d":"14.00"},{"v":14,"d":"14.00"},{"v":49,"d":"49.00"},{"v":9.799999999999999,"d":"9.80"},{"v":70,"d":"70.00"},{"v":136.11111111111106,"d":"136.11"},{"v":7.200000000000003,"d":"7.20"},136.11111111111106,null,{"v":0.7,"d":"0.70"},{"v":7.200000000000003,"d":"7.2"},{"v":103.99999999999999,"d":"104.00"},{"v":10,"d":"10.00"},{"v":24,"d":"24.00"},{"v":14,"d":"14.00"},{"v":136.11111111111106,"d":"136.11"},{"v":7.200000000000003,"d":"7.20"},136.11111111111106]
[0.75,{"v":273.8612787525831,"d":"273.86"},{"v":750,"d":"750.00"},{"v":0.18257418583505536,"d":"0.18"},{"v":275,"d":"275.00"},{"v":625,"d":"625.00"},{"v":187.5,"d":"187.50"},468.75,{"v":250,"d":"250.00"},{"v":750,"d":"750.00"},{"v":273.8612787525831,"d":"273.86"},0.75,{"v":273.8612787525831,"d":"273.86"},{"v":750,"d":"750.00"},{"v":0.18257418583505536,"d":"0.18"},{"v":275,"d":"275.00"},{"v":625,"d":"625.00"},{"v":187.5,"d":"187.50"},468.75,{"v":250,"d":"250.00"},{"$nulls":4},0.75,{"v":6,"d":"6.0"},{"v":92,"d":"92.00"},{"v":9,"d":"9.00"},{"v":24,"d":"24.00"},{"v":1.5,"d":"1.50"},{"v":12.2,"d":"12.20"},45.75,{"v":9.149999999999999,"d":"9.15"},{"v":61,"d":"61.00"},{"v":124.03333333333336,"d":"124.03"},{"v":7.200000000000003,"d":"7.20"},103.36111111111106,null,0.75,{"v":6,"d":"6.0"},{"v":92,"d":"92.00"},{"v":9,"d":"9.00"},{"v":24,"d":"24.00"},{"v":1.5,"d":"1.50"},{"v":12.2,"d":"12.20"},45.75,{"v":9.149999999999999,"d":"9.15"},{"v":61,"d":"61.00"},{"v":124.03333333333336,"d":"124.03"},{"v":7.200000000000003,"d":"7.20"},103.36111111111106,null,0.75,{"v":6,"d":"6.0"},{"v":92,"d":"92.00"},{"v":9,"d":"9.00"},{"v":24,"d":"24.00"},{"v":1.5,"d":"1.50"},{"v":12.2,"d":"12.20"},45.75,{"v":9.149999999999999,"d":"9.15"},{"v":61,"d":"61.00"},{"v":124.03333333333336,"d":"124.03"},{"v":7.200000000000003,"d":"7.20"},103.36111111111106,null,0.75,{"v":6,"d":"6.0"},{"v":110,"d":"110.00"},{"v":9,"d":"9.00"},{"v":24,"d":"24.00"},{"v":15,"d":"15.00"},{"v":124.03333333333336,"d":"124.03"},{"v":7.200000000000003,"d":"7.20"},103.36111111111106,0.25,0.75,{"v":6,"d":"6.0"},{"v":92,"d":"92.00"},{"v":6,"d":"6.00"},{"v":24,"d":"24.00"},{"v":1.5,"d":"1.50"},{"v":12.2,"d":"12.20"},45.75,{"v":9.149999999999999,"d":"9.15"},{"v":61,"d":"61.00"},{"v":124.03333333333336,"d":"124.03"},{"v":7.200000000000003,"d":"7.20"},103.36111111111106,0.25,0.75,{"v":6,"d":"6.0"},{"v":92,"d":"92.00"},{"v":6,"d":"6.00"},{"v":24,"d":"24.00"},{"v":1.5,"d":"1.50"},{"v":12.2,"d":"12.20"},45.75,{"v":9.149999999999999,"d":"9.15"},{"v":61,"d":"61.00"},{"v":124.03333333333336,"d":"124.03"},{"v":7.200000000000003,"d":"7.20"},103.36111111111106,null,0.75,{"v":6,"d":"6.0"},{"v":92,"d":"92.00"},{"v":6,"d":"6.00"},{"v":24,"d":"24.00"},{"v":1.5,"d":"1.50"},{"v":12.2,"d":"12.20"},45.75,{"v":9.149999999999999,"d":"9.15"},{"v":61,"d":"61.00"},{"v":124.03333333333336,"d":"124.03"},{"v":7.200000000000003,"d":"7.20"},103.36111111111106,null,0.75,{"v":6,"d":"6.0"},{"v":110,"d":"110.00"},{"v":9,"d":"9.00"},{"v":24,"d":"24.00"},{"v":15,"d":"15.00"},{"v":14,"d":"14.00"},{"v":52.5,"d":"52.50"},{"v":10.5,"d":"10.50"},{"v":70,"d":"70.00"},{"v":163.3333333333334,"d":"163.33"},{"v":7.200000000000003,"d":"7.20"},136.11111111111106,null,0.75,{"v":6,"d":"6.0"},{"v":110,"d":"110.00"},{"v":9,"d":"9.00"},{"v":24,"d":"24.00"},{"v":15,"d":"15.00"},{"v":163.3333333333334,"d":"163.33"},{"v":7.200000000000003,"d":"7.20"},136.11111111111106,null,0.75,{"v":6,"d":"6.0"},{"v":110,"d":"110.00"},{"v":9,"d":"9.00"},{"v":24,"d":"24.00"},{"v":15,"d":"15.00"},{"v":14,"d":"14.00"},{"v":52.5,"d":"52.50"},{"v":10.5,"d":"10.50"},{"v":70,"d":"70.00"},{"v":163.3333333333334,"d":"163.33"},{"v":7.200000000000003,"d":"7.20"},136.11111111111106,null,0.75,{"v":6,"d":"6.0"},{"v":110,"d":"110.00"},{"v":9,"d":"9.00"},{"v":24,"d":"24.00"},{"v":15,"d":"15.00"},{"v":14,"d":"14.00"},{"v":52.5,"d":"52.50"},{"v":10.5,"d":"10.50"},{"v":70,"d":"70.00"},{"v":163.3333333333334,"d":"163.33"},{"v":7.200000000000003,"d":"7.20"},136.11111111111106,null,0.75,{"v":6,"d":"6.0"},{"v":110,"d":"110.00"},{"v":9,"d":"9.00"},{"v":24,"d":"24.00"},{"v":15,"d":"15.00"},{"v":163.3333333333334,"d":"163.33"},{"v":7.200000000000003,"d":"7.20"},136.11111111111106]
[{"v":0.8,"d":"0.80"},{"v":282.842712474619,"d":"282.84"},{"v":800,"d":"800.00"},{"v":0.1767766952966369,"d":"0.18"},{"v":285,"d":"285.00"},{"v":625,"d":"625.00"},{"v":200,"d":"200.00"},{"v":500,"d":"500.00"},{"v":250,"d":"250.00"},{"v":800,"d":"800.00"},{"v":282.842712474619,"d":"282.84"},{"v":0.8,"d":"0.80"},{"v":282.842712474619,"d":"282.84"},{"v":800,"d":"800.00"},{"v":0.1767766952966369,"d":"0.18"},{"v":285,"d":"285.00"},{"v":625,"d":"625.00"},{"v":200,"d":"200.00"},{"v":500,"d":"500.00"},{"v":250,"d":"250.00"},{"$nulls":4},{"v":0.8,"d":"0.80"},{"v":4.799999999999997,"d":"4.8"},{"v":98.00000000000001,"d":"98.00"},{"v":8,"d":"8.00"},{"v":24,"d":"24.00"},{"v":1.6,"d":"1.60"},{"v":12.2,"d":"12.20"},{"v":48.800000000000004,"d":"48.80"},9.76,{"v":61,"d":"61.00"},{"v":155.04166666666674,"d":"155.04"},{"v":7.200000000000003,"d":"7.20"},103.36111111111106,null,{"v":0.8,"d":"0.80"},{"v":4.799999999999997,"d":"4.8"},{"v":98.00000000000001,"d":"98.00"},{"v":8,"d":"8.00"},{"v":24,"d":"24.00"},{"v":1.6,"d":"1.60"},{"v":12.2,"d":"12.20"},{"v":48.800000000000004,"d":"48.80"},9.76,{"v":61,"d":"61.00"},{"v":155.04166666666674,"d":"155.04"},{"v":7.200000000000003,"d":"7.20"},103.36111111111106,null,{"v":0.8,"d":"0.80"},{"v":4.799999999999997,"d":"4.8"},{"v":98.00000000000001,"d":"98.00"},{"v":8,"d":"8.00"},{"v":24,"d":"24.00"},{"v":1.6,"d":"1.60"},{"v":12.2,"d":"12.20"},{"v":48.800000000000004,"d":"48.80"},9.76,{"v":61,"d":"61.00"},{"v":155.04166666666674,"d":"155.04"},{"v":7.200000000000003,"d":"7.20"},103.36111111111106,null,{"v":0.8,"d":"0.80"},{"v":4.799999999999997,"d":"4.8"},{"v":116.00000000000001,"d":"116.00"},{"v":8,"d":"8.00"},{"v":24,"d":"24.00"},{"v":16,"d":"16.00"},{"v":155.04166666666674,"d":"155.04"},{"v":7.200000000000003,"d":"7.20"},103.36111111111106,{"v":0.2,"d":"0.20"},{"v":0.8,"d":"0.80"},{"v":4.799999999999997,"d":"4.8"},{"v":98.00000000000001,"d":"98.00"},{"v":4.800000000000001,"d":"4.80"},{"v":24,"d":"24.00"},{"v":1.6,"d":"1.60"},{"v":12.2,"d":"12.20"},{"v":48.800000000000004,"d":"48.80"},9.76,{"v":61,"d":"61.00"},{"v":155.04166666666674,"d":"155.04"},{"v":7.200000000000003,"d":"7.20"},103.36111111111106,{"v":0.2,"d":"0.20"},{"v":0.8,"d":"0.80"},{"v":4.799999999999997,"d":"4.8"},{"v":98.00000000000001,"d":"98.00"},{"v":4.800000000000001,"d":"4.80"},{"v":24,"d":"24.00"},{"v":1.6,"d":"1.60"},{"v":12.2,"d":"12.20"},{"v":48.800000000000004,"d":"48.80"},9.76,{"v":61,"d":"61.00"},{"v":155.04166666666674,"d":"155.04"},{"v":7.200000000000003,"d":"7.20"},103.36111111111106,null,{"v":0.8,"d":"0.80"},{"v":4.799999999999997,"d":"4.8"},{"v":98.00000000000001,"d":"98.00"},{"v":4.800000000000001,"d":"4.80"},{"v":24,"d":"24.00"},{"v":1.6,"d":"1.60"},{"v":12.2,"d":"12.20"},{"v":48.800000000000004,"d":"48.80"},9.76,{"v":61,"d":"61.00"},{"v":155.04166666666674,"d":"155.04"},{"v":7.200000000000003,"d":"7.20"},103.36111111111106,null,{"v":0.8,"d":"0.80"},{"v":4.799999999999997,"d":"4.8"},{"v":116.00000000000001,"d":"116.00"},{"v":8,"d":"8.00"},{"v":24,"d":"24.00"},{"v":16,"d":"16.00"},{"v":14,"d":"14.00"},{"v":56,"d":"56.00"},{"v":11.200000000000001,"d":"11.20"},{"v":70,"d":"70.00"},{"v":204.16666666666677,"d":"204.17"},{"v":7.200000000000003,"d":"7.20"},136.11111111111106,null,{"v":0.8,"d":"0.80"},{"v":4.799999999999997,"d":"4.8"},{"v":116.00000000000001,"d":"116.00"},{"v":8,"d":"8.00"},{"v":24,"d":"24.00"},{"v":16,"d":"16.00"},{"v":204.16666666666677,"d":"204.17"},{"v":7.200000000000003,"d":"7.20"},136.11111111111106,null,{"v":0.8,"d":"0.80"},{"v":4.799999999999997,"d":"4.8"},{"v":116.00000000000001,"d":"116.00"},{"v":8,"d":"8.00"},{"v":24,"d":"24.00"},{"v":16,"d":"16.00"},{"v":14,"d":"14.00"},{"v":56,"d":"56.00"},{"v":11.200000000000001,"d":"11.20"},{"v":70,"d":"70.00"},{"v":204.16666666666677,"d":"204.17"},{"v":7.200000000000003,"d":"7.20"},136.11111111111106,null,{"v":0.8,"d":"0.80"},{"v":4.799999999999997,"d":"4.8"},{"v":116.00000000000001,"d":"116.00"},{"v":8,"d":"8.00"},{"v":24,"d":"24.00"},{"v":16,"d":"16.00"},{"v":14,"d":"14.00"},{"v":56,"d":"56.00"},{"v":11.200000000000001,"d":"11.20"},{"v":70,"d":"70.00"},{"v":204.16666666666677,"d":"204.17"},{"v":7.200000000000003,"d":"7.20"},136.11111111111106,null,{"v":0.8,"d":"0.80"},{"v":4.799999999999997,"d":"4.8"},{"v":116.00000000000001,"d":"116.00"},{"v":8,"d":"8.00"},{"v":24,"d":"24.00"},{"v":16,"d":"16.00"},{"v":204.16666666666677,"d":"204.17"},{"v":7.200000000000003,"d":"7.20"},136.11111111111106]
[0.85,{"v":291.547594742265,"d":"291.55"},{"v":850,"d":"850.00"},{"v":0.17149858514250885,"d":"0.17"},{"v":295,"d":"295.00"},{"v":625,"d":"625.00"},{"v":212.5,"d":"212.50"},531.25,{"v":250,"d":"250.00"},{"v":850,"d":"850.00"},{"v":291.547594742265,"d":"291.55"},0.85,{"v":291.547594742265,"d":"291.55"},{"v":850,"d":"850.00"},{"v":0.17149858514250885,"d":"0.17"},{"v":295,"d":"295.00"},{"v":625,"d":"625.00"},{"v":212.5,"d":"212.50"},531.25,{"v":250,"d":"250.00"},{"$nulls":4},0.85,{"v":3.6000000000000014,"d":"3.6"},{"v":104,"d":"104.00"},{"v":7,"d":"7.00"},{"v":24,"d":"24.00"},{"v":1.7,"d":"1.70"},{"v":12.2,"d":"12.20"},51.85,10.37,{"v":61,"d":"61.00"},{"v":206.72222222222214,"d":"206.72"},{"v":7.200000000000003,"d":"7.20"},103.36111111111106,null,0.85,{"v":3.6000000000000014,"d":"3.6"},{"v":104,"d":"104.00"},{"v":7,"d":"7.00"},{"v":24,"d":"24.00"},{"v":1.7,"d":"1.70"},{"v":12.2,"d":"12.20"},51.85,10.37,{"v":61,"d":"61.00"},{"v":206.72222222222214,"d":"206.72"},{"v":7.200000000000003,"d":"7.20"},103.36111111111106,null,0.85,{"v":3.6000000000000014,"d":"3.6"},{"v":104,"d":"104.00"},{"v":7,"d":"7.00"},{"v":24,"d":"24.00"},{"v":1.7,"d":"1.70"},{"v":12.2,"d":"12.20"},51.85,10.37,{"v":61,"d":"61.00"},{"v":206.72222222222214,"d":"206.72"},{"v":7.200000000000003,"d":"7.20"},103.36111111111106,null,0.85,{"v":3.6000000000000014,"d":"3.6"},{"v":122,"d":"122.00"},{"v":7,"d":"7.00"},{"v":24,"d":"24.00"},{"v":17,"d":"17.00"},{"v":206.72222222222214,"d":"206.72"},{"v":7.200000000000003,"d":"7.20"},103.36111111111106,0.15,0.85,{"v":3.6000000000000014,"d":"3.6"},{"v":104,"d":"104.00"},{"v":3.5999999999999996,"d":"3.60"},{"v":24,"d":"24.00"},{"v":1.7,"d":"1.70"},{"v":12.2,"d":"12.20"},51.85,10.37,{"v":61,"d":"61.00"},{"v":206.72222222222214,"d":"206.72"},{"v":7.200000000000003,"d":"7.20"},103.36111111111106,0.15,0.85,{"v":3.6000000000000014,"d":"3.6"},{"v":104,"d":"104.00"},{"v":3.5999999999999996,"d":"3.60"},{"v":24,"d":"24.00"},{"v":1.7,"d":"1.70"},{"v":12.2,"d":"12.20"},51.85,10.37,{"v":61,"d":"61.00"},{"v":206.72222222222214,"d":"206.72"},{"v":7.200000000000003,"d":"7.20"},103.36111111111106,null,0.85,{"v":3.6000000000000014,"d":"3.6"},{"v":104,"d":"104.00"},{"v":3.5999999999999996,"d":"3.60"},{"v":24,"d":"24.00"},{"v":1.7,"d":"1.70"},{"v":12.2,"d":"12.20"},51.85,10.37,{"v":61,"d":"61.00"},{"v":206.72222222222214,"d":"206.72"},{"v":7.200000000000003,"d":"7.20"},103.36111111111106,null,0.85,{"v":3.6000000000000014,"d":"3.6"},{"v":122,"d":"122.00"},{"v":7,"d":"7.00"},{"v":24,"d":"24.00"},{"v":17,"d":"17.00"},{"v":14,"d":"14.00"},{"v":59.5,"d":"59.50"},{"v":11.9,"d":"11.90"},{"v":70,"d":"70.00"},{"v":272.2222222222221,"d":"272.22"},{"v":7.200000000000003,"d":"7.20"},136.11111111111106,null,0.85,{"v":3.6000000000000014,"d":"3.6"},{"v":122,"d":"122.00"},{"v":7,"d":"7.00"},{"v":24,"d":"24.00"},{"v":17,"d":"17.00"},{"v":272.2222222222221,"d":"272.22"},{"v":7.200000000000003,"d":"7.20"},136.11111111111106,null,0.85,{"v":3.6000000000000014,"d":"3.6"},{"v":122,"d":"122.00"},{"v":7,"d":"7.00"},{"v":24,"d":"24.00"},{"v":17,"d":"17.00"},{"v":14,"d":"14.00"},{"v":59.5,"d":"59.50"},{"v":11.9,"d":"11.90"},{"v":70,"d":"70.00"},{"v":272.2222222222221,"d":"272.22"},{"v":7.200000000000003,"d":"7.20"},136.11111111111106,null,0.85,{"v":3.6000000000000014,"d":"3.6"},{"v":122,"d":"122.00"},{"v":7,"d":"7.00"},{"v":24,"d":"24.00"},{"v":17,"d":"17.00"},{"v":14,"d":"14.00"},{"v":59.5,"d":"59.50"},{"v":11.9,"d":"11.90"},{"v":70,"d":"70.00"},{"v":272.2222222222221,"d":"272.22"},{"v":7.200000000000003,"d":"7.20"},136.11111111111106,null,0.85,{"v":3.6000000000000014,"d":"3.6"},{"v":122,"d":"122.00"},{"v":7,"d":"7.00"},{"v":24,"d":"24.00"},{"v":17,"d":"17.00"},{"v":272.2222222222221,"d":"272.22"},{"v":7.200000000000003,"d":"7.20"},136.11111111111106]
[{"v":0.9,"d":"0.90"},{"v":300,"d":"300.00"},{"v":900,"d":"900.00"},{"v":0.16666666666666666,"d":"0.17"},{"v":305,"d":"305.00"},{"v":625,"d":"625.00"},{"v":225,"d":"225.00"},{"v":562.5,"d":"562.50"},{"v":250,"d":"250.00"},{"v":900,"d":"900.00"},{"v":300,"d":"300.00"},{"v":0.9,"d":"0.90"},{"v":300,"d":"300.00"},{"v":900,"d":"900.00"},{"v":0.16666666666666666,"d":"0.17"},{"v":305,"d":"305.00"},{"v":625,"d":"625.00"},{"v":225,"d":"225.00"},{"v":562.5,"d":"562.50"},{"v":250,"d":"250.00"},{"$nulls":4},{"v":0.9,"d":"0.90"},{"v":2.3999999999999986,"d":"2.4"},{"v":110,"d":"110.00"},{"v":6,"d":"6.00"},{"v":24,"d":"24.00"},{"v":1.8,"d":"1.80"},{"v":12.2,"d":"12.20"},{"v":54.9,"d":"54.90"},10.98,{"v":61,"d":"61.00"},{"v":310.0833333333335,"d":"310.08"},{"v":7.200000000000003,"d":"7.20"},103.36111111111106,null,{"v":0.9,"d":"0.90"},{"v":2.3999999999999986,"d":"2.4"},{"v":110,"d":"110.00"},{"v":6,"d":"6.00"},{"v":24,"d":"24.00"},{"v":1.8,"d":"1.80"},{"v":12.2,"d":"12.20"},{"v":54.9,"d":"54.90"},10.98,{"v":61,"d":"61.00"},{"v":310.0833333333335,"d":"310.08"},{"v":7.200000000000003,"d":"7.20"},103.36111111111106,null,{"v":0.9,"d":"0.90"},{"v":2.3999999999999986,"d":"2.4"},{"v":110,"d":"110.00"},{"v":6,"d":"6.00"},{"v":24,"d":"24.00"},{"v":1.8,"d":"1.80"},{"v":12.2,"d":"12.20"},{"v":54.9,"d":"54.90"},10.98,{"v":61,"d":"61.00"},{"v":310.0833333333335,"d":"310.08"},{"v":7.200000000000003,"d":"7.20"},103.36111111111106,null,{"v":0.9,"d":"0.90"},{"v":2.3999999999999986,"d":"2.4"},{"v":128,"d":"128.00"},{"v":6,"d":"6.00"},{"v":24,"d":"24.00"},{"v":18,"d":"18.00"},{"v":310.0833333333335,"d":"310.08"},{"v":7.200000000000003,"d":"7.20"},103.36111111111106,{"v":0.1,"d":"0.10"},{"v":0.9,"d":"0.90"},{"v":2.3999999999999986,"d":"2.4"},{"v":110,"d":"110.00"},{"v":2.4000000000000004,"d":"2.40"},{"v":24,"d":"24.00"},{"v":1.8,"d":"1.80"},{"v":12.2,"d":"12.20"},{"v":54.9,"d":"54.90"},10.98,{"v":61,"d":"61.00"},{"v":310.0833333333335,"d":"310.08"},{"v":7.200000000000003,"d":"7.20"},103.36111111111106,{"v":0.1,"d":"0.10"},{"v":0.9,"d":"0.90"},{"v":2.3999999999999986,"d":"2.4"},{"v":110,"d":"110.00"},{"v":2.4000000000000004,"d":"2.40"},{"v":24,"d":"24.00"},{"v":1.8,"d":"1.80"},{"v":12.2,"d":"12.20"},{"v":54.9,"d":"54.90"},10.98,{"v":61,"d":"61.00"},{"v":310.0833333333335,"d":"310.08"},{"v":7.200000000000003,"d":"7.20"},103.36111111111106,null,{"v":0.9,"d":"0.90"},{"v":2.3999999999999986,"d":"2.4"},{"v":110,"d":"110.00"},{"v":2.4000000000000004,"d":"2.40"},{"v":24,"d":"24.00"},{"v":1.8,"d":"1.80"},{"v":12.2,"d":"12.20"},{"v":54.9,"d":"54.90"},10.98,{"v":61,"d":"61.00"},{"v":310.0833333333335,"d":"310.08"},{"v":7.200000000000003,"d":"7.20"},103.36111111111106,null,{"v":0.9,"d":"0.90"},{"v":2.3999999999999986,"d":"2.4"},{"v":128,"d":"128.00"},{"v":6,"d":"6.00"},{"v":24,"d":"24.00"},{"v":18,"d":"18.00"},{"v":14,"d":"14.00"},{"v":63,"d":"63.00"},{"v":12.6,"d":"12.60"},{"v":70,"d":"70.00"},{"v":408.3333333333336,"d":"408.33"},{"v":7.200000000000003,"d":"7.20"},136.11111111111106,null,{"v":0.9,"d":"0.90"},{"v":2.3999999999999986,"d":"2.4"},{"v":128,"d":"128.00"},{"v":6,"d":"6.00"},{"v":24,"d":"24.00"},{"v":18,"d":"18.00"},{"v":408.3333333333336,"d":"408.33"},{"v":7.200000000000003,"d":"7.20"},136.11111111111106,null,{"v":0.9,"d":"0.90"},{"v":2.3999999999999986,"d":"2.4"},{"v":128,"d":"128.00"},{"v":6,"d":"6.00"},{"v":24,"d":"24.00"},{"v":18,"d":"18.00"},{"v":14,"d":"14.00"},{"v":63,"d":"63.00"},{"v":12.6,"d":"12.60"},{"v":70,"d":"70.00"},{"v":408.3333333333336,"d":"408.33"},{"v":7.200000000000003,"d":"7.20"},136.11111111111106,null,{"v":0.9,"d":"0.90"},{"v":2.3999999999999986,"d":"2.4"},{"v":128,"d":"128.00"},{"v":6,"d":"6.00"},{"v":24,"d":"24.00"},{"v":18,"d":"18.00"},{"v":14,"d":"14.00"},{"v":63,"d":"63.00"},{"v":12.6,"d":"12.60"},{"v":70,"d":"70.00"},{"v":408.3333333333336,"d":"408.33"},{"v":7.200000000000003,"d":"7.20"},136.11111111111106,null,{"v":0.9,"d":"0.90"},{"v":2.3999999999999986,"d":"2.4"},{"v":128,"d":"128.00"},{"v":6,"d":"6.00"},{"v":24,"d":"24.00"},{"v":18,"d":"18.00"},{"v":408.3333333333336,"d":"408.33"},{"v":7.200000000000003,"d":"7.20"},136.11111111111106]
[0.95,{"v":308.2207001484488,"d":"308.22"},{"v":950,"d":"950.00"},{"v":0.16222142113076254,"d":"0.16"},{"v":315,"d":"315.00"},{"v":625,"d":"625.00"},{"v":237.5,"d":"237.50"},593.75,{"v":250,"d":"250.00"},{"v":950,"d":"950.00"},{"v":308.2207001484488,"d":"308.22"},0.95,{"v":308.2207001484488,"d":"308.22"},{"v":950,"d":"950.00"},{"v":0.16222142113076254,"d":"0.16"},{"v":315,"d":"315.00"},{"v":625,"d":"625.00"},{"v":237.5,"d":"237.50"},593.75,{"v":250,"d":"250.00"},{"$nulls":4},0.95,{"v":1.2000000000000028,"d":"1.2"},{"v":115.99999999999999,"d":"116.00"},{"v":5,"d":"5.00"},{"v":24,"d":"24.00"},{"v":1.9,"d":"1.90"},{"v":12.2,"d":"12.20"},{"v":57.949999999999996,"d":"57.95"},{"v":11.589999999999998,"d":"11.59"},{"v":61,"d":"61.00"},{"v":620.1666666666653,"d":"620.17"},{"v":7.200000000000003,"d":"7.20"},103.36111111111106,null,0.95,{"v":1.2000000000000028,"d":"1.2"},{"v":115.99999999999999,"d":"116.00"},{"v":5,"d":"5.00"},{"v":24,"d":"24.00"},{"v":1.9,"d":"1.90"},{"v":12.2,"d":"12.20"},{"v":57.949999999999996,"d":"57.95"},{"v":11.589999999999998,"d":"11.59"},{"v":61,"d":"61.00"},{"v":620.1666666666653,"d":"620.17"},{"v":7.200000000000003,"d":"7.20"},103.36111111111106,null,0.95,{"v":1.2000000000000028,"d":"1.2"},{"v":115.99999999999999,"d":"116.00"},{"v":5,"d":"5.00"},{"v":24,"d":"24.00"},{"v":1.9,"d":"1.90"},{"v":12.2,"d":"12.20"},{"v":57.949999999999996,"d":"57.95"},{"v":11.589999999999998,"d":"11.59"},{"v":61,"d":"61.00"},{"v":620.1666666666653,"d":"620.17"},{"v":7.200000000000003,"d":"7.20"},103.36111111111106,null,0.95,{"v":1.2000000000000028,"d":"1.2"},{"v":134,"d":"134.00"},{"v":5,"d":"5.00"},{"v":24,"d":"24.00"},{"v":19,"d":"19.00"},{"v":620.1666666666653,"d":"620.17"},{"v":7.200000000000003,"d":"7.20"},103.36111111111106,0.05,0.95,{"v":1.2000000000000028,"d":"1.2"},{"v":115.99999999999999,"d":"116.00"},{"v":1.2000000000000002,"d":"1.20"},{"v":24,"d":"24.00"},{"v":1.9,"d":"1.90"},{"v":12.2,"d":"12.20"},{"v":57.949999999999996,"d":"57.95"},{"v":11.589999999999998,"d":"11.59"},{"v":61,"d":"61.00"},{"v":620.1666666666653,"d":"620.17"},{"v":7.200000000000003,"d":"7.20"},103.36111111111106,0.05,0.95,{"v":1.2000000000000028,"d":"1.2"},{"v":115.99999999999999,"d":"116.00"},{"v":1.2000000000000002,"d":"1.20"},{"v":24,"d":"24.00"},{"v":1.9,"d":"1.90"},{"v":12.2,"d":"12.20"},{"v":57.949999999999996,"d":"57.95"},{"v":11.589999999999998,"d":"11.59"},{"v":61,"d":"61.00"},{"v":620.1666666666653,"d":"620.17"},{"v":7.200000000000003,"d":"7.20"},103.36111111111106,null,0.95,{"v":1.2000000000000028,"d":"1.2"},{"v":115.99999999999999,"d":"116.00"},{"v":1.2000000000000002,"d":"1.20"},{"v":24,"d":"24.00"},{"v":1.9,"d":"1.90"},{"v":12.2,"d":"12.20"},{"v":57.949999999999996,"d":"57.95"},{"v":11.589999999999998,"d":"11.59"},{"v":61,"d":"61.00"},{"v":620.1666666666653,"d":"620.17"},{"v":7.200000000000003,"d":"7.20"},103.36111111111106,null,0.95,{"v":1.2000000000000028,"d":"1.2"},{"v":134,"d":"134.00"},{"v":5,"d":"5.00"},{"v":24,"d":"24.00"},{"v":19,"d":"19.00"},{"v":14,"d":"14.00"},{"v":66.5,"d":"66.50"},{"v":13.299999999999999,"d":"13.30"},{"v":70,"d":"70.00"},{"v":816.6666666666649,"d":"816.67"},{"v":7.200000000000003,"d":"7.20"},136.11111111111106,null,0.95,{"v":1.2000000000000028,"d":"1.2"},{"v":134,"d":"134.00"},{"v":5,"d":"5.00"},{"v":24,"d":"24.00"},{"v":19,"d":"19.00"},{"v":816.6666666666649,"d":"816.67"},{"v":7.200000000000003,"d":"7.20"},136.11111111111106,null,0.95,{"v":1.2000000000000028,"d":"1.2"},{"v":134,"d":"134.00"},{"v":5,"d":"5.00"},{"v":24,"d":"24.00"},{"v":19,"d":"19.00"},{"v":14,"d":"14.00"},{"v":66.5,"d":"66.50"},{"v":13.299999999999999,"d":"13.30"},{"v":70,"d":"70.00"},{"v":816.6666666666649,"d":"816.67"},{"v":7.200000000000003,"d":"7.20"},136.11111111111106,null,0.95,{"v":1.2000000000000028,"d":"1.2"},{"v":134,"d":"134.00"},{"v":5,"d":"5.00"},{"v":24,"d":"24.00"},{"v":19,"d":"19.00"},{"v":14,"d":"14.00"},{"v":66.5,"d":"66.50"},{"v":13.299999999999999,"d":"13.30"},{"v":70,"d":"70.00"},{"v":816.6666666666649,"d":"816.67"},{"v":7.200000000000003,"d":"7.20"},136.11111111111106,null,0.95,{"v":1.2000000000000028,"d":"1.2"},{"v":134,"d":"134.00"},{"v":5,"d":"5.00"},{"v":24,"d":"24.00"},{"v":19,"d":"19.00"},{"v":816.6666666666649,"d":"816.67"},{"v":7.200000000000003,"d":"7.20"},136.11111111111106]
[{"v":1,"d":"1.00"},{"v":316.2277660168379,"d":"316.23"},{"v":1000,"d":"1,000.00"},{"v":0.15811388300841897,"d":"0.16"},{"v":325,"d":"325.00"},{"v":625,"d":"625.00"},{"v":250,"d":"250.00"},{"v":625,"d":"625.00"},{"v":250,"d":"250.00"},{"v":1000,"d":"1,000.00"},{"v":316.2277660168379,"d":"316.23"},{"v":1,"d":"1.00"},{"$f":"N$28*(N23^(N$30))*(N$32^(N$33))","v":{"v":316.2277660168379,"d":"316.23"}},{"v":1000,"d":"1,000.00"},{"v":0.15811388300841897,"d":"0.16"},{"$f":"((P$27/P$28)+(P$33*P$34)/P$28)+((P$30/P$28)*N23)","v":{"v":325,"d":"325.00"}},{"v":625,"d":"625.00"},{"v":250,"d":"250.00"},{"v":625,"d":"625.00"},{"v":250,"d":"250.00"},{"$nulls":4},{"v":1,"d":"1.00"},{"$f":"$AA$37-($AA$37*Y23)","v":{"v":0,"d":"0.0"}},{"$f":"(($AA$34+($AA$35*$AA$37))/$AA$36)-(($AA$35/$AA$36)*(Z23))","v":{"v":122,"d":"122.00"}},{"v":4,"d":"4.00"},{"v":24,"d":"24.00"},{"$f":"$AA$3*Y23","v":{"v":2,"d":"2.00"}},{"v":12.2,"d":"12.20"},{"v":61,"d":"61.00"},{"v":12.2,"d":"12.20"},{"v":61,"d":"61.00"},{"$nulls":4},{"v":1,"d":"1.00"},{"v":0,"d":"0.0"},{"v":122,"d":"122.00"},{"v":4,"d":"4.00"},{"v":24,"d":"24.00"},{"v":2,"d":"2.00"},{"v":12.2,"d":"12.20"},{"v":61,"d":"61.00"},{"v":12.2,"d":"12.20"},{"v":61,"d":"61.00"},{"$nulls":4},{"v":1,"d":"1.00"},{"v":0,"d":"0.0"},{"v":122,"d":"122.00"},{"v":4,"d":"4.00"},{"v":24,"d":"24.00"},{"v":2,"d":"2.00"},{"v":12.2,"d":"12.20"},{"v":61,"d":"61.00"},{"v":12.2,"d":"12.20"},{"v":61,"d":"61.00"},{"$nulls":4},{"v":1,"d":"1.00"},{"v":0,"d":"0.0"},{"v":140,"d":"140.00"},{"v":4,"d":"4.00"},{"v":24,"d":"24.00"},{"v":20,"d":"20.00"},{"$nulls":3},0,{"v":1,"d":"1.00"},{"$f":"$CA$37-($CA$37*BY23)","v":{"v":0,"d":"0.0"}},{"v":122,"d":"122.00"},0,{"v":24,"d":"24.00"},{"$f":"($CA$34/$CA$36)*BY23","v":{"v":2,"d":"2.00"}},{"v":12.2,"d":"12.20"},{"v":61,"d":"61.00"},{"v":12.2,"d":"12.20"},{"v":61,"d":"61.00"},{"$nulls":3},0,{"v":1,"d":"1.00"},{"v":0,"d":"0.0"},{"v":122,"d":"122.00"},0,{"v":24,"d":"24.00"},{"v":2,"d":"2.00"},{"v":12.2,"d":"12.20"},{"v":61,"d":"61.00"},{"v":12.2,"d":"12.20"},{"v":61,"d":"61.00"},{"$nulls":4},{"v":1,"d":"1.00"},{"v":0,"d":"0.0"},{"v":122,"d":"122.00"},0,{"v":24,"d":"24.00"},{"v":2,"d":"2.00"},{"v":12.2,"d":"12.20"},{"v":61,"d":"61.00"},{"v":12.2,"d":"12.20"},{"v":61,"d":"61.00"},{"$nulls":4},{"v":1,"d":"1.00"},{"v":0,"d":"0.0"},{"v":140,"d":"140.00"},{"v":4,"d":"4.00"},{"v":24,"d":"24.00"},{"v":20,"d":"20.00"},{"v":14,"d":"14.00"},{"v":70,"d":"70.00"},{"v":14,"d":"14.00"},{"v":70,"d":"70.00"},{"$nulls":4},{"v":1,"d":"1.00"},{"v":0,"d":"0.0"},{"v":140,"d":"140.00"},{"v":4,"d":"4.00"},{"v":24,"d":"24.00"},{"v":20,"d":"20.00"},{"$nulls":4},{"v":1,"d":"1.00"},{"v":0,"d":"0.0"},{"v":140,"d":"140.00"},{"v":4,"d":"4.00"},{"v":24,"d":"24.00"},{"v":20,"d":"20.00"},{"v":14,"d":"14.00"},{"v":70,"d":"70.00"},{"v":14,"d":"14.00"},{"v":70,"d":"70.00"},{"$nulls":4},{"v":1,"d":"1.00"},{"v":0,"d":"0.0"},{"v":140,"d":"140.00"},{"v":4,"d":"4.00"},{"v":24,"d":"24.00"},{"v":20,"d":"20.00"},{"v":14,"d":"14.00"},{"v":70,"d":"70.00"},{"v":14,"d":"14.00"},{"v":70,"d":"70.00"},{"$nulls":4},{"v":1,"d":"1.00"},{"v":0,"d":"0.0"},{"v":140,"d":"140.00"},{"v":4,"d":"4.00"},{"v":24,"d":"24.00"},{"v":20,"d":"20.00"}]
[]
[{"$nulls":15},{"$f":"((P$30/P$28)*N23)","v":{"v":200,"d":"200.000"}}]
[]
[null,"y",{"$f":"C28*(C29^(C30))*(C32^(C33))","v":{"v":250,"d":"250.0"}},"p",{"$f":"(E28*C27)-(E30*E32+E33*E34)","v":{"v":850,"d":"850.0"}},{"$nulls":7},"y",{"$f":"N28*(N29^(N30))*(N32^(N33))","v":{"v":250,"d":"250.0"}},"p",{"$f":"(P28*N27)-(P30*P32+P33*P34)","v":{"v":850,"d":"850.0"}},{"$nulls":8},"o",{"$f":"24-Z28","v":11.8}]
[null,"A",{"$f":"mlc_Demanda_Factor_Variable!C7","v":{"v":1,"d":"1.0"}},"p",{"$f":"mlc_Demanda_Factor_Variable!E7","v":{"v":10,"d":"10.0"}},"y",{"$f":"SUM(G29:G32)","v":{"v":250,"d":"250.0"}},{"$nulls":5},"A",{"$f":"C28","v":{"v":1,"d":"1.0"}},"p",{"$f":"mlc_Demanda_Factor_Variable!G7","v":{"v":10,"d":"10.0"}},"y",{"$f":"SUM(R29:R32)","v":{"v":250,"d":"250.000"}},{"$nulls":6},"q",{"$f":"Z40*(((Z34+Z35*Z37))/Z35)","v":12.2}]
[null,"x1",{"$f":"E32","v":{"v":625,"d":"625.0"}},"y",{"$f":"((E28*C30)/E30)^(C30/(1-C30))*(E34)^(C33/(1-C30))*(C28^(1/(1-C30)))","v":{"v":250,"d":"250.0"}},"p / P",{"$f":"E27/E28","v":{"v":85,"d":"85.0"}},{"$nulls":5},"x1",{"$f":"P32","v":{"v":625,"d":"625.0"}},"y",{"$f":"((P28*N30)/P30)^(N30/(1-N30))*(P34)^(N33/(1-N30))*(N28^(1/(1-N30)))","v":{"v":250,"d":"250.0"}},"p / P",{"$f":"P27/P28","v":{"v":85,"d":"85.000"}},{"$nulls":6},"c",{"$f":"Z41*(((Z34+Z35*Z37))/Z36)","v":61},{"$nulls":94},{"$f":"DQ40*(((DQ34*DQ36)+(DQ35*DQ37))/DQ35)","v":14}]
[null,"a",{"$f":"mlc_Demanda_Factor_Variable!C9","v":0.5},"w1",{"$f":"mlc_Demanda_Factor_Variable!E8","v":{"v":2,"d":"2.0"}},"(w2 / P) * x2",{"$f":"E33/E28*E34","v":{"v":40,"d":"40.0"}},{"$nulls":5},"a",{"$f":"C30","v":0.5},"w1",{"$f":"mlc_Demanda_Factor_Variable!G8","v":{"v":2,"d":"2.0"}},"(w2 / P) * x2",{"$f":"P33/P28*P34","v":{"v":40,"d":"40.000"}},{"$nulls":6},"Restricción presupuestaria","Caso 0.5","Caso 1","Caso 2","Caso 3","Caso 5",{"$nulls":47},"Restricción presupuestaria","Caso 1",{"$nulls":12},"Restricción presupuestaria","Caso 1","Caso 2",{"$nulls":24},"Restricción presupuestaria","Caso 0.5","Caso 1","Caso 2","Caso 3","Caso 5"]
[{"$nulls":24},"q",{"$f":"IF(Z32=\"Ocio Total\",\"Trabajo nulo\",Z37-Z32)","v":11.8},{"$f":"IF(AA32=\"Ocio Total\",\"Trabajo nulo\",AA37-AA32)","v":11.8},{"$f":"IF(AB32=\"Ocio Total\",\"Trabajo nulo\",AB37-AB32)","v":11.8},{"$f":"IF(AC32=\"Ocio Total\",\"Trabajo nulo\",AC37-AC32)","v":11.8},{"$f":"IF(AD32=\"Ocio Total\",\"Trabajo nulo\",AD37-AD32)","v":11.8},{"$nulls":47},"q",{"$f":"IF(CA32=\"Ocio Total\",\"Trabajo nulo\",CA37-CA32)","v":11.8},"opt","max",{"$nulls":10},"q",{"$f":"IF(CO32=\"Ocio Total\",\"Trabajo nulo\",CO37-CO32)","v":11.8},{"$f":"IF(CP32=\"Ocio Total\",\"Trabajo nulo\",CP37-CP32)","v":11.8},{"$nulls":24},"q",{"$f":"IF(DP32=\"Ocio Total\",\"Trabajo nulo\",DP37-DP32)","v":{"v":10,"d":"10.0"}},{"$f":"IF(DQ32=\"Ocio Total\",\"Trabajo nulo\",DQ37-DQ32)","v":{"v":10,"d":"10.0"}},{"$f":"IF(DR32=\"Ocio Total\",\"Trabajo nulo\",DR37-DR32)","v":{"v":10,"d":"10.0"}},{"$f":"IF(DS32=\"Ocio Total\",\"Trabajo nulo\",DS37-DS32)","v":{"v":10,"d":"10.0"}},{"$f":"IF(DT32=\"Ocio Total\",\"Trabajo nulo\",DT37-DT32)","v":{"v":10,"d":"10.0"}}]
[null,"x2",{"$f":"E34","v":{"v":100,"d":"100.0"}},"x1",{"$f":"(C30*E28*E29)/E30","v":{"v":625,"d":"625.0"}},"(w1 / P) * x1",{"$f":"E30/E28*E32","v":{"v":125,"d":"125.0"}},{"$nulls":5},"x2",{"$f":"P34","v":{"v":100,"d":"100.0"}},"x1",{"$f":"(N30*P28*P29)/P30","v":{"v":625,"d":"625.0"}},"(w1 / P) * x1",{"$f":"P30/P28*P32","v":{"v":125,"d":"125.000"}},{"$nulls":6},"o",{"$f":"IF(Z40*(((Z34)+(Z35*Z37))/Z35)>$AA$37,\"Ocio Total\",Z40*(((Z34)+(Z35*Z37))/Z35))","v":12.2},{"$f":"IF(AA40*(((AA34)+(AA35*AA37))/AA35)>$AA$37,\"Ocio Total\",AA40*(((AA34)+(AA35*AA37))/AA35))","v":12.2},{"$f":"IF(AB40*(((AB34)+(AB35*AB37))/AB35)>$AA$37,\"Ocio Total\",AB40*(((AB34)+(AB35*AB37))/AB35))","v":12.2},{"$f":"IF(AC40*(((AC34)+(AC35*AC37))/AC35)>$AA$37,\"Ocio Total\",AC40*(((AC34)+(AC35*AC37))/AC35))","v":12.2},{"$f":"IF(AD40*(((AD34)+(AD35*AD37))/AD35)>$AD$37,\"Ocio Total\",AD40*(((AD34)+(AD35*AD37))/AD35))","v":12.2},{"$nulls":47},"o",{"$f":"IF(CA40*(((CA34)+(CA35*CA37))/CA35)>$AA$37,\"Ocio Total\",CA40*(((CA34)+(CA35*CA37))/CA35))","v":12.2},{"$f":"CA40*(((CA34+(CA35*CA37)))/CA35)","v":12.2},{"$f":"((CA34+(CA35*CA37)))/CA35","v":24.4},{"$nulls":10},"o",{"$f":"IF(CO40*(((CO34)+(CO35*CO37))/CO35)>$AA$37,\"Ocio Total\",CO40*(((CO34)+(CO35*CO37))/CO35))","v":12.2},{"$f":"IF(CP40*(((CP34)+(CP35*CP37))/CP35)>$AA$37,\"Ocio Total\",CP40*(((CP34)+(CP35*CP37))/CP35))","v":12.2},{"$nulls":24},"o",{"$f":"IF(DP40*(((DP34*DP36)+(DP35*DP37))/DP35)>$AA$37,\"Ocio Total\",DP40*(((DP34*DP36)+(DP35*DP37))/DP35))","v":{"v":14,"d":"14.0"}},{"$f":"IF(DQ40*(((DQ34*DQ36)+(DQ35*DQ37))/DQ35)>$AA$37,\"Ocio Total\",DQ40*(((DQ34*DQ36)+(DQ35*DQ37))/DQ35))","v":{"v":14,"d":"14.0"}},{"$f":"IF(DR40*(((DR34*DR36)+(DR35*DR37))/DR35)>$AA$37,\"Ocio Total\",DR40*(((DR34*DR36)+(DR35*DR37))/DR35))","v":{"v":14,"d":"14.0"}},{"$f":"IF(DS40*(((DS34*DS36)+(DS35*DS37))/DS35)>$AA$37,\"Ocio Total\",DS40*(((DS34*DS36)+(DS35*DS37))/DS35))","v":{"v":14,"d":"14.0"}},{"$f":"IF(DT40*(((DT34*DT36)+(DT35*DT37))/DT35)>$AD$37,\"Ocio Total\",DT40*(((DT34*DT36)+(DT35*DT37))/DT35))","v":{"v":14,"d":"14.0"}}]
[null,"1-a",{"$f":"mlc_Demanda_Factor_Variable!C11","v":0.5},"w2",{"$f":"mlc_Demanda_Factor_Variable!G10","v":{"v":4,"d":"4.0"}},{"$nulls":7},"1-a",{"$f":"C33","v":0.5},"w2",{"$f":"mlc_Demanda_Factor_Variable!G10","v":{"v":4,"d":"4.0"}},{"$nulls":8},"c",{"$f":"((Z41)*((Z34)+(Z35*Z37)))/Z36","v":{"v":61,"d":"61.0"}},{"$f":"((AA41)*((AA34)+(AA35*AA37)))/AA36","v":{"v":61,"d":"61.0"}},{"$f":"((AB41)*((AB34)+(AB35*AB37)))/AB36","v":{"v":61,"d":"61.0"}},{"$f":"((AC41)*((AC34)+(AC35*AC37)))/AC36","v":{"v":61,"d":"61.0"}},{"$f":"((AD41)*((AD34)+(AD35*AD37)))/AD36","v":{"v":61,"d":"61.0"}},"$AC$34+($AC$35/$AC$36*$AC$37)-(($AC$35/$AC$36)*(BB3))",{"$nulls":46},"c",{"$f":"((CA41)*((CA34)+(CA35*CA37)))/CA36","v":{"v":61,"d":"61.0"}},{"$f":"CA41*(((CA34+(CA35*CA37)))/CA36)","v":61},{"$f":"(CA34+CA35*CA37)/CA36","v":122},{"$nulls":10},"c",{"$f":"((CO41)*((CO34)+(CO35*CO37)))/CO36","v":{"v":61,"d":"61.0"}},{"$f":"((CP41)*((CP34)+(CP35*CP37)))/CP36","v":{"v":61,"d":"61.0"}},{"$nulls":24},"c",{"$f":"((DP41)*((DP34*DP36)+(DP35*DP37)))/DP36","v":{"v":70,"d":"70.0"}},{"$f":"((DQ41)*((DQ34*DQ36)+(DQ35*DQ37)))/DQ36","v":{"v":70,"d":"70.0"}},{"$f":"((DR41)*((DR34*DR36)+(DR35*DR37)))/DR36","v":{"v":70,"d":"70.0"}},{"$f":"((DS41)*((DS34*DS36)+(DS35*DS37)))/DS36","v":{"v":70,"d":"70.0"}},{"$f":"((DT41)*((DT34*DT36)+(DT35*DT37)))/DT36","v":{"v":70,"d":"70.0"}}]
[{"$nulls":3},"x2",{"$f":"mlc_Demanda_Factor_Variable!C10","v":{"v":100,"d":"100.0"}},{"$nulls":9},"x2",{"$f":"mlc_Demanda_Factor_Variable!G11","v":{"v":100,"d":"100.0"}},{"$nulls":8},"m",{"$f":"AA34","v":{"v":20,"d":"20.0"}},{"$f":"mlc_Oferta_Curva_Ocio_Consumo!C8","v":{"v":20,"d":"20.0"}},{"$f":"AA34","v":{"v":20,"d":"20.0"}},{"$f":"AA34","v":{"v":20,"d":"20.0"}},{"$f":"AA34","v":{"v":20,"d":"20.0"}},{"$nulls":47},"m",{"$f":"mlc_Elección_Ocio_Consumo!C8","v":{"v":20,"d":"20.0"}},{"$nulls":12},"m",{"$f":"mlc_Ingreso!C8","v":{"v":20,"d":"20.0"}},{"$f":"CO34","v":{"v":20,"d":"20.0"}},{"$nulls":24},"m",{"$f":"DQ34","v":{"v":20,"d":"20.0"}},{"$f":"mlc_Oferta_Trabajo!C8","v":{"v":20,"d":"20.0"}},{"$f":"DQ34","v":{"v":20,"d":"20.0"}},{"$f":"DQ34","v":{"v":20,"d":"20.0"}},{"$f":"DQ34","v":{"v":20,"d":"20.0"}}]
[{"$nulls":24},"w",{"$f":"IF((AA35=AB35),(AA35),(0.5*AA35))","v":{"v":50,"d":"50.0"}},{"$f":"mlc_Oferta_Curva_Ocio_Consumo!C9","v":{"v":50,"d":"50.0"}},{"$f":"IF(mlc_Oferta_Curva_Ocio_Consumo!D9>mlc_Oferta_Curva_Ocio_Consumo!C9,mlc_Oferta_Curva_Ocio_Consumo!D9,mlc_Oferta_Curva_Ocio_Consumo!C9)","v":{"v":50,"d":"50.0"}},{"$f":"IF(mlc_Oferta_Curva_Ocio_Consumo!E9>mlc_Oferta_Curva_Ocio_Consumo!D9,mlc_Oferta_Curva_Ocio_Consumo!E9,mlc_Oferta_Curva_Ocio_Consumo!D9)","v":{"v":50,"d":"50.0"}},{"$f":"IF(AC35=AB35,AC35,(1.5*AC35))","v":{"v":50,"d":"50.0"}},{"$nulls":47},"w",{"$f":"mlc_Elección_Ocio_Consumo!C9","v":{"v":50,"d":"50.0"}},{"$nulls":12},"w",{"$f":"mlc_Ingreso!C9","v":{"v":50,"d":"50.0"}},{"$f":"mlc_Ingreso!D9","v":{"v":50,"d":"50.0"}},{"$nulls":24},"w",{"$f":"IF((DQ35=DR35),(DQ35),(0.5*DQ35))","v":{"v":50,"d":"50.0"}},{"$f":"mlc_Oferta_Trabajo!C9","v":{"v":50,"d":"50.0"}},{"$f":"IF(mlc_Oferta_Trabajo!D9>mlc_Oferta_Trabajo!C9,mlc_Oferta_Trabajo!D9,mlc_Oferta_Trabajo!C9)","v":{"v":50,"d":"50.0"}},{"$f":"IF(mlc_Oferta_Trabajo!E9>mlc_Oferta_Trabajo!D9,mlc_Oferta_Trabajo!E9,mlc_Oferta_Trabajo!D9)","v":{"v":50,"d":"50.0"}},{"$f":"IF(DS35=DR35,DS35,(1.5*DS35))","v":{"v":50,"d":"50.0"}}]
[{"$nulls":24},"p",{"$f":"AA36","v":{"v":10,"d":"10.0"}},{"$f":"mlc_Oferta_Curva_Ocio_Consumo!C10","v":{"v":10,"d":"10.0"}},{"$f":"AA36","v":{"v":10,"d":"10.0"}},{"$f":"AA36","v":{"v":10,"d":"10.0"}},{"$f":"mlc_Oferta_Curva_Ocio_Consumo!$E$10","v":{"v":10,"d":"10.0"}},{"$nulls":47},"p",{"$f":"mlc_Elección_Ocio_Consumo!C10","v":{"v":10,"d":"10.0"}},{"$nulls":12},"p",{"$f":"mlc_Ingreso!C10","v":{"v":10,"d":"10.0"}},{"$f":"CO36","v":{"v":10,"d":"10.0"}},{"$nulls":24},"p",{"$f":"DQ36","v":{"v":10,"d":"10.0"}},{"$f":"mlc_Oferta_Trabajo!C10","v":{"v":10,"d":"10.0"}},{"$f":"DQ36","v":{"v":10,"d":"10.0"}},{"$f":"DQ36","v":{"v":10,"d":"10.0"}},{"$f":"mlc_Oferta_Curva_Ocio_Consumo!$E$10","v":{"v":10,"d":"10.0"}}]
[{"$nulls":13},"w1",{"$f":"E30","v":{"v":2,"d":"2.0"}},{"$f":"P30","v":{"v":2,"d":"2.0"}},{"$nulls":8},"q max",{"v":24,"d":"24.0"},{"v":24,"d":"24.0"},{"v":24,"d":"24.0"},{"v":24,"d":"24.0"},{"v":24,"d":"24.0"},{"$nulls":47},"q max",{"v":24,"d":"24.0"},{"$nulls":12},"q max",{"v":24,"d":"24.0"},{"v":24,"d":"24.0"},{"$nulls":24},"q max",{"v":24,"d":"24.0"},{"v":24,"d":"24.0"},{"v":24,"d":"24.0"},{"v":24,"d":"24.0"},{"v":24,"d":"24.0"}]
[{"$nulls":13},"x1",{"$f":"C29","v":{"v":625,"d":"625.0"}},{"$f":"P32","v":{"v":625,"d":"625.0"}}]
[{"$nulls":24},"Función de utilidad","Caso 0.5","Caso 1","Caso 2","Caso 3","Caso 5",{"$nulls":47},"Función de utilidad","Caso 1",{"$nulls":12},"Función de utilidad","Caso 1","Caso 2",{"$nulls":24},"Función de utilidad","Caso 0.5","Caso 1","Caso 2","Caso 3","Caso 5"]
[{"$nulls":24},"a",{"$f":"Ocultomlabcom!AA40","v":0.5},{"$f":"mlc_Oferta_Curva_Ocio_Consumo!$C$14","v":0.5},{"$f":"AA40","v":0.5},{"$f":"AA40","v":0.5},{"$f":"AA40","v":0.5},{"$nulls":47},"a",{"$f":"mlc_Elección_Ocio_Consumo!C14","v":0.5},{"$nulls":12},"a",{"$f":"mlc_Ingreso!C14","v":0.5},{"$f":"CO40","v":0.5},{"$nulls":24},"a",{"$f":"Ocultomlabcom!DQ40","v":0.5},{"$f":"mlc_Oferta_Trabajo!C14","v":0.5},{"$f":"DQ40","v":0.5},{"$f":"DQ40","v":0.5},{"$f":"DQ40","v":0.5}]
[{"$nulls":24},"1-a",{"$f":"1-Z40","v":0.5},{"$f":"1-AA40","v":0.5},{"$f":"1-AB40","v":0.5},{"$f":"1-AC40","v":0.5},{"$f":"1-AD40","v":0.5},{"$nulls":47},"1-a",{"$f":"1-CA40","v":0.5},{"$nulls":12},"1-a",{"$f":"1-CO40","v":0.5},{"$f":"1-CP40","v":0.5},{"$nulls":24},"1-a",{"$f":"1-DP40","v":0.5},{"$f":"1-DQ40","v":0.5},{"$f":"1-DR40","v":0.5},{"$f":"1-DS40","v":0.5},{"$f":"1-DT40","v":0.5}]
[{"$nulls":24},"U",{"$f":"IF(Z32=\"No viable\",\"No viable\",((Z32)^Z40)*((Z33^Z41)))","v":{"v":27.280029325497434,"d":"27.3"}},{"$f":"IF(AA32=\"No viable\",\"No viable\",((AA32)^AA40)*((AA33^AA41)))","v":{"v":27.280029325497434,"d":"27.3"}},{"$f":"IF(AB32=\"No viable\",\"No viable\",((AB32)^AB40)*((AB33^AB41)))","v":{"v":27.280029325497434,"d":"27.3"}},{"$f":"IF(AC32=\"No viable\",\"No viable\",((AC32)^AC40)*((AC33^AC41)))","v":{"v":27.280029325497434,"d":"27.3"}},{"$f":"IF(AD32=\"No viable\",\"No viable\",((AD32)^AD40)*((AD33^AD41)))","v":{"v":27.280029325497434,"d":"27.3"}},{"$nulls":47},"U",{"$f":"IF(CA32=\"No viable\",\"No viable\",((CA32)^CA40)*((CA33^CA41)))","v":{"v":27.280029325497434,"d":"27.3"}},{"$nulls":12},"U",{"$f":"IF(CO32=\"No viable\",\"No viable\",((CO32)^CO40)*((CO33^CO41)))","v":{"v":27.280029325497434,"d":"27.3"}},{"$f":"IF(CP32=\"No viable\",\"No viable\",((CP32)^CP40)*((CP33^CP41)))","v":{"v":27.280029325497434,"d":"27.3"}},{"$nulls":24},"U",{"$f":"IF(DP32=\"No viable\",\"No viable\",((DP32)^DP40)*((DP33^DP41)))","v":{"v":31.304951684997057,"d":"31.3"}},{"$f":"IF(DQ32=\"No viable\",\"No viable\",((DQ32)^DQ40)*((DQ33^DQ41)))","v":{"v":31.304951684997057,"d":"31.3"}},{"$f":"IF(DR32=\"No viable\",\"No viable\",((DR32)^DR40)*((DR33^DR41)))","v":{"v":31.304951684997057,"d":"31.3"}},{"$f":"IF(DS32=\"No viable\",\"No viable\",((DS32)^DS40)*((DS33^DS41)))","v":{"v":31.304951684997057,"d":"31.3"}},{"$f":"IF(DT32=\"No viable\",\"No viable\",((DT32)^DT40)*((DT33^DT41)))","v":{"v":31.304951684997057,"d":"31.3"}}]