{"text_format":"3","workbook":"xlsx","n_sheets":4,"sheets":["Inicio MBNOcp","mlNOc_trabajo_compet","OcultomlabNOcom","mlNOc_monopsonio"],"not_rendered":{"charts":2,"images":10,"macros":1,"defined_names":83},"read":"whole","date_system":"1900"}

{"sheet":"Inicio MBNOcp","index":0,"n_rows":32,"n_cols":11,"rows_kept":32,"merged":[[23,0,23,2],[31,10,31,11]]}
{"$rows_empty":23}
["    Descargue la versión Kindle"]
{"$rows_empty":7}
[{"$nulls":10},"Miguel Cervantes Jiménez"]

{"sheet":"mlNOc_trabajo_compet","index":1,"n_rows":30,"n_cols":10,"rows_kept":30,"hidden":true,"merged":[[0,0,0,4],[1,0,1,4],[4,1,4,2],[4,3,4,4],[25,1,25,2],[26,1,26,2],[28,1,28,2],[29,1,29,2]]}
["MERCADO LABORAL NO COMPETITIVO"]
["Elección del monopolio de la cantidad de trabajo en mercado laboral competitivo"]
[]
[]
[null,"Función de producción",null,"Función inversa de demanda"]
[null,"y",{"$f":"OcultomlabNOcom!C27","v":{"v":7.142861577510903,"d":"7.1"}},"b0",{"v":100,"d":"100.0"}]
[null,"A",{"v":2,"d":"2.0"},"b1",{"v":-2,"d":"-2.0"}]
[null,"q1",{"v":12.755117878870387,"d":"12.8"},"y",{"$f":"C6","v":{"v":7.142861577510903,"d":"7.1"}}]
[null,"a",0.5,"p",{"$f":"OcultomlabNOcom!E30","v":{"v":85.7142768449782,"d":"85.7"}}]
[null,"w1",{"v":20,"d":"20.0"}]
[null,"Insertar datos correspondientes",{"$nulls":7},{"$f":"(C9*E6*C7*C8^(C9-1))-(2*C9*E7*-1*C7^2*C8^(2*C9-1))-C10","v":-1.7383831949047135E-5}]
{"$rows_empty":14}
[null,"Títulos"]
[null,"Resultados"]
[null,"Insertar Datos"]
[null,"Insertar datos"]
[null,"Cantidad de equilibrio"]

{"sheet":"OcultomlabNOcom","index":2,"n_rows":85,"n_cols":14,"rows_kept":85,"hidden":true,"merged":[[25,1,25,2],[25,3,25,4],[75,1,75,2],[75,3,75,4],[80,1,80,2]]}
["Maximización del Beneficio monopolio con trabajo competitivo"]
["Ponderador","Función de Producción","q1","Producto Marginal","IMPM","VPM","Y","P","w","x1 line"]
[0,{"$f":"C$28*(C3^(C$30))","v":0},{"$f":"C$29*1.6*A3","v":0},0,null,null,{"$f":"$E$27/$E$28*-A3","v":0},{"$f":"$E$27+$E$28*G3","v":{"v":100,"d":"100.00"}},{"$f":"$C$31","v":{"v":20,"d":"20.0"}},{"$f":"$C$29","v":{"v":12.755117878870387,"d":"12.76"}},{"$f":"$C$31*A3","v":0}]
[0.05,{"v":2.02030634341392,"d":"2.02"},{"v":1.0204094303096312,"d":"1.02"},{"$f":"C$30*C$28*(C4^($C$30-1))","v":{"v":0.9899488790498938,"d":"0.99"}},{"$f":"($C$30*$E$27*$C$28*C4^($C$30-1))-(2*$C$30*$E$28*-1*$C$28^2*C4^(2*$C$30-1))","v":90.99488790498938},{"$f":"$C$30*H4*$C$28*C4^($C$30-1)","v":94.04514350973992},{"$f":"$E$27/$E$28*-A4","v":{"v":2.5,"d":"2.50"}},{"$f":"$E$27+$E$28*G4","v":{"v":95,"d":"95.00"}},{"v":20,"d":"20.0"},{"$f":"$C$29","v":{"v":12.755117878870387,"d":"12.76"}},{"$f":"$C$31*A4","v":{"v":1,"d":"1.00"}}]
[{"v":0.1,"d":"0.10"},{"v":2.8571446310043616,"d":"2.86"},{"v":2.0408188606192623,"d":"2.04"},{"$f":"C$30*C$28*(C5^($C$30-1))","v":{"v":0.6999995654042013,"d":"0.70"}},61.99995654042013,{"$f":"$C$30*H5*$C$28*C5^($C$30-1)","v":62.99996088637811},{"v":5,"d":"5.00"},{"v":90,"d":"90.00"},{"v":20,"d":"20.0"},{"v":12.755117878870387,"d":"12.76"},{"v":2,"d":"2.00"}]
[0.15,{"v":3.4992732336466057,"d":"3.50"},{"v":3.061228290928893,"d":"3.06"},{"v":0.5715472518034245,"d":"0.57"},49.154725180342446,48.58151640329108,{"v":7.5,"d":"7.50"},{"v":85,"d":"85.00"},{"v":20,"d":"20.0"},{"v":12.755117878870387,"d":"12.76"},{"v":3,"d":"3.00"}]
[{"v":0.2,"d":"0.20"},{"v":4.04061268682784,"d":"4.04"},{"v":4.081637721238525,"d":"4.08"},{"v":0.4949744395249469,"d":"0.49"},41.49744395249469,39.597955161995756,{"v":10,"d":"10.00"},{"v":80,"d":"80.00"},{"v":20,"d":"20.0"},{"v":12.755117878870387,"d":"12.76"},{"v":4,"d":"4.00"}]
[0.25,{"v":4.51754231924756,"d":"4.52"},{"v":5.102047151548155,"d":"5.10"},{"v":0.442718597561056,"d":"0.44"},36.271859756105606,33.2038948170792,{"v":12.5,"d":"12.50"},{"v":75,"d":"75.00"},{"v":20,"d":"20.0"},{"v":12.755117878870387,"d":"12.76"},{"v":5,"d":"5.00"}]
[{"v":0.3,"d":"0.30"},{"v":4.9487196654721854,"d":"4.95"},{"v":6.122456581857786,"d":"6.12"},{"v":0.4041449375187367,"d":"0.40"},32.41449375187367,28.29014562631157,{"v":15,"d":"15.00"},{"v":70,"d":"70.00"},{"v":20,"d":"20.0"},{"v":12.755117878870387,"d":"12.76"},{"v":6,"d":"6.00"}]
[0.35,{"v":5.345228156839488,"d":"5.35"},{"v":7.142866012167417,"d":"7.14"},{"v":0.37416550637616836,"d":"0.37"},29.416550637616837,24.320757914450944,{"v":17.5,"d":"17.50"},{"v":65,"d":"65.00"},{"v":20,"d":"20.0"},{"v":12.755117878870387,"d":"12.76"},{"v":7,"d":"7.00"}]
[{"v":0.4,"d":"0.40"},{"v":5.714289262008723,"d":"5.71"},{"v":8.16327544247705,"d":"8.16"},{"v":0.34999978270210064,"d":"0.35"},26.999978270210065,20.999986962126037,{"v":20,"d":"20.00"},{"v":60,"d":"60.00"},{"v":20,"d":"20.0"},{"v":12.755117878870387,"d":"12.76"},{"v":8,"d":"8.00"}]
[0.45,{"v":6.06091903024176,"d":"6.06"},{"v":9.18368487278668,"d":"9.18"},{"v":0.32998295968329794,"d":"0.33"},24.998295968329792,18.149062782581385,{"v":22.5,"d":"22.50"},{"v":55,"d":"55.00"},{"v":20,"d":"20.0"},{"v":12.755117878870387,"d":"12.76"},{"v":9,"d":"9.00"}]
[{"v":0.5,"d":"0.50"},{"v":6.388769616474305,"d":"6.39"},{"v":10.20409430309631,"d":"10.20"},{"v":0.3130493224928208,"d":"0.31"},23.304932249282082,15.652466124641041,{"v":25,"d":"25.00"},{"v":50,"d":"50.00"},{"v":20,"d":"20.0"},{"v":12.755117878870387,"d":"12.76"},{"v":10,"d":"10.00"}]
[0.55,{"v":6.700598102678877,"d":"6.70"},{"v":11.224503733405943,"d":"11.22"},{"v":0.29848081758558337,"d":"0.30"},21.848081758558337,13.431636791351249,{"v":27.500000000000004,"d":"27.50"},{"v":44.99999999999999,"d":"45.00"},{"v":20,"d":"20.0"},{"v":12.755117878870387,"d":"12.76"},{"v":11,"d":"11.00"}]
[{"v":0.6,"d":"0.60"},{"v":6.998546467293211,"d":"7.00"},{"v":12.244913163715571,"d":"12.24"},{"v":0.28577362590171224,"d":"0.29"},20.577362590171223,11.43094503606849,{"v":30,"d":"30.00"},{"v":40,"d":"40.00"},{"v":20,"d":"20.0"},{"v":12.755117878870387,"d":"12.76"},{"v":12,"d":"12.00"}]
[0.65,{"v":7.284318113324048,"d":"7.28"},{"v":13.265322594025204,"d":"13.27"},{"v":0.2745624187309609,"d":"0.27"},19.456241873096086,9.609684655583631,{"v":32.5,"d":"32.50"},{"v":35,"d":"35.00"},{"v":20,"d":"20.0"},{"v":12.755117878870387,"d":"12.76"},{"v":13,"d":"13.00"}]
[{"v":0.7,"d":"0.70"},{"v":7.559294153380945,"d":"7.56"},{"v":14.285732024334834,"d":"14.29"},{"v":0.264574966844687,"d":"0.26"},18.4574966844687,7.93724900534061,{"v":35,"d":"35.00"},{"v":30,"d":"30.00"},{"v":20,"d":"20.0"},{"v":12.755117878870387,"d":"12.76"},{"v":14,"d":"14.00"}]
[0.75,{"v":7.824612822279314,"d":"7.82"},{"v":15.306141454644465,"d":"15.31"},{"v":0.2556037014771293,"d":"0.26"},17.56037014771293,6.390092536928233,{"v":37.5,"d":"37.50"},{"v":25,"d":"25.00"},{"v":20,"d":"20.0"},{"v":12.755117878870387,"d":"12.76"},{"v":15,"d":"15.00"}]
[{"v":0.8,"d":"0.80"},{"v":8.08122537365568,"d":"8.08"},{"v":16.3265508849541,"d":"16.33"},{"v":0.24748721976247345,"d":"0.25"},16.748721976247346,4.9497443952494695,{"v":40,"d":"40.00"},{"v":20,"d":"20.00"},{"v":20,"d":"20.0"},{"v":12.755117878870387,"d":"12.76"},{"v":16,"d":"16.00"}]
[0.85,{"v":8.329936450000979,"d":"8.33"},{"v":17.346960315263726,"d":"17.35"},{"v":0.2400978701343832,"d":"0.24"},16.00978701343832,3.601468052015748,{"v":42.5,"d":"42.50"},{"v":15,"d":"15.00"},{"v":20,"d":"20.0"},{"v":12.755117878870387,"d":"12.76"},{"v":17,"d":"17.00"}]
[{"v":0.9,"d":"0.90"},{"v":8.571433893013085,"d":"8.57"},{"v":18.36736974557336,"d":"18.37"},{"v":0.23333318846806708,"d":"0.23"},15.333318846806709,2.3333318846806708,{"v":45,"d":"45.00"},{"v":10,"d":"10.00"},{"v":20,"d":"20.0"},{"v":12.755117878870387,"d":"12.76"},{"v":18,"d":"18.00"}]
[0.95,{"v":8.806311185935458,"d":"8.81"},{"v":19.38777917588299,"d":"19.39"},{"v":0.22710984858157135,"d":"0.23"},14.710984858157136,1.1355492429078566,{"v":47.5,"d":"47.50"},{"v":5,"d":"5.00"},{"v":20,"d":"20.0"},{"v":12.755117878870387,"d":"12.76"},{"v":19,"d":"19.00"}]
[{"v":1,"d":"1.00"},{"$f":"C$28*(C23^(C$30))","v":{"v":9.03508463849512,"d":"9.04"}},{"$f":"C$29*1.6*A23","v":{"v":20.40818860619262,"d":"20.41"}},{"v":0.221359298780528,"d":"0.22"},14.135929878052803,0,{"v":50,"d":"50.00"},0,{"v":20,"d":"20.0"},{"v":12.755117878870387,"d":"12.76"},{"v":20,"d":"20.00"}]
[]
[]
[null,"Función de producción",null,"Función inversa de demanda"]
[null,"y",{"$f":"C28*C29^C30","v":{"v":7.142861577510903,"d":"7.1"}},"b0",{"$f":"mlNOc_trabajo_compet!E6","v":{"v":100,"d":"100.0"}}]
[null,"A",{"$f":"mlNOc_trabajo_compet!C7","v":{"v":2,"d":"2.0"}},"b1",{"$f":"mlNOc_trabajo_compet!E7","v":{"v":-2,"d":"-2.0"}}]
[null,"q1",{"$f":"mlNOc_trabajo_compet!C8","v":{"v":12.755117878870387,"d":"12.8"}},"y",{"$f":"mlNOc_trabajo_compet!E8","v":{"v":7.142861577510903,"d":"7.1"}}]
[null,"a",{"$f":"mlNOc_trabajo_compet!C9","v":0.5},"p",{"$f":"E27+E28*C27","v":{"v":85.7142768449782,"d":"85.7"}}]
[null,"w1",{"$f":"mlNOc_trabajo_compet!C10","v":{"v":20,"d":"20.0"}}]
{"$rows_empty":19}
["Maximización del Beneficio monopolio con trabajo competitivo"]
["Ponderador","Función de Producción","q1","Producto Marginal","IMPM","VPM","Y","P","w","CMw","x1 line",null,"y1 line"]
[0,{"$f":"C$78*(C53^(C$80))","v":0},{"$f":"C$79*1.6*A53","v":0},0,null,null,{"$f":"$E$27/$E$28*-A53","v":0},{"$f":"$E$77+$E$78*G53","v":{"v":120,"d":"120.00"}},{"$f":"$C$82+$C$83*C53","v":{"v":12,"d":"12.0"}},{"$f":"$C$82+2*$C$83*C53","v":{"v":12,"d":"12.00"}},{"$f":"$C$79","v":{"v":5.8759988785522825,"d":"5.88"}},{"$f":"$C$85*A53","v":0},{"$f":"$C$84","v":{"v":29.62799663565685,"d":"29.63"}},{"$f":"$C$79*A53","v":0}]
[0.05,{"$f":"C$78*(C54^(C$80))","v":{"v":2.05687121438306,"d":"2.06"}},{"$f":"C$79*1.6*A54","v":{"v":0.47007991028418267,"d":"0.47"}},{"$f":"C$80*C$78*(C54^($C$80-1))","v":{"v":2.1877888943813795,"d":"2.19"}},null,{"$f":"$C$80*H54*$C$78*C54^($C$80-1)","v":249.40793395947725},{"$f":"$E$77/$E$78*-A54","v":{"v":2,"d":"2.00"}},{"$f":"$E$77+$E$78*G54","v":{"v":114,"d":"114.00"}},{"$f":"$C$82+$C$83*C54","v":{"v":13.410239730852549,"d":"13.4"}},{"$f":"$C$82+2*$C$83*C54","v":{"v":14.820479461705096,"d":"14.82"}},{"$f":"$C$79","v":{"v":5.8759988785522825,"d":"5.88"}},{"$f":"$C$85*A54","v":{"v":2.362799663565685,"d":"2.36"}},{"$f":"$C$84","v":{"v":29.62799663565685,"d":"29.63"}},{"$f":"$C$79*A54","v":{"v":0.29379994392761416,"d":"0.29"}}]
[{"v":0.1,"d":"0.10"},{"v":2.908855167435341,"d":"2.91"},{"v":0.9401598205683653,"d":"0.94"},{"$f":"C$80*C$78*(C55^($C$80-1))","v":{"v":1.5470003630216929,"d":"1.55"}},null,{"$f":"$C$80*H55*$C$78*C55^($C$80-1)","v":167.07603920634284},{"$f":"$E$77/$E$78*-A55","v":{"v":4,"d":"4.00"}},{"v":108,"d":"108.00"},{"v":14.820479461705096,"d":"14.8"},{"v":17.640958923410192,"d":"17.64"},{"v":5.8759988785522825,"d":"5.88"},{"v":4.72559932713137,"d":"4.73"},{"v":29.62799663565685,"d":"29.63"},{"v":0.5875998878552283,"d":"0.59"}]
[0.15,{"v":3.562605447937356,"d":"3.56"},{"v":1.4102397308525478,"d":"1.41"},{"v":1.2631205071011633,"d":"1.26"},null,128.83829172431865,{"v":6,"d":"6.00"},{"v":102,"d":"102.00"},{"v":16.230719192557643,"d":"16.2"},{"v":20.461438385115287,"d":"20.46"},{"v":5.8759988785522825,"d":"5.88"},{"v":7.088398990697055,"d":"7.09"},{"v":29.62799663565685,"d":"29.63"},{"v":0.8813998317828423,"d":"0.88"}]
[{"v":0.2,"d":"0.20"},{"v":4.11374242876612,"d":"4.11"},{"v":1.8803196411367307,"d":"1.88"},{"v":1.0938944471906897,"d":"1.09"},null,105.01386693030622,{"v":8,"d":"8.00"},{"v":96,"d":"96.00"},{"v":17.640958923410192,"d":"17.6"},{"v":23.281917846820384,"d":"23.28"},{"v":5.8759988785522825,"d":"5.88"},{"v":9.45119865426274,"d":"9.45"},{"v":29.62799663565685,"d":"29.63"},{"v":1.1751997757104566,"d":"1.18"}]
[0.25,{"v":4.599303856323065,"d":"4.60"},{"v":2.3503995514209133,"d":"2.35"},{"v":0.9784089376511744,"d":"0.98"},{"$f":"($C$80*$E$77*$C$78*C58^($C$80-1))-(2*$C$80*$E$78*-1*$C$78^2*C58^(2*$C$80-1))","v":{"v":90.40907251814093,"d":"90.41"}},88.0568043886057,{"v":10,"d":"10.00"},{"v":90,"d":"90.00"},{"v":19.05119865426274,"d":"19.1"},{"v":26.10239730852548,"d":"26.10"},{"v":5.8759988785522825,"d":"5.88"},{"v":11.813998317828425,"d":"11.81"},{"v":29.62799663565685,"d":"29.63"},{"v":1.4689997196380706,"d":"1.47"}]
[{"v":0.3,"d":"0.30"},{"v":5.038284941857285,"d":"5.04"},{"v":2.8204794617050957,"d":"2.82"},{"v":0.8931610760270231,"d":"0.89"},{"v":80.17932912324277,"d":"80.18"},75.02553038626993,{"v":12,"d":"12.00"},{"v":84,"d":"84.00"},{"v":20.461438385115287,"d":"20.5"},{"v":28.922876770230573,"d":"28.92"},{"v":5.8759988785522825,"d":"5.88"},{"v":14.17679798139411,"d":"14.18"},{"v":29.62799663565685,"d":"29.63"},{"v":1.7627996635656846,"d":"1.76"}]
[0.35,{"v":5.4419697121449975,"d":"5.44"},{"v":3.2905593719892785,"d":"3.29"},{"v":0.8269064765202979,"d":"0.83"},{"v":72.22877718243575,"d":"72.23"},64.49870516858324,{"v":14,"d":"14.00"},{"v":78,"d":"78.00"},{"v":21.871678115967836,"d":"21.9"},{"v":31.74335623193567,"d":"31.74"},{"v":5.8759988785522825,"d":"5.88"},{"v":16.539597644959795,"d":"16.54"},{"v":29.62799663565685,"d":"29.63"},{"v":2.0565996074932986,"d":"2.06"}]
[{"v":0.4,"d":"0.40"},{"v":5.817710334870682,"d":"5.82"},{"v":3.7606392822734613,"d":"3.76"},{"v":0.7735001815108464,"d":"0.77"},{"v":65.82002178130158,"d":"65.82"},55.692013068780945,{"v":16,"d":"16.00"},{"v":72,"d":"72.00"},{"v":23.281917846820384,"d":"23.3"},{"v":34.56383569364077,"d":"34.56"},{"v":5.8759988785522825,"d":"5.88"},{"v":18.90239730852548,"d":"18.90"},{"v":29.62799663565685,"d":"29.63"},{"v":2.3503995514209133,"d":"2.35"}]
[0.45,{"v":6.17061364314918,"d":"6.17"},{"v":4.230719192557644,"d":"4.23"},{"v":0.7292629647937932,"d":"0.73"},{"v":60.511555775255175,"d":"60.51"},48.13135567639035,{"v":18,"d":"18.00"},{"v":66,"d":"66.00"},{"v":24.692157577672933,"d":"24.7"},{"v":37.38431515534587,"d":"37.38"},{"v":5.8759988785522825,"d":"5.88"},{"v":21.265196972091164,"d":"21.27"},{"v":29.62799663565685,"d":"29.63"},{"v":2.644199495348527,"d":"2.64"}]
[{"v":0.5,"d":"0.50"},{"v":6.504397891086956,"d":"6.50"},{"v":4.700799102841827,"d":"4.70"},{"v":0.6918395945866713,"d":"0.69"},{"v":56.02075135040056,"d":"56.02"},41.51037567520028,{"v":20,"d":"20.00"},{"v":60,"d":"60.00"},{"v":26.10239730852548,"d":"26.1"},{"v":40.20479461705096,"d":"40.20"},{"v":5.8759988785522825,"d":"5.88"},{"v":23.62799663565685,"d":"23.63"},{"v":29.62799663565685,"d":"29.63"},{"v":2.9379994392761413,"d":"2.94"}]
[0.55,{"v":6.821870060191274,"d":"6.82"},{"v":5.17087901312601,"d":"5.17"},{"v":0.6596431711972286,"d":"0.66"},{"v":52.15718054366742,"d":"52.16"},35.620731244650344,{"v":22,"d":"22.00"},{"v":54,"d":"54.00"},{"v":27.512637039378028,"d":"27.5"},{"v":43.025274078756055,"d":"43.03"},{"v":5.8759988785522825,"d":"5.88"},{"v":25.990796299222538,"d":"25.99"},{"v":29.62799663565685,"d":"29.63"},{"v":3.2317993832037555,"d":"3.23"}]
[{"v":0.6,"d":"0.60"},{"v":7.125210895874712,"d":"7.13"},{"v":5.640958923410191,"d":"5.64"},{"v":0.6315602535505817,"d":"0.63"},{"v":48.7872304260698,"d":"48.79"},30.314892170427918,{"v":24,"d":"24.00"},{"v":48,"d":"48.00"},{"v":28.922876770230573,"d":"28.9"},{"v":45.845753540461146,"d":"45.85"},{"v":5.8759988785522825,"d":"5.88"},{"v":28.35359596278822,"d":"28.35"},{"v":29.62799663565685,"d":"29.63"},{"v":3.5255993271313693,"d":"3.53"}]
[0.65,{"v":7.416154630484007,"d":"7.42"},{"v":6.111038833694375,"d":"6.11"},{"v":0.6067834645063641,"d":"0.61"},{"v":45.81401574076369,"d":"45.81"},25.484905509267293,{"v":26,"d":"26.00"},{"v":42,"d":"42.00"},{"v":30.333116501083126,"d":"30.3"},{"v":48.66623300216625,"d":"48.67"},{"v":5.8759988785522825,"d":"5.88"},{"v":30.716395626353904,"d":"30.72"},{"v":29.62799663565685,"d":"29.63"},{"v":3.819399271058984,"d":"3.82"}]
[{"v":0.7,"d":"0.70"},{"v":7.696107372939064,"d":"7.70"},{"v":6.581118743978557,"d":"6.58"},{"v":0.5847111769545773,"d":"0.58"},{"v":43.165341234549274,"d":"43.17"},21.049602370364784,{"v":28,"d":"28.00"},{"v":36,"d":"36.00"},{"v":31.74335623193567,"d":"31.7"},{"v":51.48671246387134,"d":"51.49"},{"v":5.8759988785522825,"d":"5.88"},{"v":33.07919528991959,"d":"33.08"},{"v":29.62799663565685,"d":"29.63"},{"v":4.113199214986597,"d":"4.11"}]
[0.75,{"v":7.966227958599017,"d":"7.97"},{"v":7.051198654262739,"d":"7.05"},{"v":0.5648846635304413,"d":"0.56"},{"v":40.78615962365296,"d":"40.79"},16.94653990591324,{"v":30,"d":"30.00"},{"v":30,"d":"30.00"},{"v":33.153595962788216,"d":"33.2"},{"v":54.30719192557643,"d":"54.31"},{"v":5.8759988785522825,"d":"5.88"},{"v":35.44199495348528,"d":"35.44"},{"v":29.62799663565685,"d":"29.63"},{"v":4.406999158914212,"d":"4.41"}]
[{"v":0.8,"d":"0.80"},{"v":8.22748485753224,"d":"8.23"},{"v":7.521278564546923,"d":"7.52"},{"v":0.5469472235953449,"d":"0.55"},{"v":38.63366683144139,"d":"38.63"},13.126733366288278,{"v":32,"d":"32.00"},{"v":24,"d":"24.00"},{"v":34.56383569364077,"d":"34.6"},{"v":57.12767138728154,"d":"57.13"},{"v":5.8759988785522825,"d":"5.88"},{"v":37.80479461705096,"d":"37.80"},{"v":29.62799663565685,"d":"29.63"},{"v":4.700799102841827,"d":"4.70"}]
[0.85,{"v":8.480697275193824,"d":"8.48"},{"v":7.991358474831105,"d":"7.99"},{"v":0.5306167469463356,"d":"0.53"},{"v":36.67400963356028,"d":"36.67"},9.551101445034043,{"v":34,"d":"34.00"},{"v":18,"d":"18.00"},{"v":35.974075424493314,"d":"36.0"},{"v":59.94815084898663,"d":"59.95"},{"v":5.8759988785522825,"d":"5.88"},{"v":40.16759428061664,"d":"40.17"},{"v":29.62799663565685,"d":"29.63"},{"v":4.99459904676944,"d":"4.99"}]
[{"v":0.9,"d":"0.90"},{"v":8.726565502306025,"d":"8.73"},{"v":8.461438385115288,"d":"8.46"},{"v":0.5156667876738976,"d":"0.52"},{"v":34.88001452086771,"d":"34.88"},6.188001452086771,{"v":36,"d":"36.00"},{"v":12,"d":"12.00"},{"v":37.38431515534587,"d":"37.4"},{"v":62.768630310691734,"d":"62.77"},{"v":5.8759988785522825,"d":"5.88"},{"v":42.53039394418233,"d":"42.53"},{"v":29.62799663565685,"d":"29.63"},{"v":5.288398990697054,"d":"5.29"}]
[0.95,{"v":8.965693763373542,"d":"8.97"},{"v":8.93151829539947,"d":"8.93"},{"v":0.501913194758369,"d":"0.50"},{"v":33.22958337100429,"d":"33.23"},3.0114791685502147,{"v":38,"d":"38.00"},{"v":6,"d":"6.00"},{"v":38.79455488619841,"d":"38.8"},{"v":65.58910977239682,"d":"65.59"},{"v":5.8759988785522825,"d":"5.88"},{"v":44.89319360774801,"d":"44.89"},{"v":29.62799663565685,"d":"29.63"},{"v":5.582198934624668,"d":"5.58"}]
[{"v":1,"d":"1.00"},{"v":9.19860771264613,"d":"9.20"},{"v":9.401598205683653,"d":"9.40"},{"v":0.4892044688255872,"d":"0.49"},{"v":31.704536259070466,"d":"31.70"},0,{"v":40,"d":"40.00"},0,{"v":40.20479461705096,"d":"40.2"},{"v":68.40958923410192,"d":"68.41"},{"v":5.8759988785522825,"d":"5.88"},{"v":47.2559932713137,"d":"47.26"},{"v":29.62799663565685,"d":"29.63"},{"v":5.8759988785522825,"d":"5.88"}]
[]
[]
[null,"Función de producción",null,"Función inversa de demanda"]
[null,"y",{"$f":"C78*C79^C80","v":{"v":7.272137918588353,"d":"7.3"}},"b0",{"$f":"mlNOc_monopsonio!E6","v":{"v":120,"d":"120.0"}}]
[null,"A",{"$f":"mlNOc_monopsonio!C7","v":{"v":3,"d":"3.0"}},"b1",{"$f":"mlNOc_monopsonio!E7","v":{"v":-3,"d":"-3.0"}}]
[null,"q1",{"$f":"mlNOc_monopsonio!C8","v":{"v":5.8759988785522825,"d":"5.9"}},"y",{"$f":"C77","v":{"v":7.272137918588353,"d":"7.3"}}]
[null,"a",{"$f":"mlNOc_monopsonio!C9","v":0.5},"p",{"$f":"E77+E78*C77","v":{"v":98.18358624423495,"d":"98.2"}}]
[null,"Función inversa de trabajo"]
[null,"w0",{"$f":"mlNOc_monopsonio!C11","v":{"v":12,"d":"12.0"}}]
[null,"w1",{"$f":"mlNOc_monopsonio!C12","v":{"v":3,"d":"3.0"}}]
[null,"w",{"$f":"C82+C83*C79","v":{"v":29.62799663565685,"d":"29.6"}}]
[null,"CM",{"$f":"C82+2*C83*C79","v":{"v":47.2559932713137,"d":"47.3"}}]

{"sheet":"mlNOc_monopsonio","index":3,"n_rows":30,"n_cols":10,"rows_kept":30,"hidden":true,"merged":[[0,0,0,4],[1,0,1,4],[4,1,4,2],[4,3,4,4],[9,1,9,2],[25,1,25,2],[26,1,26,2],[28,1,28,2],[29,1,29,2]]}
["MERCADO LABORAL NO COMPETITIVO"]
["Elección del monopolio de la cantidad de trabajo en un monopsonio laboral"]
[]
[]
[null,"Función de producción",null,"Función inversa de demanda"]
[null,"y",{"$f":"OcultomlabNOcom!C57","v":{"v":1.8803196411367307,"d":"1.9"}},"b0",{"v":120,"d":"120.0"}]
[null,"A",{"v":3,"d":"3.0"},"b1",{"v":-3,"d":"-3.0"}]
[null,"q1",{"v":5.8759988785522825,"d":"5.9"},"y",{"$f":"C56","v":{"v":0,"d":"0.0"}}]
[null,"a",0.5,"p",{"$f":"OcultomlabNOcom!E80","v":{"v":98.18358624423495,"d":"98.2"}}]
[null,"Función inversa de trabajo"]
[null,"w0",{"v":12,"d":"12.0"},{"$nulls":6},{"$f":"(C9*E6*C7*C8^(C9-1))-(2*C9*E7*-1*C7^2*C8^(2*C9-1))-C11-2*C12*C8","v":2.4153727565590088E-5}]
[null,"w1",{"v":3,"d":"3.0"}]
[null,"w",{"$f":"C11+C12*C8","v":{"v":29.62799663565685,"d":"29.6"}}]
[null,"CM",{"$f":"C11+2*C12*C8","v":{"v":47.2559932713137,"d":"47.3"}}]
[null,"Insertar datos correspondientes"]
{"$rows_empty":10}
[null,"Títulos"]
[null,"Resultados"]
[null,"Insertar Datos"]
[null,"Insertar datos"]
[null,"Cantidad de equilibrio"]