{"text_format":"3","workbook":"xlsx","n_sheets":22,"sheets":["Inicial","Asistencia","Guias","Participación","Tarea","Ensayo","CalifFinal","ExamenesParciales","TodaslasCalif","Estadisticas","CORRE A1P","CORRE G1P","CORRE G2P","CORRE A2P","CORRE G3P","CORRE A3P","correl","Directorio","Ponderadores","Asignatura","CORRE A4P","CORRE G4P"],"not_rendered":{"charts":22,"images":2,"macros":1,"defined_names":10},"unopened":[{"sheet":"CORRE A1P","index":10,"reason":"not_a_worksheet"},{"sheet":"CORRE G1P","index":11,"reason":"not_a_worksheet"},{"sheet":"CORRE G2P","index":12,"reason":"not_a_worksheet"},{"sheet":"CORRE A2P","index":13,"reason":"not_a_worksheet"},{"sheet":"CORRE G3P","index":14,"reason":"not_a_worksheet"},{"sheet":"CORRE A3P","index":15,"reason":"not_a_worksheet"},{"sheet":"CORRE A4P","index":20,"reason":"not_a_worksheet"},{"sheet":"CORRE G4P","index":21,"reason":"not_a_worksheet"}],"read":"whole","date_system":"1900"}

{"sheet":"Inicial","index":0,"n_rows":2,"n_cols":2,"rows_kept":2,"merged":[[1,1,9,13]]}
[]
[null,{"$f":"Asignatura!B3","v":"Nombre de asignatura"}]

{"sheet":"Asistencia","index":1,"n_rows":73,"n_cols":38,"rows_kept":73,"hidden":true,"merged":[[1,0,1,35],[2,0,2,35],[3,0,3,35],[4,0,4,35],[5,0,5,35]]}
[]
["FACULTAD   DE   ECONOMÍA"]
[{"$f":"Asignatura!B3","v":"Nombre de asignatura"}]
[{"$f":"Asignatura!$B$6","v":"Nombre del profesor"}]
[{"$f":"Ponderadores!A2","v":"ASISTENCIA"}]
[{"$f":"CONCATENATE(Asignatura!$A$2,Asignatura!$B$8,Asignatura!$B$2,\"              \",Asignatura!$A$4,Asignatura!$B$8,Asignatura!$B$4,\"              \",Asignatura!$A$5,Asignatura!$B$8,Asignatura!$B$5)","v":"SEMESTRE  Anotar el semestre lectivo              CLAVE  Anotar la clave de asignagtura              GRUPO  Insertar el grupo"},{"$nulls":36},"Total Asistencias"]
["#","NOMBRE",1,2,3,4,5,6,7,8,9,10,11,12,13,14,15,16,17,18,19,20,21,22,23,24,25,26,27,28,29,30,31,32,"TOTAL","CALIFICACIÓN",null,{"$f":"COUNTIF(C69:AH69,\">0\")","v":0}]
[1,{"$f":"IF(Directorio!C2=\"\",\"\",Directorio!C2)","v":""},{"$nulls":32},{"$f":"IF(SUM(C8:AH8)=0,\"\",SUM(C8:AH8))","v":""},{"$f":"IF(AI8=\"\",\"\",((AI8/$AL$7)*Ponderadores!$B$2*10))","v":""}]
[2,{"$f":"IF(Directorio!C3=\"\",\"\",Directorio!C3)","v":""},{"$nulls":32},{"$f":"IF(SUM(C9:AH9)=0,\"\",SUM(C9:AH9))","v":""},{"$f":"IF(AI9=\"\",\"\",((AI9/$AL$7)*Ponderadores!$B$2*10))","v":""}]
[3,{"$f":"IF(Directorio!C4=\"\",\"\",Directorio!C4)","v":""},{"$nulls":32},"",{"$f":"IF(AI10=\"\",\"\",((AI10/$AL$7)*Ponderadores!$B$2*10))","v":""}]
[4,{"$f":"IF(Directorio!C5=\"\",\"\",Directorio!C5)","v":""},{"$nulls":32},"",{"$f":"IF(AI11=\"\",\"\",((AI11/$AL$7)*Ponderadores!$B$2*10))","v":""}]
[5,{"$f":"IF(Directorio!C6=\"\",\"\",Directorio!C6)","v":""},{"$nulls":32},"",{"$f":"IF(AI12=\"\",\"\",((AI12/$AL$7)*Ponderadores!$B$2*10))","v":""}]
[6,{"$f":"IF(Directorio!C7=\"\",\"\",Directorio!C7)","v":""},{"$nulls":32},"",{"$f":"IF(AI13=\"\",\"\",((AI13/$AL$7)*Ponderadores!$B$2*10))","v":""}]
[7,{"$f":"IF(Directorio!C8=\"\",\"\",Directorio!C8)","v":""},{"$nulls":32},"",{"$f":"IF(AI14=\"\",\"\",((AI14/$AL$7)*Ponderadores!$B$2*10))","v":""}]
[8,{"$f":"IF(Directorio!C9=\"\",\"\",Directorio!C9)","v":""},{"$nulls":32},"",{"$f":"IF(AI15=\"\",\"\",((AI15/$AL$7)*Ponderadores!$B$2*10))","v":""}]
[9,{"$f":"IF(Directorio!C10=\"\",\"\",Directorio!C10)","v":""},{"$nulls":32},"",{"$f":"IF(AI16=\"\",\"\",((AI16/$AL$7)*Ponderadores!$B$2*10))","v":""}]
[10,{"$f":"IF(Directorio!C11=\"\",\"\",Directorio!C11)","v":""},{"$nulls":32},"",{"$f":"IF(AI17=\"\",\"\",((AI17/$AL$7)*Ponderadores!$B$2*10))","v":""}]
[11,{"$f":"IF(Directorio!C12=\"\",\"\",Directorio!C12)","v":""},{"$nulls":32},"",{"$f":"IF(AI18=\"\",\"\",((AI18/$AL$7)*Ponderadores!$B$2*10))","v":""}]
[12,{"$f":"IF(Directorio!C13=\"\",\"\",Directorio!C13)","v":""},{"$nulls":32},"",{"$f":"IF(AI19=\"\",\"\",((AI19/$AL$7)*Ponderadores!$B$2*10))","v":""}]
[13,{"$f":"IF(Directorio!C14=\"\",\"\",Directorio!C14)","v":""},{"$nulls":32},"",{"$f":"IF(AI20=\"\",\"\",((AI20/$AL$7)*Ponderadores!$B$2*10))","v":""}]
[14,{"$f":"IF(Directorio!C15=\"\",\"\",Directorio!C15)","v":""},{"$nulls":32},"",{"$f":"IF(AI21=\"\",\"\",((AI21/$AL$7)*Ponderadores!$B$2*10))","v":""}]
[15,{"$f":"IF(Directorio!C16=\"\",\"\",Directorio!C16)","v":""},{"$nulls":32},"",{"$f":"IF(AI22=\"\",\"\",((AI22/$AL$7)*Ponderadores!$B$2*10))","v":""}]
[16,{"$f":"IF(Directorio!C17=\"\",\"\",Directorio!C17)","v":""},{"$nulls":32},"",{"$f":"IF(AI23=\"\",\"\",((AI23/$AL$7)*Ponderadores!$B$2*10))","v":""}]
[17,{"$f":"IF(Directorio!C18=\"\",\"\",Directorio!C18)","v":""},{"$nulls":32},"",{"$f":"IF(AI24=\"\",\"\",((AI24/$AL$7)*Ponderadores!$B$2*10))","v":""}]
[18,{"$f":"IF(Directorio!C19=\"\",\"\",Directorio!C19)","v":""},{"$nulls":32},"",{"$f":"IF(AI25=\"\",\"\",((AI25/$AL$7)*Ponderadores!$B$2*10))","v":""}]
[19,{"$f":"IF(Directorio!C20=\"\",\"\",Directorio!C20)","v":""},{"$nulls":32},"",{"$f":"IF(AI26=\"\",\"\",((AI26/$AL$7)*Ponderadores!$B$2*10))","v":""}]
[20,{"$f":"IF(Directorio!C21=\"\",\"\",Directorio!C21)","v":""},{"$nulls":32},"",{"$f":"IF(AI27=\"\",\"\",((AI27/$AL$7)*Ponderadores!$B$2*10))","v":""}]
[21,{"$f":"IF(Directorio!C22=\"\",\"\",Directorio!C22)","v":""},{"$nulls":32},"",{"$f":"IF(AI28=\"\",\"\",((AI28/$AL$7)*Ponderadores!$B$2*10))","v":""}]
[22,{"$f":"IF(Directorio!C23=\"\",\"\",Directorio!C23)","v":""},{"$nulls":32},"",{"$f":"IF(AI29=\"\",\"\",((AI29/$AL$7)*Ponderadores!$B$2*10))","v":""}]
[23,{"$f":"IF(Directorio!C24=\"\",\"\",Directorio!C24)","v":""},{"$nulls":32},"",{"$f":"IF(AI30=\"\",\"\",((AI30/$AL$7)*Ponderadores!$B$2*10))","v":""}]
[24,{"$f":"IF(Directorio!C25=\"\",\"\",Directorio!C25)","v":""},{"$nulls":32},"",{"$f":"IF(AI31=\"\",\"\",((AI31/$AL$7)*Ponderadores!$B$2*10))","v":""}]
[25,{"$f":"IF(Directorio!C26=\"\",\"\",Directorio!C26)","v":""},{"$nulls":32},"",{"$f":"IF(AI32=\"\",\"\",((AI32/$AL$7)*Ponderadores!$B$2*10))","v":""}]
[26,{"$f":"IF(Directorio!C27=\"\",\"\",Directorio!C27)","v":""},{"$nulls":32},"",{"$f":"IF(AI33=\"\",\"\",((AI33/$AL$7)*Ponderadores!$B$2*10))","v":""}]
[27,{"$f":"IF(Directorio!C28=\"\",\"\",Directorio!C28)","v":""},{"$nulls":32},"",{"$f":"IF(AI34=\"\",\"\",((AI34/$AL$7)*Ponderadores!$B$2*10))","v":""}]
[28,{"$f":"IF(Directorio!C29=\"\",\"\",Directorio!C29)","v":""},{"$nulls":32},"",{"$f":"IF(AI35=\"\",\"\",((AI35/$AL$7)*Ponderadores!$B$2*10))","v":""}]
[29,{"$f":"IF(Directorio!C30=\"\",\"\",Directorio!C30)","v":""},{"$nulls":32},"",{"$f":"IF(AI36=\"\",\"\",((AI36/$AL$7)*Ponderadores!$B$2*10))","v":""}]
[30,{"$f":"IF(Directorio!C31=\"\",\"\",Directorio!C31)","v":""},{"$nulls":32},"",{"$f":"IF(AI37=\"\",\"\",((AI37/$AL$7)*Ponderadores!$B$2*10))","v":""}]
[31,{"$f":"IF(Directorio!C32=\"\",\"\",Directorio!C32)","v":""},{"$nulls":32},"",{"$f":"IF(AI38=\"\",\"\",((AI38/$AL$7)*Ponderadores!$B$2*10))","v":""}]
[32,{"$f":"IF(Directorio!C33=\"\",\"\",Directorio!C33)","v":""},{"$nulls":32},"",{"$f":"IF(AI39=\"\",\"\",((AI39/$AL$7)*Ponderadores!$B$2*10))","v":""}]
[33,{"$f":"IF(Directorio!C34=\"\",\"\",Directorio!C34)","v":""},{"$nulls":32},"",{"$f":"IF(AI40=\"\",\"\",((AI40/$AL$7)*Ponderadores!$B$2*10))","v":""}]
[34,{"$f":"IF(Directorio!C35=\"\",\"\",Directorio!C35)","v":""},{"$nulls":32},"",{"$f":"IF(AI41=\"\",\"\",((AI41/$AL$7)*Ponderadores!$B$2*10))","v":""}]
[35,{"$f":"IF(Directorio!C36=\"\",\"\",Directorio!C36)","v":""},{"$nulls":32},"",{"$f":"IF(AI42=\"\",\"\",((AI42/$AL$7)*Ponderadores!$B$2*10))","v":""}]
[36,{"$f":"IF(Directorio!C37=\"\",\"\",Directorio!C37)","v":""},{"$nulls":32},"",{"$f":"IF(AI43=\"\",\"\",((AI43/$AL$7)*Ponderadores!$B$2*10))","v":""}]
[37,{"$f":"IF(Directorio!C38=\"\",\"\",Directorio!C38)","v":""},{"$nulls":32},"",{"$f":"IF(AI44=\"\",\"\",((AI44/$AL$7)*Ponderadores!$B$2*10))","v":""}]
[38,{"$f":"IF(Directorio!C39=\"\",\"\",Directorio!C39)","v":""},{"$nulls":32},"",{"$f":"IF(AI45=\"\",\"\",((AI45/$AL$7)*Ponderadores!$B$2*10))","v":""}]
[39,{"$f":"IF(Directorio!C40=\"\",\"\",Directorio!C40)","v":""},{"$nulls":32},"",{"$f":"IF(AI46=\"\",\"\",((AI46/$AL$7)*Ponderadores!$B$2*10))","v":""}]
[40,{"$f":"IF(Directorio!C41=\"\",\"\",Directorio!C41)","v":""},{"$nulls":32},"",{"$f":"IF(AI47=\"\",\"\",((AI47/$AL$7)*Ponderadores!$B$2*10))","v":""}]
[41,{"$f":"IF(Directorio!C42=\"\",\"\",Directorio!C42)","v":""},{"$nulls":32},"",{"$f":"IF(AI48=\"\",\"\",((AI48/$AL$7)*Ponderadores!$B$2*10))","v":""}]
[42,{"$f":"IF(Directorio!C43=\"\",\"\",Directorio!C43)","v":""},{"$nulls":32},"",{"$f":"IF(AI49=\"\",\"\",((AI49/$AL$7)*Ponderadores!$B$2*10))","v":""}]
[43,{"$f":"IF(Directorio!C44=\"\",\"\",Directorio!C44)","v":""},{"$nulls":32},"",{"$f":"IF(AI50=\"\",\"\",((AI50/$AL$7)*Ponderadores!$B$2*10))","v":""}]
[44,{"$f":"IF(Directorio!C45=\"\",\"\",Directorio!C45)","v":""},{"$nulls":32},"",{"$f":"IF(AI51=\"\",\"\",((AI51/$AL$7)*Ponderadores!$B$2*10))","v":""}]
[45,{"$f":"IF(Directorio!C46=\"\",\"\",Directorio!C46)","v":""},{"$nulls":32},"",{"$f":"IF(AI52=\"\",\"\",((AI52/$AL$7)*Ponderadores!$B$2*10))","v":""}]
[46,{"$f":"IF(Directorio!C47=\"\",\"\",Directorio!C47)","v":""},{"$nulls":32},"",{"$f":"IF(AI53=\"\",\"\",((AI53/$AL$7)*Ponderadores!$B$2*10))","v":""}]
[47,{"$f":"IF(Directorio!C48=\"\",\"\",Directorio!C48)","v":""},{"$nulls":32},"",{"$f":"IF(AI54=\"\",\"\",((AI54/$AL$7)*Ponderadores!$B$2*10))","v":""}]
[48,{"$f":"IF(Directorio!C49=\"\",\"\",Directorio!C49)","v":""},{"$nulls":32},"",{"$f":"IF(AI55=\"\",\"\",((AI55/$AL$7)*Ponderadores!$B$2*10))","v":""}]
[49,{"$f":"IF(Directorio!C50=\"\",\"\",Directorio!C50)","v":""},{"$nulls":32},"",{"$f":"IF(AI56=\"\",\"\",((AI56/$AL$7)*Ponderadores!$B$2*10))","v":""}]
[50,{"$f":"IF(Directorio!C51=\"\",\"\",Directorio!C51)","v":""},{"$nulls":32},"",{"$f":"IF(AI57=\"\",\"\",((AI57/$AL$7)*Ponderadores!$B$2*10))","v":""}]
[51,{"$f":"IF(Directorio!C52=\"\",\"\",Directorio!C52)","v":""},{"$nulls":32},"",{"$f":"IF(AI58=\"\",\"\",((AI58/$AL$7)*Ponderadores!$B$2*10))","v":""}]
[52,{"$f":"IF(Directorio!C53=\"\",\"\",Directorio!C53)","v":""},{"$nulls":32},"",{"$f":"IF(AI59=\"\",\"\",((AI59/$AL$7)*Ponderadores!$B$2*10))","v":""}]
[53,{"$f":"IF(Directorio!C54=\"\",\"\",Directorio!C54)","v":""},{"$nulls":32},"",{"$f":"IF(AI60=\"\",\"\",((AI60/$AL$7)*Ponderadores!$B$2*10))","v":""}]
[54,{"$f":"IF(Directorio!C55=\"\",\"\",Directorio!C55)","v":""},{"$nulls":32},"",{"$f":"IF(AI61=\"\",\"\",((AI61/$AL$7)*Ponderadores!$B$2*10))","v":""}]
[55,{"$f":"IF(Directorio!C56=\"\",\"\",Directorio!C56)","v":""},{"$nulls":32},"",{"$f":"IF(AI62=\"\",\"\",((AI62/$AL$7)*Ponderadores!$B$2*10))","v":""}]
[56,{"$f":"IF(Directorio!C57=\"\",\"\",Directorio!C57)","v":""},{"$nulls":32},"",{"$f":"IF(AI63=\"\",\"\",((AI63/$AL$7)*Ponderadores!$B$2*10))","v":""}]
[57,{"$f":"IF(Directorio!C58=\"\",\"\",Directorio!C58)","v":""},{"$nulls":32},"",{"$f":"IF(AI64=\"\",\"\",((AI64/$AL$7)*Ponderadores!$B$2*10))","v":""}]
[58,{"$f":"IF(Directorio!C59=\"\",\"\",Directorio!C59)","v":""},{"$nulls":32},"",{"$f":"IF(AI65=\"\",\"\",((AI65/$AL$7)*Ponderadores!$B$2*10))","v":""}]
[59,{"$f":"IF(Directorio!C60=\"\",\"\",Directorio!C60)","v":""},{"$nulls":32},"",{"$f":"IF(AI66=\"\",\"\",((AI66/$AL$7)*Ponderadores!$B$2*10))","v":""}]
[60,{"$f":"IF(Directorio!C61=\"\",\"\",Directorio!C61)","v":""},{"$nulls":32},"",{"$f":"IF(AI67=\"\",\"\",((AI67/$AL$7)*Ponderadores!$B$2*10))","v":""}]
[null,"FECHA",{"$f":"Asignatura!B13","v":"Fecha inicial de clases"},{"$f":"C68+2","v":{"$error":"#VALUE!"}},{"$f":"C68+7","v":{"$error":"#VALUE!"}},{"$f":"D68+7","v":{"$error":"#VALUE!"}},{"$error":"#VALUE!"},{"$error":"#VALUE!"},{"$error":"#VALUE!"},{"$error":"#VALUE!"},{"$error":"#VALUE!"},{"$error":"#VALUE!"},{"$error":"#VALUE!"},{"$error":"#VALUE!"},{"$error":"#VALUE!"},{"$error":"#VALUE!"},{"$error":"#VALUE!"},{"$error":"#VALUE!"},{"$error":"#VALUE!"},{"$error":"#VALUE!"},{"$error":"#VALUE!"},{"$error":"#VALUE!"},{"$error":"#VALUE!"},{"$error":"#VALUE!"},{"$error":"#VALUE!"},{"$error":"#VALUE!"},{"$error":"#VALUE!"},{"$error":"#VALUE!"},{"$error":"#VALUE!"},{"$error":"#VALUE!"},{"$error":"#VALUE!"},{"$error":"#VALUE!"},{"$error":"#VALUE!"},{"$error":"#VALUE!"},"Promedio semestre"]
[null,"ASISTENCIA",{"$f":"IF(SUM(C8:C67)=0,\"\",SUM(C8:C67))","v":""},{"$f":"IF(SUM(D8:D67)=0,\"\",SUM(D8:D67))","v":""},"","","","","","","","","","","","","","","","","","","","","","","","","","","","","",""]
[null,"PORCENTAJE DE ASISTENCIA",{"$f":"IF(C69=\"\",\"\",IF(C69>0,(C69/(COUNTA(Directorio!$C$2:$C$61))),\"\"))","v":""},{"$f":"IF(D69=\"\",\"\",IF(D69>0,(D69/(COUNTA(Directorio!$C$2:$C$61))),\"\"))","v":""},{"$f":"IF(E69=\"\",\"\",IF(E69>0,(E69/(COUNTA(Directorio!$C$2:$C$61))),\"\"))","v":""},{"$f":"IF(F69=\"\",\"\",IF(F69>0,(F69/(COUNTA(Directorio!$C$2:$C$61))),\"\"))","v":""},{"$f":"IF(G69=\"\",\"\",IF(G69>0,(G69/(COUNTA(Directorio!$C$2:$C$61))),\"\"))","v":""},{"$f":"IF(H69=\"\",\"\",IF(H69>0,(H69/(COUNTA(Directorio!$C$2:$C$61))),\"\"))","v":""},{"$f":"IF(I69=\"\",\"\",IF(I69>0,(I69/(COUNTA(Directorio!$C$2:$C$61))),\"\"))","v":""},{"$f":"IF(J69=\"\",\"\",IF(J69>0,(J69/(COUNTA(Directorio!$C$2:$C$61))),\"\"))","v":""},{"$f":"IF(K69=\"\",\"\",IF(K69>0,(K69/(COUNTA(Directorio!$C$2:$C$61))),\"\"))","v":""},{"$f":"IF(L69=\"\",\"\",IF(L69>0,(L69/(COUNTA(Directorio!$C$2:$C$61))),\"\"))","v":""},{"$f":"IF(M69=\"\",\"\",IF(M69>0,(M69/(COUNTA(Directorio!$C$2:$C$61))),\"\"))","v":""},{"$f":"IF(N69=\"\",\"\",IF(N69>0,(N69/(COUNTA(Directorio!$C$2:$C$61))),\"\"))","v":""},{"$f":"IF(O69=\"\",\"\",IF(O69>0,(O69/(COUNTA(Directorio!$C$2:$C$61))),\"\"))","v":""},{"$f":"IF(P69=\"\",\"\",IF(P69>0,(P69/(COUNTA(Directorio!$C$2:$C$61))),\"\"))","v":""},{"$f":"IF(Q69=\"\",\"\",IF(Q69>0,(Q69/(COUNTA(Directorio!$C$2:$C$61))),\"\"))","v":""},{"$f":"IF(R69=\"\",\"\",IF(R69>0,(R69/(COUNTA(Directorio!$C$2:$C$61))),\"\"))","v":""},{"$f":"IF(S69=\"\",\"\",IF(S69>0,(S69/(COUNTA(Directorio!$C$2:$C$61))),\"\"))","v":""},{"$f":"IF(T69=\"\",\"\",IF(T69>0,(T69/(COUNTA(Directorio!$C$2:$C$61))),\"\"))","v":""},{"$f":"IF(U69=\"\",\"\",IF(U69>0,(U69/(COUNTA(Directorio!$C$2:$C$61))),\"\"))","v":""},{"$f":"IF(V69=\"\",\"\",IF(V69>0,(V69/(COUNTA(Directorio!$C$2:$C$61))),\"\"))","v":""},{"$f":"IF(W69=\"\",\"\",IF(W69>0,(W69/(COUNTA(Directorio!$C$2:$C$61))),\"\"))","v":""},{"$f":"IF(X69=\"\",\"\",IF(X69>0,(X69/(COUNTA(Directorio!$C$2:$C$61))),\"\"))","v":""},{"$f":"IF(Y69=\"\",\"\",IF(Y69>0,(Y69/(COUNTA(Directorio!$C$2:$C$61))),\"\"))","v":""},{"$f":"IF(Z69=\"\",\"\",IF(Z69>0,(Z69/(COUNTA(Directorio!$C$2:$C$61))),\"\"))","v":""},{"$f":"IF(AA69=\"\",\"\",IF(AA69>0,(AA69/(COUNTA(Directorio!$C$2:$C$61))),\"\"))","v":""},{"$f":"IF(AB69=\"\",\"\",IF(AB69>0,(AB69/(COUNTA(Directorio!$C$2:$C$61))),\"\"))","v":""},{"$f":"IF(AC69=\"\",\"\",IF(AC69>0,(AC69/(COUNTA(Directorio!$C$2:$C$61))),\"\"))","v":""},{"$f":"IF(AD69=\"\",\"\",IF(AD69>0,(AD69/(COUNTA(Directorio!$C$2:$C$61))),\"\"))","v":""},{"$f":"IF(AE69=\"\",\"\",IF(AE69>0,(AE69/(COUNTA(Directorio!$C$2:$C$61))),\"\"))","v":""},{"$f":"IF(AF69=\"\",\"\",IF(AF69>0,(AF69/(COUNTA(Directorio!$C$2:$C$61))),\"\"))","v":""},{"$f":"IF(AG69=\"\",\"\",IF(AG69>0,(AG69/(COUNTA(Directorio!$C$2:$C$61))),\"\"))","v":""},{"$f":"IF(AH69=\"\",\"\",IF(AH69>0,(AH69/(COUNTA(Directorio!$C$2:$C$61))),\"\"))","v":""},{"$f":"AVERAGE(C70:AH70)","v":{"$error":"#DIV/0!"}}]
[]
[]
[null,"Justificación"]

{"sheet":"Guias","index":2,"n_rows":76,"n_cols":40,"rows_kept":76,"hidden":true,"merged":[[1,0,1,33],[2,0,2,33],[3,0,3,33],[4,0,4,33],[5,0,5,33],[20,38,21,38],[20,39,21,39]]}
[]
[{"$f":"Asistencia!$A$2","v":"FACULTAD   DE   ECONOMÍA"}]
[{"$f":"Asistencia!$A$3","v":"Nombre de asignatura"}]
[{"$f":"Asistencia!$A$4","v":"Nombre del profesor"}]
[{"$f":"Ponderadores!A3","v":"GUÍAS DE ESTUDIO"}]
[{"$f":"CONCATENATE(Asignatura!$A$2,Asignatura!$B$8,Asignatura!$B$2,\"              \",Asignatura!$A$4,Asignatura!$B$8,Asignatura!$B$4,\"              \",Asignatura!$A$5,Asignatura!$B$8,Asignatura!$B$5)","v":"SEMESTRE  Anotar el semestre lectivo              CLAVE  Anotar la clave de asignagtura              GRUPO  Insertar el grupo"},{"$nulls":34},"Suma de Guías"]
["#","NOMBRE",1,2,3,4,5,6,7,8,9,10,11,12,13,14,15,16,17,18,19,20,21,22,23,24,25,26,27,28,29,30,"PROMEDIO","CALIFICACIÓN",null,{"$f":"(MAX(AK8:AK67))*10","v":0},"Cuenta"]
[{"$f":"Asistencia!A8","v":1},{"$f":"Asistencia!B8","v":""},{"$nulls":30},{"$f":"IF(SUM(C8:AF8)=0,\"\",(SUM(C8:AF8)/(MAX($AK$8:$AK$67))))","v":""},{"$f":"IF(AG8=\"\",\"\",AG8*Ponderadores!$B$3)","v":""},null,"Número de guías * 10",{"$f":"COUNTIF(C8:AF8,\">0\")","v":0}]
[{"$f":"Asistencia!A9","v":2},{"$f":"Asistencia!B9","v":""},{"$nulls":30},{"$f":"IF(SUM(C9:AF9)=0,\"\",(SUM(C9:AF9)/(MAX($AK$8:$AK$67))))","v":""},{"$f":"IF(AG9=\"\",\"\",AG9*Ponderadores!$B$3)","v":""},null,null,{"$f":"COUNTIF(C9:AF9,\">0\")","v":0},null,{"$f":"10/6","v":1.6666666666666667}]
[{"$f":"Asistencia!A10","v":3},{"$f":"Asistencia!B10","v":""},{"$nulls":30},{"$f":"IF(SUM(C10:AF10)=0,\"\",(SUM(C10:AF10)/(MAX($AK$8:$AK$67))))","v":""},{"$f":"IF(AG10=\"\",\"\",AG10*Ponderadores!$B$3)","v":""},null,null,0]
[{"$f":"Asistencia!A11","v":4},{"$f":"Asistencia!B11","v":""},{"$nulls":30},{"$f":"IF(SUM(C11:AF11)=0,\"\",(SUM(C11:AF11)/(MAX($AK$8:$AK$67))))","v":""},{"$f":"IF(AG11=\"\",\"\",AG11*Ponderadores!$B$3)","v":""},null,null,0]
[{"$f":"Asistencia!A12","v":5},{"$f":"Asistencia!B12","v":""},{"$nulls":30},{"$f":"IF(SUM(C12:AF12)=0,\"\",(SUM(C12:AF12)/(MAX($AK$8:$AK$67))))","v":""},{"$f":"IF(AG12=\"\",\"\",AG12*Ponderadores!$B$3)","v":""},null,null,0]
[{"$f":"Asistencia!A13","v":6},{"$f":"Asistencia!B13","v":""},{"$nulls":30},"",{"$f":"IF(AG13=\"\",\"\",AG13*Ponderadores!$B$3)","v":""},null,null,0]
[{"$f":"Asistencia!A14","v":7},{"$f":"Asistencia!B14","v":""},{"$nulls":30},"",{"$f":"IF(AG14=\"\",\"\",AG14*Ponderadores!$B$3)","v":""},null,null,0]
[{"$f":"Asistencia!A15","v":8},{"$f":"Asistencia!B15","v":""},{"$nulls":30},"",{"$f":"IF(AG15=\"\",\"\",AG15*Ponderadores!$B$3)","v":""},null,null,0]
[{"$f":"Asistencia!A16","v":9},{"$f":"Asistencia!B16","v":""},{"$nulls":30},"",{"$f":"IF(AG16=\"\",\"\",AG16*Ponderadores!$B$3)","v":""},null,null,0]
[{"$f":"Asistencia!A17","v":10},{"$f":"Asistencia!B17","v":""},{"$nulls":30},"",{"$f":"IF(AG17=\"\",\"\",AG17*Ponderadores!$B$3)","v":""},null,null,0]
[{"$f":"Asistencia!A18","v":11},{"$f":"Asistencia!B18","v":""},{"$nulls":30},"",{"$f":"IF(AG18=\"\",\"\",AG18*Ponderadores!$B$3)","v":""},null,null,0]
[{"$f":"Asistencia!A19","v":12},{"$f":"Asistencia!B19","v":""},{"$nulls":30},"",{"$f":"IF(AG19=\"\",\"\",AG19*Ponderadores!$B$3)","v":""},null,null,0]
[{"$f":"Asistencia!A20","v":13},{"$f":"Asistencia!B20","v":""},{"$nulls":30},"",{"$f":"IF(AG20=\"\",\"\",AG20*Ponderadores!$B$3)","v":""},null,null,0]
[{"$f":"Asistencia!A21","v":14},{"$f":"Asistencia!B21","v":""},{"$nulls":30},"",{"$f":"IF(AG21=\"\",\"\",AG21*Ponderadores!$B$3)","v":""},null,null,0,null,"Calificación de la Guía",{"$f":"((AN25/AN28)*AM25)+((AN26/AN28)*AM26)+((AN27/AN28)*AM27)","v":{"v":8.88888888888889,"d":"8.9"}}]
[{"$f":"Asistencia!A22","v":15},{"$f":"Asistencia!B22","v":""},{"$nulls":30},"",{"$f":"IF(AG22=\"\",\"\",AG22*Ponderadores!$B$3)","v":""},null,null,0]
[{"$f":"Asistencia!A23","v":16},{"$f":"Asistencia!B23","v":""},{"$nulls":30},"",{"$f":"IF(AG23=\"\",\"\",AG23*Ponderadores!$B$3)","v":""},null,null,0]
[{"$f":"Asistencia!A24","v":17},{"$f":"Asistencia!B24","v":""},{"$nulls":30},"",{"$f":"IF(AG24=\"\",\"\",AG24*Ponderadores!$B$3)","v":""},null,null,0,null,"Calificación","# dePreguntas"]
[{"$f":"Asistencia!A25","v":18},{"$f":"Asistencia!B25","v":""},{"$nulls":30},"",{"$f":"IF(AG25=\"\",\"\",AG25*Ponderadores!$B$3)","v":""},null,null,0,null,10,4]
[{"$f":"Asistencia!A26","v":19},{"$f":"Asistencia!B26","v":""},{"$nulls":30},"",{"$f":"IF(AG26=\"\",\"\",AG26*Ponderadores!$B$3)","v":""},null,null,0,null,8,5]
[{"$f":"Asistencia!A27","v":20},{"$f":"Asistencia!B27","v":""},{"$nulls":30},"",{"$f":"IF(AG27=\"\",\"\",AG27*Ponderadores!$B$3)","v":""},null,null,0,null,0,0]
[{"$f":"Asistencia!A28","v":21},{"$f":"Asistencia!B28","v":""},{"$nulls":30},"",{"$f":"IF(AG28=\"\",\"\",AG28*Ponderadores!$B$3)","v":""},null,null,0,null,{"$f":"SUM(AM25:AM27)","v":18},{"$f":"SUM(AN25:AN27)","v":9}]
[{"$f":"Asistencia!A29","v":22},{"$f":"Asistencia!B29","v":""},{"$nulls":30},"",{"$f":"IF(AG29=\"\",\"\",AG29*Ponderadores!$B$3)","v":""},null,null,0]
[{"$f":"Asistencia!A30","v":23},{"$f":"Asistencia!B30","v":""},{"$nulls":30},"",{"$f":"IF(AG30=\"\",\"\",AG30*Ponderadores!$B$3)","v":""},null,null,0]
[{"$f":"Asistencia!A31","v":24},{"$f":"Asistencia!B31","v":""},{"$nulls":30},"",{"$f":"IF(AG31=\"\",\"\",AG31*Ponderadores!$B$3)","v":""},null,null,0]
[{"$f":"Asistencia!A32","v":25},{"$f":"Asistencia!B32","v":""},{"$nulls":30},"",{"$f":"IF(AG32=\"\",\"\",AG32*Ponderadores!$B$3)","v":""},null,null,0]
[{"$f":"Asistencia!A33","v":26},{"$f":"Asistencia!B33","v":""},{"$nulls":30},"",{"$f":"IF(AG33=\"\",\"\",AG33*Ponderadores!$B$3)","v":""},null,null,0]
[{"$f":"Asistencia!A34","v":27},{"$f":"Asistencia!B34","v":""},{"$nulls":30},"",{"$f":"IF(AG34=\"\",\"\",AG34*Ponderadores!$B$3)","v":""},null,null,0]
[{"$f":"Asistencia!A35","v":28},{"$f":"Asistencia!B35","v":""},{"$nulls":30},"",{"$f":"IF(AG35=\"\",\"\",AG35*Ponderadores!$B$3)","v":""},null,null,0]
[{"$f":"Asistencia!A36","v":29},{"$f":"Asistencia!B36","v":""},{"$nulls":30},"",{"$f":"IF(AG36=\"\",\"\",AG36*Ponderadores!$B$3)","v":""},null,null,0]
[{"$f":"Asistencia!A37","v":30},{"$f":"Asistencia!B37","v":""},{"$nulls":30},"",{"$f":"IF(AG37=\"\",\"\",AG37*Ponderadores!$B$3)","v":""},null,null,0]
[{"$f":"Asistencia!A38","v":31},{"$f":"Asistencia!B38","v":""},{"$nulls":30},"",{"$f":"IF(AG38=\"\",\"\",AG38*Ponderadores!$B$3)","v":""},null,null,0]
[{"$f":"Asistencia!A39","v":32},{"$f":"Asistencia!B39","v":""},{"$nulls":30},"",{"$f":"IF(AG39=\"\",\"\",AG39*Ponderadores!$B$3)","v":""},null,null,0]
[{"$f":"Asistencia!A40","v":33},{"$f":"Asistencia!B40","v":""},{"$nulls":30},"",{"$f":"IF(AG40=\"\",\"\",AG40*Ponderadores!$B$3)","v":""},null,null,0]
[{"$f":"Asistencia!A41","v":34},{"$f":"Asistencia!B41","v":""},{"$nulls":30},"",{"$f":"IF(AG41=\"\",\"\",AG41*Ponderadores!$B$3)","v":""},null,null,0]
[{"$f":"Asistencia!A42","v":35},{"$f":"Asistencia!B42","v":""},{"$nulls":30},"",{"$f":"IF(AG42=\"\",\"\",AG42*Ponderadores!$B$3)","v":""},null,null,0]
[{"$f":"Asistencia!A43","v":36},{"$f":"Asistencia!B43","v":""},{"$nulls":30},"",{"$f":"IF(AG43=\"\",\"\",AG43*Ponderadores!$B$3)","v":""},null,null,0]
[{"$f":"Asistencia!A44","v":37},{"$f":"Asistencia!B44","v":""},{"$nulls":30},"",{"$f":"IF(AG44=\"\",\"\",AG44*Ponderadores!$B$3)","v":""},null,null,0]
[{"$f":"Asistencia!A45","v":38},{"$f":"Asistencia!B45","v":""},{"$nulls":30},"",{"$f":"IF(AG45=\"\",\"\",AG45*Ponderadores!$B$3)","v":""},null,null,0]
[{"$f":"Asistencia!A46","v":39},{"$f":"Asistencia!B46","v":""},{"$nulls":30},"",{"$f":"IF(AG46=\"\",\"\",AG46*Ponderadores!$B$3)","v":""},null,null,0]
[{"$f":"Asistencia!A47","v":40},{"$f":"Asistencia!B47","v":""},{"$nulls":30},"",{"$f":"IF(AG47=\"\",\"\",AG47*Ponderadores!$B$3)","v":""},null,null,0]
[{"$f":"Asistencia!A48","v":41},{"$f":"Asistencia!B48","v":""},{"$nulls":30},"",{"$f":"IF(AG48=\"\",\"\",AG48*Ponderadores!$B$3)","v":""},null,null,0]
[{"$f":"Asistencia!A49","v":42},{"$f":"Asistencia!B49","v":""},{"$nulls":30},"",{"$f":"IF(AG49=\"\",\"\",AG49*Ponderadores!$B$3)","v":""},null,null,0]
[{"$f":"Asistencia!A50","v":43},{"$f":"Asistencia!B50","v":""},{"$nulls":30},"",{"$f":"IF(AG50=\"\",\"\",AG50*Ponderadores!$B$3)","v":""},null,null,0]
[{"$f":"Asistencia!A51","v":44},{"$f":"Asistencia!B51","v":""},{"$nulls":30},"",{"$f":"IF(AG51=\"\",\"\",AG51*Ponderadores!$B$3)","v":""},null,null,0]
[{"$f":"Asistencia!A52","v":45},{"$f":"Asistencia!B52","v":""},{"$nulls":30},"",{"$f":"IF(AG52=\"\",\"\",AG52*Ponderadores!$B$3)","v":""},null,null,0]
[{"$f":"Asistencia!A53","v":46},{"$f":"Asistencia!B53","v":""},{"$nulls":30},"",{"$f":"IF(AG53=\"\",\"\",AG53*Ponderadores!$B$3)","v":""},null,null,0]
[{"$f":"Asistencia!A54","v":47},{"$f":"Asistencia!B54","v":""},{"$nulls":30},"",{"$f":"IF(AG54=\"\",\"\",AG54*Ponderadores!$B$3)","v":""},null,null,0]
[{"$f":"Asistencia!A55","v":48},{"$f":"Asistencia!B55","v":""},{"$nulls":30},"",{"$f":"IF(AG55=\"\",\"\",AG55*Ponderadores!$B$3)","v":""},null,null,0]
[{"$f":"Asistencia!A56","v":49},{"$f":"Asistencia!B56","v":""},{"$nulls":30},"",{"$f":"IF(AG56=\"\",\"\",AG56*Ponderadores!$B$3)","v":""},null,null,0]
[{"$f":"Asistencia!A57","v":50},{"$f":"Asistencia!B57","v":""},{"$nulls":30},"",{"$f":"IF(AG57=\"\",\"\",AG57*Ponderadores!$B$3)","v":""},null,null,0]
[{"$f":"Asistencia!A58","v":51},{"$f":"Asistencia!B58","v":""},{"$nulls":30},"",{"$f":"IF(AG58=\"\",\"\",AG58*Ponderadores!$B$3)","v":""},null,null,0]
[{"$f":"Asistencia!A59","v":52},{"$f":"Asistencia!B59","v":""},{"$nulls":30},"",{"$f":"IF(AG59=\"\",\"\",AG59*Ponderadores!$B$3)","v":""},null,null,0]
[{"$f":"Asistencia!A60","v":53},{"$f":"Asistencia!B60","v":""},{"$nulls":30},"",{"$f":"IF(AG60=\"\",\"\",AG60*Ponderadores!$B$3)","v":""},null,null,0]
[{"$f":"Asistencia!A61","v":54},{"$f":"Asistencia!B61","v":""},{"$nulls":30},"",{"$f":"IF(AG61=\"\",\"\",AG61*Ponderadores!$B$3)","v":""},null,null,0]
[{"$f":"Asistencia!A62","v":55},{"$f":"Asistencia!B62","v":""},{"$nulls":30},"",{"$f":"IF(AG62=\"\",\"\",AG62*Ponderadores!$B$3)","v":""},null,null,0]
[{"$f":"Asistencia!A63","v":56},{"$f":"Asistencia!B63","v":""},{"$nulls":30},"",{"$f":"IF(AG63=\"\",\"\",AG63*Ponderadores!$B$3)","v":""},null,null,0]
[{"$f":"Asistencia!A64","v":57},{"$f":"Asistencia!B64","v":""},{"$nulls":30},"",{"$f":"IF(AG64=\"\",\"\",AG64*Ponderadores!$B$3)","v":""},null,null,0]
[{"$f":"Asistencia!A65","v":58},{"$f":"Asistencia!B65","v":""},{"$nulls":30},"",{"$f":"IF(AG65=\"\",\"\",AG65*Ponderadores!$B$3)","v":""},null,null,0]
[{"$f":"Asistencia!A66","v":59},{"$f":"Asistencia!B66","v":""},{"$nulls":30},"",{"$f":"IF(AG66=\"\",\"\",AG66*Ponderadores!$B$3)","v":""},null,null,0]
[{"$f":"Asistencia!A67","v":60},{"$f":"Asistencia!B67","v":""},{"$nulls":30},"",{"$f":"IF(AG67=\"\",\"\",AG67*Ponderadores!$B$3)","v":""},null,null,0]
[null,"TÍTULO DE LA GUÍA DE ESTUDIO","Cap1. 1.1-1.4","1.5-1.8","El Sist. Neo 2.1-2.2","El Sist. Neo 2.3-2.6","El Sist. Neo 2.7-2.8","El Sist. Neo 2.9-2.10","El Sist. Key 3.1-3.4","El Sist. Key 3.5-3.7","El Sist. Key 3.8-3.10","Sist. Sínt. Neo 4.1",{"$nulls":20},"Pomedio","Calificación"]
[]
[]
[]
[]
[]
[1,"GALICIA MARQUEZ ARTURO",{"$nulls":30},{"$f":"SUM(C74:AF74)","v":0},{"$f":"(AG74/$AJ$7)*0.4","v":{"$error":"#DIV/0!"}}]
[2,"LARIOS VÁZQUEZ JESÚS F.",null,1]
[3,"LÓPEZ BAUTISTA ELIOENAI",{"$nulls":30},{"$f":"SUM(C76:AF76)","v":0},{"$f":"(AG76/$AJ$7)*0.4","v":{"$error":"#DIV/0!"}}]

{"sheet":"Participación","index":3,"n_rows":69,"n_cols":37,"rows_kept":69,"hidden":true,"merged":[[0,0,0,35],[1,0,1,35],[2,0,2,35],[3,0,3,35],[4,0,4,35]]}
["FACULTAD   DE   ECONOMÍA"]
[{"$f":"Asignatura!B3","v":"Nombre de asignatura"}]
[{"$f":"Asignatura!$B$6","v":"Nombre del profesor"}]
[{"$f":"Ponderadores!A4","v":"PARTICIPACIÓN EN CLASE"}]
[{"$f":"CONCATENATE(Asignatura!$A$2,Asignatura!$B$8,Asignatura!$B$2,\"              \",Asignatura!$A$4,Asignatura!$B$8,Asignatura!$B$4,\"              \",Asignatura!$A$5,Asignatura!$B$8,Asignatura!$B$5)","v":"SEMESTRE  Anotar el semestre lectivo              CLAVE  Anotar la clave de asignagtura              GRUPO  Insertar el grupo"},{"$nulls":35},"Total Participación"]
["#","NOMBRE",1,2,3,4,5,6,7,8,9,10,11,12,13,14,15,16,17,18,19,20,21,22,23,24,25,26,27,28,29,30,31,32,"TOTAL","CALIFICACIÓN",{"$f":"MAX(AI7:AI66)","v":0}]
[1,{"$f":"Asistencia!B8","v":""},{"$nulls":32},{"$f":"IF(SUM(C7:AH7)>0,SUM(C7:AH7),\"\")","v":""},{"$f":"IF(AI7=\"\",\"\",((AI7/$AK$6)*Ponderadores!$B$4*10))","v":""}]
[2,{"$f":"Asistencia!B9","v":""},{"$nulls":32},{"$f":"IF(SUM(C8:AH8)>0,SUM(C8:AH8),\"\")","v":""},{"$f":"IF(AI8=\"\",\"\",((AI8/$AK$6)*Ponderadores!$B$4*10))","v":""}]
[3,{"$f":"Asistencia!B10","v":""},{"$nulls":32},"",{"$f":"IF(AI9=\"\",\"\",((AI9/$AK$6)*Ponderadores!$B$4*10))","v":""}]
[4,{"$f":"Asistencia!B11","v":""},{"$nulls":32},"",{"$f":"IF(AI10=\"\",\"\",((AI10/$AK$6)*Ponderadores!$B$4*10))","v":""}]
[5,{"$f":"Asistencia!B12","v":""},{"$nulls":32},"",{"$f":"IF(AI11=\"\",\"\",((AI11/$AK$6)*Ponderadores!$B$4*10))","v":""}]
[6,{"$f":"Asistencia!B13","v":""},{"$nulls":32},"",{"$f":"IF(AI12=\"\",\"\",((AI12/$AK$6)*Ponderadores!$B$4*10))","v":""}]
[7,{"$f":"Asistencia!B14","v":""},{"$nulls":32},"",{"$f":"IF(AI13=\"\",\"\",((AI13/$AK$6)*Ponderadores!$B$4*10))","v":""}]
[8,{"$f":"Asistencia!B15","v":""},{"$nulls":32},"",{"$f":"IF(AI14=\"\",\"\",((AI14/$AK$6)*Ponderadores!$B$4*10))","v":""}]
[9,{"$f":"Asistencia!B16","v":""},{"$nulls":32},"",{"$f":"IF(AI15=\"\",\"\",((AI15/$AK$6)*Ponderadores!$B$4*10))","v":""}]
[10,{"$f":"Asistencia!B17","v":""},{"$nulls":32},"",{"$f":"IF(AI16=\"\",\"\",((AI16/$AK$6)*Ponderadores!$B$4*10))","v":""}]
[11,{"$f":"Asistencia!B18","v":""},{"$nulls":32},"",{"$f":"IF(AI17=\"\",\"\",((AI17/$AK$6)*Ponderadores!$B$4*10))","v":""}]
[12,{"$f":"Asistencia!B19","v":""},{"$nulls":32},"",{"$f":"IF(AI18=\"\",\"\",((AI18/$AK$6)*Ponderadores!$B$4*10))","v":""}]
[13,{"$f":"Asistencia!B20","v":""},{"$nulls":32},"",{"$f":"IF(AI19=\"\",\"\",((AI19/$AK$6)*Ponderadores!$B$4*10))","v":""}]
[14,{"$f":"Asistencia!B21","v":""},{"$nulls":32},"",{"$f":"IF(AI20=\"\",\"\",((AI20/$AK$6)*Ponderadores!$B$4*10))","v":""}]
[15,{"$f":"Asistencia!B22","v":""},{"$nulls":32},"",{"$f":"IF(AI21=\"\",\"\",((AI21/$AK$6)*Ponderadores!$B$4*10))","v":""}]
[16,{"$f":"Asistencia!B23","v":""},{"$nulls":32},"",{"$f":"IF(AI22=\"\",\"\",((AI22/$AK$6)*Ponderadores!$B$4*10))","v":""}]
[17,{"$f":"Asistencia!B24","v":""},{"$nulls":32},"",{"$f":"IF(AI23=\"\",\"\",((AI23/$AK$6)*Ponderadores!$B$4*10))","v":""}]
[18,{"$f":"Asistencia!B25","v":""},{"$nulls":32},"",{"$f":"IF(AI24=\"\",\"\",((AI24/$AK$6)*Ponderadores!$B$4*10))","v":""}]
[19,{"$f":"Asistencia!B26","v":""},{"$nulls":32},"",{"$f":"IF(AI25=\"\",\"\",((AI25/$AK$6)*Ponderadores!$B$4*10))","v":""}]
[20,{"$f":"Asistencia!B27","v":""},{"$nulls":32},"",{"$f":"IF(AI26=\"\",\"\",((AI26/$AK$6)*Ponderadores!$B$4*10))","v":""}]
[21,{"$f":"Asistencia!B28","v":""},{"$nulls":32},"",{"$f":"IF(AI27=\"\",\"\",((AI27/$AK$6)*Ponderadores!$B$4*10))","v":""}]
[22,{"$f":"Asistencia!B29","v":""},{"$nulls":32},"",{"$f":"IF(AI28=\"\",\"\",((AI28/$AK$6)*Ponderadores!$B$4*10))","v":""}]
[23,{"$f":"Asistencia!B30","v":""},{"$nulls":32},"",{"$f":"IF(AI29=\"\",\"\",((AI29/$AK$6)*Ponderadores!$B$4*10))","v":""}]
[24,{"$f":"Asistencia!B31","v":""},{"$nulls":32},"",{"$f":"IF(AI30=\"\",\"\",((AI30/$AK$6)*Ponderadores!$B$4*10))","v":""}]
[25,{"$f":"Asistencia!B32","v":""},{"$nulls":32},"",{"$f":"IF(AI31=\"\",\"\",((AI31/$AK$6)*Ponderadores!$B$4*10))","v":""}]
[26,{"$f":"Asistencia!B33","v":""},{"$nulls":32},"",{"$f":"IF(AI32=\"\",\"\",((AI32/$AK$6)*Ponderadores!$B$4*10))","v":""}]
[27,{"$f":"Asistencia!B34","v":""},{"$nulls":32},"",{"$f":"IF(AI33=\"\",\"\",((AI33/$AK$6)*Ponderadores!$B$4*10))","v":""}]
[28,{"$f":"Asistencia!B35","v":""},{"$nulls":32},"",{"$f":"IF(AI34=\"\",\"\",((AI34/$AK$6)*Ponderadores!$B$4*10))","v":""}]
[29,{"$f":"Asistencia!B36","v":""},{"$nulls":32},"",{"$f":"IF(AI35=\"\",\"\",((AI35/$AK$6)*Ponderadores!$B$4*10))","v":""}]
[30,{"$f":"Asistencia!B37","v":""},{"$nulls":32},"",{"$f":"IF(AI36=\"\",\"\",((AI36/$AK$6)*Ponderadores!$B$4*10))","v":""}]
[31,{"$f":"Asistencia!B38","v":""},{"$nulls":32},"",{"$f":"IF(AI37=\"\",\"\",((AI37/$AK$6)*Ponderadores!$B$4*10))","v":""}]
[32,{"$f":"Asistencia!B39","v":""},{"$nulls":32},"",{"$f":"IF(AI38=\"\",\"\",((AI38/$AK$6)*Ponderadores!$B$4*10))","v":""}]
[33,{"$f":"Asistencia!B40","v":""},{"$nulls":32},"",{"$f":"IF(AI39=\"\",\"\",((AI39/$AK$6)*Ponderadores!$B$4*10))","v":""}]
[34,{"$f":"Asistencia!B41","v":""},{"$nulls":32},"",{"$f":"IF(AI40=\"\",\"\",((AI40/$AK$6)*Ponderadores!$B$4*10))","v":""}]
[35,{"$f":"Asistencia!B42","v":""},{"$nulls":32},"",{"$f":"IF(AI41=\"\",\"\",((AI41/$AK$6)*Ponderadores!$B$4*10))","v":""}]
[36,{"$f":"Asistencia!B43","v":""},{"$nulls":32},"",{"$f":"IF(AI42=\"\",\"\",((AI42/$AK$6)*Ponderadores!$B$4*10))","v":""}]
[37,{"$f":"Asistencia!B44","v":""},{"$nulls":32},"",{"$f":"IF(AI43=\"\",\"\",((AI43/$AK$6)*Ponderadores!$B$4*10))","v":""}]
[38,{"$f":"Asistencia!B45","v":""},{"$nulls":32},"",{"$f":"IF(AI44=\"\",\"\",((AI44/$AK$6)*Ponderadores!$B$4*10))","v":""}]
[39,{"$f":"Asistencia!B46","v":""},{"$nulls":32},"",{"$f":"IF(AI45=\"\",\"\",((AI45/$AK$6)*Ponderadores!$B$4*10))","v":""}]
[40,{"$f":"Asistencia!B47","v":""},{"$nulls":32},"",{"$f":"IF(AI46=\"\",\"\",((AI46/$AK$6)*Ponderadores!$B$4*10))","v":""}]
[41,{"$f":"Asistencia!B48","v":""},{"$nulls":32},"",{"$f":"IF(AI47=\"\",\"\",((AI47/$AK$6)*Ponderadores!$B$4*10))","v":""}]
[42,{"$f":"Asistencia!B49","v":""},{"$nulls":32},"",{"$f":"IF(AI48=\"\",\"\",((AI48/$AK$6)*Ponderadores!$B$4*10))","v":""}]
[43,{"$f":"Asistencia!B50","v":""},{"$nulls":32},"",{"$f":"IF(AI49=\"\",\"\",((AI49/$AK$6)*Ponderadores!$B$4*10))","v":""}]
[44,{"$f":"Asistencia!B51","v":""},{"$nulls":32},"",{"$f":"IF(AI50=\"\",\"\",((AI50/$AK$6)*Ponderadores!$B$4*10))","v":""}]
[45,{"$f":"Asistencia!B52","v":""},{"$nulls":32},"",{"$f":"IF(AI51=\"\",\"\",((AI51/$AK$6)*Ponderadores!$B$4*10))","v":""}]
[46,{"$f":"Asistencia!B53","v":""},{"$nulls":32},"",{"$f":"IF(AI52=\"\",\"\",((AI52/$AK$6)*Ponderadores!$B$4*10))","v":""}]
[47,{"$f":"Asistencia!B54","v":""},{"$nulls":32},"",{"$f":"IF(AI53=\"\",\"\",((AI53/$AK$6)*Ponderadores!$B$4*10))","v":""}]
[48,{"$f":"Asistencia!B55","v":""},{"$nulls":32},"",{"$f":"IF(AI54=\"\",\"\",((AI54/$AK$6)*Ponderadores!$B$4*10))","v":""}]
[49,{"$f":"Asistencia!B56","v":""},{"$nulls":32},"",{"$f":"IF(AI55=\"\",\"\",((AI55/$AK$6)*Ponderadores!$B$4*10))","v":""}]
[50,{"$f":"Asistencia!B57","v":""},{"$nulls":32},"",{"$f":"IF(AI56=\"\",\"\",((AI56/$AK$6)*Ponderadores!$B$4*10))","v":""}]
[51,{"$f":"Asistencia!B58","v":""},{"$nulls":32},"",{"$f":"IF(AI57=\"\",\"\",((AI57/$AK$6)*Ponderadores!$B$4*10))","v":""}]
[52,{"$f":"Asistencia!B59","v":""},{"$nulls":32},"",{"$f":"IF(AI58=\"\",\"\",((AI58/$AK$6)*Ponderadores!$B$4*10))","v":""}]
[53,{"$f":"Asistencia!B60","v":""},{"$nulls":32},"",{"$f":"IF(AI59=\"\",\"\",((AI59/$AK$6)*Ponderadores!$B$4*10))","v":""}]
[54,{"$f":"Asistencia!B61","v":""},{"$nulls":32},"",{"$f":"IF(AI60=\"\",\"\",((AI60/$AK$6)*Ponderadores!$B$4*10))","v":""}]
[55,{"$f":"Asistencia!B62","v":""},{"$nulls":32},"",{"$f":"IF(AI61=\"\",\"\",((AI61/$AK$6)*Ponderadores!$B$4*10))","v":""}]
[56,{"$f":"Asistencia!B63","v":""},{"$nulls":32},"",{"$f":"IF(AI62=\"\",\"\",((AI62/$AK$6)*Ponderadores!$B$4*10))","v":""}]
[57,{"$f":"Asistencia!B64","v":""},{"$nulls":32},"",{"$f":"IF(AI63=\"\",\"\",((AI63/$AK$6)*Ponderadores!$B$4*10))","v":""}]
[58,{"$f":"Asistencia!B65","v":""},{"$nulls":32},"",{"$f":"IF(AI64=\"\",\"\",((AI64/$AK$6)*Ponderadores!$B$4*10))","v":""}]
[59,{"$f":"Asistencia!B66","v":""},{"$nulls":32},"",{"$f":"IF(AI65=\"\",\"\",((AI65/$AK$6)*Ponderadores!$B$4*10))","v":""}]
[60,{"$f":"Asistencia!B67","v":""},{"$nulls":32},"",{"$f":"IF(AI66=\"\",\"\",((AI66/$AK$6)*Ponderadores!$B$4*10))","v":""}]
[null,"FECHA",{"$f":"Asistencia!C68","v":"Fecha inicial de clases"},{"$f":"Asistencia!D68","v":{"$error":"#VALUE!"}},{"$f":"Asistencia!E68","v":{"$error":"#VALUE!"}},{"$f":"Asistencia!F68","v":{"$error":"#VALUE!"}},{"$f":"Asistencia!G68","v":{"$error":"#VALUE!"}},{"$f":"Asistencia!H68","v":{"$error":"#VALUE!"}},{"$f":"Asistencia!I68","v":{"$error":"#VALUE!"}},{"$f":"Asistencia!J68","v":{"$error":"#VALUE!"}},{"$f":"Asistencia!K68","v":{"$error":"#VALUE!"}},{"$f":"Asistencia!L68","v":{"$error":"#VALUE!"}},{"$f":"Asistencia!M68","v":{"$error":"#VALUE!"}},{"$f":"Asistencia!N68","v":{"$error":"#VALUE!"}},{"$f":"Asistencia!O68","v":{"$error":"#VALUE!"}},{"$f":"Asistencia!P68","v":{"$error":"#VALUE!"}},{"$f":"Asistencia!Q68","v":{"$error":"#VALUE!"}},{"$f":"Asistencia!R68","v":{"$error":"#VALUE!"}},{"$f":"Asistencia!S68","v":{"$error":"#VALUE!"}},{"$f":"Asistencia!T68","v":{"$error":"#VALUE!"}},{"$f":"Asistencia!U68","v":{"$error":"#VALUE!"}},{"$f":"Asistencia!V68","v":{"$error":"#VALUE!"}},{"$f":"Asistencia!W68","v":{"$error":"#VALUE!"}},{"$f":"Asistencia!X68","v":{"$error":"#VALUE!"}},{"$f":"Asistencia!Y68","v":{"$error":"#VALUE!"}},{"$f":"Asistencia!Z68","v":{"$error":"#VALUE!"}},{"$f":"Asistencia!AA68","v":{"$error":"#VALUE!"}},{"$f":"Asistencia!AB68","v":{"$error":"#VALUE!"}},{"$f":"Asistencia!AC68","v":{"$error":"#VALUE!"}},{"$f":"Asistencia!AD68","v":{"$error":"#VALUE!"}},{"$f":"Asistencia!AE68","v":{"$error":"#VALUE!"}},{"$f":"Asistencia!AF68","v":{"$error":"#VALUE!"}},{"$f":"Asistencia!AG68","v":{"$error":"#VALUE!"}},{"$f":"Asistencia!AH68","v":{"$error":"#VALUE!"}}]
[null,"ASISTENCIA",{"$f":"SUM(C7:C66)","v":0},0,0,0,0,0,0,0,0,0,0,0,0,0,0,0,0,0,0,0,0,0,0,0,0,0,0,0,0,0,0,0]
[null,"PORCENTAJE DE ASISTENCIA",{"$f":"C68/(COUNTA($B$7:$B$66))","v":{"v":0,"d":"0%"}},{"v":0,"d":"0%"},{"v":0,"d":"0%"},{"v":0,"d":"0%"},{"v":0,"d":"0%"},{"v":0,"d":"0%"},{"v":0,"d":"0%"},{"v":0,"d":"0%"},{"v":0,"d":"0%"},{"v":0,"d":"0%"},{"v":0,"d":"0%"},{"v":0,"d":"0%"},{"v":0,"d":"0%"},{"v":0,"d":"0%"},{"v":0,"d":"0%"},{"v":0,"d":"0%"},{"v":0,"d":"0%"},{"v":0,"d":"0%"},{"v":0,"d":"0%"},{"v":0,"d":"0%"},{"v":0,"d":"0%"},{"v":0,"d":"0%"},{"v":0,"d":"0%"},{"v":0,"d":"0%"},{"v":0,"d":"0%"},{"v":0,"d":"0%"},{"v":0,"d":"0%"},{"v":0,"d":"0%"},{"v":0,"d":"0%"},{"v":0,"d":"0%"},{"v":0,"d":"0%"},{"v":0,"d":"0%"}]

{"sheet":"Tarea","index":4,"n_rows":67,"n_cols":28,"rows_kept":67,"hidden":true,"merged":[[1,0,1,24],[2,0,2,24],[3,0,3,24],[4,0,4,24],[5,0,5,24]]}
[]
[{"$f":"TodaslasCalif!A2:N2","v":"FACULTAD   DE   ECONOMÍA"}]
[{"$f":"TodaslasCalif!A3:N3","v":"Nombre de asignatura"}]
[{"$f":"TodaslasCalif!A4:N4","v":"Nombre del profesor"}]
["TAREAS"]
[{"$f":"CONCATENATE(Asignatura!A2,Asignatura!B8,Asignatura!B2,Asignatura!B8,Asignatura!B8,Asignatura!B8,Asignatura!B8,Asignatura!B8,Asignatura!B8,Asignatura!B8,Asignatura!A4,Asignatura!B8,Asignatura!B4,Asignatura!B8,Asignatura!B8,Asignatura!B8,Asignatura!B8,Asignatura!B8,Asignatura!B8,Asignatura!B8,Asignatura!B8,Asignatura!B8,Asignatura!B8,Asignatura!B8,Asignatura!B8,Asignatura!B8,Asignatura!A5,Asignatura!B8,Asignatura!B5)","v":"SEMESTRE  Anotar el semestre lectivo              CLAVE  Anotar la clave de asignagtura                          GRUPO  Insertar el grupo"}]
["#","NOMBRE","T1","T2","T3","T4","T5","T6","T7","T8","T9","T10","T11","T12","T13","T14","T15","T16","T17","T18","T19","T20","T21","Promedio","Calificación"]
[{"$f":"Asistencia!A8","v":1},{"$f":"Asistencia!B8","v":""},{"$nulls":21},{"$f":"IF(AA8>0,AB8/MAX($AA$8:$AA$67),\"\")","v":""},{"$f":"IF(X8=\"\",\"\",Ponderadores!$B$7*X8)","v":""},null,{"$f":"COUNTA(C8:W8)","v":0},{"$f":"SUM(C8:W8)","v":0}]
[{"$f":"Asistencia!A9","v":2},{"$f":"Asistencia!B9","v":""},{"$nulls":21},{"$f":"IF(AA9>0,AB9/MAX($AA$8:$AA$67),\"\")","v":""},{"$f":"IF(X9=\"\",\"\",Ponderadores!$B$7*X9)","v":""},null,{"$f":"COUNTA(C9:W9)","v":0},{"$f":"SUM(C9:W9)","v":0}]
[{"$f":"Asistencia!A10","v":3},{"$f":"Asistencia!B10","v":""},{"$nulls":21},"",{"$f":"IF(X10=\"\",\"\",Ponderadores!$B$7*X10)","v":""},null,0,0]
[{"$f":"Asistencia!A11","v":4},{"$f":"Asistencia!B11","v":""},{"$nulls":21},"",{"$f":"IF(X11=\"\",\"\",Ponderadores!$B$7*X11)","v":""},null,0,0]
[{"$f":"Asistencia!A12","v":5},{"$f":"Asistencia!B12","v":""},{"$nulls":21},"",{"$f":"IF(X12=\"\",\"\",Ponderadores!$B$7*X12)","v":""},null,0,0]
[{"$f":"Asistencia!A13","v":6},{"$f":"Asistencia!B13","v":""},{"$nulls":21},"",{"$f":"IF(X13=\"\",\"\",Ponderadores!$B$7*X13)","v":""},null,0,0]
[{"$f":"Asistencia!A14","v":7},{"$f":"Asistencia!B14","v":""},{"$nulls":21},"",{"$f":"IF(X14=\"\",\"\",Ponderadores!$B$7*X14)","v":""},null,0,0]
[{"$f":"Asistencia!A15","v":8},{"$f":"Asistencia!B15","v":""},{"$nulls":21},"",{"$f":"IF(X15=\"\",\"\",Ponderadores!$B$7*X15)","v":""},null,0,0]
[{"$f":"Asistencia!A16","v":9},{"$f":"Asistencia!B16","v":""},{"$nulls":21},"",{"$f":"IF(X16=\"\",\"\",Ponderadores!$B$7*X16)","v":""},null,0,0]
[{"$f":"Asistencia!A17","v":10},{"$f":"Asistencia!B17","v":""},{"$nulls":21},"",{"$f":"IF(X17=\"\",\"\",Ponderadores!$B$7*X17)","v":""},null,0,0]
[{"$f":"Asistencia!A18","v":11},{"$f":"Asistencia!B18","v":""},{"$nulls":21},"",{"$f":"IF(X18=\"\",\"\",Ponderadores!$B$7*X18)","v":""},null,0,0]
[{"$f":"Asistencia!A19","v":12},{"$f":"Asistencia!B19","v":""},{"$nulls":21},"",{"$f":"IF(X19=\"\",\"\",Ponderadores!$B$7*X19)","v":""},null,0,0]
[{"$f":"Asistencia!A20","v":13},{"$f":"Asistencia!B20","v":""},{"$nulls":21},"",{"$f":"IF(X20=\"\",\"\",Ponderadores!$B$7*X20)","v":""},null,0,0]
[{"$f":"Asistencia!A21","v":14},{"$f":"Asistencia!B21","v":""},{"$nulls":21},"",{"$f":"IF(X21=\"\",\"\",Ponderadores!$B$7*X21)","v":""},null,0,0]
[{"$f":"Asistencia!A22","v":15},{"$f":"Asistencia!B22","v":""},{"$nulls":21},"",{"$f":"IF(X22=\"\",\"\",Ponderadores!$B$7*X22)","v":""},null,0,0]
[{"$f":"Asistencia!A23","v":16},{"$f":"Asistencia!B23","v":""},{"$nulls":21},"",{"$f":"IF(X23=\"\",\"\",Ponderadores!$B$7*X23)","v":""},null,0,0]
[{"$f":"Asistencia!A24","v":17},{"$f":"Asistencia!B24","v":""},{"$nulls":21},"",{"$f":"IF(X24=\"\",\"\",Ponderadores!$B$7*X24)","v":""},null,0,0]
[{"$f":"Asistencia!A25","v":18},{"$f":"Asistencia!B25","v":""},{"$nulls":21},"",{"$f":"IF(X25=\"\",\"\",Ponderadores!$B$7*X25)","v":""},null,0,0]
[{"$f":"Asistencia!A26","v":19},{"$f":"Asistencia!B26","v":""},{"$nulls":21},"",{"$f":"IF(X26=\"\",\"\",Ponderadores!$B$7*X26)","v":""},null,0,0]
[{"$f":"Asistencia!A27","v":20},{"$f":"Asistencia!B27","v":""},{"$nulls":21},"",{"$f":"IF(X27=\"\",\"\",Ponderadores!$B$7*X27)","v":""},null,0,0]
[{"$f":"Asistencia!A28","v":21},{"$f":"Asistencia!B28","v":""},{"$nulls":21},"",{"$f":"IF(X28=\"\",\"\",Ponderadores!$B$7*X28)","v":""},null,0,0]
[{"$f":"Asistencia!A29","v":22},{"$f":"Asistencia!B29","v":""},{"$nulls":21},"",{"$f":"IF(X29=\"\",\"\",Ponderadores!$B$7*X29)","v":""},null,0,0]
[{"$f":"Asistencia!A30","v":23},{"$f":"Asistencia!B30","v":""},{"$nulls":21},"",{"$f":"IF(X30=\"\",\"\",Ponderadores!$B$7*X30)","v":""},null,0,0]
[{"$f":"Asistencia!A31","v":24},{"$f":"Asistencia!B31","v":""},{"$nulls":21},"",{"$f":"IF(X31=\"\",\"\",Ponderadores!$B$7*X31)","v":""},null,0,0]
[{"$f":"Asistencia!A32","v":25},{"$f":"Asistencia!B32","v":""},{"$nulls":21},"",{"$f":"IF(X32=\"\",\"\",Ponderadores!$B$7*X32)","v":""},null,0,0]
[{"$f":"Asistencia!A33","v":26},{"$f":"Asistencia!B33","v":""},{"$nulls":21},"",{"$f":"IF(X33=\"\",\"\",Ponderadores!$B$7*X33)","v":""},null,0,0]
[{"$f":"Asistencia!A34","v":27},{"$f":"Asistencia!B34","v":""},{"$nulls":21},"",{"$f":"IF(X34=\"\",\"\",Ponderadores!$B$7*X34)","v":""},null,0,0]
[{"$f":"Asistencia!A35","v":28},{"$f":"Asistencia!B35","v":""},{"$nulls":21},"",{"$f":"IF(X35=\"\",\"\",Ponderadores!$B$7*X35)","v":""},null,0,0]
[{"$f":"Asistencia!A36","v":29},{"$f":"Asistencia!B36","v":""},{"$nulls":21},"",{"$f":"IF(X36=\"\",\"\",Ponderadores!$B$7*X36)","v":""},null,0,0]
[{"$f":"Asistencia!A37","v":30},{"$f":"Asistencia!B37","v":""},{"$nulls":21},"",{"$f":"IF(X37=\"\",\"\",Ponderadores!$B$7*X37)","v":""},null,0,0]
[{"$f":"Asistencia!A38","v":31},{"$f":"Asistencia!B38","v":""},{"$nulls":21},"",{"$f":"IF(X38=\"\",\"\",Ponderadores!$B$7*X38)","v":""},null,0,0]
[{"$f":"Asistencia!A39","v":32},{"$f":"Asistencia!B39","v":""},{"$nulls":21},"",{"$f":"IF(X39=\"\",\"\",Ponderadores!$B$7*X39)","v":""},null,0,0]
[{"$f":"Asistencia!A40","v":33},{"$f":"Asistencia!B40","v":""},{"$nulls":21},"",{"$f":"IF(X40=\"\",\"\",Ponderadores!$B$7*X40)","v":""},null,0,0]
[{"$f":"Asistencia!A41","v":34},{"$f":"Asistencia!B41","v":""},{"$nulls":21},"",{"$f":"IF(X41=\"\",\"\",Ponderadores!$B$7*X41)","v":""},null,0,0]
[{"$f":"Asistencia!A42","v":35},{"$f":"Asistencia!B42","v":""},{"$nulls":21},"",{"$f":"IF(X42=\"\",\"\",Ponderadores!$B$7*X42)","v":""},null,0,0]
[{"$f":"Asistencia!A43","v":36},{"$f":"Asistencia!B43","v":""},{"$nulls":21},"",{"$f":"IF(X43=\"\",\"\",Ponderadores!$B$7*X43)","v":""},null,0,0]
[{"$f":"Asistencia!A44","v":37},{"$f":"Asistencia!B44","v":""},{"$nulls":21},"",{"$f":"IF(X44=\"\",\"\",Ponderadores!$B$7*X44)","v":""},null,0,0]
[{"$f":"Asistencia!A45","v":38},{"$f":"Asistencia!B45","v":""},{"$nulls":21},"",{"$f":"IF(X45=\"\",\"\",Ponderadores!$B$7*X45)","v":""},null,0,0]
[{"$f":"Asistencia!A46","v":39},{"$f":"Asistencia!B46","v":""},{"$nulls":21},"",{"$f":"IF(X46=\"\",\"\",Ponderadores!$B$7*X46)","v":""},null,0,0]
[{"$f":"Asistencia!A47","v":40},{"$f":"Asistencia!B47","v":""},{"$nulls":21},"",{"$f":"IF(X47=\"\",\"\",Ponderadores!$B$7*X47)","v":""},null,0,0]
[{"$f":"Asistencia!A48","v":41},{"$f":"Asistencia!B48","v":""},{"$nulls":21},"",{"$f":"IF(X48=\"\",\"\",Ponderadores!$B$7*X48)","v":""},null,0,0]
[{"$f":"Asistencia!A49","v":42},{"$f":"Asistencia!B49","v":""},{"$nulls":21},"",{"$f":"IF(X49=\"\",\"\",Ponderadores!$B$7*X49)","v":""},null,0,0]
[{"$f":"Asistencia!A50","v":43},{"$f":"Asistencia!B50","v":""},{"$nulls":21},"",{"$f":"IF(X50=\"\",\"\",Ponderadores!$B$7*X50)","v":""},null,0,0]
[{"$f":"Asistencia!A51","v":44},{"$f":"Asistencia!B51","v":""},{"$nulls":21},"",{"$f":"IF(X51=\"\",\"\",Ponderadores!$B$7*X51)","v":""},null,0,0]
[{"$f":"Asistencia!A52","v":45},{"$f":"Asistencia!B52","v":""},{"$nulls":21},"",{"$f":"IF(X52=\"\",\"\",Ponderadores!$B$7*X52)","v":""},null,0,0]
[{"$f":"Asistencia!A53","v":46},{"$f":"Asistencia!B53","v":""},{"$nulls":21},"",{"$f":"IF(X53=\"\",\"\",Ponderadores!$B$7*X53)","v":""},null,0,0]
[{"$f":"Asistencia!A54","v":47},{"$f":"Asistencia!B54","v":""},{"$nulls":21},"",{"$f":"IF(X54=\"\",\"\",Ponderadores!$B$7*X54)","v":""},null,0,0]
[{"$f":"Asistencia!A55","v":48},{"$f":"Asistencia!B55","v":""},{"$nulls":21},"",{"$f":"IF(X55=\"\",\"\",Ponderadores!$B$7*X55)","v":""},null,0,0]
[{"$f":"Asistencia!A56","v":49},{"$f":"Asistencia!B56","v":""},{"$nulls":21},"",{"$f":"IF(X56=\"\",\"\",Ponderadores!$B$7*X56)","v":""},null,0,0]
[{"$f":"Asistencia!A57","v":50},{"$f":"Asistencia!B57","v":""},{"$nulls":21},"",{"$f":"IF(X57=\"\",\"\",Ponderadores!$B$7*X57)","v":""},null,0,0]
[{"$f":"Asistencia!A58","v":51},{"$f":"Asistencia!B58","v":""},{"$nulls":21},"",{"$f":"IF(X58=\"\",\"\",Ponderadores!$B$7*X58)","v":""},null,0,0]
[{"$f":"Asistencia!A59","v":52},{"$f":"Asistencia!B59","v":""},{"$nulls":21},"",{"$f":"IF(X59=\"\",\"\",Ponderadores!$B$7*X59)","v":""},null,0,0]
[{"$f":"Asistencia!A60","v":53},{"$f":"Asistencia!B60","v":""},{"$nulls":21},"",{"$f":"IF(X60=\"\",\"\",Ponderadores!$B$7*X60)","v":""},null,0,0]
[{"$f":"Asistencia!A61","v":54},{"$f":"Asistencia!B61","v":""},{"$nulls":21},"",{"$f":"IF(X61=\"\",\"\",Ponderadores!$B$7*X61)","v":""},null,0,0]
[{"$f":"Asistencia!A62","v":55},{"$f":"Asistencia!B62","v":""},{"$nulls":21},"",{"$f":"IF(X62=\"\",\"\",Ponderadores!$B$7*X62)","v":""},null,0,0]
[{"$f":"Asistencia!A63","v":56},{"$f":"Asistencia!B63","v":""},{"$nulls":21},"",{"$f":"IF(X63=\"\",\"\",Ponderadores!$B$7*X63)","v":""},null,0,0]
[{"$f":"Asistencia!A64","v":57},{"$f":"Asistencia!B64","v":""},{"$nulls":21},"",{"$f":"IF(X64=\"\",\"\",Ponderadores!$B$7*X64)","v":""},null,0,0]
[{"$f":"Asistencia!A65","v":58},{"$f":"Asistencia!B65","v":""},{"$nulls":21},"",{"$f":"IF(X65=\"\",\"\",Ponderadores!$B$7*X65)","v":""},null,0,0]
[{"$f":"Asistencia!A66","v":59},{"$f":"Asistencia!B66","v":""},{"$nulls":21},"",{"$f":"IF(X66=\"\",\"\",Ponderadores!$B$7*X66)","v":""},null,0,0]
[{"$f":"Asistencia!A67","v":60},{"$f":"Asistencia!B67","v":""},{"$nulls":21},"",{"$f":"IF(X67=\"\",\"\",Ponderadores!$B$7*X67)","v":""},null,0,0]

{"sheet":"Ensayo","index":5,"n_rows":67,"n_cols":44,"rows_kept":67,"hidden":true,"merged":[[1,0,1,38],[2,0,2,38],[3,0,3,38],[4,0,4,38],[5,0,5,38]]}
[]
[{"$f":"TodaslasCalif!A2:N2","v":"FACULTAD   DE   ECONOMÍA"}]
[{"$f":"TodaslasCalif!A3:N3","v":"Nombre de asignatura"}]
[{"$f":"TodaslasCalif!A4:N4","v":"Nombre del profesor"}]
[{"$f":"Ponderadores!A6","v":"ENSAYO"}]
[{"$f":"CONCATENATE(Asignatura!$A$2,Asignatura!$B$8,Asignatura!$B$2,\"              \",Asignatura!$A$4,Asignatura!$B$8,Asignatura!$B$4,\"              \",Asignatura!$A$5,Asignatura!$B$8,Asignatura!$B$5)","v":"SEMESTRE  Anotar el semestre lectivo              CLAVE  Anotar la clave de asignagtura              GRUPO  Insertar el grupo"}]
["#","NOMBRE","NO EQUIPO ","Entrega 1","Entrega 2","Entrega 3","Entrega 4","Entrega 5","Entrega 6","Entrega 7","Entrega 8","Entrega 9","Entrega 10","Entrega 11","Entrega 12","Entrega 13","Entrega 14","Entrega 15","Entrega 16","Entrega 17","Entrega 18","Entrega 19","Entrega 20","Entrega 21","Entrega 22","Entrega 23","Entrega 24","Entrega 25","Entrega 26","Entrega 27","Entrega 28","Entrega 29","Entrega 30","Entrega 31","Entrega 32","Entrega 33","Entrega 34","Entrega 35","PROMEDIO","CALIFICACIÓN",null,{"$f":"MAX(AP8:AP67)","v":0}]
[{"$f":"Asistencia!A8","v":1},{"$f":"Asistencia!B8","v":""},{"$nulls":36},{"$f":"IF(SUM(D8:AL8)=0,\"\",(SUM(D8:AL8)/$AP$7))","v":""},{"$f":"IF(AM8=\"\",\"\",AM8*Ponderadores!$B$6)","v":""},null,{"$f":"COUNTIF(D8:AL8,\">0\")","v":0},{"$f":"SUM(D8:AL8)","v":{"v":0,"d":"0.0"}},{"$f":"MAX(AP8:AP56)","v":0}]
[{"$f":"Asistencia!A9","v":2},{"$f":"Asistencia!B9","v":""},{"$nulls":36},{"$f":"IF(SUM(D9:AL9)=0,\"\",(SUM(D9:AL9)/$AP$7))","v":""},{"$f":"IF(AM9=\"\",\"\",AM9*Ponderadores!$B$6)","v":""},null,{"$f":"COUNTIF(D9:AL9,\">0\")","v":0},{"$f":"SUM(D9:AL9)","v":{"v":0,"d":"0.0"}}]
[{"$f":"Asistencia!A10","v":3},{"$f":"Asistencia!B10","v":""},{"$nulls":36},"",{"$f":"IF(AM10=\"\",\"\",AM10*Ponderadores!$B$6)","v":""},null,0,{"v":0,"d":"0.0"}]
[{"$f":"Asistencia!A11","v":4},{"$f":"Asistencia!B11","v":""},{"$nulls":36},"",{"$f":"IF(AM11=\"\",\"\",AM11*Ponderadores!$B$6)","v":""},null,0,{"v":0,"d":"0.0"}]
[{"$f":"Asistencia!A12","v":5},{"$f":"Asistencia!B12","v":""},{"$nulls":36},"",{"$f":"IF(AM12=\"\",\"\",AM12*Ponderadores!$B$6)","v":""},null,0,{"v":0,"d":"0.0"}]
[{"$f":"Asistencia!A13","v":6},{"$f":"Asistencia!B13","v":""},{"$nulls":36},"",{"$f":"IF(AM13=\"\",\"\",AM13*Ponderadores!$B$6)","v":""},null,0,{"v":0,"d":"0.0"}]
[{"$f":"Asistencia!A14","v":7},{"$f":"Asistencia!B14","v":""},{"$nulls":36},"",{"$f":"IF(AM14=\"\",\"\",AM14*Ponderadores!$B$6)","v":""},null,0,{"v":0,"d":"0.0"}]
[{"$f":"Asistencia!A15","v":8},{"$f":"Asistencia!B15","v":""},{"$nulls":36},"",{"$f":"IF(AM15=\"\",\"\",AM15*Ponderadores!$B$6)","v":""},null,0,{"v":0,"d":"0.0"}]
[{"$f":"Asistencia!A16","v":9},{"$f":"Asistencia!B16","v":""},{"$nulls":36},"",{"$f":"IF(AM16=\"\",\"\",AM16*Ponderadores!$B$6)","v":""},null,0,{"v":0,"d":"0.0"}]
[{"$f":"Asistencia!A17","v":10},{"$f":"Asistencia!B17","v":""},{"$nulls":36},"",{"$f":"IF(AM17=\"\",\"\",AM17*Ponderadores!$B$6)","v":""},null,0,{"v":0,"d":"0.0"}]
[{"$f":"Asistencia!A18","v":11},{"$f":"Asistencia!B18","v":""},{"$nulls":36},"",{"$f":"IF(AM18=\"\",\"\",AM18*Ponderadores!$B$6)","v":""},null,0,{"v":0,"d":"0.0"}]
[{"$f":"Asistencia!A19","v":12},{"$f":"Asistencia!B19","v":""},{"$nulls":36},"",{"$f":"IF(AM19=\"\",\"\",AM19*Ponderadores!$B$6)","v":""},null,0,{"v":0,"d":"0.0"}]
[{"$f":"Asistencia!A20","v":13},{"$f":"Asistencia!B20","v":""},{"$nulls":36},"",{"$f":"IF(AM20=\"\",\"\",AM20*Ponderadores!$B$6)","v":""},null,0,{"v":0,"d":"0.0"}]
[{"$f":"Asistencia!A21","v":14},{"$f":"Asistencia!B21","v":""},{"$nulls":36},"",{"$f":"IF(AM21=\"\",\"\",AM21*Ponderadores!$B$6)","v":""},null,0,{"v":0,"d":"0.0"}]
[{"$f":"Asistencia!A22","v":15},{"$f":"Asistencia!B22","v":""},{"$nulls":36},"",{"$f":"IF(AM22=\"\",\"\",AM22*Ponderadores!$B$6)","v":""},null,0,{"v":0,"d":"0.0"}]
[{"$f":"Asistencia!A23","v":16},{"$f":"Asistencia!B23","v":""},{"$nulls":36},"",{"$f":"IF(AM23=\"\",\"\",AM23*Ponderadores!$B$6)","v":""},null,0,{"v":0,"d":"0.0"}]
[{"$f":"Asistencia!A24","v":17},{"$f":"Asistencia!B24","v":""},{"$nulls":36},"",{"$f":"IF(AM24=\"\",\"\",AM24*Ponderadores!$B$6)","v":""},null,0,{"v":0,"d":"0.0"}]
[{"$f":"Asistencia!A25","v":18},{"$f":"Asistencia!B25","v":""},{"$nulls":36},"",{"$f":"IF(AM25=\"\",\"\",AM25*Ponderadores!$B$6)","v":""},null,0,{"v":0,"d":"0.0"}]
[{"$f":"Asistencia!A26","v":19},{"$f":"Asistencia!B26","v":""},{"$nulls":36},"",{"$f":"IF(AM26=\"\",\"\",AM26*Ponderadores!$B$6)","v":""},null,0,{"v":0,"d":"0.0"}]
[{"$f":"Asistencia!A27","v":20},{"$f":"Asistencia!B27","v":""},{"$nulls":36},"",{"$f":"IF(AM27=\"\",\"\",AM27*Ponderadores!$B$6)","v":""},null,0,{"v":0,"d":"0.0"}]
[{"$f":"Asistencia!A28","v":21},{"$f":"Asistencia!B28","v":""},{"$nulls":36},"",{"$f":"IF(AM28=\"\",\"\",AM28*Ponderadores!$B$6)","v":""},null,0,{"v":0,"d":"0.0"}]
[{"$f":"Asistencia!A29","v":22},{"$f":"Asistencia!B29","v":""},{"$nulls":36},"",{"$f":"IF(AM29=\"\",\"\",AM29*Ponderadores!$B$6)","v":""},null,0,{"v":0,"d":"0.0"}]
[{"$f":"Asistencia!A30","v":23},{"$f":"Asistencia!B30","v":""},{"$nulls":36},"",{"$f":"IF(AM30=\"\",\"\",AM30*Ponderadores!$B$6)","v":""},null,0,{"v":0,"d":"0.0"}]
[{"$f":"Asistencia!A31","v":24},{"$f":"Asistencia!B31","v":""},{"$nulls":36},"",{"$f":"IF(AM31=\"\",\"\",AM31*Ponderadores!$B$6)","v":""},null,0,{"v":0,"d":"0.0"}]
[{"$f":"Asistencia!A32","v":25},{"$f":"Asistencia!B32","v":""},{"$nulls":36},"",{"$f":"IF(AM32=\"\",\"\",AM32*Ponderadores!$B$6)","v":""},null,0,{"v":0,"d":"0.0"}]
[{"$f":"Asistencia!A33","v":26},{"$f":"Asistencia!B33","v":""},{"$nulls":36},"",{"$f":"IF(AM33=\"\",\"\",AM33*Ponderadores!$B$6)","v":""},null,0,{"v":0,"d":"0.0"}]
[{"$f":"Asistencia!A34","v":27},{"$f":"Asistencia!B34","v":""},{"$nulls":36},"",{"$f":"IF(AM34=\"\",\"\",AM34*Ponderadores!$B$6)","v":""},null,0,{"v":0,"d":"0.0"}]
[{"$f":"Asistencia!A35","v":28},{"$f":"Asistencia!B35","v":""},{"$nulls":36},"",{"$f":"IF(AM35=\"\",\"\",AM35*Ponderadores!$B$6)","v":""},null,0,{"v":0,"d":"0.0"}]
[{"$f":"Asistencia!A36","v":29},{"$f":"Asistencia!B36","v":""},{"$nulls":36},"",{"$f":"IF(AM36=\"\",\"\",AM36*Ponderadores!$B$6)","v":""},null,0,{"v":0,"d":"0.0"}]
[{"$f":"Asistencia!A37","v":30},{"$f":"Asistencia!B37","v":""},{"$nulls":36},"",{"$f":"IF(AM37=\"\",\"\",AM37*Ponderadores!$B$6)","v":""},null,0,{"v":0,"d":"0.0"}]
[{"$f":"Asistencia!A38","v":31},{"$f":"Asistencia!B38","v":""},{"$nulls":36},"",{"$f":"IF(AM38=\"\",\"\",AM38*Ponderadores!$B$6)","v":""},null,0,{"v":0,"d":"0.0"}]
[{"$f":"Asistencia!A39","v":32},{"$f":"Asistencia!B39","v":""},{"$nulls":36},"",{"$f":"IF(AM39=\"\",\"\",AM39*Ponderadores!$B$6)","v":""},null,0,{"v":0,"d":"0.0"}]
[{"$f":"Asistencia!A40","v":33},{"$f":"Asistencia!B40","v":""},{"$nulls":36},"",{"$f":"IF(AM40=\"\",\"\",AM40*Ponderadores!$B$6)","v":""},null,0,{"v":0,"d":"0.0"}]
[{"$f":"Asistencia!A41","v":34},{"$f":"Asistencia!B41","v":""},{"$nulls":36},"",{"$f":"IF(AM41=\"\",\"\",AM41*Ponderadores!$B$6)","v":""},null,0,{"v":0,"d":"0.0"}]
[{"$f":"Asistencia!A42","v":35},{"$f":"Asistencia!B42","v":""},{"$nulls":36},"",{"$f":"IF(AM42=\"\",\"\",AM42*Ponderadores!$B$6)","v":""},null,0,{"v":0,"d":"0.0"}]
[{"$f":"Asistencia!A43","v":36},{"$f":"Asistencia!B43","v":""},{"$nulls":36},"",{"$f":"IF(AM43=\"\",\"\",AM43*Ponderadores!$B$6)","v":""},null,0,{"v":0,"d":"0.0"}]
[{"$f":"Asistencia!A44","v":37},{"$f":"Asistencia!B44","v":""},{"$nulls":36},"",{"$f":"IF(AM44=\"\",\"\",AM44*Ponderadores!$B$6)","v":""},null,0,{"v":0,"d":"0.0"}]
[{"$f":"Asistencia!A45","v":38},{"$f":"Asistencia!B45","v":""},{"$nulls":36},"",{"$f":"IF(AM45=\"\",\"\",AM45*Ponderadores!$B$6)","v":""},null,0,{"v":0,"d":"0.0"}]
[{"$f":"Asistencia!A46","v":39},{"$f":"Asistencia!B46","v":""},{"$nulls":36},"",{"$f":"IF(AM46=\"\",\"\",AM46*Ponderadores!$B$6)","v":""},null,0,{"v":0,"d":"0.0"}]
[{"$f":"Asistencia!A47","v":40},{"$f":"Asistencia!B47","v":""},{"$nulls":36},"",{"$f":"IF(AM47=\"\",\"\",AM47*Ponderadores!$B$6)","v":""},null,0,{"v":0,"d":"0.0"}]
[{"$f":"Asistencia!A48","v":41},{"$f":"Asistencia!B48","v":""},{"$nulls":36},"",{"$f":"IF(AM48=\"\",\"\",AM48*Ponderadores!$B$6)","v":""},null,0,{"v":0,"d":"0.0"}]
[{"$f":"Asistencia!A49","v":42},{"$f":"Asistencia!B49","v":""},{"$nulls":36},"",{"$f":"IF(AM49=\"\",\"\",AM49*Ponderadores!$B$6)","v":""},null,0,{"v":0,"d":"0.0"}]
[{"$f":"Asistencia!A50","v":43},{"$f":"Asistencia!B50","v":""},{"$nulls":36},"",{"$f":"IF(AM50=\"\",\"\",AM50*Ponderadores!$B$6)","v":""},null,0,{"v":0,"d":"0.0"}]
[{"$f":"Asistencia!A51","v":44},{"$f":"Asistencia!B51","v":""},{"$nulls":36},"",{"$f":"IF(AM51=\"\",\"\",AM51*Ponderadores!$B$6)","v":""},null,0,{"v":0,"d":"0.0"}]
[{"$f":"Asistencia!A52","v":45},{"$f":"Asistencia!B52","v":""},{"$nulls":36},"",{"$f":"IF(AM52=\"\",\"\",AM52*Ponderadores!$B$6)","v":""},null,0,{"v":0,"d":"0.0"}]
[{"$f":"Asistencia!A53","v":46},{"$f":"Asistencia!B53","v":""},{"$nulls":36},"",{"$f":"IF(AM53=\"\",\"\",AM53*Ponderadores!$B$6)","v":""},null,0,{"v":0,"d":"0.0"}]
[{"$f":"Asistencia!A54","v":47},{"$f":"Asistencia!B54","v":""},{"$nulls":36},"",{"$f":"IF(AM54=\"\",\"\",AM54*Ponderadores!$B$6)","v":""},null,0,{"v":0,"d":"0.0"}]
[{"$f":"Asistencia!A55","v":48},{"$f":"Asistencia!B55","v":""},{"$nulls":36},"",{"$f":"IF(AM55=\"\",\"\",AM55*Ponderadores!$B$6)","v":""},null,0,{"v":0,"d":"0.0"}]
[{"$f":"Asistencia!A56","v":49},{"$f":"Asistencia!B56","v":""},{"$nulls":36},"",{"$f":"IF(AM56=\"\",\"\",AM56*Ponderadores!$B$6)","v":""},null,0,{"v":0,"d":"0.0"}]
[{"$f":"Asistencia!A57","v":50},{"$f":"Asistencia!B57","v":""},{"$nulls":36},"",{"$f":"IF(AM57=\"\",\"\",AM57*Ponderadores!$B$6)","v":""},null,0,{"v":0,"d":"0.0"}]
[{"$f":"Asistencia!A58","v":51},{"$f":"Asistencia!B58","v":""},{"$nulls":36},"",{"$f":"IF(AM58=\"\",\"\",AM58*Ponderadores!$B$6)","v":""},null,0,{"v":0,"d":"0.0"}]
[{"$f":"Asistencia!A59","v":52},{"$f":"Asistencia!B59","v":""},{"$nulls":36},"",{"$f":"IF(AM59=\"\",\"\",AM59*Ponderadores!$B$6)","v":""},null,0,{"v":0,"d":"0.0"}]
[{"$f":"Asistencia!A60","v":53},{"$f":"Asistencia!B60","v":""},{"$nulls":36},"",{"$f":"IF(AM60=\"\",\"\",AM60*Ponderadores!$B$6)","v":""},null,0,{"v":0,"d":"0.0"}]
[{"$f":"Asistencia!A61","v":54},{"$f":"Asistencia!B61","v":""},{"$nulls":36},"",{"$f":"IF(AM61=\"\",\"\",AM61*Ponderadores!$B$6)","v":""},null,0,{"v":0,"d":"0.0"}]
[{"$f":"Asistencia!A62","v":55},{"$f":"Asistencia!B62","v":""},{"$nulls":36},"",{"$f":"IF(AM62=\"\",\"\",AM62*Ponderadores!$B$6)","v":""},null,0,{"v":0,"d":"0.0"}]
[{"$f":"Asistencia!A63","v":56},{"$f":"Asistencia!B63","v":""},{"$nulls":36},"",{"$f":"IF(AM63=\"\",\"\",AM63*Ponderadores!$B$6)","v":""},null,0,{"v":0,"d":"0.0"}]
[{"$f":"Asistencia!A64","v":57},{"$f":"Asistencia!B64","v":""},{"$nulls":36},"",{"$f":"IF(AM64=\"\",\"\",AM64*Ponderadores!$B$6)","v":""},null,0,{"v":0,"d":"0.0"}]
[{"$f":"Asistencia!A65","v":58},{"$f":"Asistencia!B65","v":""},{"$nulls":36},"",{"$f":"IF(AM65=\"\",\"\",AM65*Ponderadores!$B$6)","v":""},null,0,{"v":0,"d":"0.0"}]
[{"$f":"Asistencia!A66","v":59},{"$f":"Asistencia!B66","v":""},{"$nulls":36},"",{"$f":"IF(AM66=\"\",\"\",AM66*Ponderadores!$B$6)","v":""},null,0,{"v":0,"d":"0.0"}]
[{"$f":"Asistencia!A67","v":60},{"$f":"Asistencia!B67","v":""},{"$nulls":36},"",{"$f":"IF(AM67=\"\",\"\",AM67*Ponderadores!$B$6)","v":""},null,0,{"v":0,"d":"0.0"}]

{"sheet":"CalifFinal","index":6,"n_rows":67,"n_cols":9,"rows_kept":67,"hidden":true,"merged":[[1,0,1,4],[2,0,2,4],[3,0,3,4],[4,0,4,4],[5,0,5,4]]}
[]
[{"$f":"TodaslasCalif!A2:N2","v":"FACULTAD   DE   ECONOMÍA"}]
[{"$f":"TodaslasCalif!A3:N3","v":"Nombre de asignatura"}]
[{"$f":"TodaslasCalif!A4:N4","v":"Nombre del profesor"}]
["CALIFICACIÓN EN ACTAS"]
[{"$f":"CONCATENATE(Asignatura!$A$2,Asignatura!$B$8,Asignatura!$B$2,\"              \",Asignatura!$A$4,Asignatura!$B$8,Asignatura!$B$4,\"              \",Asignatura!$A$5,Asignatura!$B$8,Asignatura!$B$5)","v":"SEMESTRE  Anotar el semestre lectivo              CLAVE  Anotar la clave de asignagtura              GRUPO  Insertar el grupo"}]
["#","NOMBRE","CALIFICACIÓN","ACTAS","CAMBIOS"]
[{"$f":"Asistencia!A8","v":1},{"$f":"Asistencia!B8","v":""},{"$f":"IF(TodaslasCalif!N8=0,\"\",TodaslasCalif!N8)","v":""},{"$f":"IF(C8<0.45,\"NP\",(IF(C8>5.999,C8,\"5\")))","v":""},{"$nulls":4},{"$f":"IF(C8>0.5,C8,\"\")","v":""}]
[{"$f":"Asistencia!A9","v":2},{"$f":"Asistencia!B9","v":""},{"$f":"TodaslasCalif!N9","v":""},{"$f":"IF(C9<0.45,\"NP\",(IF(C9>5.999,C9,\"5\")))","v":""},{"$nulls":4},{"$f":"IF(C9>0.5,C9,\"\")","v":""}]
[{"$f":"Asistencia!A10","v":3},{"$f":"Asistencia!B10","v":""},{"$f":"(TodaslasCalif!N10)","v":""},"",{"$nulls":4},""]
[{"$f":"Asistencia!A11","v":4},{"$f":"Asistencia!B11","v":""},{"$f":"TodaslasCalif!N11","v":""},"",{"$nulls":4},""]
[{"$f":"Asistencia!A12","v":5},{"$f":"Asistencia!B12","v":""},{"$f":"TodaslasCalif!N12","v":""},"",{"$nulls":4},""]
[{"$f":"Asistencia!A13","v":6},{"$f":"Asistencia!B13","v":""},{"$f":"TodaslasCalif!N13","v":""},"",{"$nulls":4},""]
[{"$f":"Asistencia!A14","v":7},{"$f":"Asistencia!B14","v":""},{"$f":"TodaslasCalif!N14","v":""},"",{"$nulls":4},""]
[{"$f":"Asistencia!A15","v":8},{"$f":"Asistencia!B15","v":""},{"$f":"TodaslasCalif!N15","v":""},"",{"$nulls":4},""]
[{"$f":"Asistencia!A16","v":9},{"$f":"Asistencia!B16","v":""},{"$f":"TodaslasCalif!N16","v":""},"",{"$nulls":4},""]
[{"$f":"Asistencia!A17","v":10},{"$f":"Asistencia!B17","v":""},{"$f":"TodaslasCalif!N17","v":""},"",{"$nulls":4},""]
[{"$f":"Asistencia!A18","v":11},{"$f":"Asistencia!B18","v":""},{"$f":"IF(TodaslasCalif!N18>0,TodaslasCalif!N18,\"\")","v":""},"",{"$nulls":4},""]
[{"$f":"Asistencia!A19","v":12},{"$f":"Asistencia!B19","v":""},{"$f":"IF(TodaslasCalif!N19>0,TodaslasCalif!N19,\"\")","v":""},"",{"$nulls":4},""]
[{"$f":"Asistencia!A20","v":13},{"$f":"Asistencia!B20","v":""},{"$f":"IF(TodaslasCalif!N20>0,TodaslasCalif!N20,\"\")","v":""},"",{"$nulls":4},""]
[{"$f":"Asistencia!A21","v":14},{"$f":"Asistencia!B21","v":""},{"$f":"IF(TodaslasCalif!N21>0,TodaslasCalif!N21,\"\")","v":""},"",{"$nulls":4},""]
[{"$f":"Asistencia!A22","v":15},{"$f":"Asistencia!B22","v":""},{"$f":"IF(TodaslasCalif!N22>0,TodaslasCalif!N22,\"\")","v":""},"",{"$nulls":4},""]
[{"$f":"Asistencia!A23","v":16},{"$f":"Asistencia!B23","v":""},{"$f":"IF(TodaslasCalif!N23>0,TodaslasCalif!N23,\"\")","v":""},"",{"$nulls":4},""]
[{"$f":"Asistencia!A24","v":17},{"$f":"Asistencia!B24","v":""},{"$f":"IF(TodaslasCalif!N24>0,TodaslasCalif!N24,\"\")","v":""},"",{"$nulls":4},""]
[{"$f":"Asistencia!A25","v":18},{"$f":"Asistencia!B25","v":""},{"$f":"IF(TodaslasCalif!N25>0,TodaslasCalif!N25,\"\")","v":""},"",{"$nulls":4},""]
[{"$f":"Asistencia!A26","v":19},{"$f":"Asistencia!B26","v":""},{"$f":"IF(TodaslasCalif!N26>0,TodaslasCalif!N26,\"\")","v":""},"",{"$nulls":4},""]
[{"$f":"Asistencia!A27","v":20},{"$f":"Asistencia!B27","v":""},{"$f":"IF(TodaslasCalif!N27>0,TodaslasCalif!N27,\"\")","v":""},"",{"$nulls":4},""]
[{"$f":"Asistencia!A28","v":21},{"$f":"Asistencia!B28","v":""},{"$f":"IF(TodaslasCalif!N28>0,TodaslasCalif!N28,\"\")","v":""},"",{"$nulls":4},""]
[{"$f":"Asistencia!A29","v":22},{"$f":"Asistencia!B29","v":""},{"$f":"IF(TodaslasCalif!N29>0,TodaslasCalif!N29,\"\")","v":""},"",{"$nulls":4},""]
[{"$f":"Asistencia!A30","v":23},{"$f":"Asistencia!B30","v":""},{"$f":"IF(TodaslasCalif!N30>0,TodaslasCalif!N30,\"\")","v":""},"",{"$nulls":4},{"$f":"IF(C30>0.5,C30,\"\")","v":""}]
[{"$f":"Asistencia!A31","v":24},{"$f":"Asistencia!B31","v":""},{"$f":"IF(TodaslasCalif!N31>0,TodaslasCalif!N31,\"\")","v":""},"",{"$nulls":4},""]
[{"$f":"Asistencia!A32","v":25},{"$f":"Asistencia!B32","v":""},{"$f":"IF(TodaslasCalif!N32>0,TodaslasCalif!N32,\"\")","v":""},"",{"$nulls":4},""]
[{"$f":"Asistencia!A33","v":26},{"$f":"Asistencia!B33","v":""},{"$f":"IF(TodaslasCalif!N33>0,TodaslasCalif!N33,\"\")","v":""},"",{"$nulls":4},""]
[{"$f":"Asistencia!A34","v":27},{"$f":"Asistencia!B34","v":""},{"$f":"IF(TodaslasCalif!N34>0,TodaslasCalif!N34,\"\")","v":""},"",{"$nulls":4},""]
[{"$f":"Asistencia!A35","v":28},{"$f":"Asistencia!B35","v":""},{"$f":"IF(TodaslasCalif!N35>0,TodaslasCalif!N35,\"\")","v":""},"",{"$nulls":4},""]
[{"$f":"Asistencia!A36","v":29},{"$f":"Asistencia!B36","v":""},{"$f":"IF(TodaslasCalif!N36>0,TodaslasCalif!N36,\"\")","v":""},"",{"$nulls":4},""]
[{"$f":"Asistencia!A37","v":30},{"$f":"Asistencia!B37","v":""},{"$f":"IF(TodaslasCalif!N37>0,TodaslasCalif!N37,\"\")","v":""},"",{"$nulls":4},""]
[{"$f":"Asistencia!A38","v":31},{"$f":"Asistencia!B38","v":""},{"$f":"IF(TodaslasCalif!N38>0,TodaslasCalif!N38,\"\")","v":""},"",{"$nulls":4},""]
[{"$f":"Asistencia!A39","v":32},{"$f":"Asistencia!B39","v":""},{"$f":"IF(TodaslasCalif!N39>0,TodaslasCalif!N39,\"\")","v":""},"",{"$nulls":4},""]
[{"$f":"Asistencia!A40","v":33},{"$f":"Asistencia!B40","v":""},{"$f":"IF(TodaslasCalif!N40>0,TodaslasCalif!N40,\"\")","v":""},"",{"$nulls":4},""]
[{"$f":"Asistencia!A41","v":34},{"$f":"Asistencia!B41","v":""},{"$f":"IF(TodaslasCalif!N41>0,TodaslasCalif!N41,\"\")","v":""},"",{"$nulls":4},""]
[{"$f":"Asistencia!A42","v":35},{"$f":"Asistencia!B42","v":""},{"$f":"IF(TodaslasCalif!N42>0,TodaslasCalif!N42,\"\")","v":""},"",{"$nulls":4},""]
[{"$f":"Asistencia!A43","v":36},{"$f":"Asistencia!B43","v":""},{"$f":"IF(TodaslasCalif!N43>0,TodaslasCalif!N43,\"\")","v":""},"",{"$nulls":4},""]
[{"$f":"Asistencia!A44","v":37},{"$f":"Asistencia!B44","v":""},{"$f":"IF(TodaslasCalif!N44>0,TodaslasCalif!N44,\"\")","v":""},"",{"$nulls":4},""]
[{"$f":"Asistencia!A45","v":38},{"$f":"Asistencia!B45","v":""},{"$f":"IF(TodaslasCalif!N45>0,TodaslasCalif!N45,\"\")","v":""},"",{"$nulls":4},""]
[{"$f":"Asistencia!A46","v":39},{"$f":"Asistencia!B46","v":""},{"$f":"IF(TodaslasCalif!N46>0,TodaslasCalif!N46,\"\")","v":""},"",{"$nulls":4},""]
[{"$f":"Asistencia!A47","v":40},{"$f":"Asistencia!B47","v":""},{"$f":"IF(TodaslasCalif!N47>0,TodaslasCalif!N47,\"\")","v":""},"",{"$nulls":4},""]
[{"$f":"Asistencia!A48","v":41},{"$f":"Asistencia!B48","v":""},{"$f":"IF(TodaslasCalif!N48>0,TodaslasCalif!N48,\"\")","v":""},"",{"$nulls":4},""]
[{"$f":"Asistencia!A49","v":42},{"$f":"Asistencia!B49","v":""},{"$f":"IF(TodaslasCalif!N49>0,TodaslasCalif!N49,\"\")","v":""},"",{"$nulls":4},""]
[{"$f":"Asistencia!A50","v":43},{"$f":"Asistencia!B50","v":""},{"$f":"IF(TodaslasCalif!N50>0,TodaslasCalif!N50,\"\")","v":""},"",{"$nulls":4},""]
[{"$f":"Asistencia!A51","v":44},{"$f":"Asistencia!B51","v":""},{"$f":"IF(TodaslasCalif!N51>0,TodaslasCalif!N51,\"\")","v":""},"",{"$nulls":4},""]
[{"$f":"Asistencia!A52","v":45},{"$f":"Asistencia!B52","v":""},{"$f":"IF(TodaslasCalif!N52>0,TodaslasCalif!N52,\"\")","v":""},"",{"$nulls":4},""]
[{"$f":"Asistencia!A53","v":46},{"$f":"Asistencia!B53","v":""},{"$f":"IF(TodaslasCalif!N53>0,TodaslasCalif!N53,\"\")","v":""},"",{"$nulls":4},""]
[{"$f":"Asistencia!A54","v":47},{"$f":"Asistencia!B54","v":""},{"$f":"IF(TodaslasCalif!N54>0,TodaslasCalif!N54,\"\")","v":""},"",{"$nulls":4},""]
[{"$f":"Asistencia!A55","v":48},{"$f":"Asistencia!B55","v":""},{"$f":"IF(TodaslasCalif!N55>0,TodaslasCalif!N55,\"\")","v":""},"",{"$nulls":4},""]
[{"$f":"Asistencia!A56","v":49},{"$f":"Asistencia!B56","v":""},{"$f":"IF(TodaslasCalif!N56>0,TodaslasCalif!N56,\"\")","v":""},"",{"$nulls":4},""]
[{"$f":"Asistencia!A57","v":50},{"$f":"Asistencia!B57","v":""},{"$f":"IF(TodaslasCalif!N57>0,TodaslasCalif!N57,\"\")","v":""},"",{"$nulls":4},""]
[{"$f":"Asistencia!A58","v":51},{"$f":"Asistencia!B58","v":""},{"$f":"IF(TodaslasCalif!N58>0,TodaslasCalif!N58,\"\")","v":""},"",{"$nulls":4},""]
[{"$f":"Asistencia!A59","v":52},{"$f":"Asistencia!B59","v":""},{"$f":"IF(TodaslasCalif!N59>0,TodaslasCalif!N59,\"\")","v":""},"",{"$nulls":4},""]
[{"$f":"Asistencia!A60","v":53},{"$f":"Asistencia!B60","v":""},{"$f":"IF(TodaslasCalif!N60>0,TodaslasCalif!N60,\"\")","v":""},"",{"$nulls":4},""]
[{"$f":"Asistencia!A61","v":54},{"$f":"Asistencia!B61","v":""},{"$f":"IF(TodaslasCalif!N61>0,TodaslasCalif!N61,\"\")","v":""},"",{"$nulls":4},""]
[{"$f":"Asistencia!A62","v":55},{"$f":"Asistencia!B62","v":""},{"$f":"IF(TodaslasCalif!N62>0,TodaslasCalif!N62,\"\")","v":""},"",{"$nulls":4},""]
[{"$f":"Asistencia!A63","v":56},{"$f":"Asistencia!B63","v":""},{"$f":"IF(TodaslasCalif!N63>0,TodaslasCalif!N63,\"\")","v":""},"",{"$nulls":4},""]
[{"$f":"Asistencia!A64","v":57},{"$f":"Asistencia!B64","v":""},{"$f":"IF(TodaslasCalif!N64>0,TodaslasCalif!N64,\"\")","v":""},"",{"$nulls":4},""]
[{"$f":"Asistencia!A65","v":58},{"$f":"Asistencia!B65","v":""},{"$f":"IF(TodaslasCalif!N65>0,TodaslasCalif!N65,\"\")","v":""},"",{"$nulls":4},""]
[{"$f":"Asistencia!A66","v":59},{"$f":"Asistencia!B66","v":""},{"$f":"IF(TodaslasCalif!N66>0,TodaslasCalif!N66,\"\")","v":""},"",{"$nulls":4},""]
[{"$f":"Asistencia!A67","v":60},{"$f":"Asistencia!B67","v":""},{"$f":"IF(TodaslasCalif!N67>0,TodaslasCalif!N67,\"\")","v":""},"",{"$nulls":4},""]

{"sheet":"ExamenesParciales","index":7,"n_rows":67,"n_cols":25,"rows_kept":67,"hidden":true,"merged":[[1,0,1,15],[2,0,2,15],[3,0,3,15],[4,0,4,15],[5,0,5,15]]}
[]
[{"$f":"Guias!$A$2","v":"FACULTAD   DE   ECONOMÍA"}]
[{"$f":"Guias!$A$3","v":"Nombre de asignatura"}]
[{"$f":"Guias!$A$4","v":"Nombre del profesor"}]
["EXAMENES PARCIALES"]
[{"$f":"CONCATENATE(Asignatura!$A$2,Asignatura!$B$8,Asignatura!$B$2,\"              \",Asignatura!$A$4,Asignatura!$B$8,Asignatura!$B$4,\"              \",Asignatura!$A$5,Asignatura!$B$8,Asignatura!$B$5)","v":"SEMESTRE  Anotar el semestre lectivo              CLAVE  Anotar la clave de asignagtura              GRUPO  Insertar el grupo"}]
["#","NOMBRE","1º PARCIAL","2º PARCIAL","3º PARCIAL","4º PARCIAL","Add 1","Add 2","Add 3","ENSAYO","REP. 1º","REP. 2º","REP. 3º","REP. 4º","Punto Adicional","Calificación","1º Pond","2º Pond","3º Pond","4º Pond","Pond Ens","1º PARCIAL","2º PARCIAL","3º PARCIAL","4º PARCIAL"]
[{"$f":"Asistencia!A8","v":1},{"$f":"Asistencia!B8","v":""},{"$nulls":7},{"$f":"Ensayo!AM8","v":""},{"$nulls":5},{"$f":"IF(SUM(C8:F8)=0,\"\",CalifFinal!C8)","v":""},{"$f":"V8*Ponderadores!$B$8","v":{"v":0,"d":"0.00"}},{"$f":"W8*Ponderadores!$B$9","v":{"v":0,"d":"0.00"}},{"$f":"X8*Ponderadores!$B$10","v":{"v":0,"d":"0.00"}},{"$f":"Y8*Ponderadores!$B$11","v":{"v":0,"d":"0.00"}},{"$f":"J8*Ponderadores!$B$6","v":{"$error":"#VALUE!"}},{"$f":"IF(K8=\"\",(C8+G8),(K8+G8))","v":{"v":0,"d":"0.00"}},{"$f":"IF(L8=\"\",(D8+H8),(L8+H8))","v":{"v":0,"d":"0.00"}},{"$f":"IF(M8=\"\",(E8+I8),(M8+I8))","v":{"v":0,"d":"0.00"}},{"$f":"IF(N8=\"\",F8,N8)","v":{"v":0,"d":"0.00"}}]
[{"$f":"Asistencia!A9","v":2},{"$f":"Asistencia!B9","v":""},{"$nulls":7},{"$f":"Ensayo!AM9","v":""},{"$nulls":5},{"$f":"IF(SUM(C9:F9)=0,\"\",CalifFinal!C9)","v":""},{"$f":"V9*Ponderadores!$B$8","v":{"v":0,"d":"0.00"}},{"$f":"W9*Ponderadores!$B$9","v":{"v":0,"d":"0.00"}},{"$f":"X9*Ponderadores!$B$10","v":{"v":0,"d":"0.00"}},{"$f":"Y9*Ponderadores!$B$11","v":{"v":0,"d":"0.00"}},{"$f":"J9*Ponderadores!$B$6","v":{"$error":"#VALUE!"}},{"$f":"IF(K9=\"\",(C9+G9),(K9+G9))","v":{"v":0,"d":"0.00"}},{"$f":"IF(L9=\"\",(D9+H9),(L9+H9))","v":{"v":0,"d":"0.00"}},{"$f":"IF(M9=\"\",(E9+I9),(M9+I9))","v":{"v":0,"d":"0.00"}},{"$f":"IF(N9=\"\",F9,N9)","v":{"v":0,"d":"0.00"}}]
[{"$f":"Asistencia!A10","v":3},{"$f":"Asistencia!B10","v":""},{"$nulls":7},{"$f":"Ensayo!AM10","v":""},{"$nulls":5},{"$f":"IF(SUM(C10:F10)=0,\"\",CalifFinal!C10)","v":""},{"$f":"V10*Ponderadores!$B$8","v":{"v":0,"d":"0.00"}},{"$f":"W10*Ponderadores!$B$9","v":{"v":0,"d":"0.00"}},{"$f":"X10*Ponderadores!$B$10","v":{"v":0,"d":"0.00"}},{"$f":"Y10*Ponderadores!$B$11","v":{"v":0,"d":"0.00"}},{"$f":"J10*Ponderadores!$B$6","v":{"$error":"#VALUE!"}},{"v":0,"d":"0.00"},{"v":0,"d":"0.00"},{"v":0,"d":"0.00"},{"v":0,"d":"0.00"}]
[{"$f":"Asistencia!A11","v":4},{"$f":"Asistencia!B11","v":""},{"$nulls":7},{"$f":"Ensayo!AM11","v":""},{"$nulls":5},{"$f":"IF(SUM(C11:F11)=0,\"\",CalifFinal!C11)","v":""},{"$f":"V11*Ponderadores!$B$8","v":{"v":0,"d":"0.00"}},{"$f":"W11*Ponderadores!$B$9","v":{"v":0,"d":"0.00"}},{"$f":"X11*Ponderadores!$B$10","v":{"v":0,"d":"0.00"}},{"$f":"Y11*Ponderadores!$B$11","v":{"v":0,"d":"0.00"}},{"$f":"J11*Ponderadores!$B$6","v":{"$error":"#VALUE!"}},{"v":0,"d":"0.00"},{"v":0,"d":"0.00"},{"v":0,"d":"0.00"},{"v":0,"d":"0.00"}]
[{"$f":"Asistencia!A12","v":5},{"$f":"Asistencia!B12","v":""},{"$nulls":7},{"$f":"Ensayo!AM12","v":""},{"$nulls":5},{"$f":"IF(SUM(C12:F12)=0,\"\",CalifFinal!C12)","v":""},{"$f":"V12*Ponderadores!$B$8","v":{"v":0,"d":"0.00"}},{"$f":"W12*Ponderadores!$B$9","v":{"v":0,"d":"0.00"}},{"$f":"X12*Ponderadores!$B$10","v":{"v":0,"d":"0.00"}},{"$f":"Y12*Ponderadores!$B$11","v":{"v":0,"d":"0.00"}},{"$f":"J12*Ponderadores!$B$6","v":{"$error":"#VALUE!"}},{"v":0,"d":"0.00"},{"v":0,"d":"0.00"},{"v":0,"d":"0.00"},{"v":0,"d":"0.00"}]
[{"$f":"Asistencia!A13","v":6},{"$f":"Asistencia!B13","v":""},{"$nulls":7},{"$f":"Ensayo!AM13","v":""},{"$nulls":5},{"$f":"IF(SUM(C13:F13)=0,\"\",CalifFinal!C13)","v":""},{"$f":"V13*Ponderadores!$B$8","v":{"v":0,"d":"0.00"}},{"$f":"W13*Ponderadores!$B$9","v":{"v":0,"d":"0.00"}},{"$f":"X13*Ponderadores!$B$10","v":{"v":0,"d":"0.00"}},{"$f":"Y13*Ponderadores!$B$11","v":{"v":0,"d":"0.00"}},{"$f":"J13*Ponderadores!$B$6","v":{"$error":"#VALUE!"}},{"v":0,"d":"0.00"},{"v":0,"d":"0.00"},{"v":0,"d":"0.00"},{"v":0,"d":"0.00"}]
[{"$f":"Asistencia!A14","v":7},{"$f":"Asistencia!B14","v":""},{"$nulls":7},{"$f":"Ensayo!AM14","v":""},{"$nulls":5},{"$f":"IF(SUM(C14:F14)=0,\"\",CalifFinal!C14)","v":""},{"$f":"V14*Ponderadores!$B$8","v":{"v":0,"d":"0.00"}},{"$f":"W14*Ponderadores!$B$9","v":{"v":0,"d":"0.00"}},{"$f":"X14*Ponderadores!$B$10","v":{"v":0,"d":"0.00"}},{"$f":"Y14*Ponderadores!$B$11","v":{"v":0,"d":"0.00"}},{"$f":"J14*Ponderadores!$B$6","v":{"$error":"#VALUE!"}},{"$f":"IF(K14=\"\",(C14+G14),(K14+G14))","v":{"v":0,"d":"0.00"}},{"v":0,"d":"0.00"},{"v":0,"d":"0.00"},{"v":0,"d":"0.00"}]
[{"$f":"Asistencia!A15","v":8},{"$f":"Asistencia!B15","v":""},{"$nulls":7},{"$f":"Ensayo!AM15","v":""},{"$nulls":5},{"$f":"IF(SUM(C15:F15)=0,\"\",CalifFinal!C15)","v":""},{"$f":"V15*Ponderadores!$B$8","v":{"v":0,"d":"0.00"}},{"$f":"W15*Ponderadores!$B$9","v":{"v":0,"d":"0.00"}},{"$f":"X15*Ponderadores!$B$10","v":{"v":0,"d":"0.00"}},{"$f":"Y15*Ponderadores!$B$11","v":{"v":0,"d":"0.00"}},{"$f":"J15*Ponderadores!$B$6","v":{"$error":"#VALUE!"}},{"v":0,"d":"0.00"},{"v":0,"d":"0.00"},{"v":0,"d":"0.00"},{"v":0,"d":"0.00"}]
[{"$f":"Asistencia!A16","v":9},{"$f":"Asistencia!B16","v":""},{"$nulls":7},{"$f":"Ensayo!AM16","v":""},{"$nulls":5},{"$f":"IF(SUM(C16:F16)=0,\"\",CalifFinal!C16)","v":""},{"$f":"V16*Ponderadores!$B$8","v":{"v":0,"d":"0.00"}},{"$f":"W16*Ponderadores!$B$9","v":{"v":0,"d":"0.00"}},{"$f":"X16*Ponderadores!$B$10","v":{"v":0,"d":"0.00"}},{"$f":"Y16*Ponderadores!$B$11","v":{"v":0,"d":"0.00"}},{"$f":"J16*Ponderadores!$B$6","v":{"$error":"#VALUE!"}},{"v":0,"d":"0.00"},{"v":0,"d":"0.00"},{"v":0,"d":"0.00"},{"v":0,"d":"0.00"}]
[{"$f":"Asistencia!A17","v":10},{"$f":"Asistencia!B17","v":""},{"$nulls":7},{"$f":"Ensayo!AM17","v":""},{"$nulls":5},{"$f":"IF(SUM(C17:F17)=0,\"\",CalifFinal!C17)","v":""},{"$f":"V17*Ponderadores!$B$8","v":{"v":0,"d":"0.00"}},{"$f":"W17*Ponderadores!$B$9","v":{"v":0,"d":"0.00"}},{"$f":"X17*Ponderadores!$B$10","v":{"v":0,"d":"0.00"}},{"$f":"Y17*Ponderadores!$B$11","v":{"v":0,"d":"0.00"}},{"$f":"J17*Ponderadores!$B$6","v":{"$error":"#VALUE!"}},{"v":0,"d":"0.00"},{"v":0,"d":"0.00"},{"v":0,"d":"0.00"},{"v":0,"d":"0.00"}]
[{"$f":"Asistencia!A18","v":11},{"$f":"Asistencia!B18","v":""},{"$nulls":7},{"$f":"Ensayo!AM18","v":""},{"$nulls":5},{"$f":"IF(SUM(C18:F18)=0,\"\",CalifFinal!C18)","v":""},{"$f":"V18*Ponderadores!$B$8","v":{"v":0,"d":"0.00"}},{"$f":"W18*Ponderadores!$B$9","v":{"v":0,"d":"0.00"}},{"$f":"X18*Ponderadores!$B$10","v":{"v":0,"d":"0.00"}},{"$f":"Y18*Ponderadores!$B$11","v":{"v":0,"d":"0.00"}},{"$f":"J18*Ponderadores!$B$6","v":{"$error":"#VALUE!"}},{"v":0,"d":"0.00"},{"v":0,"d":"0.00"},{"v":0,"d":"0.00"},{"v":0,"d":"0.00"}]
[{"$f":"Asistencia!A19","v":12},{"$f":"Asistencia!B19","v":""},{"$nulls":7},{"$f":"Ensayo!AM19","v":""},{"$nulls":5},{"$f":"IF(SUM(C19:F19)=0,\"\",CalifFinal!C19)","v":""},{"$f":"V19*Ponderadores!$B$8","v":{"v":0,"d":"0.00"}},{"$f":"W19*Ponderadores!$B$9","v":{"v":0,"d":"0.00"}},{"$f":"X19*Ponderadores!$B$10","v":{"v":0,"d":"0.00"}},{"$f":"Y19*Ponderadores!$B$11","v":{"v":0,"d":"0.00"}},{"$f":"J19*Ponderadores!$B$6","v":{"$error":"#VALUE!"}},{"v":0,"d":"0.00"},{"v":0,"d":"0.00"},{"v":0,"d":"0.00"},{"v":0,"d":"0.00"}]
[{"$f":"Asistencia!A20","v":13},{"$f":"Asistencia!B20","v":""},{"$nulls":7},{"$f":"Ensayo!AM20","v":""},{"$nulls":5},{"$f":"IF(SUM(C20:F20)=0,\"\",CalifFinal!C20)","v":""},{"$f":"V20*Ponderadores!$B$8","v":{"v":0,"d":"0.00"}},{"$f":"W20*Ponderadores!$B$9","v":{"v":0,"d":"0.00"}},{"$f":"X20*Ponderadores!$B$10","v":{"v":0,"d":"0.00"}},{"$f":"Y20*Ponderadores!$B$11","v":{"v":0,"d":"0.00"}},{"$f":"J20*Ponderadores!$B$6","v":{"$error":"#VALUE!"}},{"v":0,"d":"0.00"},{"v":0,"d":"0.00"},{"v":0,"d":"0.00"},{"v":0,"d":"0.00"}]
[{"$f":"Asistencia!A21","v":14},{"$f":"Asistencia!B21","v":""},{"$nulls":7},{"$f":"Ensayo!AM21","v":""},{"$nulls":5},{"$f":"IF(SUM(C21:F21)=0,\"\",CalifFinal!C21)","v":""},{"$f":"V21*Ponderadores!$B$8","v":{"v":0,"d":"0.00"}},{"$f":"W21*Ponderadores!$B$9","v":{"v":0,"d":"0.00"}},{"$f":"X21*Ponderadores!$B$10","v":{"v":0,"d":"0.00"}},{"$f":"Y21*Ponderadores!$B$11","v":{"v":0,"d":"0.00"}},{"$f":"J21*Ponderadores!$B$6","v":{"$error":"#VALUE!"}},{"v":0,"d":"0.00"},{"v":0,"d":"0.00"},{"v":0,"d":"0.00"},{"v":0,"d":"0.00"}]
[{"$f":"Asistencia!A22","v":15},{"$f":"Asistencia!B22","v":""},{"$nulls":7},{"$f":"Ensayo!AM22","v":""},{"$nulls":5},{"$f":"IF(SUM(C22:F22)=0,\"\",CalifFinal!C22)","v":""},{"$f":"V22*Ponderadores!$B$8","v":{"v":0,"d":"0.00"}},{"$f":"W22*Ponderadores!$B$9","v":{"v":0,"d":"0.00"}},{"$f":"X22*Ponderadores!$B$10","v":{"v":0,"d":"0.00"}},{"$f":"Y22*Ponderadores!$B$11","v":{"v":0,"d":"0.00"}},{"$f":"J22*Ponderadores!$B$6","v":{"$error":"#VALUE!"}},{"v":0,"d":"0.00"},{"v":0,"d":"0.00"},{"v":0,"d":"0.00"},{"v":0,"d":"0.00"}]
[{"$f":"Asistencia!A23","v":16},{"$f":"Asistencia!B23","v":""},{"$nulls":7},{"$f":"Ensayo!AM23","v":""},{"$nulls":5},{"$f":"IF(SUM(C23:F23)=0,\"\",CalifFinal!C23)","v":""},{"$f":"V23*Ponderadores!$B$8","v":{"v":0,"d":"0.00"}},{"$f":"W23*Ponderadores!$B$9","v":{"v":0,"d":"0.00"}},{"$f":"X23*Ponderadores!$B$10","v":{"v":0,"d":"0.00"}},{"$f":"Y23*Ponderadores!$B$11","v":{"v":0,"d":"0.00"}},{"$f":"J23*Ponderadores!$B$6","v":{"$error":"#VALUE!"}},{"v":0,"d":"0.00"},{"v":0,"d":"0.00"},{"v":0,"d":"0.00"},{"v":0,"d":"0.00"}]
[{"$f":"Asistencia!A24","v":17},{"$f":"Asistencia!B24","v":""},{"$nulls":7},{"$f":"Ensayo!AM24","v":""},{"$nulls":5},{"$f":"IF(SUM(C24:F24)=0,\"\",CalifFinal!C24)","v":""},{"$f":"V24*Ponderadores!$B$8","v":{"v":0,"d":"0.00"}},{"$f":"W24*Ponderadores!$B$9","v":{"v":0,"d":"0.00"}},{"$f":"X24*Ponderadores!$B$10","v":{"v":0,"d":"0.00"}},{"$f":"Y24*Ponderadores!$B$11","v":{"v":0,"d":"0.00"}},{"$f":"J24*Ponderadores!$B$6","v":{"$error":"#VALUE!"}},{"v":0,"d":"0.00"},{"v":0,"d":"0.00"},{"v":0,"d":"0.00"},{"v":0,"d":"0.00"}]
[{"$f":"Asistencia!A25","v":18},{"$f":"Asistencia!B25","v":""},{"$nulls":7},{"$f":"Ensayo!AM25","v":""},{"$nulls":5},{"$f":"IF(SUM(C25:F25)=0,\"\",CalifFinal!C25)","v":""},{"$f":"V25*Ponderadores!$B$8","v":{"v":0,"d":"0.00"}},{"$f":"W25*Ponderadores!$B$9","v":{"v":0,"d":"0.00"}},{"$f":"X25*Ponderadores!$B$10","v":{"v":0,"d":"0.00"}},{"$f":"Y25*Ponderadores!$B$11","v":{"v":0,"d":"0.00"}},{"$f":"J25*Ponderadores!$B$6","v":{"$error":"#VALUE!"}},{"v":0,"d":"0.00"},{"v":0,"d":"0.00"},{"v":0,"d":"0.00"},{"v":0,"d":"0.00"}]
[{"$f":"Asistencia!A26","v":19},{"$f":"Asistencia!B26","v":""},{"$nulls":7},{"$f":"Ensayo!AM26","v":""},{"$nulls":5},{"$f":"IF(SUM(C26:F26)=0,\"\",CalifFinal!C26)","v":""},{"$f":"V26*Ponderadores!$B$8","v":{"v":0,"d":"0.00"}},{"$f":"W26*Ponderadores!$B$9","v":{"v":0,"d":"0.00"}},{"$f":"X26*Ponderadores!$B$10","v":{"v":0,"d":"0.00"}},{"$f":"Y26*Ponderadores!$B$11","v":{"v":0,"d":"0.00"}},{"$f":"J26*Ponderadores!$B$6","v":{"$error":"#VALUE!"}},{"v":0,"d":"0.00"},{"v":0,"d":"0.00"},{"v":0,"d":"0.00"},{"v":0,"d":"0.00"}]
[{"$f":"Asistencia!A27","v":20},{"$f":"Asistencia!B27","v":""},{"$nulls":7},{"$f":"Ensayo!AM27","v":""},{"$nulls":5},{"$f":"IF(SUM(C27:F27)=0,\"\",CalifFinal!C27)","v":""},{"$f":"V27*Ponderadores!$B$8","v":{"v":0,"d":"0.00"}},{"$f":"W27*Ponderadores!$B$9","v":{"v":0,"d":"0.00"}},{"$f":"X27*Ponderadores!$B$10","v":{"v":0,"d":"0.00"}},{"$f":"Y27*Ponderadores!$B$11","v":{"v":0,"d":"0.00"}},{"$f":"J27*Ponderadores!$B$6","v":{"$error":"#VALUE!"}},{"v":0,"d":"0.00"},{"v":0,"d":"0.00"},{"v":0,"d":"0.00"},{"v":0,"d":"0.00"}]
[{"$f":"Asistencia!A28","v":21},{"$f":"Asistencia!B28","v":""},{"$nulls":7},{"$f":"Ensayo!AM28","v":""},{"$nulls":5},{"$f":"IF(SUM(C28:F28)=0,\"\",CalifFinal!C28)","v":""},{"$f":"V28*Ponderadores!$B$8","v":{"v":0,"d":"0.00"}},{"$f":"W28*Ponderadores!$B$9","v":{"v":0,"d":"0.00"}},{"$f":"X28*Ponderadores!$B$10","v":{"v":0,"d":"0.00"}},{"$f":"Y28*Ponderadores!$B$11","v":{"v":0,"d":"0.00"}},{"$f":"J28*Ponderadores!$B$6","v":{"$error":"#VALUE!"}},{"v":0,"d":"0.00"},{"v":0,"d":"0.00"},{"v":0,"d":"0.00"},{"v":0,"d":"0.00"}]
[{"$f":"Asistencia!A29","v":22},{"$f":"Asistencia!B29","v":""},{"$nulls":7},{"$f":"Ensayo!AM29","v":""},{"$nulls":5},{"$f":"IF(SUM(C29:F29)=0,\"\",CalifFinal!C29)","v":""},{"$f":"V29*Ponderadores!$B$8","v":{"v":0,"d":"0.00"}},{"$f":"W29*Ponderadores!$B$9","v":{"v":0,"d":"0.00"}},{"$f":"X29*Ponderadores!$B$10","v":{"v":0,"d":"0.00"}},{"$f":"Y29*Ponderadores!$B$11","v":{"v":0,"d":"0.00"}},{"$f":"J29*Ponderadores!$B$6","v":{"$error":"#VALUE!"}},{"v":0,"d":"0.00"},{"v":0,"d":"0.00"},{"v":0,"d":"0.00"},{"v":0,"d":"0.00"}]
[{"$f":"Asistencia!A30","v":23},{"$f":"Asistencia!B30","v":""},{"$nulls":7},{"$f":"Ensayo!AM30","v":""},{"$nulls":5},{"$f":"IF(SUM(C30:F30)=0,\"\",CalifFinal!C30)","v":""},{"$f":"V30*Ponderadores!$B$8","v":{"v":0,"d":"0.00"}},{"$f":"W30*Ponderadores!$B$9","v":{"v":0,"d":"0.00"}},{"$f":"X30*Ponderadores!$B$10","v":{"v":0,"d":"0.00"}},{"$f":"Y30*Ponderadores!$B$11","v":{"v":0,"d":"0.00"}},{"$f":"J30*Ponderadores!$B$6","v":{"$error":"#VALUE!"}},{"v":0,"d":"0.00"},{"v":0,"d":"0.00"},{"v":0,"d":"0.00"},{"v":0,"d":"0.00"}]
[{"$f":"Asistencia!A31","v":24},{"$f":"Asistencia!B31","v":""},{"$nulls":7},{"$f":"Ensayo!AM31","v":""},{"$nulls":5},{"$f":"IF(SUM(C31:F31)=0,\"\",CalifFinal!C31)","v":""},{"$f":"V31*Ponderadores!$B$8","v":{"v":0,"d":"0.00"}},{"$f":"W31*Ponderadores!$B$9","v":{"v":0,"d":"0.00"}},{"$f":"X31*Ponderadores!$B$10","v":{"v":0,"d":"0.00"}},{"$f":"Y31*Ponderadores!$B$11","v":{"v":0,"d":"0.00"}},{"$f":"J31*Ponderadores!$B$6","v":{"$error":"#VALUE!"}},{"v":0,"d":"0.00"},{"v":0,"d":"0.00"},{"v":0,"d":"0.00"},{"v":0,"d":"0.00"}]
[{"$f":"Asistencia!A32","v":25},{"$f":"Asistencia!B32","v":""},{"$nulls":7},{"$f":"Ensayo!AM32","v":""},{"$nulls":5},{"$f":"IF(SUM(C32:F32)=0,\"\",CalifFinal!C32)","v":""},{"$f":"V32*Ponderadores!$B$8","v":{"v":0,"d":"0.00"}},{"$f":"W32*Ponderadores!$B$9","v":{"v":0,"d":"0.00"}},{"$f":"X32*Ponderadores!$B$10","v":{"v":0,"d":"0.00"}},{"$f":"Y32*Ponderadores!$B$11","v":{"v":0,"d":"0.00"}},{"$f":"J32*Ponderadores!$B$6","v":{"$error":"#VALUE!"}},{"v":0,"d":"0.00"},{"v":0,"d":"0.00"},{"v":0,"d":"0.00"},{"v":0,"d":"0.00"}]
[{"$f":"Asistencia!A33","v":26},{"$f":"Asistencia!B33","v":""},{"$nulls":7},{"$f":"Ensayo!AM33","v":""},{"$nulls":5},{"$f":"IF(SUM(C33:F33)=0,\"\",CalifFinal!C33)","v":""},{"$f":"V33*Ponderadores!$B$8","v":{"v":0,"d":"0.00"}},{"$f":"W33*Ponderadores!$B$9","v":{"v":0,"d":"0.00"}},{"$f":"X33*Ponderadores!$B$10","v":{"v":0,"d":"0.00"}},{"$f":"Y33*Ponderadores!$B$11","v":{"v":0,"d":"0.00"}},{"$f":"J33*Ponderadores!$B$6","v":{"$error":"#VALUE!"}},{"v":0,"d":"0.00"},{"v":0,"d":"0.00"},{"v":0,"d":"0.00"},{"v":0,"d":"0.00"}]
[{"$f":"Asistencia!A34","v":27},{"$f":"Asistencia!B34","v":""},{"$nulls":7},{"$f":"Ensayo!AM34","v":""},{"$nulls":5},{"$f":"IF(SUM(C34:F34)=0,\"\",CalifFinal!C34)","v":""},{"$f":"V34*Ponderadores!$B$8","v":{"v":0,"d":"0.00"}},{"$f":"W34*Ponderadores!$B$9","v":{"v":0,"d":"0.00"}},{"$f":"X34*Ponderadores!$B$10","v":{"v":0,"d":"0.00"}},{"$f":"Y34*Ponderadores!$B$11","v":{"v":0,"d":"0.00"}},{"$f":"J34*Ponderadores!$B$6","v":{"$error":"#VALUE!"}},{"v":0,"d":"0.00"},{"v":0,"d":"0.00"},{"v":0,"d":"0.00"},{"v":0,"d":"0.00"}]
[{"$f":"Asistencia!A35","v":28},{"$f":"Asistencia!B35","v":""},{"$nulls":7},{"$f":"Ensayo!AM35","v":""},{"$nulls":5},{"$f":"IF(SUM(C35:F35)=0,\"\",CalifFinal!C35)","v":""},{"$f":"V35*Ponderadores!$B$8","v":{"v":0,"d":"0.00"}},{"$f":"W35*Ponderadores!$B$9","v":{"v":0,"d":"0.00"}},{"$f":"X35*Ponderadores!$B$10","v":{"v":0,"d":"0.00"}},{"$f":"Y35*Ponderadores!$B$11","v":{"v":0,"d":"0.00"}},{"$f":"J35*Ponderadores!$B$6","v":{"$error":"#VALUE!"}},{"v":0,"d":"0.00"},{"v":0,"d":"0.00"},{"v":0,"d":"0.00"},{"v":0,"d":"0.00"}]
[{"$f":"Asistencia!A36","v":29},{"$f":"Asistencia!B36","v":""},{"$nulls":7},{"$f":"Ensayo!AM36","v":""},{"$nulls":5},{"$f":"IF(SUM(C36:F36)=0,\"\",CalifFinal!C36)","v":""},{"$f":"V36*Ponderadores!$B$8","v":{"v":0,"d":"0.00"}},{"$f":"W36*Ponderadores!$B$9","v":{"v":0,"d":"0.00"}},{"$f":"X36*Ponderadores!$B$10","v":{"v":0,"d":"0.00"}},{"$f":"Y36*Ponderadores!$B$11","v":{"v":0,"d":"0.00"}},{"$f":"J36*Ponderadores!$B$6","v":{"$error":"#VALUE!"}},{"v":0,"d":"0.00"},{"v":0,"d":"0.00"},{"v":0,"d":"0.00"},{"v":0,"d":"0.00"}]
[{"$f":"Asistencia!A37","v":30},{"$f":"Asistencia!B37","v":""},{"$nulls":7},{"$f":"Ensayo!AM37","v":""},{"$nulls":5},{"$f":"IF(SUM(C37:F37)=0,\"\",CalifFinal!C37)","v":""},{"$f":"V37*Ponderadores!$B$8","v":{"v":0,"d":"0.00"}},{"$f":"W37*Ponderadores!$B$9","v":{"v":0,"d":"0.00"}},{"$f":"X37*Ponderadores!$B$10","v":{"v":0,"d":"0.00"}},{"$f":"Y37*Ponderadores!$B$11","v":{"v":0,"d":"0.00"}},{"$f":"J37*Ponderadores!$B$6","v":{"$error":"#VALUE!"}},{"v":0,"d":"0.00"},{"v":0,"d":"0.00"},{"v":0,"d":"0.00"},{"v":0,"d":"0.00"}]
[{"$f":"Asistencia!A38","v":31},{"$f":"Asistencia!B38","v":""},{"$nulls":7},{"$f":"Ensayo!AM38","v":""},{"$nulls":5},{"$f":"IF(SUM(C38:F38)=0,\"\",CalifFinal!C38)","v":""},{"$f":"V38*Ponderadores!$B$8","v":{"v":0,"d":"0.00"}},{"$f":"W38*Ponderadores!$B$9","v":{"v":0,"d":"0.00"}},{"$f":"X38*Ponderadores!$B$10","v":{"v":0,"d":"0.00"}},{"$f":"Y38*Ponderadores!$B$11","v":{"v":0,"d":"0.00"}},{"$f":"J38*Ponderadores!$B$6","v":{"$error":"#VALUE!"}},{"v":0,"d":"0.00"},{"v":0,"d":"0.00"},{"v":0,"d":"0.00"},{"v":0,"d":"0.00"}]
[{"$f":"Asistencia!A39","v":32},{"$f":"Asistencia!B39","v":""},{"$nulls":7},{"$f":"Ensayo!AM39","v":""},{"$nulls":5},{"$f":"IF(SUM(C39:F39)=0,\"\",CalifFinal!C39)","v":""},{"$f":"V39*Ponderadores!$B$8","v":{"v":0,"d":"0.00"}},{"$f":"W39*Ponderadores!$B$9","v":{"v":0,"d":"0.00"}},{"$f":"X39*Ponderadores!$B$10","v":{"v":0,"d":"0.00"}},{"$f":"Y39*Ponderadores!$B$11","v":{"v":0,"d":"0.00"}},{"$f":"J39*Ponderadores!$B$6","v":{"$error":"#VALUE!"}},{"v":0,"d":"0.00"},{"v":0,"d":"0.00"},{"v":0,"d":"0.00"},{"v":0,"d":"0.00"}]
[{"$f":"Asistencia!A40","v":33},{"$f":"Asistencia!B40","v":""},{"$nulls":7},{"$f":"Ensayo!AM40","v":""},{"$nulls":5},{"$f":"IF(SUM(C40:F40)=0,\"\",CalifFinal!C40)","v":""},{"$f":"V40*Ponderadores!$B$8","v":{"v":0,"d":"0.00"}},{"$f":"W40*Ponderadores!$B$9","v":{"v":0,"d":"0.00"}},{"$f":"X40*Ponderadores!$B$10","v":{"v":0,"d":"0.00"}},{"$f":"Y40*Ponderadores!$B$11","v":{"v":0,"d":"0.00"}},{"$f":"J40*Ponderadores!$B$6","v":{"$error":"#VALUE!"}},{"v":0,"d":"0.00"},{"v":0,"d":"0.00"},{"v":0,"d":"0.00"},{"v":0,"d":"0.00"}]
[{"$f":"Asistencia!A41","v":34},{"$f":"Asistencia!B41","v":""},{"$nulls":7},{"$f":"Ensayo!AM41","v":""},{"$nulls":5},{"$f":"IF(SUM(C41:F41)=0,\"\",CalifFinal!C41)","v":""},{"$f":"V41*Ponderadores!$B$8","v":{"v":0,"d":"0.00"}},{"$f":"W41*Ponderadores!$B$9","v":{"v":0,"d":"0.00"}},{"$f":"X41*Ponderadores!$B$10","v":{"v":0,"d":"0.00"}},{"$f":"Y41*Ponderadores!$B$11","v":{"v":0,"d":"0.00"}},{"$f":"J41*Ponderadores!$B$6","v":{"$error":"#VALUE!"}},{"v":0,"d":"0.00"},{"v":0,"d":"0.00"},{"v":0,"d":"0.00"},{"v":0,"d":"0.00"}]
[{"$f":"Asistencia!A42","v":35},{"$f":"Asistencia!B42","v":""},{"$nulls":7},{"$f":"Ensayo!AM42","v":""},{"$nulls":5},{"$f":"IF(SUM(C42:F42)=0,\"\",CalifFinal!C42)","v":""},{"$f":"V42*Ponderadores!$B$8","v":{"v":0,"d":"0.00"}},{"$f":"W42*Ponderadores!$B$9","v":{"v":0,"d":"0.00"}},{"$f":"X42*Ponderadores!$B$10","v":{"v":0,"d":"0.00"}},{"$f":"Y42*Ponderadores!$B$11","v":{"v":0,"d":"0.00"}},{"$f":"J42*Ponderadores!$B$6","v":{"$error":"#VALUE!"}},{"v":0,"d":"0.00"},{"v":0,"d":"0.00"},{"v":0,"d":"0.00"},{"v":0,"d":"0.00"}]
[{"$f":"Asistencia!A43","v":36},{"$f":"Asistencia!B43","v":""},{"$nulls":7},{"$f":"Ensayo!AM43","v":""},{"$nulls":5},{"$f":"IF(SUM(C43:F43)=0,\"\",CalifFinal!C43)","v":""},{"$f":"V43*Ponderadores!$B$8","v":{"v":0,"d":"0.00"}},{"$f":"W43*Ponderadores!$B$9","v":{"v":0,"d":"0.00"}},{"$f":"X43*Ponderadores!$B$10","v":{"v":0,"d":"0.00"}},{"$f":"Y43*Ponderadores!$B$11","v":{"v":0,"d":"0.00"}},{"$f":"J43*Ponderadores!$B$6","v":{"$error":"#VALUE!"}},{"v":0,"d":"0.00"},{"v":0,"d":"0.00"},{"v":0,"d":"0.00"},{"v":0,"d":"0.00"}]
[{"$f":"Asistencia!A44","v":37},{"$f":"Asistencia!B44","v":""},{"$nulls":7},{"$f":"Ensayo!AM44","v":""},{"$nulls":5},{"$f":"IF(SUM(C44:F44)=0,\"\",CalifFinal!C44)","v":""},{"$f":"V44*Ponderadores!$B$8","v":{"v":0,"d":"0.00"}},{"$f":"W44*Ponderadores!$B$9","v":{"v":0,"d":"0.00"}},{"$f":"X44*Ponderadores!$B$10","v":{"v":0,"d":"0.00"}},{"$f":"Y44*Ponderadores!$B$11","v":{"v":0,"d":"0.00"}},{"$f":"J44*Ponderadores!$B$6","v":{"$error":"#VALUE!"}},{"v":0,"d":"0.00"},{"v":0,"d":"0.00"},{"v":0,"d":"0.00"},{"v":0,"d":"0.00"}]
[{"$f":"Asistencia!A45","v":38},{"$f":"Asistencia!B45","v":""},{"$nulls":7},{"$f":"Ensayo!AM45","v":""},{"$nulls":5},{"$f":"IF(SUM(C45:F45)=0,\"\",CalifFinal!C45)","v":""},{"$f":"V45*Ponderadores!$B$8","v":{"v":0,"d":"0.00"}},{"$f":"W45*Ponderadores!$B$9","v":{"v":0,"d":"0.00"}},{"$f":"X45*Ponderadores!$B$10","v":{"v":0,"d":"0.00"}},{"$f":"Y45*Ponderadores!$B$11","v":{"v":0,"d":"0.00"}},{"$f":"J45*Ponderadores!$B$6","v":{"$error":"#VALUE!"}},{"v":0,"d":"0.00"},{"v":0,"d":"0.00"},{"v":0,"d":"0.00"},{"v":0,"d":"0.00"}]
[{"$f":"Asistencia!A46","v":39},{"$f":"Asistencia!B46","v":""},{"$nulls":7},{"$f":"Ensayo!AM46","v":""},{"$nulls":5},{"$f":"IF(SUM(C46:F46)=0,\"\",CalifFinal!C46)","v":""},{"$f":"V46*Ponderadores!$B$8","v":{"v":0,"d":"0.00"}},{"$f":"W46*Ponderadores!$B$9","v":{"v":0,"d":"0.00"}},{"$f":"X46*Ponderadores!$B$10","v":{"v":0,"d":"0.00"}},{"$f":"Y46*Ponderadores!$B$11","v":{"v":0,"d":"0.00"}},{"$f":"J46*Ponderadores!$B$6","v":{"$error":"#VALUE!"}},{"v":0,"d":"0.00"},{"v":0,"d":"0.00"},{"v":0,"d":"0.00"},{"v":0,"d":"0.00"}]
[{"$f":"Asistencia!A47","v":40},{"$f":"Asistencia!B47","v":""},{"$nulls":7},{"$f":"Ensayo!AM47","v":""},{"$nulls":5},{"$f":"IF(SUM(C47:F47)=0,\"\",CalifFinal!C47)","v":""},{"$f":"V47*Ponderadores!$B$8","v":{"v":0,"d":"0.00"}},{"$f":"W47*Ponderadores!$B$9","v":{"v":0,"d":"0.00"}},{"$f":"X47*Ponderadores!$B$10","v":{"v":0,"d":"0.00"}},{"$f":"Y47*Ponderadores!$B$11","v":{"v":0,"d":"0.00"}},{"$f":"J47*Ponderadores!$B$6","v":{"$error":"#VALUE!"}},{"v":0,"d":"0.00"},{"v":0,"d":"0.00"},{"v":0,"d":"0.00"},{"v":0,"d":"0.00"}]
[{"$f":"Asistencia!A48","v":41},{"$f":"Asistencia!B48","v":""},{"$nulls":7},{"$f":"Ensayo!AM48","v":""},{"$nulls":5},{"$f":"IF(SUM(C48:F48)=0,\"\",CalifFinal!C48)","v":""},{"$f":"V48*Ponderadores!$B$8","v":{"v":0,"d":"0.00"}},{"$f":"W48*Ponderadores!$B$9","v":{"v":0,"d":"0.00"}},{"$f":"X48*Ponderadores!$B$10","v":{"v":0,"d":"0.00"}},{"$f":"Y48*Ponderadores!$B$11","v":{"v":0,"d":"0.00"}},{"$f":"J48*Ponderadores!$B$6","v":{"$error":"#VALUE!"}},{"v":0,"d":"0.00"},{"v":0,"d":"0.00"},{"v":0,"d":"0.00"},{"v":0,"d":"0.00"}]
[{"$f":"Asistencia!A49","v":42},{"$f":"Asistencia!B49","v":""},{"$nulls":7},{"$f":"Ensayo!AM49","v":""},{"$nulls":5},{"$f":"IF(SUM(C49:F49)=0,\"\",CalifFinal!C49)","v":""},{"$f":"V49*Ponderadores!$B$8","v":{"v":0,"d":"0.00"}},{"$f":"W49*Ponderadores!$B$9","v":{"v":0,"d":"0.00"}},{"$f":"X49*Ponderadores!$B$10","v":{"v":0,"d":"0.00"}},{"$f":"Y49*Ponderadores!$B$11","v":{"v":0,"d":"0.00"}},{"$f":"J49*Ponderadores!$B$6","v":{"$error":"#VALUE!"}},{"v":0,"d":"0.00"},{"v":0,"d":"0.00"},{"v":0,"d":"0.00"},{"v":0,"d":"0.00"}]
[{"$f":"Asistencia!A50","v":43},{"$f":"Asistencia!B50","v":""},{"$nulls":7},{"$f":"Ensayo!AM50","v":""},{"$nulls":5},{"$f":"IF(SUM(C50:F50)=0,\"\",CalifFinal!C50)","v":""},{"$f":"V50*Ponderadores!$B$8","v":{"v":0,"d":"0.00"}},{"$f":"W50*Ponderadores!$B$9","v":{"v":0,"d":"0.00"}},{"$f":"X50*Ponderadores!$B$10","v":{"v":0,"d":"0.00"}},{"$f":"Y50*Ponderadores!$B$11","v":{"v":0,"d":"0.00"}},{"$f":"J50*Ponderadores!$B$6","v":{"$error":"#VALUE!"}},{"v":0,"d":"0.00"},{"v":0,"d":"0.00"},{"v":0,"d":"0.00"},{"v":0,"d":"0.00"}]
[{"$f":"Asistencia!A51","v":44},{"$f":"Asistencia!B51","v":""},{"$nulls":7},{"$f":"Ensayo!AM51","v":""},{"$nulls":5},{"$f":"IF(SUM(C51:F51)=0,\"\",CalifFinal!C51)","v":""},{"$f":"V51*Ponderadores!$B$8","v":{"v":0,"d":"0.00"}},{"$f":"W51*Ponderadores!$B$9","v":{"v":0,"d":"0.00"}},{"$f":"X51*Ponderadores!$B$10","v":{"v":0,"d":"0.00"}},{"$f":"Y51*Ponderadores!$B$11","v":{"v":0,"d":"0.00"}},{"$f":"J51*Ponderadores!$B$6","v":{"$error":"#VALUE!"}},{"v":0,"d":"0.00"},{"v":0,"d":"0.00"},{"v":0,"d":"0.00"},{"v":0,"d":"0.00"}]
[{"$f":"Asistencia!A52","v":45},{"$f":"Asistencia!B52","v":""},{"$nulls":7},{"$f":"Ensayo!AM52","v":""},{"$nulls":5},{"$f":"IF(SUM(C52:F52)=0,\"\",CalifFinal!C52)","v":""},{"$f":"V52*Ponderadores!$B$8","v":{"v":0,"d":"0.00"}},{"$f":"W52*Ponderadores!$B$9","v":{"v":0,"d":"0.00"}},{"$f":"X52*Ponderadores!$B$10","v":{"v":0,"d":"0.00"}},{"$f":"Y52*Ponderadores!$B$11","v":{"v":0,"d":"0.00"}},{"$f":"J52*Ponderadores!$B$6","v":{"$error":"#VALUE!"}},{"v":0,"d":"0.00"},{"v":0,"d":"0.00"},{"v":0,"d":"0.00"},{"v":0,"d":"0.00"}]
[{"$f":"Asistencia!A53","v":46},{"$f":"Asistencia!B53","v":""},{"$nulls":7},{"$f":"Ensayo!AM53","v":""},{"$nulls":5},{"$f":"IF(SUM(C53:F53)=0,\"\",CalifFinal!C53)","v":""},{"$f":"V53*Ponderadores!$B$8","v":{"v":0,"d":"0.00"}},{"$f":"W53*Ponderadores!$B$9","v":{"v":0,"d":"0.00"}},{"$f":"X53*Ponderadores!$B$10","v":{"v":0,"d":"0.00"}},{"$f":"Y53*Ponderadores!$B$11","v":{"v":0,"d":"0.00"}},{"$f":"J53*Ponderadores!$B$6","v":{"$error":"#VALUE!"}},{"v":0,"d":"0.00"},{"v":0,"d":"0.00"},{"v":0,"d":"0.00"},{"v":0,"d":"0.00"}]
[{"$f":"Asistencia!A54","v":47},{"$f":"Asistencia!B54","v":""},{"$nulls":7},{"$f":"Ensayo!AM54","v":""},{"$nulls":5},{"$f":"IF(SUM(C54:F54)=0,\"\",CalifFinal!C54)","v":""},{"$f":"V54*Ponderadores!$B$8","v":{"v":0,"d":"0.00"}},{"$f":"W54*Ponderadores!$B$9","v":{"v":0,"d":"0.00"}},{"$f":"X54*Ponderadores!$B$10","v":{"v":0,"d":"0.00"}},{"$f":"Y54*Ponderadores!$B$11","v":{"v":0,"d":"0.00"}},{"$f":"J54*Ponderadores!$B$6","v":{"$error":"#VALUE!"}},{"v":0,"d":"0.00"},{"v":0,"d":"0.00"},{"v":0,"d":"0.00"},{"v":0,"d":"0.00"}]
[{"$f":"Asistencia!A55","v":48},{"$f":"Asistencia!B55","v":""},{"$nulls":7},{"$f":"Ensayo!AM55","v":""},{"$nulls":5},{"$f":"IF(SUM(C55:F55)=0,\"\",CalifFinal!C55)","v":""},{"$f":"V55*Ponderadores!$B$8","v":{"v":0,"d":"0.00"}},{"$f":"W55*Ponderadores!$B$9","v":{"v":0,"d":"0.00"}},{"$f":"X55*Ponderadores!$B$10","v":{"v":0,"d":"0.00"}},{"$f":"Y55*Ponderadores!$B$11","v":{"v":0,"d":"0.00"}},{"$f":"J55*Ponderadores!$B$6","v":{"$error":"#VALUE!"}},{"v":0,"d":"0.00"},{"v":0,"d":"0.00"},{"v":0,"d":"0.00"},{"v":0,"d":"0.00"}]
[{"$f":"Asistencia!A56","v":49},{"$f":"Asistencia!B56","v":""},{"$nulls":7},{"$f":"Ensayo!AM56","v":""},{"$nulls":5},{"$f":"IF(SUM(C56:F56)=0,\"\",CalifFinal!C56)","v":""},{"$f":"V56*Ponderadores!$B$8","v":{"v":0,"d":"0.00"}},{"$f":"W56*Ponderadores!$B$9","v":{"v":0,"d":"0.00"}},{"$f":"X56*Ponderadores!$B$10","v":{"v":0,"d":"0.00"}},{"$f":"Y56*Ponderadores!$B$11","v":{"v":0,"d":"0.00"}},{"$f":"J56*Ponderadores!$B$6","v":{"$error":"#VALUE!"}},{"v":0,"d":"0.00"},{"v":0,"d":"0.00"},{"v":0,"d":"0.00"},{"v":0,"d":"0.00"}]
[{"$f":"Asistencia!A57","v":50},{"$f":"Asistencia!B57","v":""},{"$nulls":7},{"$f":"Ensayo!AM57","v":""},{"$nulls":5},{"$f":"IF(SUM(C57:F57)=0,\"\",CalifFinal!C57)","v":""},{"$f":"V57*Ponderadores!$B$8","v":{"v":0,"d":"0.00"}},{"$f":"W57*Ponderadores!$B$9","v":{"v":0,"d":"0.00"}},{"$f":"X57*Ponderadores!$B$10","v":{"v":0,"d":"0.00"}},{"$f":"Y57*Ponderadores!$B$11","v":{"v":0,"d":"0.00"}},{"$f":"J57*Ponderadores!$B$6","v":{"$error":"#VALUE!"}},{"v":0,"d":"0.00"},{"v":0,"d":"0.00"},{"v":0,"d":"0.00"},{"v":0,"d":"0.00"}]
[{"$f":"Asistencia!A58","v":51},{"$f":"Asistencia!B58","v":""},{"$nulls":7},{"$f":"Ensayo!AM58","v":""},{"$nulls":5},{"$f":"IF(SUM(C58:F58)=0,\"\",CalifFinal!C58)","v":""},{"$f":"V58*Ponderadores!$B$8","v":{"v":0,"d":"0.00"}},{"$f":"W58*Ponderadores!$B$9","v":{"v":0,"d":"0.00"}},{"$f":"X58*Ponderadores!$B$10","v":{"v":0,"d":"0.00"}},{"$f":"Y58*Ponderadores!$B$11","v":{"v":0,"d":"0.00"}},{"$f":"J58*Ponderadores!$B$6","v":{"$error":"#VALUE!"}},{"v":0,"d":"0.00"},{"v":0,"d":"0.00"},{"v":0,"d":"0.00"},{"v":0,"d":"0.00"}]
[{"$f":"Asistencia!A59","v":52},{"$f":"Asistencia!B59","v":""},{"$nulls":7},{"$f":"Ensayo!AM59","v":""},{"$nulls":5},{"$f":"IF(SUM(C59:F59)=0,\"\",CalifFinal!C59)","v":""},{"$f":"V59*Ponderadores!$B$8","v":{"v":0,"d":"0.00"}},{"$f":"W59*Ponderadores!$B$9","v":{"v":0,"d":"0.00"}},{"$f":"X59*Ponderadores!$B$10","v":{"v":0,"d":"0.00"}},{"$f":"Y59*Ponderadores!$B$11","v":{"v":0,"d":"0.00"}},{"$f":"J59*Ponderadores!$B$6","v":{"$error":"#VALUE!"}},{"v":0,"d":"0.00"},{"v":0,"d":"0.00"},{"v":0,"d":"0.00"},{"v":0,"d":"0.00"}]
[{"$f":"Asistencia!A60","v":53},{"$f":"Asistencia!B60","v":""},{"$nulls":7},{"$f":"Ensayo!AM60","v":""},{"$nulls":5},{"$f":"IF(SUM(C60:F60)=0,\"\",CalifFinal!C60)","v":""},{"$f":"V60*Ponderadores!$B$8","v":{"v":0,"d":"0.00"}},{"$f":"W60*Ponderadores!$B$9","v":{"v":0,"d":"0.00"}},{"$f":"X60*Ponderadores!$B$10","v":{"v":0,"d":"0.00"}},{"$f":"Y60*Ponderadores!$B$11","v":{"v":0,"d":"0.00"}},{"$f":"J60*Ponderadores!$B$6","v":{"$error":"#VALUE!"}},{"v":0,"d":"0.00"},{"v":0,"d":"0.00"},{"v":0,"d":"0.00"},{"v":0,"d":"0.00"}]
[{"$f":"Asistencia!A61","v":54},{"$f":"Asistencia!B61","v":""},{"$nulls":7},{"$f":"Ensayo!AM61","v":""},{"$nulls":5},{"$f":"IF(SUM(C61:F61)=0,\"\",CalifFinal!C61)","v":""},{"$f":"V61*Ponderadores!$B$8","v":{"v":0,"d":"0.00"}},{"$f":"W61*Ponderadores!$B$9","v":{"v":0,"d":"0.00"}},{"$f":"X61*Ponderadores!$B$10","v":{"v":0,"d":"0.00"}},{"$f":"Y61*Ponderadores!$B$11","v":{"v":0,"d":"0.00"}},{"$f":"J61*Ponderadores!$B$6","v":{"$error":"#VALUE!"}},{"v":0,"d":"0.00"},{"v":0,"d":"0.00"},{"v":0,"d":"0.00"},{"v":0,"d":"0.00"}]
[{"$f":"Asistencia!A62","v":55},{"$f":"Asistencia!B62","v":""},{"$nulls":7},{"$f":"Ensayo!AM62","v":""},{"$nulls":5},{"$f":"IF(SUM(C62:F62)=0,\"\",CalifFinal!C62)","v":""},{"$f":"V62*Ponderadores!$B$8","v":{"v":0,"d":"0.00"}},{"$f":"W62*Ponderadores!$B$9","v":{"v":0,"d":"0.00"}},{"$f":"X62*Ponderadores!$B$10","v":{"v":0,"d":"0.00"}},{"$f":"Y62*Ponderadores!$B$11","v":{"v":0,"d":"0.00"}},{"$f":"J62*Ponderadores!$B$6","v":{"$error":"#VALUE!"}},{"v":0,"d":"0.00"},{"v":0,"d":"0.00"},{"v":0,"d":"0.00"},{"v":0,"d":"0.00"}]
[{"$f":"Asistencia!A63","v":56},{"$f":"Asistencia!B63","v":""},{"$nulls":7},{"$f":"Ensayo!AM63","v":""},{"$nulls":5},{"$f":"IF(SUM(C63:F63)=0,\"\",CalifFinal!C63)","v":""},{"$f":"V63*Ponderadores!$B$8","v":{"v":0,"d":"0.00"}},{"$f":"W63*Ponderadores!$B$9","v":{"v":0,"d":"0.00"}},{"$f":"X63*Ponderadores!$B$10","v":{"v":0,"d":"0.00"}},{"$f":"Y63*Ponderadores!$B$11","v":{"v":0,"d":"0.00"}},{"$f":"J63*Ponderadores!$B$6","v":{"$error":"#VALUE!"}},{"v":0,"d":"0.00"},{"v":0,"d":"0.00"},{"v":0,"d":"0.00"},{"v":0,"d":"0.00"}]
[{"$f":"Asistencia!A64","v":57},{"$f":"Asistencia!B64","v":""},{"$nulls":7},{"$f":"Ensayo!AM64","v":""},{"$nulls":5},{"$f":"IF(SUM(C64:F64)=0,\"\",CalifFinal!C64)","v":""},{"$f":"V64*Ponderadores!$B$8","v":{"v":0,"d":"0.00"}},{"$f":"W64*Ponderadores!$B$9","v":{"v":0,"d":"0.00"}},{"$f":"X64*Ponderadores!$B$10","v":{"v":0,"d":"0.00"}},{"$f":"Y64*Ponderadores!$B$11","v":{"v":0,"d":"0.00"}},{"$f":"J64*Ponderadores!$B$6","v":{"$error":"#VALUE!"}},{"v":0,"d":"0.00"},{"v":0,"d":"0.00"},{"v":0,"d":"0.00"},{"v":0,"d":"0.00"}]
[{"$f":"Asistencia!A65","v":58},{"$f":"Asistencia!B65","v":""},{"$nulls":7},{"$f":"Ensayo!AM65","v":""},{"$nulls":5},{"$f":"IF(SUM(C65:F65)=0,\"\",CalifFinal!C65)","v":""},{"$f":"V65*Ponderadores!$B$8","v":{"v":0,"d":"0.00"}},{"$f":"W65*Ponderadores!$B$9","v":{"v":0,"d":"0.00"}},{"$f":"X65*Ponderadores!$B$10","v":{"v":0,"d":"0.00"}},{"$f":"Y65*Ponderadores!$B$11","v":{"v":0,"d":"0.00"}},{"$f":"J65*Ponderadores!$B$6","v":{"$error":"#VALUE!"}},{"v":0,"d":"0.00"},{"v":0,"d":"0.00"},{"v":0,"d":"0.00"},{"v":0,"d":"0.00"}]
[{"$f":"Asistencia!A66","v":59},{"$f":"Asistencia!B66","v":""},{"$nulls":7},{"$f":"Ensayo!AM66","v":""},{"$nulls":5},{"$f":"IF(SUM(C66:F66)=0,\"\",CalifFinal!C66)","v":""},{"$f":"V66*Ponderadores!$B$8","v":{"v":0,"d":"0.00"}},{"$f":"W66*Ponderadores!$B$9","v":{"v":0,"d":"0.00"}},{"$f":"X66*Ponderadores!$B$10","v":{"v":0,"d":"0.00"}},{"$f":"Y66*Ponderadores!$B$11","v":{"v":0,"d":"0.00"}},{"$f":"J66*Ponderadores!$B$6","v":{"$error":"#VALUE!"}},{"v":0,"d":"0.00"},{"v":0,"d":"0.00"},{"v":0,"d":"0.00"},{"v":0,"d":"0.00"}]
[{"$f":"Asistencia!A67","v":60},{"$f":"Asistencia!B67","v":""},{"$nulls":7},{"$f":"Ensayo!AM67","v":""},{"$nulls":5},{"$f":"IF(SUM(C67:F67)=0,\"\",CalifFinal!C67)","v":""},{"$f":"V67*Ponderadores!$B$8","v":{"v":0,"d":"0.00"}},{"$f":"W67*Ponderadores!$B$9","v":{"v":0,"d":"0.00"}},{"$f":"X67*Ponderadores!$B$10","v":{"v":0,"d":"0.00"}},{"$f":"Y67*Ponderadores!$B$11","v":{"v":0,"d":"0.00"}},{"$f":"J67*Ponderadores!$B$6","v":{"$error":"#VALUE!"}},{"v":0,"d":"0.00"},{"v":0,"d":"0.00"},{"v":0,"d":"0.00"},{"v":0,"d":"0.00"}]

{"sheet":"TodaslasCalif","index":8,"n_rows":67,"n_cols":16,"rows_kept":67,"hidden":true,"merged":[[1,0,1,13],[2,0,2,13],[3,0,3,13],[4,0,4,13],[5,0,5,13]]}
[]
[{"$f":"Guias!$A$2","v":"FACULTAD   DE   ECONOMÍA"}]
[{"$f":"Guias!$A$3","v":"Nombre de asignatura"}]
[{"$f":"Guias!$A$4","v":"Nombre del profesor"}]
["Total de calificaciones ponderadas"]
[{"$f":"CONCATENATE(Asignatura!$A$2,Asignatura!$B$8,Asignatura!$B$2,\"              \",Asignatura!$A$4,Asignatura!$B$8,Asignatura!$B$4,\"              \",Asignatura!$A$5,Asignatura!$B$8,Asignatura!$B$5)","v":"SEMESTRE  Anotar el semestre lectivo              CLAVE  Anotar la clave de asignagtura              GRUPO  Insertar el grupo"}]
["#","NOMBRE","ASISTENCIA","GUÍAS","PARTICIPACIÓN","TAREAS","1º PARCIAL","2º PARCIAL","3º PARCIAL","4º PARCIAL","ENSAYO","Punto","PROMEDIO","CALIFICACIÓN FINAL"]
[{"$f":"Asistencia!A8","v":1},{"$f":"Asistencia!B8","v":""},{"$f":"Asistencia!AJ8","v":""},{"$f":"Guias!AH8","v":""},{"$f":"Participación!AJ7","v":""},{"$f":"Tarea!Y8","v":""},{"$f":"IF(ExamenesParciales!Q8>0,ExamenesParciales!Q8,\"\")","v":""},{"$f":"IF(ExamenesParciales!R8>0,ExamenesParciales!R8,\"\")","v":""},{"$f":"IF(ExamenesParciales!S8>0,ExamenesParciales!S8,\"\")","v":""},{"$f":"IF(ExamenesParciales!T8>0,ExamenesParciales!T8,\"\")","v":""},{"$f":"Ensayo!AN8","v":""},{"$f":"IF(ExamenesParciales!O8>0,ExamenesParciales!O8,\"\")","v":""},{"$f":"IF(SUM(C8:K8)>0,SUM(C8:K8),\"\")","v":""},{"$f":"IF(L8=\"\",M8,M8+L8)","v":""}]
[{"$f":"Asistencia!A9","v":2},{"$f":"Asistencia!B9","v":""},{"$f":"Asistencia!AJ9","v":""},{"$f":"Guias!AH9","v":""},{"$f":"Participación!AJ8","v":""},{"$f":"Tarea!Y9","v":""},{"$f":"IF(ExamenesParciales!Q9>0,ExamenesParciales!Q9,\"\")","v":""},{"$f":"IF(ExamenesParciales!R9>0,ExamenesParciales!R9,\"\")","v":""},{"$f":"IF(ExamenesParciales!S9>0,ExamenesParciales!S9,\"\")","v":""},{"$f":"IF(ExamenesParciales!T9>0,ExamenesParciales!T9,\"\")","v":""},{"$f":"Ensayo!AN9","v":""},{"$f":"IF(ExamenesParciales!O9>0,ExamenesParciales!O9,\"\")","v":""},{"$f":"IF(SUM(C9:K9)>0,SUM(C9:K9),\"\")","v":""},{"$f":"IF(L9=\"\",M9,M9+L9)","v":""}]
[{"$f":"Asistencia!A10","v":3},{"$f":"Asistencia!B10","v":""},{"$f":"Asistencia!AJ10","v":""},{"$f":"Guias!AH10","v":""},{"$f":"Participación!AJ9","v":""},{"$f":"Tarea!Y10","v":""},{"$f":"IF(ExamenesParciales!Q10>0,ExamenesParciales!Q10,\"\")","v":""},{"$f":"IF(ExamenesParciales!R10>0,ExamenesParciales!R10,\"\")","v":""},{"$f":"IF(ExamenesParciales!S10>0,ExamenesParciales!S10,\"\")","v":""},{"$f":"IF(ExamenesParciales!T10>0,ExamenesParciales!T10,\"\")","v":""},{"$f":"Ensayo!AN10","v":""},{"$f":"IF(ExamenesParciales!O10>0,ExamenesParciales!O10,\"\")","v":""},"",""]
[{"$f":"Asistencia!A11","v":4},{"$f":"Asistencia!B11","v":""},{"$f":"Asistencia!AJ11","v":""},{"$f":"Guias!AH11","v":""},{"$f":"Participación!AJ10","v":""},{"$f":"Tarea!Y11","v":""},{"$f":"IF(ExamenesParciales!Q11>0,ExamenesParciales!Q11,\"\")","v":""},{"$f":"IF(ExamenesParciales!R11>0,ExamenesParciales!R11,\"\")","v":""},{"$f":"IF(ExamenesParciales!S11>0,ExamenesParciales!S11,\"\")","v":""},{"$f":"IF(ExamenesParciales!T11>0,ExamenesParciales!T11,\"\")","v":""},{"$f":"Ensayo!AN11","v":""},{"$f":"IF(ExamenesParciales!O11>0,ExamenesParciales!O11,\"\")","v":""},"",""]
[{"$f":"Asistencia!A12","v":5},{"$f":"Asistencia!B12","v":""},{"$f":"Asistencia!AJ12","v":""},{"$f":"Guias!AH12","v":""},{"$f":"Participación!AJ11","v":""},{"$f":"Tarea!Y12","v":""},{"$f":"IF(ExamenesParciales!Q12>0,ExamenesParciales!Q12,\"\")","v":""},{"$f":"IF(ExamenesParciales!R12>0,ExamenesParciales!R12,\"\")","v":""},{"$f":"IF(ExamenesParciales!S12>0,ExamenesParciales!S12,\"\")","v":""},{"$f":"IF(ExamenesParciales!T12>0,ExamenesParciales!T12,\"\")","v":""},{"$f":"Ensayo!AN12","v":""},{"$f":"IF(ExamenesParciales!O12>0,ExamenesParciales!O12,\"\")","v":""},"",""]
[{"$f":"Asistencia!A13","v":6},{"$f":"Asistencia!B13","v":""},{"$f":"Asistencia!AJ13","v":""},{"$f":"Guias!AH13","v":""},{"$f":"Participación!AJ12","v":""},{"$f":"Tarea!Y13","v":""},{"$f":"IF(ExamenesParciales!Q13>0,ExamenesParciales!Q13,\"\")","v":""},{"$f":"IF(ExamenesParciales!R13>0,ExamenesParciales!R13,\"\")","v":""},{"$f":"IF(ExamenesParciales!S13>0,ExamenesParciales!S13,\"\")","v":""},{"$f":"IF(ExamenesParciales!T13>0,ExamenesParciales!T13,\"\")","v":""},{"$f":"Ensayo!AN13","v":""},{"$f":"IF(ExamenesParciales!O13>0,ExamenesParciales!O13,\"\")","v":""},"",""]
[7,{"$f":"Asistencia!B14","v":""},{"$f":"Asistencia!AJ14","v":""},{"$f":"Guias!AH14","v":""},{"$f":"Participación!AJ13","v":""},{"$f":"Tarea!Y14","v":""},{"$f":"IF(ExamenesParciales!Q14>0,ExamenesParciales!Q14,\"\")","v":""},{"$f":"IF(ExamenesParciales!R14>0,ExamenesParciales!R14,\"\")","v":""},{"$f":"IF(ExamenesParciales!S14>0,ExamenesParciales!S14,\"\")","v":""},{"$f":"IF(ExamenesParciales!T14>0,ExamenesParciales!T14,\"\")","v":""},{"$f":"Ensayo!AN14","v":""},{"$f":"IF(ExamenesParciales!O14>0,ExamenesParciales!O14,\"\")","v":""},"",""]
[{"$f":"Asistencia!A15","v":8},{"$f":"Asistencia!B15","v":""},{"$f":"Asistencia!AJ15","v":""},{"$f":"Guias!AH15","v":""},{"$f":"Participación!AJ14","v":""},{"$f":"Tarea!Y15","v":""},{"$f":"IF(ExamenesParciales!Q15>0,ExamenesParciales!Q15,\"\")","v":""},{"$f":"IF(ExamenesParciales!R15>0,ExamenesParciales!R15,\"\")","v":""},{"$f":"IF(ExamenesParciales!S15>0,ExamenesParciales!S15,\"\")","v":""},{"$f":"IF(ExamenesParciales!T15>0,ExamenesParciales!T15,\"\")","v":""},{"$f":"Ensayo!AN15","v":""},{"$f":"IF(ExamenesParciales!O15>0,ExamenesParciales!O15,\"\")","v":""},"",""]
[{"$f":"Asistencia!A16","v":9},{"$f":"Asistencia!B16","v":""},{"$f":"Asistencia!AJ16","v":""},{"$f":"Guias!AH16","v":""},{"$f":"Participación!AJ15","v":""},{"$f":"Tarea!Y16","v":""},{"$f":"IF(ExamenesParciales!Q16>0,ExamenesParciales!Q16,\"\")","v":""},{"$f":"IF(ExamenesParciales!R16>0,ExamenesParciales!R16,\"\")","v":""},{"$f":"IF(ExamenesParciales!S16>0,ExamenesParciales!S16,\"\")","v":""},{"$f":"IF(ExamenesParciales!T16>0,ExamenesParciales!T16,\"\")","v":""},{"$f":"Ensayo!AN16","v":""},{"$f":"IF(ExamenesParciales!O16>0,ExamenesParciales!O16,\"\")","v":""},"",""]
[{"$f":"Asistencia!A17","v":10},{"$f":"Asistencia!B17","v":""},{"$f":"Asistencia!AJ17","v":""},{"$f":"Guias!AH17","v":""},{"$f":"Participación!AJ16","v":""},{"$f":"Tarea!Y17","v":""},{"$f":"IF(ExamenesParciales!Q17>0,ExamenesParciales!Q17,\"\")","v":""},{"$f":"IF(ExamenesParciales!R17>0,ExamenesParciales!R17,\"\")","v":""},{"$f":"IF(ExamenesParciales!S17>0,ExamenesParciales!S17,\"\")","v":""},{"$f":"IF(ExamenesParciales!T17>0,ExamenesParciales!T17,\"\")","v":""},{"$f":"Ensayo!AN17","v":""},{"$f":"IF(ExamenesParciales!O17>0,ExamenesParciales!O17,\"\")","v":""},"",""]
[{"$f":"Asistencia!A18","v":11},{"$f":"Asistencia!B18","v":""},{"$f":"Asistencia!AJ18","v":""},{"$f":"Guias!AH18","v":""},{"$f":"Participación!AJ17","v":""},{"$f":"Tarea!Y18","v":""},{"$f":"IF(ExamenesParciales!Q18>0,ExamenesParciales!Q18,\"\")","v":""},{"$f":"IF(ExamenesParciales!R18>0,ExamenesParciales!R18,\"\")","v":""},{"$f":"IF(ExamenesParciales!S18>0,ExamenesParciales!S18,\"\")","v":""},{"$f":"IF(ExamenesParciales!T18>0,ExamenesParciales!T18,\"\")","v":""},{"$f":"Ensayo!AN18","v":""},{"$f":"IF(ExamenesParciales!O18>0,ExamenesParciales!O18,\"\")","v":""},"",""]
[{"$f":"Asistencia!A19","v":12},{"$f":"Asistencia!B19","v":""},{"$f":"Asistencia!AJ19","v":""},{"$f":"Guias!AH19","v":""},{"$f":"Participación!AJ18","v":""},{"$f":"Tarea!Y19","v":""},{"$f":"IF(ExamenesParciales!Q19>0,ExamenesParciales!Q19,\"\")","v":""},{"$f":"IF(ExamenesParciales!R19>0,ExamenesParciales!R19,\"\")","v":""},{"$f":"IF(ExamenesParciales!S19>0,ExamenesParciales!S19,\"\")","v":""},{"$f":"IF(ExamenesParciales!T19>0,ExamenesParciales!T19,\"\")","v":""},{"$f":"Ensayo!AN19","v":""},{"$f":"IF(ExamenesParciales!O19>0,ExamenesParciales!O19,\"\")","v":""},"",""]
[{"$f":"Asistencia!A20","v":13},{"$f":"Asistencia!B20","v":""},{"$f":"Asistencia!AJ20","v":""},{"$f":"Guias!AH20","v":""},{"$f":"Participación!AJ19","v":""},{"$f":"Tarea!Y20","v":""},{"$f":"IF(ExamenesParciales!Q20>0,ExamenesParciales!Q20,\"\")","v":""},{"$f":"IF(ExamenesParciales!R20>0,ExamenesParciales!R20,\"\")","v":""},{"$f":"IF(ExamenesParciales!S20>0,ExamenesParciales!S20,\"\")","v":""},{"$f":"IF(ExamenesParciales!T20>0,ExamenesParciales!T20,\"\")","v":""},{"$f":"Ensayo!AN20","v":""},{"$f":"IF(ExamenesParciales!O20>0,ExamenesParciales!O20,\"\")","v":""},"",""]
[{"$f":"Asistencia!A21","v":14},{"$f":"Asistencia!B21","v":""},{"$f":"Asistencia!AJ21","v":""},{"$f":"Guias!AH21","v":""},{"$f":"Participación!AJ20","v":""},{"$f":"Tarea!Y21","v":""},{"$f":"IF(ExamenesParciales!Q21>0,ExamenesParciales!Q21,\"\")","v":""},{"$f":"IF(ExamenesParciales!R21>0,ExamenesParciales!R21,\"\")","v":""},{"$f":"IF(ExamenesParciales!S21>0,ExamenesParciales!S21,\"\")","v":""},{"$f":"IF(ExamenesParciales!T21>0,ExamenesParciales!T21,\"\")","v":""},{"$f":"Ensayo!AN21","v":""},{"$f":"IF(ExamenesParciales!O21>0,ExamenesParciales!O21,\"\")","v":""},"",""]
[{"$f":"Asistencia!A22","v":15},{"$f":"Asistencia!B22","v":""},{"$f":"Asistencia!AJ22","v":""},{"$f":"Guias!AH22","v":""},{"$f":"Participación!AJ21","v":""},{"$f":"Tarea!Y22","v":""},{"$f":"IF(ExamenesParciales!Q22>0,ExamenesParciales!Q22,\"\")","v":""},{"$f":"IF(ExamenesParciales!R22>0,ExamenesParciales!R22,\"\")","v":""},{"$f":"IF(ExamenesParciales!S22>0,ExamenesParciales!S22,\"\")","v":""},{"$f":"IF(ExamenesParciales!T22>0,ExamenesParciales!T22,\"\")","v":""},{"$f":"Ensayo!AN22","v":""},{"$f":"IF(ExamenesParciales!O22>0,ExamenesParciales!O22,\"\")","v":""},"",""]
[{"$f":"Asistencia!A23","v":16},{"$f":"Asistencia!B23","v":""},{"$f":"Asistencia!AJ23","v":""},{"$f":"Guias!AH23","v":""},{"$f":"Participación!AJ22","v":""},{"$f":"Tarea!Y23","v":""},{"$f":"IF(ExamenesParciales!Q23>0,ExamenesParciales!Q23,\"\")","v":""},{"$f":"IF(ExamenesParciales!R23>0,ExamenesParciales!R23,\"\")","v":""},{"$f":"IF(ExamenesParciales!S23>0,ExamenesParciales!S23,\"\")","v":""},{"$f":"IF(ExamenesParciales!T23>0,ExamenesParciales!T23,\"\")","v":""},{"$f":"Ensayo!AN23","v":""},{"$f":"IF(ExamenesParciales!O23>0,ExamenesParciales!O23,\"\")","v":""},"",""]
[{"$f":"Asistencia!A24","v":17},{"$f":"Asistencia!B24","v":""},{"$f":"Asistencia!AJ24","v":""},{"$f":"Guias!AH24","v":""},{"$f":"Participación!AJ23","v":""},{"$f":"Tarea!Y24","v":""},{"$f":"IF(ExamenesParciales!Q24>0,ExamenesParciales!Q24,\"\")","v":""},{"$f":"IF(ExamenesParciales!R24>0,ExamenesParciales!R24,\"\")","v":""},{"$f":"IF(ExamenesParciales!S24>0,ExamenesParciales!S24,\"\")","v":""},{"$f":"IF(ExamenesParciales!T24>0,ExamenesParciales!T24,\"\")","v":""},{"$f":"Ensayo!AN24","v":""},{"$f":"IF(ExamenesParciales!O24>0,ExamenesParciales!O24,\"\")","v":""},"",""]
[{"$f":"Asistencia!A25","v":18},{"$f":"Asistencia!B25","v":""},{"$f":"Asistencia!AJ25","v":""},{"$f":"Guias!AH25","v":""},{"$f":"Participación!AJ24","v":""},{"$f":"Tarea!Y25","v":""},{"$f":"IF(ExamenesParciales!Q25>0,ExamenesParciales!Q25,\"\")","v":""},{"$f":"IF(ExamenesParciales!R25>0,ExamenesParciales!R25,\"\")","v":""},{"$f":"IF(ExamenesParciales!S25>0,ExamenesParciales!S25,\"\")","v":""},{"$f":"IF(ExamenesParciales!T25>0,ExamenesParciales!T25,\"\")","v":""},{"$f":"Ensayo!AN25","v":""},{"$f":"IF(ExamenesParciales!O25>0,ExamenesParciales!O25,\"\")","v":""},"",""]
[{"$f":"Asistencia!A26","v":19},{"$f":"Asistencia!B26","v":""},{"$f":"Asistencia!AJ26","v":""},{"$f":"Guias!AH26","v":""},{"$f":"Participación!AJ25","v":""},{"$f":"Tarea!Y26","v":""},{"$f":"IF(ExamenesParciales!Q26>0,ExamenesParciales!Q26,\"\")","v":""},{"$f":"IF(ExamenesParciales!R26>0,ExamenesParciales!R26,\"\")","v":""},{"$f":"IF(ExamenesParciales!S26>0,ExamenesParciales!S26,\"\")","v":""},{"$f":"IF(ExamenesParciales!T26>0,ExamenesParciales!T26,\"\")","v":""},{"$f":"Ensayo!AN26","v":""},{"$f":"IF(ExamenesParciales!O26>0,ExamenesParciales!O26,\"\")","v":""},"",""]
[{"$f":"Asistencia!A27","v":20},{"$f":"Asistencia!B27","v":""},{"$f":"Asistencia!AJ27","v":""},{"$f":"Guias!AH27","v":""},{"$f":"Participación!AJ26","v":""},{"$f":"Tarea!Y27","v":""},{"$f":"IF(ExamenesParciales!Q27>0,ExamenesParciales!Q27,\"\")","v":""},{"$f":"IF(ExamenesParciales!R27>0,ExamenesParciales!R27,\"\")","v":""},{"$f":"IF(ExamenesParciales!S27>0,ExamenesParciales!S27,\"\")","v":""},{"$f":"IF(ExamenesParciales!T27>0,ExamenesParciales!T27,\"\")","v":""},{"$f":"Ensayo!AN27","v":""},{"$f":"IF(ExamenesParciales!O27>0,ExamenesParciales!O27,\"\")","v":""},"",""]
[{"$f":"Asistencia!A28","v":21},{"$f":"Asistencia!B28","v":""},{"$f":"Asistencia!AJ28","v":""},{"$f":"Guias!AH28","v":""},{"$f":"Participación!AJ27","v":""},{"$f":"Tarea!Y28","v":""},{"$f":"IF(ExamenesParciales!Q28>0,ExamenesParciales!Q28,\"\")","v":""},{"$f":"IF(ExamenesParciales!R28>0,ExamenesParciales!R28,\"\")","v":""},{"$f":"IF(ExamenesParciales!S28>0,ExamenesParciales!S28,\"\")","v":""},{"$f":"IF(ExamenesParciales!T28>0,ExamenesParciales!T28,\"\")","v":""},{"$f":"Ensayo!AN28","v":""},{"$f":"IF(ExamenesParciales!O28>0,ExamenesParciales!O28,\"\")","v":""},"",""]
[{"$f":"Asistencia!A29","v":22},{"$f":"Asistencia!B29","v":""},{"$f":"Asistencia!AJ29","v":""},{"$f":"Guias!AH29","v":""},{"$f":"Participación!AJ28","v":""},{"$f":"Tarea!Y29","v":""},{"$f":"IF(ExamenesParciales!Q29>0,ExamenesParciales!Q29,\"\")","v":""},{"$f":"IF(ExamenesParciales!R29>0,ExamenesParciales!R29,\"\")","v":""},{"$f":"IF(ExamenesParciales!S29>0,ExamenesParciales!S29,\"\")","v":""},{"$f":"IF(ExamenesParciales!T29>0,ExamenesParciales!T29,\"\")","v":""},{"$f":"Ensayo!AN29","v":""},{"$f":"IF(ExamenesParciales!O29>0,ExamenesParciales!O29,\"\")","v":""},"",""]
[{"$f":"Asistencia!A30","v":23},{"$f":"Asistencia!B30","v":""},{"$f":"Asistencia!AJ30","v":""},{"$f":"Guias!AH30","v":""},{"$f":"Participación!AJ29","v":""},{"$f":"Tarea!Y30","v":""},{"$f":"IF(ExamenesParciales!Q30>0,ExamenesParciales!Q30,\"\")","v":""},{"$f":"IF(ExamenesParciales!R30>0,ExamenesParciales!R30,\"\")","v":""},{"$f":"IF(ExamenesParciales!S30>0,ExamenesParciales!S30,\"\")","v":""},{"$f":"IF(ExamenesParciales!T30>0,ExamenesParciales!T30,\"\")","v":""},{"$f":"Ensayo!AN30","v":""},{"$f":"IF(ExamenesParciales!O30>0,ExamenesParciales!O30,\"\")","v":""},"",""]
[{"$f":"Asistencia!A31","v":24},{"$f":"Asistencia!B31","v":""},{"$f":"Asistencia!AJ31","v":""},{"$f":"Guias!AH31","v":""},{"$f":"Participación!AJ30","v":""},{"$f":"Tarea!Y31","v":""},{"$f":"IF(ExamenesParciales!Q31>0,ExamenesParciales!Q31,\"\")","v":""},{"$f":"IF(ExamenesParciales!R31>0,ExamenesParciales!R31,\"\")","v":""},{"$f":"IF(ExamenesParciales!S31>0,ExamenesParciales!S31,\"\")","v":""},{"$f":"IF(ExamenesParciales!T31>0,ExamenesParciales!T31,\"\")","v":""},{"$f":"Ensayo!AN31","v":""},{"$f":"IF(ExamenesParciales!O31>0,ExamenesParciales!O31,\"\")","v":""},"",""]
[{"$f":"Asistencia!A32","v":25},{"$f":"Asistencia!B32","v":""},{"$f":"Asistencia!AJ32","v":""},{"$f":"Guias!AH32","v":""},{"$f":"Participación!AJ31","v":""},{"$f":"Tarea!Y32","v":""},{"$f":"IF(ExamenesParciales!Q32>0,ExamenesParciales!Q32,\"\")","v":""},{"$f":"IF(ExamenesParciales!R32>0,ExamenesParciales!R32,\"\")","v":""},{"$f":"IF(ExamenesParciales!S32>0,ExamenesParciales!S32,\"\")","v":""},{"$f":"IF(ExamenesParciales!T32>0,ExamenesParciales!T32,\"\")","v":""},{"$f":"Ensayo!AN32","v":""},{"$f":"IF(ExamenesParciales!O32>0,ExamenesParciales!O32,\"\")","v":""},"",""]
[{"$f":"Asistencia!A33","v":26},{"$f":"Asistencia!B33","v":""},{"$f":"Asistencia!AJ33","v":""},{"$f":"Guias!AH33","v":""},{"$f":"Participación!AJ32","v":""},{"$f":"Tarea!Y33","v":""},{"$f":"IF(ExamenesParciales!Q33>0,ExamenesParciales!Q33,\"\")","v":""},{"$f":"IF(ExamenesParciales!R33>0,ExamenesParciales!R33,\"\")","v":""},{"$f":"IF(ExamenesParciales!S33>0,ExamenesParciales!S33,\"\")","v":""},{"$f":"IF(ExamenesParciales!T33>0,ExamenesParciales!T33,\"\")","v":""},{"$f":"Ensayo!AN33","v":""},{"$f":"IF(ExamenesParciales!O33>0,ExamenesParciales!O33,\"\")","v":""},"",""]
[{"$f":"Asistencia!A34","v":27},{"$f":"Asistencia!B34","v":""},{"$f":"Asistencia!AJ34","v":""},{"$f":"Guias!AH34","v":""},{"$f":"Participación!AJ33","v":""},{"$f":"Tarea!Y34","v":""},{"$f":"IF(ExamenesParciales!Q34>0,ExamenesParciales!Q34,\"\")","v":""},{"$f":"IF(ExamenesParciales!R34>0,ExamenesParciales!R34,\"\")","v":""},{"$f":"IF(ExamenesParciales!S34>0,ExamenesParciales!S34,\"\")","v":""},{"$f":"IF(ExamenesParciales!T34>0,ExamenesParciales!T34,\"\")","v":""},{"$f":"Ensayo!AN34","v":""},{"$f":"IF(ExamenesParciales!O34>0,ExamenesParciales!O34,\"\")","v":""},"",""]
[{"$f":"Asistencia!A35","v":28},{"$f":"Asistencia!B35","v":""},{"$f":"Asistencia!AJ35","v":""},{"$f":"Guias!AH35","v":""},{"$f":"Participación!AJ34","v":""},{"$f":"Tarea!Y35","v":""},{"$f":"IF(ExamenesParciales!Q35>0,ExamenesParciales!Q35,\"\")","v":""},{"$f":"IF(ExamenesParciales!R35>0,ExamenesParciales!R35,\"\")","v":""},{"$f":"IF(ExamenesParciales!S35>0,ExamenesParciales!S35,\"\")","v":""},{"$f":"IF(ExamenesParciales!T35>0,ExamenesParciales!T35,\"\")","v":""},{"$f":"Ensayo!AN35","v":""},{"$f":"IF(ExamenesParciales!O35>0,ExamenesParciales!O35,\"\")","v":""},"",""]
[{"$f":"Asistencia!A36","v":29},{"$f":"Asistencia!B36","v":""},{"$f":"Asistencia!AJ36","v":""},{"$f":"Guias!AH36","v":""},{"$f":"Participación!AJ35","v":""},{"$f":"Tarea!Y36","v":""},{"$f":"IF(ExamenesParciales!Q36>0,ExamenesParciales!Q36,\"\")","v":""},{"$f":"IF(ExamenesParciales!R36>0,ExamenesParciales!R36,\"\")","v":""},{"$f":"IF(ExamenesParciales!S36>0,ExamenesParciales!S36,\"\")","v":""},{"$f":"IF(ExamenesParciales!T36>0,ExamenesParciales!T36,\"\")","v":""},{"$f":"Ensayo!AN36","v":""},{"$f":"IF(ExamenesParciales!O36>0,ExamenesParciales!O36,\"\")","v":""},"",""]
[{"$f":"Asistencia!A37","v":30},{"$f":"Asistencia!B37","v":""},{"$f":"Asistencia!AJ37","v":""},{"$f":"Guias!AH37","v":""},{"$f":"Participación!AJ36","v":""},{"$f":"Tarea!Y37","v":""},{"$f":"IF(ExamenesParciales!Q37>0,ExamenesParciales!Q37,\"\")","v":""},{"$f":"IF(ExamenesParciales!R37>0,ExamenesParciales!R37,\"\")","v":""},{"$f":"IF(ExamenesParciales!S37>0,ExamenesParciales!S37,\"\")","v":""},{"$f":"IF(ExamenesParciales!T37>0,ExamenesParciales!T37,\"\")","v":""},{"$f":"Ensayo!AN37","v":""},{"$f":"IF(ExamenesParciales!O37>0,ExamenesParciales!O37,\"\")","v":""},"",""]
[{"$f":"Asistencia!A38","v":31},{"$f":"Asistencia!B38","v":""},{"$f":"Asistencia!AJ38","v":""},{"$f":"Guias!AH38","v":""},{"$f":"Participación!AJ37","v":""},{"$f":"Tarea!Y38","v":""},{"$f":"IF(ExamenesParciales!Q38>0,ExamenesParciales!Q38,\"\")","v":""},{"$f":"IF(ExamenesParciales!R38>0,ExamenesParciales!R38,\"\")","v":""},{"$f":"IF(ExamenesParciales!S38>0,ExamenesParciales!S38,\"\")","v":""},{"$f":"IF(ExamenesParciales!T38>0,ExamenesParciales!T38,\"\")","v":""},{"$f":"Ensayo!AN38","v":""},{"$f":"IF(ExamenesParciales!O38>0,ExamenesParciales!O38,\"\")","v":""},"",""]
[{"$f":"Asistencia!A39","v":32},{"$f":"Asistencia!B39","v":""},{"$f":"Asistencia!AJ39","v":""},{"$f":"Guias!AH39","v":""},{"$f":"Participación!AJ38","v":""},{"$f":"Tarea!Y39","v":""},{"$f":"IF(ExamenesParciales!Q39>0,ExamenesParciales!Q39,\"\")","v":""},{"$f":"IF(ExamenesParciales!R39>0,ExamenesParciales!R39,\"\")","v":""},{"$f":"IF(ExamenesParciales!S39>0,ExamenesParciales!S39,\"\")","v":""},{"$f":"IF(ExamenesParciales!T39>0,ExamenesParciales!T39,\"\")","v":""},{"$f":"Ensayo!AN39","v":""},{"$f":"IF(ExamenesParciales!O39>0,ExamenesParciales!O39,\"\")","v":""},"",""]
[{"$f":"Asistencia!A40","v":33},{"$f":"Asistencia!B40","v":""},{"$f":"Asistencia!AJ40","v":""},{"$f":"Guias!AH40","v":""},{"$f":"Participación!AJ39","v":""},{"$f":"Tarea!Y40","v":""},{"$f":"IF(ExamenesParciales!Q40>0,ExamenesParciales!Q40,\"\")","v":""},{"$f":"IF(ExamenesParciales!R40>0,ExamenesParciales!R40,\"\")","v":""},{"$f":"IF(ExamenesParciales!S40>0,ExamenesParciales!S40,\"\")","v":""},{"$f":"IF(ExamenesParciales!T40>0,ExamenesParciales!T40,\"\")","v":""},{"$f":"Ensayo!AN40","v":""},{"$f":"IF(ExamenesParciales!O40>0,ExamenesParciales!O40,\"\")","v":""},"",""]
[{"$f":"Asistencia!A41","v":34},{"$f":"Asistencia!B41","v":""},{"$f":"Asistencia!AJ41","v":""},{"$f":"Guias!AH41","v":""},{"$f":"Participación!AJ40","v":""},{"$f":"Tarea!Y41","v":""},{"$f":"IF(ExamenesParciales!Q41>0,ExamenesParciales!Q41,\"\")","v":""},{"$f":"IF(ExamenesParciales!R41>0,ExamenesParciales!R41,\"\")","v":""},{"$f":"IF(ExamenesParciales!S41>0,ExamenesParciales!S41,\"\")","v":""},{"$f":"IF(ExamenesParciales!T41>0,ExamenesParciales!T41,\"\")","v":""},{"$f":"Ensayo!AN41","v":""},{"$f":"IF(ExamenesParciales!O41>0,ExamenesParciales!O41,\"\")","v":""},"",""]
[{"$f":"Asistencia!A42","v":35},{"$f":"Asistencia!B42","v":""},{"$f":"Asistencia!AJ42","v":""},{"$f":"Guias!AH42","v":""},{"$f":"Participación!AJ41","v":""},{"$f":"Tarea!Y42","v":""},{"$f":"IF(ExamenesParciales!Q42>0,ExamenesParciales!Q42,\"\")","v":""},{"$f":"IF(ExamenesParciales!R42>0,ExamenesParciales!R42,\"\")","v":""},{"$f":"IF(ExamenesParciales!S42>0,ExamenesParciales!S42,\"\")","v":""},{"$f":"IF(ExamenesParciales!T42>0,ExamenesParciales!T42,\"\")","v":""},{"$f":"Ensayo!AN42","v":""},{"$f":"IF(ExamenesParciales!O42>0,ExamenesParciales!O42,\"\")","v":""},"",""]
[{"$f":"Asistencia!A43","v":36},{"$f":"Asistencia!B43","v":""},{"$f":"Asistencia!AJ43","v":""},{"$f":"Guias!AH43","v":""},{"$f":"Participación!AJ42","v":""},{"$f":"Tarea!Y43","v":""},{"$f":"IF(ExamenesParciales!Q43>0,ExamenesParciales!Q43,\"\")","v":""},{"$f":"IF(ExamenesParciales!R43>0,ExamenesParciales!R43,\"\")","v":""},{"$f":"IF(ExamenesParciales!S43>0,ExamenesParciales!S43,\"\")","v":""},{"$f":"IF(ExamenesParciales!T43>0,ExamenesParciales!T43,\"\")","v":""},{"$f":"Ensayo!AN43","v":""},{"$f":"IF(ExamenesParciales!O43>0,ExamenesParciales!O43,\"\")","v":""},"",""]
[{"$f":"Asistencia!A44","v":37},{"$f":"Asistencia!B44","v":""},{"$f":"Asistencia!AJ44","v":""},{"$f":"Guias!AH44","v":""},{"$f":"Participación!AJ43","v":""},{"$f":"Tarea!Y44","v":""},{"$f":"IF(ExamenesParciales!Q44>0,ExamenesParciales!Q44,\"\")","v":""},{"$f":"IF(ExamenesParciales!R44>0,ExamenesParciales!R44,\"\")","v":""},{"$f":"IF(ExamenesParciales!S44>0,ExamenesParciales!S44,\"\")","v":""},{"$f":"IF(ExamenesParciales!T44>0,ExamenesParciales!T44,\"\")","v":""},{"$f":"Ensayo!AN44","v":""},{"$f":"IF(ExamenesParciales!O44>0,ExamenesParciales!O44,\"\")","v":""},"",""]
[{"$f":"Asistencia!A45","v":38},{"$f":"Asistencia!B45","v":""},{"$f":"Asistencia!AJ45","v":""},{"$f":"Guias!AH45","v":""},{"$f":"Participación!AJ44","v":""},{"$f":"Tarea!Y45","v":""},{"$f":"IF(ExamenesParciales!Q45>0,ExamenesParciales!Q45,\"\")","v":""},{"$f":"IF(ExamenesParciales!R45>0,ExamenesParciales!R45,\"\")","v":""},{"$f":"IF(ExamenesParciales!S45>0,ExamenesParciales!S45,\"\")","v":""},{"$f":"IF(ExamenesParciales!T45>0,ExamenesParciales!T45,\"\")","v":""},{"$f":"Ensayo!AN45","v":""},{"$f":"IF(ExamenesParciales!O45>0,ExamenesParciales!O45,\"\")","v":""},"",""]
[{"$f":"Asistencia!A46","v":39},{"$f":"Asistencia!B46","v":""},{"$f":"Asistencia!AJ46","v":""},{"$f":"Guias!AH46","v":""},{"$f":"Participación!AJ45","v":""},{"$f":"Tarea!Y46","v":""},{"$f":"IF(ExamenesParciales!Q46>0,ExamenesParciales!Q46,\"\")","v":""},{"$f":"IF(ExamenesParciales!R46>0,ExamenesParciales!R46,\"\")","v":""},{"$f":"IF(ExamenesParciales!S46>0,ExamenesParciales!S46,\"\")","v":""},{"$f":"IF(ExamenesParciales!T46>0,ExamenesParciales!T46,\"\")","v":""},{"$f":"Ensayo!AN46","v":""},{"$f":"IF(ExamenesParciales!O46>0,ExamenesParciales!O46,\"\")","v":""},"",""]
[{"$f":"Asistencia!A47","v":40},{"$f":"Asistencia!B47","v":""},{"$f":"Asistencia!AJ47","v":""},{"$f":"Guias!AH47","v":""},{"$f":"Participación!AJ46","v":""},{"$f":"Tarea!Y47","v":""},{"$f":"IF(ExamenesParciales!Q47>0,ExamenesParciales!Q47,\"\")","v":""},{"$f":"IF(ExamenesParciales!R47>0,ExamenesParciales!R47,\"\")","v":""},{"$f":"IF(ExamenesParciales!S47>0,ExamenesParciales!S47,\"\")","v":""},{"$f":"IF(ExamenesParciales!T47>0,ExamenesParciales!T47,\"\")","v":""},{"$f":"Ensayo!AN47","v":""},{"$f":"IF(ExamenesParciales!O47>0,ExamenesParciales!O47,\"\")","v":""},"",""]
[{"$f":"Asistencia!A48","v":41},{"$f":"Asistencia!B48","v":""},{"$f":"Asistencia!AJ48","v":""},{"$f":"Guias!AH48","v":""},{"$f":"Participación!AJ47","v":""},{"$f":"Tarea!Y48","v":""},{"$f":"IF(ExamenesParciales!Q48>0,ExamenesParciales!Q48,\"\")","v":""},{"$f":"IF(ExamenesParciales!R48>0,ExamenesParciales!R48,\"\")","v":""},{"$f":"IF(ExamenesParciales!S48>0,ExamenesParciales!S48,\"\")","v":""},{"$f":"IF(ExamenesParciales!T48>0,ExamenesParciales!T48,\"\")","v":""},{"$f":"Ensayo!AN48","v":""},{"$f":"IF(ExamenesParciales!O48>0,ExamenesParciales!O48,\"\")","v":""},"",""]
[{"$f":"Asistencia!A49","v":42},{"$f":"Asistencia!B49","v":""},{"$f":"Asistencia!AJ49","v":""},{"$f":"Guias!AH49","v":""},{"$f":"Participación!AJ48","v":""},{"$f":"Tarea!Y49","v":""},{"$f":"IF(ExamenesParciales!Q49>0,ExamenesParciales!Q49,\"\")","v":""},{"$f":"IF(ExamenesParciales!R49>0,ExamenesParciales!R49,\"\")","v":""},{"$f":"IF(ExamenesParciales!S49>0,ExamenesParciales!S49,\"\")","v":""},{"$f":"IF(ExamenesParciales!T49>0,ExamenesParciales!T49,\"\")","v":""},{"$f":"Ensayo!AN49","v":""},{"$f":"IF(ExamenesParciales!O49>0,ExamenesParciales!O49,\"\")","v":""},"",""]
[{"$f":"Asistencia!A50","v":43},{"$f":"Asistencia!B50","v":""},{"$f":"Asistencia!AJ50","v":""},{"$f":"Guias!AH50","v":""},{"$f":"Participación!AJ49","v":""},{"$f":"Tarea!Y50","v":""},{"$f":"IF(ExamenesParciales!Q50>0,ExamenesParciales!Q50,\"\")","v":""},{"$f":"IF(ExamenesParciales!R50>0,ExamenesParciales!R50,\"\")","v":""},{"$f":"IF(ExamenesParciales!S50>0,ExamenesParciales!S50,\"\")","v":""},{"$f":"IF(ExamenesParciales!T50>0,ExamenesParciales!T50,\"\")","v":""},{"$f":"Ensayo!AN50","v":""},{"$f":"IF(ExamenesParciales!O50>0,ExamenesParciales!O50,\"\")","v":""},"",""]
[{"$f":"Asistencia!A51","v":44},{"$f":"Asistencia!B51","v":""},{"$f":"Asistencia!AJ51","v":""},{"$f":"Guias!AH51","v":""},{"$f":"Participación!AJ50","v":""},{"$f":"Tarea!Y51","v":""},{"$f":"IF(ExamenesParciales!Q51>0,ExamenesParciales!Q51,\"\")","v":""},{"$f":"IF(ExamenesParciales!R51>0,ExamenesParciales!R51,\"\")","v":""},{"$f":"IF(ExamenesParciales!S51>0,ExamenesParciales!S51,\"\")","v":""},{"$f":"IF(ExamenesParciales!T51>0,ExamenesParciales!T51,\"\")","v":""},{"$f":"Ensayo!AN51","v":""},{"$f":"IF(ExamenesParciales!O51>0,ExamenesParciales!O51,\"\")","v":""},"",""]
[{"$f":"Asistencia!A52","v":45},{"$f":"Asistencia!B52","v":""},{"$f":"Asistencia!AJ52","v":""},{"$f":"Guias!AH52","v":""},{"$f":"Participación!AJ51","v":""},{"$f":"Tarea!Y52","v":""},{"$f":"IF(ExamenesParciales!Q52>0,ExamenesParciales!Q52,\"\")","v":""},{"$f":"IF(ExamenesParciales!R52>0,ExamenesParciales!R52,\"\")","v":""},{"$f":"IF(ExamenesParciales!S52>0,ExamenesParciales!S52,\"\")","v":""},{"$f":"IF(ExamenesParciales!T52>0,ExamenesParciales!T52,\"\")","v":""},{"$f":"Ensayo!AN52","v":""},{"$f":"IF(ExamenesParciales!O52>0,ExamenesParciales!O52,\"\")","v":""},"",""]
[{"$f":"Asistencia!A53","v":46},{"$f":"Asistencia!B53","v":""},{"$f":"Asistencia!AJ53","v":""},{"$f":"Guias!AH53","v":""},{"$f":"Participación!AJ52","v":""},{"$f":"Tarea!Y53","v":""},{"$f":"IF(ExamenesParciales!Q53>0,ExamenesParciales!Q53,\"\")","v":""},{"$f":"IF(ExamenesParciales!R53>0,ExamenesParciales!R53,\"\")","v":""},{"$f":"IF(ExamenesParciales!S53>0,ExamenesParciales!S53,\"\")","v":""},{"$f":"IF(ExamenesParciales!T53>0,ExamenesParciales!T53,\"\")","v":""},{"$f":"Ensayo!AN53","v":""},{"$f":"IF(ExamenesParciales!O53>0,ExamenesParciales!O53,\"\")","v":""},"",""]
[{"$f":"Asistencia!A54","v":47},{"$f":"Asistencia!B54","v":""},{"$f":"Asistencia!AJ54","v":""},{"$f":"Guias!AH54","v":""},{"$f":"Participación!AJ53","v":""},{"$f":"Tarea!Y54","v":""},{"$f":"IF(ExamenesParciales!Q54>0,ExamenesParciales!Q54,\"\")","v":""},{"$f":"IF(ExamenesParciales!R54>0,ExamenesParciales!R54,\"\")","v":""},{"$f":"IF(ExamenesParciales!S54>0,ExamenesParciales!S54,\"\")","v":""},{"$f":"IF(ExamenesParciales!T54>0,ExamenesParciales!T54,\"\")","v":""},{"$f":"Ensayo!AN54","v":""},{"$f":"IF(ExamenesParciales!O54>0,ExamenesParciales!O54,\"\")","v":""},"",""]
[{"$f":"Asistencia!A55","v":48},{"$f":"Asistencia!B55","v":""},{"$f":"Asistencia!AJ55","v":""},{"$f":"Guias!AH55","v":""},{"$f":"Participación!AJ54","v":""},{"$f":"Tarea!Y55","v":""},{"$f":"IF(ExamenesParciales!Q55>0,ExamenesParciales!Q55,\"\")","v":""},{"$f":"IF(ExamenesParciales!R55>0,ExamenesParciales!R55,\"\")","v":""},{"$f":"IF(ExamenesParciales!S55>0,ExamenesParciales!S55,\"\")","v":""},{"$f":"IF(ExamenesParciales!T55>0,ExamenesParciales!T55,\"\")","v":""},{"$f":"Ensayo!AN55","v":""},{"$f":"IF(ExamenesParciales!O55>0,ExamenesParciales!O55,\"\")","v":""},"",""]
[{"$f":"Asistencia!A56","v":49},{"$f":"Asistencia!B56","v":""},{"$f":"Asistencia!AJ56","v":""},{"$f":"Guias!AH56","v":""},{"$f":"Participación!AJ55","v":""},{"$f":"Tarea!Y56","v":""},{"$f":"IF(ExamenesParciales!Q56>0,ExamenesParciales!Q56,\"\")","v":""},{"$f":"IF(ExamenesParciales!R56>0,ExamenesParciales!R56,\"\")","v":""},{"$f":"IF(ExamenesParciales!S56>0,ExamenesParciales!S56,\"\")","v":""},{"$f":"IF(ExamenesParciales!T56>0,ExamenesParciales!T56,\"\")","v":""},{"$f":"Ensayo!AN56","v":""},{"$f":"IF(ExamenesParciales!O56>0,ExamenesParciales!O56,\"\")","v":""},"",""]
[{"$f":"Asistencia!A57","v":50},{"$f":"Asistencia!B57","v":""},{"$f":"Asistencia!AJ57","v":""},{"$f":"Guias!AH57","v":""},{"$f":"Participación!AJ56","v":""},{"$f":"Tarea!Y57","v":""},{"$f":"IF(ExamenesParciales!Q57>0,ExamenesParciales!Q57,\"\")","v":""},{"$f":"IF(ExamenesParciales!R57>0,ExamenesParciales!R57,\"\")","v":""},{"$f":"IF(ExamenesParciales!S57>0,ExamenesParciales!S57,\"\")","v":""},{"$f":"IF(ExamenesParciales!T57>0,ExamenesParciales!T57,\"\")","v":""},{"$f":"Ensayo!AN57","v":""},{"$f":"IF(ExamenesParciales!O57>0,ExamenesParciales!O57,\"\")","v":""},"",""]
[{"$f":"Asistencia!A58","v":51},{"$f":"Asistencia!B58","v":""},{"$f":"Asistencia!AJ58","v":""},{"$f":"Guias!AH58","v":""},{"$f":"Participación!AJ57","v":""},{"$f":"Tarea!Y58","v":""},{"$f":"IF(ExamenesParciales!Q58>0,ExamenesParciales!Q58,\"\")","v":""},{"$f":"IF(ExamenesParciales!R58>0,ExamenesParciales!R58,\"\")","v":""},{"$f":"IF(ExamenesParciales!S58>0,ExamenesParciales!S58,\"\")","v":""},{"$f":"IF(ExamenesParciales!T58>0,ExamenesParciales!T58,\"\")","v":""},{"$f":"Ensayo!AN58","v":""},{"$f":"IF(ExamenesParciales!O58>0,ExamenesParciales!O58,\"\")","v":""},"",""]
[{"$f":"Asistencia!A59","v":52},{"$f":"Asistencia!B59","v":""},{"$f":"Asistencia!AJ59","v":""},{"$f":"Guias!AH59","v":""},{"$f":"Participación!AJ58","v":""},{"$f":"Tarea!Y59","v":""},{"$f":"IF(ExamenesParciales!Q59>0,ExamenesParciales!Q59,\"\")","v":""},{"$f":"IF(ExamenesParciales!R59>0,ExamenesParciales!R59,\"\")","v":""},{"$f":"IF(ExamenesParciales!S59>0,ExamenesParciales!S59,\"\")","v":""},{"$f":"IF(ExamenesParciales!T59>0,ExamenesParciales!T59,\"\")","v":""},{"$f":"Ensayo!AN59","v":""},{"$f":"IF(ExamenesParciales!O59>0,ExamenesParciales!O59,\"\")","v":""},"",""]
[{"$f":"Asistencia!A60","v":53},{"$f":"Asistencia!B60","v":""},{"$f":"Asistencia!AJ60","v":""},{"$f":"Guias!AH60","v":""},{"$f":"Participación!AJ59","v":""},{"$f":"Tarea!Y60","v":""},{"$f":"IF(ExamenesParciales!Q60>0,ExamenesParciales!Q60,\"\")","v":""},{"$f":"IF(ExamenesParciales!R60>0,ExamenesParciales!R60,\"\")","v":""},{"$f":"IF(ExamenesParciales!S60>0,ExamenesParciales!S60,\"\")","v":""},{"$f":"IF(ExamenesParciales!T60>0,ExamenesParciales!T60,\"\")","v":""},{"$f":"Ensayo!AN60","v":""},{"$f":"IF(ExamenesParciales!O60>0,ExamenesParciales!O60,\"\")","v":""},"","",null,{"$f":"COUNTIF(M8:M58,\"<6\")","v":0}]
[{"$f":"Asistencia!A61","v":54},{"$f":"Asistencia!B61","v":""},{"$f":"Asistencia!AJ61","v":""},{"$f":"Guias!AH61","v":""},{"$f":"Participación!AJ60","v":""},{"$f":"Tarea!Y61","v":""},{"$f":"IF(ExamenesParciales!Q61>0,ExamenesParciales!Q61,\"\")","v":""},{"$f":"IF(ExamenesParciales!R61>0,ExamenesParciales!R61,\"\")","v":""},{"$f":"IF(ExamenesParciales!S61>0,ExamenesParciales!S61,\"\")","v":""},{"$f":"IF(ExamenesParciales!T61>0,ExamenesParciales!T61,\"\")","v":""},{"$f":"Ensayo!AN61","v":""},{"$f":"IF(ExamenesParciales!O61>0,ExamenesParciales!O61,\"\")","v":""},"",""]
[{"$f":"Asistencia!A62","v":55},{"$f":"Asistencia!B62","v":""},{"$f":"Asistencia!AJ62","v":""},{"$f":"Guias!AH62","v":""},{"$f":"Participación!AJ61","v":""},{"$f":"Tarea!Y62","v":""},{"$f":"IF(ExamenesParciales!Q62>0,ExamenesParciales!Q62,\"\")","v":""},{"$f":"IF(ExamenesParciales!R62>0,ExamenesParciales!R62,\"\")","v":""},{"$f":"IF(ExamenesParciales!S62>0,ExamenesParciales!S62,\"\")","v":""},{"$f":"IF(ExamenesParciales!T62>0,ExamenesParciales!T62,\"\")","v":""},{"$f":"Ensayo!AN62","v":""},{"$f":"IF(ExamenesParciales!O62>0,ExamenesParciales!O62,\"\")","v":""},"",""]
[{"$f":"Asistencia!A63","v":56},{"$f":"Asistencia!B63","v":""},{"$f":"Asistencia!AJ63","v":""},{"$f":"Guias!AH63","v":""},{"$f":"Participación!AJ62","v":""},{"$f":"Tarea!Y63","v":""},{"$f":"IF(ExamenesParciales!Q63>0,ExamenesParciales!Q63,\"\")","v":""},{"$f":"IF(ExamenesParciales!R63>0,ExamenesParciales!R63,\"\")","v":""},{"$f":"IF(ExamenesParciales!S63>0,ExamenesParciales!S63,\"\")","v":""},{"$f":"IF(ExamenesParciales!T63>0,ExamenesParciales!T63,\"\")","v":""},{"$f":"Ensayo!AN63","v":""},{"$f":"IF(ExamenesParciales!O63>0,ExamenesParciales!O63,\"\")","v":""},"",""]
[{"$f":"Asistencia!A64","v":57},{"$f":"Asistencia!B64","v":""},{"$f":"Asistencia!AJ64","v":""},{"$f":"Guias!AH64","v":""},{"$f":"Participación!AJ63","v":""},{"$f":"Tarea!Y64","v":""},{"$f":"IF(ExamenesParciales!Q64>0,ExamenesParciales!Q64,\"\")","v":""},{"$f":"IF(ExamenesParciales!R64>0,ExamenesParciales!R64,\"\")","v":""},{"$f":"IF(ExamenesParciales!S64>0,ExamenesParciales!S64,\"\")","v":""},{"$f":"IF(ExamenesParciales!T64>0,ExamenesParciales!T64,\"\")","v":""},{"$f":"Ensayo!AN64","v":""},{"$f":"IF(ExamenesParciales!O64>0,ExamenesParciales!O64,\"\")","v":""},"",""]
[{"$f":"Asistencia!A65","v":58},{"$f":"Asistencia!B65","v":""},{"$f":"Asistencia!AJ65","v":""},{"$f":"Guias!AH65","v":""},{"$f":"Participación!AJ64","v":""},{"$f":"Tarea!Y65","v":""},{"$f":"IF(ExamenesParciales!Q65>0,ExamenesParciales!Q65,\"\")","v":""},{"$f":"IF(ExamenesParciales!R65>0,ExamenesParciales!R65,\"\")","v":""},{"$f":"IF(ExamenesParciales!S65>0,ExamenesParciales!S65,\"\")","v":""},{"$f":"IF(ExamenesParciales!T65>0,ExamenesParciales!T65,\"\")","v":""},{"$f":"Ensayo!AN65","v":""},{"$f":"IF(ExamenesParciales!O65>0,ExamenesParciales!O65,\"\")","v":""},"",""]
[{"$f":"Asistencia!A66","v":59},{"$f":"Asistencia!B66","v":""},{"$f":"Asistencia!AJ66","v":""},{"$f":"Guias!AH66","v":""},{"$f":"Participación!AJ65","v":""},{"$f":"Tarea!Y66","v":""},{"$f":"IF(ExamenesParciales!Q66>0,ExamenesParciales!Q66,\"\")","v":""},{"$f":"IF(ExamenesParciales!R66>0,ExamenesParciales!R66,\"\")","v":""},{"$f":"IF(ExamenesParciales!S66>0,ExamenesParciales!S66,\"\")","v":""},{"$f":"IF(ExamenesParciales!T66>0,ExamenesParciales!T66,\"\")","v":""},{"$f":"Ensayo!AN66","v":""},{"$f":"IF(ExamenesParciales!O66>0,ExamenesParciales!O66,\"\")","v":""},"",""]
[{"$f":"Asistencia!A67","v":60},{"$f":"Asistencia!B67","v":""},{"$f":"Asistencia!AJ67","v":""},{"$f":"Guias!AH67","v":""},{"$f":"Participación!AJ66","v":""},{"$f":"Tarea!Y67","v":""},{"$f":"IF(ExamenesParciales!Q67>0,ExamenesParciales!Q67,\"\")","v":""},{"$f":"IF(ExamenesParciales!R67>0,ExamenesParciales!R67,\"\")","v":""},{"$f":"IF(ExamenesParciales!S67>0,ExamenesParciales!S67,\"\")","v":""},{"$f":"IF(ExamenesParciales!T67>0,ExamenesParciales!T67,\"\")","v":""},{"$f":"Ensayo!AN67","v":""},{"$f":"IF(ExamenesParciales!O67>0,ExamenesParciales!O67,\"\")","v":""},"",""]

{"sheet":"Estadisticas","index":9,"n_rows":24,"n_cols":36,"rows_kept":24,"hidden":true,"merged":[[1,0,1,12],[2,0,2,12],[3,0,3,12],[5,17,5,19],[5,20,5,22],[5,23,5,25],[5,26,5,28],[5,29,5,31],[5,32,5,34]]}
[]
[{"$f":"TodaslasCalif!A2:N2","v":"FACULTAD   DE   ECONOMÍA"}]
[{"$f":"TodaslasCalif!A3:N3","v":"Nombre de asignatura"}]
[{"$f":"TodaslasCalif!A4:N4","v":"Nombre del profesor"}]
[{"$nulls":5},{"$f":"TodaslasCalif!A6","v":"SEMESTRE  Anotar el semestre lectivo              CLAVE  Anotar la clave de asignagtura              GRUPO  Insertar el grupo"}]
["ELEMENTO","PRIMER PARCIAL","%","SEGUNDO PARCIAL","%","TERCER PARCIAL","%","CUARTO PARCIAL","%","ENSAYO","%","FINAL","%",{"$nulls":3},"VARIABLE","PRIMER PARCIAL",null,null,"SEGUNDO PARCIAL",null,null,"TERCER PARCIAL",null,null,"CUARTO PARCIAL",null,null,"ENSAYO",null,null,"FINAL"]
["Total Alumnos",{"$f":"COUNTA(Directorio!C2:C61)","v":0},null,{"$f":"B7","v":0},null,{"$f":"B7","v":0},null,{"$f":"B7","v":0},null,{"$f":"B7","v":0},{"$f":"AE7","v":0},{"$f":"F7","v":0},{"$nulls":4},"Inscritos",{"$f":"B7","v":{"v":0,"d":"0.00"}},null,null,{"$f":"(COUNTA(ExamenesParciales!$B$8:$B$67))-(COUNT(ExamenesParciales!$B$8:$B$67))","v":{"v":60,"d":"60.00"}},null,null,{"$f":"(COUNTA(ExamenesParciales!$B$8:$B$67))-(COUNT(ExamenesParciales!$B$8:$B$67))","v":{"v":60,"d":"60.00"}},null,null,{"$f":"(COUNTA(ExamenesParciales!$B$8:$B$67))-(COUNT(ExamenesParciales!$B$8:$B$67))","v":{"v":60,"d":"60.00"}},null,null,{"$f":"(COUNTA(ExamenesParciales!$B$8:$B$67))-(COUNT(ExamenesParciales!$B$8:$B$67))","v":{"v":60,"d":"60.00"}},null,null,{"$f":"(COUNTA(ExamenesParciales!$B$8:$B$67))-(COUNT(ExamenesParciales!$B$8:$B$67))","v":{"v":60,"d":"60.00"}},null,null,{"$f":"Q7","v":"Inscritos"}]
["Alumnos en examen",{"$f":"COUNTA(ExamenesParciales!C8:C67)","v":0},{"$f":"B8/B7","v":{"$error":"#DIV/0!"}},{"$f":"COUNTA(ExamenesParciales!D8:D67)","v":0},{"$f":"D8/D7","v":{"$error":"#DIV/0!"}},{"$f":"COUNTA(ExamenesParciales!E8:E67)","v":0},{"$f":"F8/F7","v":{"$error":"#DIV/0!"}},{"$f":"COUNTA(ExamenesParciales!F8:F67)","v":0},{"$f":"H8/H7","v":{"$error":"#DIV/0!"}},{"$f":"COUNTIF(Ensayo!AM8:AM67,\">0\")","v":0},{"$f":"J8/J7","v":{"$error":"#DIV/0!"}},{"$f":"COUNTIF(ExamenesParciales!P8:P67,\">0\")","v":0},{"$f":"L8/L7","v":{"$error":"#DIV/0!"}},{"$nulls":3},"Presentó Examen",{"$f":"COUNTA(ExamenesParciales!C8:C67)","v":{"v":0,"d":"0.00"}},null,null,{"$f":"COUNTA(ExamenesParciales!D8:D67)","v":{"v":0,"d":"0.00"}},null,null,{"$f":"COUNTA(ExamenesParciales!E8:E67)","v":{"v":0,"d":"0.00"}},null,null,{"$f":"COUNTA(ExamenesParciales!F8:F67)","v":{"v":0,"d":"0.00"}},null,null,{"$f":"COUNTA(ExamenesParciales!J8:J67)","v":{"v":60,"d":"60.00"}},null,null,{"$f":"COUNTIF(CalifFinal!C8:C68,\">0.4\")","v":{"v":0,"d":"0.00"}},null,null,{"$f":"Q8","v":"Presentó Examen"}]
["NP",{"$f":"B7-B8","v":0},{"$f":"B9/$B$7","v":{"$error":"#DIV/0!"}},{"$f":"D7-D8","v":0},{"$f":"D9/$D$7","v":{"$error":"#DIV/0!"}},{"$f":"F7-F8","v":0},{"$f":"F9/$F$7","v":{"$error":"#DIV/0!"}},{"$f":"H7-H8","v":0},{"$f":"H9/$H$7","v":{"$error":"#DIV/0!"}},{"$f":"J7-J8","v":0},{"$f":"J9/$J$7","v":{"$error":"#DIV/0!"}},{"$f":"L7-L8","v":0},{"$f":"L9/$H$7","v":{"$error":"#DIV/0!"}},{"$nulls":3},"No Presentó",{"$f":"R7-R8","v":{"v":0,"d":"0.00"}},null,null,{"$f":"U7-U8","v":{"v":60,"d":"60.00"}},null,null,{"$f":"X7-X8","v":{"v":60,"d":"60.00"}},null,null,{"$f":"AA7-AA8","v":{"v":60,"d":"60.00"}},null,null,{"$f":"AD7-AD8","v":{"v":0,"d":"0.00"}},null,null,{"$f":"AG7-AG8","v":{"v":60,"d":"60.00"}},null,null,"No Presentó"]
[5,{"$f":"COUNTIF(ExamenesParciales!C8:C67,\"<6\")","v":0},{"$f":"B10/$B$8","v":{"$error":"#DIV/0!"}},{"$f":"COUNTIF(ExamenesParciales!D8:D67,\"<6\")","v":0},{"$f":"D10/$D$8","v":{"$error":"#DIV/0!"}},{"$f":"COUNTIF(ExamenesParciales!E8:E67,\"<6\")","v":0},{"$f":"F10/$F$8","v":{"$error":"#DIV/0!"}},{"$f":"COUNTIF(ExamenesParciales!F8:F67,\"<6\")","v":0},{"$f":"H10/$H$8","v":{"$error":"#DIV/0!"}},{"$f":"COUNTIF(Ensayo!AM8:AM67,\"<6\")","v":0},{"$f":"J10/$J$8","v":{"$error":"#DIV/0!"}},{"$f":"COUNTIF(ExamenesParciales!P8:P67,\"<6\")","v":0},{"$f":"L10/$L$8","v":{"$error":"#DIV/0!"}},{"$nulls":3},"No Acreditado",{"$f":"COUNTIF(ExamenesParciales!$C$8:$C$67,\"<6\")","v":{"v":0,"d":"0.00"}},null,null,{"$f":"COUNTIF(ExamenesParciales!$D$8:$D$67,\"<6\")","v":{"v":0,"d":"0.00"}},null,null,{"$f":"COUNTIF(ExamenesParciales!$E$8:$E$67,\"<6\")","v":{"v":0,"d":"0.00"}},null,null,{"$f":"COUNTIF(ExamenesParciales!$F$8:$F$67,\"<6\")","v":{"v":0,"d":"0.00"}},null,null,{"$f":"COUNTIF(ExamenesParciales!$J$8:$J$67,\"<6\")","v":{"v":0,"d":"0.00"}},null,null,{"$f":"AG8-AG11-AG12-AG13-AG14-AG15","v":{"v":0,"d":"0.00"}},null,null,"No Acreditado"]
[6,{"$f":"COUNTIF(ExamenesParciales!C8:C67,\"<6.5\")-B10","v":0},{"$error":"#DIV/0!"},{"$f":"COUNTIF(ExamenesParciales!D8:D67,\"<6.5\")-D10","v":0},{"$error":"#DIV/0!"},{"$f":"COUNTIF(ExamenesParciales!E8:E67,\"<6.5\")-F10","v":0},{"$error":"#DIV/0!"},{"$f":"COUNTIF(ExamenesParciales!F8:F67,\"<6.5\")-H10","v":0},{"$error":"#DIV/0!"},{"$f":"COUNTIF(Ensayo!AM8:AM67,\"<6.5\")-J10","v":0},{"$error":"#DIV/0!"},{"$f":"COUNTIF(ExamenesParciales!P8:P67,\"<6.5\")-L10","v":0},{"$error":"#DIV/0!"},{"$nulls":3},{"v":6,"d":"6.00"},{"$f":"S11-T11","v":{"v":0,"d":"0.00"}},{"$f":"COUNTIF(ExamenesParciales!$C$8:$C$67,\"<6.5\")","v":{"v":0,"d":"0.00"}},{"$f":"COUNTIF(ExamenesParciales!$C$8:$C$67,\"<5.99\")","v":{"v":0,"d":"0.00"}},{"$f":"V11-W11","v":{"v":0,"d":"0.00"}},{"$f":"COUNTIF(ExamenesParciales!$D$8:$D$67,\"<6.5\")","v":{"v":0,"d":"0.00"}},{"$f":"COUNTIF(ExamenesParciales!$D$8:$D$67,\"<5.99\")","v":{"v":0,"d":"0.00"}},{"$f":"Y11-Z11","v":{"v":0,"d":"0.00"}},{"$f":"COUNTIF(ExamenesParciales!$E$8:$E$67,\"<6.5\")","v":{"v":0,"d":"0.00"}},{"$f":"COUNTIF(ExamenesParciales!$E$8:$E$67,\"<5.99\")","v":{"v":0,"d":"0.00"}},{"$f":"AB11-AC11","v":{"v":0,"d":"0.00"}},{"$f":"COUNTIF(ExamenesParciales!$F$8:$F$67,\"<6.5\")","v":{"v":0,"d":"0.00"}},{"$f":"COUNTIF(ExamenesParciales!$F$8:$F$67,\"<5.99\")","v":{"v":0,"d":"0.00"}},{"$f":"AE11-AF11","v":{"v":0,"d":"0.00"}},{"$f":"COUNTIF(ExamenesParciales!$J$8:$J$67,\"<6.5\")","v":{"v":0,"d":"0.00"}},{"$f":"COUNTIF(ExamenesParciales!$J$8:$J$67,\"<5.99\")","v":{"v":0,"d":"0.00"}},{"$f":"AH11-AI11","v":{"v":0,"d":"0.00"}},{"$f":"COUNTIF(CalifFinal!$C$8:$C$68,\"<6.5\")","v":{"v":0,"d":"0.00"}},{"$f":"COUNTIF(CalifFinal!$C$8:$C$68,\"<5.99\")","v":{"v":0,"d":"0.00"}},{"v":6,"d":"6.00"}]
[7,{"$f":"COUNTIF(ExamenesParciales!C8:C67,\"<7.5\")-B11-B10","v":0},{"$error":"#DIV/0!"},{"$f":"COUNTIF(ExamenesParciales!D8:D67,\"<7.5\")-D11-D10","v":0},{"$error":"#DIV/0!"},{"$f":"COUNTIF(ExamenesParciales!E8:E67,\"<7.5\")-F11-F10","v":0},{"$error":"#DIV/0!"},{"$f":"COUNTIF(ExamenesParciales!F8:F67,\"<7.5\")-H11-H10","v":0},{"$error":"#DIV/0!"},{"$f":"COUNTIF(Ensayo!AM8:AM67,\"<7.5\")-J11-J10","v":0},{"$error":"#DIV/0!"},{"$f":"COUNTIF(ExamenesParciales!P8:P67,\"<7.5\")-L11-L10","v":0},{"$error":"#DIV/0!"},{"$nulls":3},{"v":7,"d":"7.00"},{"$f":"S12-T12","v":{"v":0,"d":"0.00"}},{"$f":"COUNTIF(ExamenesParciales!$C$8:$C$67,\"<7.5\")","v":{"v":0,"d":"0.00"}},{"$f":"COUNTIF(ExamenesParciales!$C$8:$C$67,\"<6.49\")","v":{"v":0,"d":"0.00"}},{"$f":"V12-W12","v":{"v":0,"d":"0.00"}},{"$f":"COUNTIF(ExamenesParciales!$D$8:$D$67,\"<7.5\")","v":{"v":0,"d":"0.00"}},{"$f":"COUNTIF(ExamenesParciales!$D$8:$D$67,\"<6.49\")","v":{"v":0,"d":"0.00"}},{"$f":"Y12-Z12","v":{"v":0,"d":"0.00"}},{"$f":"COUNTIF(ExamenesParciales!$E$8:$E$67,\"<7.5\")","v":{"v":0,"d":"0.00"}},{"$f":"COUNTIF(ExamenesParciales!$E$8:$E$67,\"<6.49\")","v":{"v":0,"d":"0.00"}},{"$f":"AB12-AC12","v":{"v":0,"d":"0.00"}},{"$f":"COUNTIF(ExamenesParciales!$F$8:$F$67,\"<7.5\")","v":{"v":0,"d":"0.00"}},{"$f":"COUNTIF(ExamenesParciales!$F$8:$F$67,\"<6.49\")","v":{"v":0,"d":"0.00"}},{"$f":"AE12-AF12","v":{"v":0,"d":"0.00"}},{"$f":"COUNTIF(ExamenesParciales!$J$8:$J$67,\"<7.5\")","v":{"v":0,"d":"0.00"}},{"$f":"COUNTIF(ExamenesParciales!$J$8:$J$67,\"<6.49\")","v":{"v":0,"d":"0.00"}},{"$f":"AH12-AI12","v":{"v":0,"d":"0.00"}},{"$f":"COUNTIF(CalifFinal!$C$8:$C$68,\"<7.5\")","v":{"v":0,"d":"0.00"}},{"$f":"COUNTIF(CalifFinal!$C$8:$C$68,\"<6.49\")","v":{"v":0,"d":"0.00"}},{"v":7,"d":"7.00"}]
[8,{"$f":"COUNTIF(ExamenesParciales!C8:C67,\"<8.5\")-B12-B11-B10","v":0},{"$error":"#DIV/0!"},{"$f":"COUNTIF(ExamenesParciales!D8:D67,\"<8.5\")-D12-D11-D10","v":0},{"$error":"#DIV/0!"},{"$f":"COUNTIF(ExamenesParciales!E8:E67,\"<8.5\")-F12-F11-F10","v":0},{"$error":"#DIV/0!"},{"$f":"COUNTIF(ExamenesParciales!F8:F67,\"<8.5\")-H12-H11-H10","v":0},{"$error":"#DIV/0!"},{"$f":"COUNTIF(Ensayo!AM8:AM67,\"<8.5\")-J12-J11-J10","v":0},{"$error":"#DIV/0!"},{"$f":"COUNTIF(ExamenesParciales!P8:P67,\"<8.5\")-L12-L11-L10","v":0},{"$error":"#DIV/0!"},{"$nulls":3},{"v":8,"d":"8.00"},{"$f":"S13-T13","v":{"v":0,"d":"0.00"}},{"$f":"COUNTIF(ExamenesParciales!$C$8:$C$67,\"<8.5\")","v":{"v":0,"d":"0.00"}},{"$f":"COUNTIF(ExamenesParciales!$C$8:$C$67,\"<7.49\")","v":{"v":0,"d":"0.00"}},{"$f":"V13-W13","v":{"v":0,"d":"0.00"}},{"$f":"COUNTIF(ExamenesParciales!$D$8:$D$67,\"<8.5\")","v":{"v":0,"d":"0.00"}},{"$f":"COUNTIF(ExamenesParciales!$D$8:$D$67,\"<7.49\")","v":{"v":0,"d":"0.00"}},{"$f":"Y13-Z13","v":{"v":0,"d":"0.00"}},{"$f":"COUNTIF(ExamenesParciales!$E$8:$E$67,\"<8.5\")","v":{"v":0,"d":"0.00"}},{"$f":"COUNTIF(ExamenesParciales!$E$8:$E$67,\"<7.49\")","v":{"v":0,"d":"0.00"}},{"$f":"AB13-AC13","v":{"v":0,"d":"0.00"}},{"$f":"COUNTIF(ExamenesParciales!$F$8:$F$67,\"<8.5\")","v":{"v":0,"d":"0.00"}},{"$f":"COUNTIF(ExamenesParciales!$F$8:$F$67,\"<7.49\")","v":{"v":0,"d":"0.00"}},{"$f":"AE13-AF13","v":{"v":0,"d":"0.00"}},{"$f":"COUNTIF(ExamenesParciales!$J$8:$J$67,\"<8.5\")","v":{"v":0,"d":"0.00"}},{"$f":"COUNTIF(ExamenesParciales!$J$8:$J$67,\"<7.49\")","v":{"v":0,"d":"0.00"}},{"$f":"AH13-AI13","v":{"v":0,"d":"0.00"}},{"$f":"COUNTIF(CalifFinal!$C$8:$C$68,\"<8.5\")","v":{"v":0,"d":"0.00"}},{"$f":"COUNTIF(CalifFinal!$C$8:$C$68,\"<7.49\")","v":{"v":0,"d":"0.00"}},{"v":8,"d":"8.00"}]
[9,{"$f":"COUNTIF(ExamenesParciales!C8:C67,\"<9.5\")-B13-B12-B11-B10","v":0},{"$error":"#DIV/0!"},{"$f":"COUNTIF(ExamenesParciales!D8:D67,\"<9.5\")-D13-D12-D11-D10","v":0},{"$error":"#DIV/0!"},{"$f":"COUNTIF(ExamenesParciales!E8:E67,\"<9.5\")-F13-F12-F11-F10","v":0},{"$error":"#DIV/0!"},{"$f":"COUNTIF(ExamenesParciales!F8:F67,\"<9.5\")-H13-H12-H11-H10","v":0},{"$error":"#DIV/0!"},{"$f":"COUNTIF(Ensayo!AM8:AM67,\"<9.5\")-J13-J12-J11-J10","v":0},{"$error":"#DIV/0!"},{"$f":"COUNTIF(ExamenesParciales!P8:P67,\"<9.5\")-L13-L12-L11-L10","v":0},{"$error":"#DIV/0!"},{"$nulls":3},{"v":9,"d":"9.00"},{"$f":"S14-T14","v":{"v":0,"d":"0.00"}},{"$f":"COUNTIF(ExamenesParciales!$C$8:$C$67,\"<9.5\")","v":{"v":0,"d":"0.00"}},{"$f":"COUNTIF(ExamenesParciales!$C$8:$C$67,\"<8.49\")","v":{"v":0,"d":"0.00"}},{"$f":"V14-W14","v":{"v":0,"d":"0.00"}},{"$f":"COUNTIF(ExamenesParciales!$D$8:$D$67,\"<9.5\")","v":{"v":0,"d":"0.00"}},{"$f":"COUNTIF(ExamenesParciales!$D$8:$D$67,\"<8.49\")","v":{"v":0,"d":"0.00"}},{"$f":"Y14-Z14","v":{"v":0,"d":"0.00"}},{"$f":"COUNTIF(ExamenesParciales!$E$8:$E$67,\"<9.5\")","v":{"v":0,"d":"0.00"}},{"$f":"COUNTIF(ExamenesParciales!$E$8:$E$67,\"<8.49\")","v":{"v":0,"d":"0.00"}},{"$f":"AB14-AC14","v":{"v":0,"d":"0.00"}},{"$f":"COUNTIF(ExamenesParciales!$F$8:$F$67,\"<9.5\")","v":{"v":0,"d":"0.00"}},{"$f":"COUNTIF(ExamenesParciales!$F$8:$F$67,\"<8.49\")","v":{"v":0,"d":"0.00"}},{"$f":"AE14-AF14","v":{"v":0,"d":"0.00"}},{"$f":"COUNTIF(ExamenesParciales!$J$8:$J$67,\"<9.5\")","v":{"v":0,"d":"0.00"}},{"$f":"COUNTIF(ExamenesParciales!$J$8:$J$67,\"<8.49\")","v":{"v":0,"d":"0.00"}},{"$f":"AH14-AI14","v":{"v":0,"d":"0.00"}},{"$f":"COUNTIF(CalifFinal!$C$8:$C$68,\"<9.5\")","v":{"v":0,"d":"0.00"}},{"$f":"COUNTIF(CalifFinal!$C$8:$C$68,\"<8.49\")","v":{"v":0,"d":"0.00"}},{"v":9,"d":"9.00"}]
[10,{"$f":"COUNTIF(ExamenesParciales!C8:C67,\"<15\")-B14-B13-B12-B11-B10","v":0},{"$error":"#DIV/0!"},{"$f":"COUNTIF(ExamenesParciales!D8:D67,\"<15\")-D14-D13-D12-D11-D10","v":0},{"$error":"#DIV/0!"},{"$f":"COUNTIF(ExamenesParciales!E8:E67,\"<15\")-F14-F13-F12-F11-F10","v":0},{"$error":"#DIV/0!"},{"$f":"COUNTIF(ExamenesParciales!F8:F67,\"<15\")-H14-H13-H12-H11-H10","v":0},{"$error":"#DIV/0!"},{"$f":"COUNTIF(Ensayo!AM8:AM67,\"<15\")-J14-J13-J12-J11-J10","v":0},{"$error":"#DIV/0!"},{"$f":"COUNTIF(ExamenesParciales!P8:P67,\"<15\")-L14-L13-L12-L11-L10","v":0},{"$error":"#DIV/0!"},{"$nulls":3},{"v":10,"d":"10.00"},{"$f":"COUNTIF(ExamenesParciales!$C$8:$C$67,\">9.49\")","v":{"v":0,"d":"0.00"}},null,null,{"$f":"COUNTIF(ExamenesParciales!$D$8:$D$67,\">9.49\")","v":{"v":0,"d":"0.00"}},null,null,{"$f":"COUNTIF(ExamenesParciales!$E$8:$E$67,\">9.49\")","v":{"v":0,"d":"0.00"}},null,null,{"$f":"COUNTIF(ExamenesParciales!$F$8:$F$67,\">9.49\")","v":{"v":0,"d":"0.00"}},null,null,{"$f":"COUNTIF(ExamenesParciales!$J$8:$J$67,\">9.49\")","v":{"v":0,"d":"0.00"}},null,null,{"$f":"COUNTIF(CalifFinal!$C$8:$C$68,\">9.49\")","v":{"v":0,"d":"0.00"}},null,null,{"v":10,"d":"10.00"}]
["Máximo",{"$f":"MAX(ExamenesParciales!$C$8:$C$67)","v":{"v":0,"d":"0.0"}},null,{"$f":"MAX(ExamenesParciales!$D$8:$D$67)","v":{"v":0,"d":"0.0"}},null,{"$f":"MAX(ExamenesParciales!$E$8:$E$67)","v":{"v":0,"d":"0.0"}},null,{"$f":"MAX(ExamenesParciales!$F$8:$F$67)","v":{"v":0,"d":"0.0"}},null,{"$f":"MAX(Ensayo!AM8:AM67)","v":{"v":0,"d":"0.0"}},null,{"$f":"MAX(ExamenesParciales!P8:P$67)","v":{"v":0,"d":"0.0"}}]
["Mínimo",{"$f":"MIN(ExamenesParciales!$C$8:$C$67)","v":{"v":0,"d":"0.0"}},null,{"$f":"MIN(ExamenesParciales!$D$8:$D$67)","v":{"v":0,"d":"0.0"}},null,{"$f":"MIN(ExamenesParciales!$E$8:$E$67)","v":{"v":0,"d":"0.0"}},null,{"$f":"MIN(ExamenesParciales!$F$8:$F$67)","v":{"v":0,"d":"0.0"}},null,{"$f":"MIN(Ensayo!AM8:AM67)","v":{"v":0,"d":"0.0"}},null,{"$f":"MIN(ExamenesParciales!P8:P$67)","v":{"v":0,"d":"0.0"}}]
["Promedio",{"$f":"AVERAGE(ExamenesParciales!$C$8:$C$67)","v":{"$error":"#DIV/0!"}},null,{"$f":"AVERAGE(ExamenesParciales!$D$8:$D$67)","v":{"$error":"#DIV/0!"}},null,{"$f":"AVERAGE(ExamenesParciales!$E$8:$E$67)","v":{"$error":"#DIV/0!"}},null,{"$f":"AVERAGE(ExamenesParciales!$F$8:$F$67)","v":{"$error":"#DIV/0!"}},null,{"$f":"MIN(Ensayo!AM8:AM67)","v":{"v":0,"d":"0.0"}},null,{"$f":"AVERAGE(ExamenesParciales!P8:P$67)","v":{"$error":"#DIV/0!"}}]
["Moda",{"$f":"MODE(ExamenesParciales!$C$8:$C$67)","v":{"$error":"#N/A"}},null,{"$f":"MODE(ExamenesParciales!$D$8:$D$67)","v":{"$error":"#N/A"}},null,{"$f":"MODE(ExamenesParciales!$E$8:$E$67)","v":{"$error":"#N/A"}},null,{"$f":"MODE(ExamenesParciales!$F$8:$F$67)","v":{"$error":"#N/A"}},null,{"$f":"MODE(Ensayo!AM8:AM67)","v":{"$error":"#N/A"}},null,{"$f":"MODE(ExamenesParciales!P8:P$67)","v":{"$error":"#N/A"}}]
["Mediana",{"$f":"MEDIAN(ExamenesParciales!$C$8:$C$67)","v":{"$error":"#NUM!"}},null,{"$f":"MEDIAN(ExamenesParciales!$D$8:$D$67)","v":{"$error":"#NUM!"}},null,{"$f":"MEDIAN(ExamenesParciales!$E$8:$E$67)","v":{"$error":"#NUM!"}},null,{"$f":"MEDIAN(ExamenesParciales!$F$8:$F$67)","v":{"$error":"#NUM!"}},null,{"$f":"MEDIAN(Ensayo!AM8:AM67)","v":{"$error":"#NUM!"}},null,{"$f":"MEDIAN(ExamenesParciales!P8:P$67)","v":{"$error":"#NUM!"}}]
["Desviación",{"$f":"STDEV(ExamenesParciales!$C$8:$C$67)","v":{"$error":"#DIV/0!"}},null,{"$f":"STDEV(ExamenesParciales!$D$8:$D$67)","v":{"$error":"#DIV/0!"}},null,{"$f":"STDEV(ExamenesParciales!$E$8:$E$67)","v":{"$error":"#DIV/0!"}},null,{"$f":"STDEV(ExamenesParciales!$F$8:$F$67)","v":{"$error":"#DIV/0!"}},null,{"$f":"STDEV(Ensayo!AM8:AM67)","v":{"$error":"#DIV/0!"}},null,{"$f":"STDEV(ExamenesParciales!P8:P$67)","v":{"$error":"#DIV/0!"}}]
["Varianza",{"$f":"VAR(ExamenesParciales!$C$8:$C$67)","v":{"$error":"#DIV/0!"}},null,{"$f":"VAR(ExamenesParciales!$D$8:$D$67)","v":{"$error":"#DIV/0!"}},null,{"$f":"VAR(ExamenesParciales!$E$8:$E$67)","v":{"$error":"#DIV/0!"}},null,{"$f":"VAR(ExamenesParciales!$F$8:$F$67)","v":{"$error":"#DIV/0!"}},null,{"$f":"VAR(Ensayo!AM8:AM67)","v":{"$error":"#DIV/0!"}},null,{"$f":"VAR(ExamenesParciales!P8:P$67)","v":{"$error":"#DIV/0!"}}]
["Curtosois",{"$f":"KURT(ExamenesParciales!$C$8:$C$67)","v":{"$error":"#DIV/0!"}},null,{"$f":"KURT(ExamenesParciales!$D$8:$D$67)","v":{"$error":"#DIV/0!"}},null,{"$f":"KURT(ExamenesParciales!$E$8:$E$67)","v":{"$error":"#DIV/0!"}},null,{"$f":"KURT(ExamenesParciales!$F$8:$F$67)","v":{"$error":"#DIV/0!"}},null,{"$f":"KURT(Ensayo!AM8:AM67)","v":{"$error":"#DIV/0!"}},null,{"$f":"KURT(ExamenesParciales!P8:P$67)","v":{"$error":"#DIV/0!"}}]
["Asimetría",{"$f":"SKEW(ExamenesParciales!$C$8:$C$67)","v":{"$error":"#DIV/0!"}},null,{"$f":"SKEW(ExamenesParciales!$D$8:$D$67)","v":{"$error":"#DIV/0!"}},null,{"$f":"SKEW(ExamenesParciales!$E$8:$E$67)","v":{"$error":"#DIV/0!"}},null,{"$f":"SKEW(ExamenesParciales!$F$8:$F$67)","v":{"$error":"#DIV/0!"}},null,{"$f":"SKEW(Ensayo!AM8:AM67)","v":{"$error":"#DIV/0!"}},null,{"$f":"SKEW(ExamenesParciales!P8:P$67)","v":{"$error":"#DIV/0!"}}]

{"sheet":"correl","index":16,"n_rows":62,"n_cols":18,"rows_kept":62,"hidden":true}
[null,null,"examen","examen","examen","examen","ensayo","Guías","Guías","Guías","Guías","Asistencia","Asistencia","Asistencia","Asistencia","Final","Final","Final"]
[{"$f":"ExamenesParciales!A7","v":"#"},{"$f":"ExamenesParciales!B7","v":"NOMBRE"},{"$f":"ExamenesParciales!C7","v":"1º PARCIAL"},{"$f":"ExamenesParciales!D7","v":"2º PARCIAL"},{"$f":"ExamenesParciales!E7","v":"3º PARCIAL"},{"$f":"ExamenesParciales!F7","v":"4º PARCIAL"},{"$f":"ExamenesParciales!J7","v":"ENSAYO"},"GUÍAS 1","GUÍAS 2","GUÍAS 3","GUÍAS 4","ASIST 1","ASIST 2","ASIST 3","ASIST 4","CALIF. FINAL","GUÍAS","ASISTENCIA"]
[{"$f":"ExamenesParciales!A8","v":1},{"$f":"ExamenesParciales!B8","v":""},{"$f":"IF(ExamenesParciales!C8>0,ExamenesParciales!C8,\"\")","v":""},null,null,{"$f":"IF(ExamenesParciales!F8>0,ExamenesParciales!F8,\"\")","v":""},{"$f":"IF(ExamenesParciales!J8>0,ExamenesParciales!J8,\"\")","v":""},{"$f":"IF((SUM(Guias!C8:E8))>0,(SUM(Guias!C8:F8)),0)","v":0},{"$f":"IF((SUM(Guias!G8:I8))>0,(SUM(Guias!G8:I8)),\"\")","v":""},null,{"$f":"IF((SUM(Guias!Y8:AF8))>0,(SUM(Guias!Y8:AF8)),\"\")","v":""},{"$f":"IF((SUM(Asistencia!C8:N8))>0,(SUM(Asistencia!C8:N8)),\"\")","v":""},{"$f":"IF((SUM(Asistencia!N8:X8))>0,(SUM(Asistencia!N8:X8)),\"\")","v":""},{"$f":"IF((SUM(Asistencia!Y8:AH8))>0,(SUM(Asistencia!Y8:AH8)),\"\")","v":""},{"$f":"IF((SUM(Asistencia!BI8:BI8))>0,(SUM(Asistencia!BI8:BI8)),\"\")","v":""},{"$f":"IF((TodaslasCalif!N8)>0,(TodaslasCalif!N8),\"\")","v":""},{"$f":"IF((TodaslasCalif!D8)>0,(TodaslasCalif!D8),\"\")","v":""},{"$f":"IF((TodaslasCalif!C8)>0,(TodaslasCalif!C8),\"\")","v":""}]
[{"$f":"ExamenesParciales!A9","v":2},{"$f":"ExamenesParciales!B9","v":""},{"$f":"IF(ExamenesParciales!C9>0,ExamenesParciales!C9,\"\")","v":""},{"$f":"IF(ExamenesParciales!D9>0,ExamenesParciales!D9,\"\")","v":""},{"$f":"IF(ExamenesParciales!E9>0,ExamenesParciales!E9,\"\")","v":""},{"$f":"IF(ExamenesParciales!F9>0,ExamenesParciales!F9,\"\")","v":""},{"$f":"IF(ExamenesParciales!J9>0,ExamenesParciales!J9,\"\")","v":""},{"$f":"IF((SUM(Guias!C9:E9))>0,(SUM(Guias!C9:F9)),0)","v":0},{"$f":"IF((SUM(Guias!G9:I9))>0,(SUM(Guias!G9:I9)),\"\")","v":""},{"$f":"IF((SUM(Guias!J9:N9))>0,(SUM(Guias!J9:N9)),\"\")","v":""},{"$f":"IF((SUM(Guias!Y9:AF9))>0,(SUM(Guias!Y9:AF9)),\"\")","v":""},{"$f":"IF((SUM(Asistencia!C9:N9))>0,(SUM(Asistencia!C9:N9)),\"\")","v":""},{"$f":"IF((SUM(Asistencia!N9:X9))>0,(SUM(Asistencia!N9:X9)),\"\")","v":""},{"$f":"IF((SUM(Asistencia!Y9:AH9))>0,(SUM(Asistencia!Y9:AH9)),\"\")","v":""},{"$f":"IF((SUM(Asistencia!BI9:BI9))>0,(SUM(Asistencia!BI9:BI9)),\"\")","v":""},{"$f":"IF((TodaslasCalif!N9)>0,(TodaslasCalif!N9),\"\")","v":""},{"$f":"IF((TodaslasCalif!D9)>0,(TodaslasCalif!D9),\"\")","v":""},{"$f":"IF((TodaslasCalif!C9)>0,(TodaslasCalif!C9),\"\")","v":""}]
[{"$f":"ExamenesParciales!A10","v":3},{"$f":"ExamenesParciales!B10","v":""},{"$f":"IF(ExamenesParciales!C10>0,ExamenesParciales!C10,\"\")","v":""},{"$f":"IF(ExamenesParciales!D10>0,ExamenesParciales!D10,\"\")","v":""},{"$f":"IF(ExamenesParciales!E10>0,ExamenesParciales!E10,\"\")","v":""},{"$f":"IF(ExamenesParciales!F10>0,ExamenesParciales!F10,\"\")","v":""},{"$f":"IF(ExamenesParciales!J10>0,ExamenesParciales!J10,\"\")","v":""},{"$f":"IF((SUM(Guias!C10:E10))>0,(SUM(Guias!C10:F10)),0)","v":0},{"$f":"IF((SUM(Guias!G10:I10))>0,(SUM(Guias!G10:I10)),\"\")","v":""},{"$f":"IF((SUM(Guias!J10:N10))>0,(SUM(Guias!J10:N10)),\"\")","v":""},{"$f":"IF((SUM(Guias!Y10:AF10))>0,(SUM(Guias!Y10:AF10)),\"\")","v":""},{"$f":"IF((SUM(Asistencia!C10:N10))>0,(SUM(Asistencia!C10:N10)),\"\")","v":""},{"$f":"IF((SUM(Asistencia!N10:X10))>0,(SUM(Asistencia!N10:X10)),\"\")","v":""},{"$f":"IF((SUM(Asistencia!Y10:AH10))>0,(SUM(Asistencia!Y10:AH10)),\"\")","v":""},{"$f":"IF((SUM(Asistencia!BI10:BI10))>0,(SUM(Asistencia!BI10:BI10)),\"\")","v":""},{"$f":"IF((TodaslasCalif!N10)>0,(TodaslasCalif!N10),\"\")","v":""},{"$f":"IF((TodaslasCalif!D10)>0,(TodaslasCalif!D10),\"\")","v":""},{"$f":"IF((TodaslasCalif!C10)>0,(TodaslasCalif!C10),\"\")","v":""}]
[{"$f":"ExamenesParciales!A11","v":4},{"$f":"ExamenesParciales!B11","v":""},{"$f":"IF(ExamenesParciales!C11>0,ExamenesParciales!C11,\"\")","v":""},{"$f":"IF(ExamenesParciales!D11>0,ExamenesParciales!D11,\"\")","v":""},null,{"$f":"IF(ExamenesParciales!F11>0,ExamenesParciales!F11,\"\")","v":""},{"$f":"IF(ExamenesParciales!J11>0,ExamenesParciales!J11,\"\")","v":""},{"$f":"IF((SUM(Guias!C11:E11))>0,(SUM(Guias!C11:F11)),0)","v":0},{"$f":"IF((SUM(Guias!G11:I11))>0,(SUM(Guias!G11:I11)),\"\")","v":""},null,{"$f":"IF((SUM(Guias!Y11:AF11))>0,(SUM(Guias!Y11:AF11)),\"\")","v":""},{"$f":"IF((SUM(Asistencia!C11:N11))>0,(SUM(Asistencia!C11:N11)),\"\")","v":""},{"$f":"IF((SUM(Asistencia!N11:X11))>0,(SUM(Asistencia!N11:X11)),\"\")","v":""},{"$f":"IF((SUM(Asistencia!Y11:AH11))>0,(SUM(Asistencia!Y11:AH11)),\"\")","v":""},{"$f":"IF((SUM(Asistencia!BI11:BI11))>0,(SUM(Asistencia!BI11:BI11)),\"\")","v":""},{"$f":"IF((TodaslasCalif!N11)>0,(TodaslasCalif!N11),\"\")","v":""},{"$f":"IF((TodaslasCalif!D11)>0,(TodaslasCalif!D11),\"\")","v":""},{"$f":"IF((TodaslasCalif!C11)>0,(TodaslasCalif!C11),\"\")","v":""}]
[{"$f":"ExamenesParciales!A12","v":5},{"$f":"ExamenesParciales!B12","v":""},{"$f":"IF(ExamenesParciales!C12>0,ExamenesParciales!C12,\"\")","v":""},{"$f":"IF(ExamenesParciales!D12>0,ExamenesParciales!D12,\"\")","v":""},{"$f":"IF(ExamenesParciales!E12>0,ExamenesParciales!E12,\"\")","v":""},{"$f":"IF(ExamenesParciales!F12>0,ExamenesParciales!F12,\"\")","v":""},{"$f":"IF(ExamenesParciales!J12>0,ExamenesParciales!J12,\"\")","v":""},{"$f":"IF((SUM(Guias!C12:E12))>0,(SUM(Guias!C12:F12)),0)","v":0},{"$f":"IF((SUM(Guias!G12:I12))>0,(SUM(Guias!G12:I12)),\"\")","v":""},null,{"$f":"IF((SUM(Guias!Y12:AF12))>0,(SUM(Guias!Y12:AF12)),\"\")","v":""},{"$f":"IF((SUM(Asistencia!C12:N12))>0,(SUM(Asistencia!C12:N12)),\"\")","v":""},{"$f":"IF((SUM(Asistencia!N12:X12))>0,(SUM(Asistencia!N12:X12)),\"\")","v":""},{"$f":"IF((SUM(Asistencia!Y12:AH12))>0,(SUM(Asistencia!Y12:AH12)),\"\")","v":""},{"$f":"IF((SUM(Asistencia!BI12:BI12))>0,(SUM(Asistencia!BI12:BI12)),\"\")","v":""},{"$f":"IF((TodaslasCalif!N12)>0,(TodaslasCalif!N12),\"\")","v":""},{"$f":"IF((TodaslasCalif!D12)>0,(TodaslasCalif!D12),\"\")","v":""},{"$f":"IF((TodaslasCalif!C12)>0,(TodaslasCalif!C12),\"\")","v":""}]
[{"$f":"ExamenesParciales!A13","v":6},{"$f":"ExamenesParciales!B13","v":""},{"$nulls":3},{"$f":"IF(ExamenesParciales!F13>0,ExamenesParciales!F13,\"\")","v":""},{"$f":"IF(ExamenesParciales!J13>0,ExamenesParciales!J13,\"\")","v":""},null,{"$f":"IF((SUM(Guias!G13:I13))>0,(SUM(Guias!G13:I13)),\"\")","v":""},null,{"$f":"IF((SUM(Guias!Y13:AF13))>0,(SUM(Guias!Y13:AF13)),\"\")","v":""},null,{"$f":"IF((SUM(Asistencia!N13:X13))>0,(SUM(Asistencia!N13:X13)),\"\")","v":""},{"$f":"IF((SUM(Asistencia!Y13:AH13))>0,(SUM(Asistencia!Y13:AH13)),\"\")","v":""},{"$f":"IF((SUM(Asistencia!BI13:BI13))>0,(SUM(Asistencia!BI13:BI13)),\"\")","v":""},{"$f":"IF((TodaslasCalif!N13)>0,(TodaslasCalif!N13),\"\")","v":""},{"$f":"IF((TodaslasCalif!D13)>0,(TodaslasCalif!D13),\"\")","v":""},{"$f":"IF((TodaslasCalif!C13)>0,(TodaslasCalif!C13),\"\")","v":""}]
[{"$f":"ExamenesParciales!A14","v":7},{"$f":"ExamenesParciales!B14","v":""},{"$nulls":3},{"$f":"IF(ExamenesParciales!F14>0,ExamenesParciales!F14,\"\")","v":""},{"$f":"IF(ExamenesParciales!J14>0,ExamenesParciales!J14,\"\")","v":""},null,{"$f":"IF((SUM(Guias!G14:I14))>0,(SUM(Guias!G14:I14)),\"\")","v":""},null,{"$f":"IF((SUM(Guias!Y14:AF14))>0,(SUM(Guias!Y14:AF14)),\"\")","v":""},null,{"$f":"IF((SUM(Asistencia!N14:X14))>0,(SUM(Asistencia!N14:X14)),\"\")","v":""},{"$f":"IF((SUM(Asistencia!Y14:AH14))>0,(SUM(Asistencia!Y14:AH14)),\"\")","v":""},{"$f":"IF((SUM(Asistencia!BI14:BI14))>0,(SUM(Asistencia!BI14:BI14)),\"\")","v":""},{"$f":"IF((TodaslasCalif!N14)>0,(TodaslasCalif!N14),\"\")","v":""},{"$f":"IF((TodaslasCalif!D14)>0,(TodaslasCalif!D14),\"\")","v":""},{"$f":"IF((TodaslasCalif!C14)>0,(TodaslasCalif!C14),\"\")","v":""}]
[{"$f":"ExamenesParciales!A15","v":8},{"$f":"ExamenesParciales!B15","v":""},{"$f":"IF(ExamenesParciales!C15>0,ExamenesParciales!C15,\"\")","v":""},{"$f":"IF(ExamenesParciales!D15>0,ExamenesParciales!D15,\"\")","v":""},{"$f":"IF(ExamenesParciales!E15>0,ExamenesParciales!E15,\"\")","v":""},{"$f":"IF(ExamenesParciales!F15>0,ExamenesParciales!F15,\"\")","v":""},{"$f":"IF(ExamenesParciales!J15>0,ExamenesParciales!J15,\"\")","v":""},{"$f":"IF((SUM(Guias!C15:E15))>0,(SUM(Guias!C15:F15)),0)","v":0},{"$f":"IF((SUM(Guias!G15:I15))>0,(SUM(Guias!G15:I15)),\"\")","v":""},{"$f":"IF((SUM(Guias!J15:N15))>0,(SUM(Guias!J15:N15)),\"\")","v":""},{"$f":"IF((SUM(Guias!Y15:AF15))>0,(SUM(Guias!Y15:AF15)),\"\")","v":""},{"$f":"IF((SUM(Asistencia!C15:N15))>0,(SUM(Asistencia!C15:N15)),\"\")","v":""},{"$f":"IF((SUM(Asistencia!N15:X15))>0,(SUM(Asistencia!N15:X15)),\"\")","v":""},{"$f":"IF((SUM(Asistencia!Y15:AH15))>0,(SUM(Asistencia!Y15:AH15)),\"\")","v":""},{"$f":"IF((SUM(Asistencia!BI15:BI15))>0,(SUM(Asistencia!BI15:BI15)),\"\")","v":""},{"$f":"IF((TodaslasCalif!N15)>0,(TodaslasCalif!N15),\"\")","v":""},{"$f":"IF((TodaslasCalif!D15)>0,(TodaslasCalif!D15),\"\")","v":""},{"$f":"IF((TodaslasCalif!C15)>0,(TodaslasCalif!C15),\"\")","v":""}]
[{"$f":"ExamenesParciales!A16","v":9},{"$f":"ExamenesParciales!B16","v":""},null,{"$f":"IF(ExamenesParciales!D16>0,ExamenesParciales!D16,\"\")","v":""},null,{"$f":"IF(ExamenesParciales!F16>0,ExamenesParciales!F16,\"\")","v":""},{"$f":"IF(ExamenesParciales!J16>0,ExamenesParciales!J16,\"\")","v":""},null,{"$f":"IF((SUM(Guias!G16:I16))>0,(SUM(Guias!G16:I16)),\"\")","v":""},null,{"$f":"IF((SUM(Guias!Y16:AF16))>0,(SUM(Guias!Y16:AF16)),\"\")","v":""},null,{"$f":"IF((SUM(Asistencia!N16:X16))>0,(SUM(Asistencia!N16:X16)),\"\")","v":""},{"$f":"IF((SUM(Asistencia!Y16:AH16))>0,(SUM(Asistencia!Y16:AH16)),\"\")","v":""},{"$f":"IF((SUM(Asistencia!BI16:BI16))>0,(SUM(Asistencia!BI16:BI16)),\"\")","v":""},{"$f":"IF((TodaslasCalif!N16)>0,(TodaslasCalif!N16),\"\")","v":""},{"$f":"IF((TodaslasCalif!D16)>0,(TodaslasCalif!D16),\"\")","v":""},{"$f":"IF((TodaslasCalif!C16)>0,(TodaslasCalif!C16),\"\")","v":""}]
[{"$f":"ExamenesParciales!A17","v":10},{"$f":"ExamenesParciales!B17","v":""},{"$f":"IF(ExamenesParciales!C17>0,ExamenesParciales!C17,\"\")","v":""},{"$f":"IF(ExamenesParciales!D17>0,ExamenesParciales!D17,\"\")","v":""},{"$f":"IF(ExamenesParciales!E17>0,ExamenesParciales!E17,\"\")","v":""},{"$f":"IF(ExamenesParciales!F17>0,ExamenesParciales!F17,\"\")","v":""},{"$f":"IF(ExamenesParciales!J17>0,ExamenesParciales!J17,\"\")","v":""},{"$f":"IF((SUM(Guias!C17:E17))>0,(SUM(Guias!C17:F17)),0)","v":0},{"$f":"IF((SUM(Guias!G17:I17))>0,(SUM(Guias!G17:I17)),\"\")","v":""},{"$f":"IF((SUM(Guias!J17:N17))>0,(SUM(Guias!J17:N17)),\"\")","v":""},{"$f":"IF((SUM(Guias!Y17:AF17))>0,(SUM(Guias!Y17:AF17)),\"\")","v":""},{"$f":"IF((SUM(Asistencia!C17:N17))>0,(SUM(Asistencia!C17:N17)),\"\")","v":""},{"$f":"IF((SUM(Asistencia!N17:X17))>0,(SUM(Asistencia!N17:X17)),\"\")","v":""},{"$f":"IF((SUM(Asistencia!Y17:AH17))>0,(SUM(Asistencia!Y17:AH17)),\"\")","v":""},{"$f":"IF((SUM(Asistencia!BI17:BI17))>0,(SUM(Asistencia!BI17:BI17)),\"\")","v":""},{"$f":"IF((TodaslasCalif!N17)>0,(TodaslasCalif!N17),\"\")","v":""},{"$f":"IF((TodaslasCalif!D17)>0,(TodaslasCalif!D17),\"\")","v":""},{"$f":"IF((TodaslasCalif!C17)>0,(TodaslasCalif!C17),\"\")","v":""}]
[{"$f":"ExamenesParciales!A18","v":11},{"$f":"ExamenesParciales!B18","v":""},{"$nulls":3},{"$f":"IF(ExamenesParciales!F18>0,ExamenesParciales!F18,\"\")","v":""},{"$f":"IF(ExamenesParciales!J18>0,ExamenesParciales!J18,\"\")","v":""},null,{"$f":"IF((SUM(Guias!G18:I18))>0,(SUM(Guias!G18:I18)),\"\")","v":""},null,{"$f":"IF((SUM(Guias!Y18:AF18))>0,(SUM(Guias!Y18:AF18)),\"\")","v":""},null,{"$f":"IF((SUM(Asistencia!N18:X18))>0,(SUM(Asistencia!N18:X18)),\"\")","v":""},{"$f":"IF((SUM(Asistencia!Y18:AH18))>0,(SUM(Asistencia!Y18:AH18)),\"\")","v":""},{"$f":"IF((SUM(Asistencia!BI18:BI18))>0,(SUM(Asistencia!BI18:BI18)),\"\")","v":""},{"$f":"IF((TodaslasCalif!N18)>0,(TodaslasCalif!N18),\"\")","v":""},{"$f":"IF((TodaslasCalif!D18)>0,(TodaslasCalif!D18),\"\")","v":""},{"$f":"IF((TodaslasCalif!C18)>0,(TodaslasCalif!C18),\"\")","v":""}]
[{"$f":"ExamenesParciales!A19","v":12},{"$f":"ExamenesParciales!B19","v":""},{"$f":"IF(ExamenesParciales!C19>0,ExamenesParciales!C19,\"\")","v":""},{"$f":"IF(ExamenesParciales!D19>0,ExamenesParciales!D19,\"\")","v":""},null,{"$f":"IF(ExamenesParciales!F19>0,ExamenesParciales!F19,\"\")","v":""},{"$f":"IF(ExamenesParciales!J19>0,ExamenesParciales!J19,\"\")","v":""},{"$f":"IF((SUM(Guias!C19:E19))>0,(SUM(Guias!C19:F19)),0)","v":0},{"$f":"IF((SUM(Guias!G19:I19))>0,(SUM(Guias!G19:I19)),\"\")","v":""},null,{"$f":"IF((SUM(Guias!Y19:AF19))>0,(SUM(Guias!Y19:AF19)),\"\")","v":""},{"$f":"IF((SUM(Asistencia!C19:N19))>0,(SUM(Asistencia!C19:N19)),\"\")","v":""},{"$f":"IF((SUM(Asistencia!N19:X19))>0,(SUM(Asistencia!N19:X19)),\"\")","v":""},{"$f":"IF((SUM(Asistencia!Y19:AH19))>0,(SUM(Asistencia!Y19:AH19)),\"\")","v":""},{"$f":"IF((SUM(Asistencia!BI19:BI19))>0,(SUM(Asistencia!BI19:BI19)),\"\")","v":""},{"$f":"IF((TodaslasCalif!N19)>0,(TodaslasCalif!N19),\"\")","v":""},{"$f":"IF((TodaslasCalif!D19)>0,(TodaslasCalif!D19),\"\")","v":""},{"$f":"IF((TodaslasCalif!C19)>0,(TodaslasCalif!C19),\"\")","v":""}]
[{"$f":"ExamenesParciales!A20","v":13},{"$f":"ExamenesParciales!B20","v":""},null,{"$f":"IF(ExamenesParciales!D20>0,ExamenesParciales!D20,\"\")","v":""},{"$f":"IF(ExamenesParciales!E20>0,ExamenesParciales!E20,\"\")","v":""},{"$f":"IF(ExamenesParciales!F20>0,ExamenesParciales!F20,\"\")","v":""},{"$f":"IF(ExamenesParciales!J20>0,ExamenesParciales!J20,\"\")","v":""},null,{"$f":"IF((SUM(Guias!G20:I20))>0,(SUM(Guias!G20:I20)),\"\")","v":""},{"$f":"IF((SUM(Guias!J20:N20))>0,(SUM(Guias!J20:N20)),\"\")","v":""},{"$f":"IF((SUM(Guias!Y20:AF20))>0,(SUM(Guias!Y20:AF20)),\"\")","v":""},null,{"$f":"IF((SUM(Asistencia!N20:X20))>0,(SUM(Asistencia!N20:X20)),\"\")","v":""},{"$f":"IF((SUM(Asistencia!Y20:AH20))>0,(SUM(Asistencia!Y20:AH20)),\"\")","v":""},{"$f":"IF((SUM(Asistencia!BI20:BI20))>0,(SUM(Asistencia!BI20:BI20)),\"\")","v":""},{"$f":"IF((TodaslasCalif!N20)>0,(TodaslasCalif!N20),\"\")","v":""},{"$f":"IF((TodaslasCalif!D20)>0,(TodaslasCalif!D20),\"\")","v":""},{"$f":"IF((TodaslasCalif!C20)>0,(TodaslasCalif!C20),\"\")","v":""}]
[{"$f":"ExamenesParciales!A21","v":14},{"$f":"ExamenesParciales!B21","v":""},{"$f":"IF(ExamenesParciales!C21>0,ExamenesParciales!C21,\"\")","v":""},{"$f":"IF(ExamenesParciales!D21>0,ExamenesParciales!D21,\"\")","v":""},{"$f":"IF(ExamenesParciales!E21>0,ExamenesParciales!E21,\"\")","v":""},{"$f":"IF(ExamenesParciales!F21>0,ExamenesParciales!F21,\"\")","v":""},{"$f":"IF(ExamenesParciales!J21>0,ExamenesParciales!J21,\"\")","v":""},{"$f":"IF((SUM(Guias!C21:E21))>0,(SUM(Guias!C21:F21)),0)","v":0},{"$f":"IF((SUM(Guias!G21:I21))>0,(SUM(Guias!G21:I21)),\"\")","v":""},null,{"$f":"IF((SUM(Guias!Y21:AF21))>0,(SUM(Guias!Y21:AF21)),\"\")","v":""},{"$f":"IF((SUM(Asistencia!C21:N21))>0,(SUM(Asistencia!C21:N21)),\"\")","v":""},{"$f":"IF((SUM(Asistencia!N21:X21))>0,(SUM(Asistencia!N21:X21)),\"\")","v":""},{"$f":"IF((SUM(Asistencia!Y21:AH21))>0,(SUM(Asistencia!Y21:AH21)),\"\")","v":""},{"$f":"IF((SUM(Asistencia!BI21:BI21))>0,(SUM(Asistencia!BI21:BI21)),\"\")","v":""},{"$f":"IF((TodaslasCalif!N21)>0,(TodaslasCalif!N21),\"\")","v":""},{"$f":"IF((TodaslasCalif!D21)>0,(TodaslasCalif!D21),\"\")","v":""},{"$f":"IF((TodaslasCalif!C21)>0,(TodaslasCalif!C21),\"\")","v":""}]
[{"$f":"ExamenesParciales!A22","v":15},{"$f":"ExamenesParciales!B22","v":""},{"$f":"IF(ExamenesParciales!C22>0,ExamenesParciales!C22,\"\")","v":""},{"$f":"IF(ExamenesParciales!D22>0,ExamenesParciales!D22,\"\")","v":""},null,{"$f":"IF(ExamenesParciales!F22>0,ExamenesParciales!F22,\"\")","v":""},{"$f":"IF(ExamenesParciales!J22>0,ExamenesParciales!J22,\"\")","v":""},{"$f":"IF((SUM(Guias!C22:E22))>0,(SUM(Guias!C22:F22)),0)","v":0},{"$f":"IF((SUM(Guias!G22:I22))>0,(SUM(Guias!G22:I22)),\"\")","v":""},null,{"$f":"IF((SUM(Guias!Y22:AF22))>0,(SUM(Guias!Y22:AF22)),\"\")","v":""},{"$f":"IF((SUM(Asistencia!C22:N22))>0,(SUM(Asistencia!C22:N22)),\"\")","v":""},{"$f":"IF((SUM(Asistencia!N22:X22))>0,(SUM(Asistencia!N22:X22)),\"\")","v":""},{"$f":"IF((SUM(Asistencia!Y22:AH22))>0,(SUM(Asistencia!Y22:AH22)),\"\")","v":""},{"$f":"IF((SUM(Asistencia!BI22:BI22))>0,(SUM(Asistencia!BI22:BI22)),\"\")","v":""},{"$f":"IF((TodaslasCalif!N22)>0,(TodaslasCalif!N22),\"\")","v":""},{"$f":"IF((TodaslasCalif!D22)>0,(TodaslasCalif!D22),\"\")","v":""},{"$f":"IF((TodaslasCalif!C22)>0,(TodaslasCalif!C22),\"\")","v":""}]
[{"$f":"ExamenesParciales!A23","v":16},{"$f":"ExamenesParciales!B23","v":""},null,{"$f":"IF(ExamenesParciales!D23>0,ExamenesParciales!D23,\"\")","v":""},{"$f":"IF(ExamenesParciales!E23>0,ExamenesParciales!E23,\"\")","v":""},{"$f":"IF(ExamenesParciales!F23>0,ExamenesParciales!F23,\"\")","v":""},{"$f":"IF(ExamenesParciales!J23>0,ExamenesParciales!J23,\"\")","v":""},null,{"$f":"IF((SUM(Guias!G23:G23))>0,(SUM(Guias!G23:G23)),\"\")","v":""},{"$f":"IF((SUM(Guias!L23:N23))>0,(SUM(Guias!L23:N23)),\"\")","v":""},{"$f":"IF((SUM(Guias!Y23:AF23))>0,(SUM(Guias!Y23:AF23)),\"\")","v":""},null,{"$f":"IF((SUM(Asistencia!N23:X23))>0,(SUM(Asistencia!N23:X23)),\"\")","v":""},{"$f":"IF((SUM(Asistencia!Y23:AH23))>0,(SUM(Asistencia!Y23:AH23)),\"\")","v":""},{"$f":"IF((SUM(Asistencia!BI23:BI23))>0,(SUM(Asistencia!BI23:BI23)),\"\")","v":""},{"$f":"IF((TodaslasCalif!N23)>0,(TodaslasCalif!N23),\"\")","v":""},{"$f":"IF((TodaslasCalif!D23)>0,(TodaslasCalif!D23),\"\")","v":""},{"$f":"IF((TodaslasCalif!C23)>0,(TodaslasCalif!C23),\"\")","v":""}]
[{"$f":"ExamenesParciales!A24","v":17},{"$f":"ExamenesParciales!B24","v":""},{"$f":"IF(ExamenesParciales!C24>0,ExamenesParciales!C24,\"\")","v":""},{"$f":"IF(ExamenesParciales!D24>0,ExamenesParciales!D24,\"\")","v":""},{"$f":"IF(ExamenesParciales!E24>0,ExamenesParciales!E24,\"\")","v":""},{"$f":"IF(ExamenesParciales!F24>0,ExamenesParciales!F24,\"\")","v":""},{"$f":"IF(ExamenesParciales!J24>0,ExamenesParciales!J24,\"\")","v":""},{"$f":"IF((SUM(Guias!C25:E25))>0,(SUM(Guias!C25:F25)),0)","v":0},{"$f":"IF((SUM(Guias!G24:G24))>0,(SUM(Guias!G24:G24)),\"\")","v":""},null,{"$f":"IF((SUM(Guias!Y24:AF24))>0,(SUM(Guias!Y24:AF24)),\"\")","v":""},{"$f":"IF((SUM(Asistencia!K24:U24))>0,(SUM(Asistencia!K24:U24)),\"\")","v":""},{"$f":"IF((SUM(Asistencia!N24:X24))>0,(SUM(Asistencia!N24:X24)),\"\")","v":""},{"$f":"IF((SUM(Asistencia!Y24:AH24))>0,(SUM(Asistencia!Y24:AH24)),\"\")","v":""},{"$f":"IF((SUM(Asistencia!BI24:BI24))>0,(SUM(Asistencia!BI24:BI24)),\"\")","v":""},{"$f":"IF((TodaslasCalif!N24)>0,(TodaslasCalif!N24),\"\")","v":""},{"$f":"IF((TodaslasCalif!D24)>0,(TodaslasCalif!D24),\"\")","v":""},{"$f":"IF((TodaslasCalif!C24)>0,(TodaslasCalif!C24),\"\")","v":""}]
[{"$f":"ExamenesParciales!A25","v":18},{"$f":"ExamenesParciales!B25","v":""},null,{"$f":"IF(ExamenesParciales!D25>0,ExamenesParciales!D25,\"\")","v":""},{"$f":"IF(ExamenesParciales!E25>0,ExamenesParciales!E25,\"\")","v":""},{"$f":"IF(ExamenesParciales!F25>0,ExamenesParciales!F25,\"\")","v":""},{"$f":"IF(ExamenesParciales!J25>0,ExamenesParciales!J25,\"\")","v":""},null,{"$f":"IF((SUM(Guias!G25:G25))>0,(SUM(Guias!G25:G25)),\"\")","v":""},null,{"$f":"IF((SUM(Guias!Y25:AF25))>0,(SUM(Guias!Y25:AF25)),\"\")","v":""},null,{"$f":"IF((SUM(Asistencia!N25:X25))>0,(SUM(Asistencia!N25:X25)),\"\")","v":""},{"$f":"IF((SUM(Asistencia!Y25:AH25))>0,(SUM(Asistencia!Y25:AH25)),\"\")","v":""},{"$f":"IF((SUM(Asistencia!BI25:BI25))>0,(SUM(Asistencia!BI25:BI25)),\"\")","v":""},{"$f":"IF((TodaslasCalif!N25)>0,(TodaslasCalif!N25),\"\")","v":""},{"$f":"IF((TodaslasCalif!D25)>0,(TodaslasCalif!D25),\"\")","v":""},{"$f":"IF((TodaslasCalif!C25)>0,(TodaslasCalif!C25),\"\")","v":""}]
[{"$f":"ExamenesParciales!A26","v":19},{"$f":"ExamenesParciales!B26","v":""},{"$f":"IF(ExamenesParciales!C26>0,ExamenesParciales!C26,\"\")","v":""},{"$f":"IF(ExamenesParciales!D26>0,ExamenesParciales!D26,\"\")","v":""},{"$f":"IF(ExamenesParciales!E26>0,ExamenesParciales!E26,\"\")","v":""},{"$f":"IF(ExamenesParciales!F26>0,ExamenesParciales!F26,\"\")","v":""},{"$f":"IF(ExamenesParciales!J26>0,ExamenesParciales!J26,\"\")","v":""},{"$f":"IF((SUM(Guias!C27:E27))>0,(SUM(Guias!C27:F27)),0)","v":0},{"$f":"IF((SUM(Guias!G26:G26))>0,(SUM(Guias!G26:G26)),\"\")","v":""},{"$f":"IF((SUM(Guias!L26:N26))>0,(SUM(Guias!L26:N26)),\"\")","v":""},{"$f":"IF((SUM(Guias!Y26:AF26))>0,(SUM(Guias!Y26:AF26)),\"\")","v":""},{"$f":"IF((SUM(Asistencia!K26:U26))>0,(SUM(Asistencia!K26:U26)),\"\")","v":""},{"$f":"IF((SUM(Asistencia!N26:X26))>0,(SUM(Asistencia!N26:X26)),\"\")","v":""},{"$f":"IF((SUM(Asistencia!Y26:AH26))>0,(SUM(Asistencia!Y26:AH26)),\"\")","v":""},{"$f":"IF((SUM(Asistencia!BI26:BI26))>0,(SUM(Asistencia!BI26:BI26)),\"\")","v":""},{"$f":"IF((TodaslasCalif!N26)>0,(TodaslasCalif!N26),\"\")","v":""},{"$f":"IF((TodaslasCalif!D26)>0,(TodaslasCalif!D26),\"\")","v":""},{"$f":"IF((TodaslasCalif!C26)>0,(TodaslasCalif!C26),\"\")","v":""}]
[{"$f":"ExamenesParciales!A27","v":20},{"$f":"ExamenesParciales!B27","v":""},{"$nulls":3},{"$f":"IF(ExamenesParciales!F27>0,ExamenesParciales!F27,\"\")","v":""},{"$f":"IF(ExamenesParciales!J27>0,ExamenesParciales!J27,\"\")","v":""},null,{"$f":"IF((SUM(Guias!G27:G27))>0,(SUM(Guias!G27:G27)),\"\")","v":""},null,{"$f":"IF((SUM(Guias!Y27:AF27))>0,(SUM(Guias!Y27:AF27)),\"\")","v":""},null,{"$f":"IF((SUM(Asistencia!N27:X27))>0,(SUM(Asistencia!N27:X27)),\"\")","v":""},{"$f":"IF((SUM(Asistencia!Y27:AH27))>0,(SUM(Asistencia!Y27:AH27)),\"\")","v":""},{"$f":"IF((SUM(Asistencia!BI27:BI27))>0,(SUM(Asistencia!BI27:BI27)),\"\")","v":""},{"$f":"IF((TodaslasCalif!N27)>0,(TodaslasCalif!N27),\"\")","v":""},{"$f":"IF((TodaslasCalif!D27)>0,(TodaslasCalif!D27),\"\")","v":""},{"$f":"IF((TodaslasCalif!C27)>0,(TodaslasCalif!C27),\"\")","v":""}]
[{"$f":"ExamenesParciales!A28","v":21},{"$f":"ExamenesParciales!B28","v":""},null,{"$f":"IF(ExamenesParciales!D28>0,ExamenesParciales!D28,\"\")","v":""},{"$f":"IF(ExamenesParciales!E28>0,ExamenesParciales!E28,\"\")","v":""},{"$f":"IF(ExamenesParciales!F28>0,ExamenesParciales!F28,\"\")","v":""},{"$f":"IF(ExamenesParciales!J28>0,ExamenesParciales!J28,\"\")","v":""},null,{"$f":"IF((SUM(Guias!G28:G28))>0,(SUM(Guias!G28:G28)),\"\")","v":""},{"$f":"IF((SUM(Guias!L28:N28))>0,(SUM(Guias!L28:N28)),\"\")","v":""},{"$f":"IF((SUM(Guias!Y28:AF28))>0,(SUM(Guias!Y28:AF28)),\"\")","v":""},null,{"$f":"IF((SUM(Asistencia!N28:X28))>0,(SUM(Asistencia!N28:X28)),\"\")","v":""},{"$f":"IF((SUM(Asistencia!Y28:AH28))>0,(SUM(Asistencia!Y28:AH28)),\"\")","v":""},{"$f":"IF((SUM(Asistencia!BI28:BI28))>0,(SUM(Asistencia!BI28:BI28)),\"\")","v":""},{"$f":"IF((TodaslasCalif!N28)>0,(TodaslasCalif!N28),\"\")","v":""},{"$f":"IF((TodaslasCalif!D28)>0,(TodaslasCalif!D28),\"\")","v":""},{"$f":"IF((TodaslasCalif!C28)>0,(TodaslasCalif!C28),\"\")","v":""}]
[{"$f":"ExamenesParciales!A29","v":22},{"$f":"ExamenesParciales!B29","v":""},{"$f":"IF(ExamenesParciales!C29>0,ExamenesParciales!C29,\"\")","v":""},null,{"$f":"IF(ExamenesParciales!E29>0,ExamenesParciales!E29,\"\")","v":""},{"$f":"IF(ExamenesParciales!F29>0,ExamenesParciales!F29,\"\")","v":""},{"$f":"IF(ExamenesParciales!J29>0,ExamenesParciales!J29,\"\")","v":""},{"$f":"IF((SUM(Guias!C30:E30))>0,(SUM(Guias!C30:F30)),0)","v":0},{"$f":"IF((SUM(Guias!G29:G29))>0,(SUM(Guias!G29:G29)),\"\")","v":""},{"$f":"IF((SUM(Guias!L29:N29))>0,(SUM(Guias!L29:N29)),\"\")","v":""},{"$f":"IF((SUM(Guias!Y29:AF29))>0,(SUM(Guias!Y29:AF29)),\"\")","v":""},{"$f":"IF((SUM(Asistencia!K29:U29))>0,(SUM(Asistencia!K29:U29)),\"\")","v":""},{"$f":"IF((SUM(Asistencia!N29:X29))>0,(SUM(Asistencia!N29:X29)),\"\")","v":""},{"$f":"IF((SUM(Asistencia!Y29:AH29))>0,(SUM(Asistencia!Y29:AH29)),\"\")","v":""},{"$f":"IF((SUM(Asistencia!BI29:BI29))>0,(SUM(Asistencia!BI29:BI29)),\"\")","v":""},{"$f":"IF((TodaslasCalif!N29)>0,(TodaslasCalif!N29),\"\")","v":""},{"$f":"IF((TodaslasCalif!D29)>0,(TodaslasCalif!D29),\"\")","v":""},{"$f":"IF((TodaslasCalif!C29)>0,(TodaslasCalif!C29),\"\")","v":""}]
[{"$f":"ExamenesParciales!A30","v":23},{"$f":"ExamenesParciales!B30","v":""},null,null,{"$f":"IF(ExamenesParciales!E30>0,ExamenesParciales!E30,\"\")","v":""},{"$f":"IF(ExamenesParciales!F30>0,ExamenesParciales!F30,\"\")","v":""},{"$f":"IF(ExamenesParciales!J30>0,ExamenesParciales!J30,\"\")","v":""},{"$f":"IF((SUM(Guias!C31:E31))>0,(SUM(Guias!C31:F31)),0)","v":0},{"$f":"IF((SUM(Guias!G30:G30))>0,(SUM(Guias!G30:G30)),\"\")","v":""},{"$f":"IF((SUM(Guias!L30:N30))>0,(SUM(Guias!L30:N30)),\"\")","v":""},{"$f":"IF((SUM(Guias!Y30:AF30))>0,(SUM(Guias!Y30:AF30)),\"\")","v":""},{"$f":"IF((SUM(Asistencia!K30:U30))>0,(SUM(Asistencia!K30:U30)),\"\")","v":""},{"$f":"IF((SUM(Asistencia!N30:X30))>0,(SUM(Asistencia!N30:X30)),\"\")","v":""},{"$f":"IF((SUM(Asistencia!Y30:AH30))>0,(SUM(Asistencia!Y30:AH30)),\"\")","v":""},{"$f":"IF((SUM(Asistencia!BI30:BI30))>0,(SUM(Asistencia!BI30:BI30)),\"\")","v":""},{"$f":"IF((TodaslasCalif!N30)>0,(TodaslasCalif!N30),\"\")","v":""},{"$f":"IF((TodaslasCalif!D30)>0,(TodaslasCalif!D30),\"\")","v":""},{"$f":"IF((TodaslasCalif!C30)>0,(TodaslasCalif!C30),\"\")","v":""}]
[{"$f":"ExamenesParciales!A31","v":24},{"$f":"ExamenesParciales!B31","v":""},null,null,{"$f":"IF(ExamenesParciales!E31>0,ExamenesParciales!E31,\"\")","v":""},{"$f":"IF(ExamenesParciales!F31>0,ExamenesParciales!F31,\"\")","v":""},{"$f":"IF(ExamenesParciales!J31>0,ExamenesParciales!J31,\"\")","v":""},null,{"$f":"IF((SUM(Guias!G31:G31))>0,(SUM(Guias!G31:G31)),\"\")","v":""},{"$f":"IF((SUM(Guias!L31:N31))>0,(SUM(Guias!L31:N31)),\"\")","v":""},{"$f":"IF((SUM(Guias!Y31:AF31))>0,(SUM(Guias!Y31:AF31)),\"\")","v":""},null,{"$f":"IF((SUM(Asistencia!N31:X31))>0,(SUM(Asistencia!N31:X31)),\"\")","v":""},{"$f":"IF((SUM(Asistencia!Y31:AH31))>0,(SUM(Asistencia!Y31:AH31)),\"\")","v":""},{"$f":"IF((SUM(Asistencia!BI31:BI31))>0,(SUM(Asistencia!BI31:BI31)),\"\")","v":""},{"$f":"IF((TodaslasCalif!N31)>0,(TodaslasCalif!N31),\"\")","v":""},{"$f":"IF((TodaslasCalif!D31)>0,(TodaslasCalif!D31),\"\")","v":""},{"$f":"IF((TodaslasCalif!C31)>0,(TodaslasCalif!C31),\"\")","v":""}]
[{"$f":"ExamenesParciales!A32","v":25},{"$f":"ExamenesParciales!B32","v":""},{"$f":"IF(ExamenesParciales!C32>0,ExamenesParciales!C32,\"\")","v":""},null,{"$f":"IF(ExamenesParciales!E32>0,ExamenesParciales!E32,\"\")","v":""},{"$f":"IF(ExamenesParciales!F32>0,ExamenesParciales!F32,\"\")","v":""},{"$f":"IF(ExamenesParciales!J32>0,ExamenesParciales!J32,\"\")","v":""},{"$f":"IF((SUM(Guias!C33:E33))>0,(SUM(Guias!C33:F33)),0)","v":0},{"$f":"IF((SUM(Guias!G32:G32))>0,(SUM(Guias!G32:G32)),\"\")","v":""},{"$f":"IF((SUM(Guias!L32:N32))>0,(SUM(Guias!L32:N32)),\"\")","v":""},{"$f":"IF((SUM(Guias!Y32:AF32))>0,(SUM(Guias!Y32:AF32)),\"\")","v":""},{"$f":"IF((SUM(Asistencia!C32:M32))>0,(SUM(Asistencia!C32:M32)),\"\")","v":""},{"$f":"IF((SUM(Asistencia!N32:X32))>0,(SUM(Asistencia!N32:X32)),\"\")","v":""},{"$f":"IF((SUM(Asistencia!Y32:AH32))>0,(SUM(Asistencia!Y32:AH32)),\"\")","v":""},{"$f":"IF((SUM(Asistencia!BI32:BI32))>0,(SUM(Asistencia!BI32:BI32)),\"\")","v":""},{"$f":"IF((TodaslasCalif!N32)>0,(TodaslasCalif!N32),\"\")","v":""},{"$f":"IF((TodaslasCalif!D32)>0,(TodaslasCalif!D32),\"\")","v":""},{"$f":"IF((TodaslasCalif!C32)>0,(TodaslasCalif!C32),\"\")","v":""}]
[{"$f":"ExamenesParciales!A33","v":26},{"$f":"ExamenesParciales!B33","v":""},{"$f":"IF(ExamenesParciales!C33>0,ExamenesParciales!C33,\"\")","v":""},null,{"$f":"IF(ExamenesParciales!E33>0,ExamenesParciales!E33,\"\")","v":""},{"$f":"IF(ExamenesParciales!F33>0,ExamenesParciales!F33,\"\")","v":""},{"$f":"IF(ExamenesParciales!J33>0,ExamenesParciales!J33,\"\")","v":""},{"$f":"IF((SUM(Guias!C34:E34))>0,(SUM(Guias!C34:F34)),0)","v":0},{"$f":"IF((SUM(Guias!G33:G33))>0,(SUM(Guias!G33:G33)),\"\")","v":""},{"$f":"IF((SUM(Guias!L33:N33))>0,(SUM(Guias!L33:N33)),\"\")","v":""},{"$f":"IF((SUM(Guias!Y33:AF33))>0,(SUM(Guias!Y33:AF33)),\"\")","v":""},{"$f":"IF((SUM(Asistencia!C33:M33))>0,(SUM(Asistencia!C33:M33)),\"\")","v":""},{"$f":"IF((SUM(Asistencia!N33:X33))>0,(SUM(Asistencia!N33:X33)),\"\")","v":""},{"$f":"IF((SUM(Asistencia!Y33:AH33))>0,(SUM(Asistencia!Y33:AH33)),\"\")","v":""},{"$f":"IF((SUM(Asistencia!BI33:BI33))>0,(SUM(Asistencia!BI33:BI33)),\"\")","v":""},{"$f":"IF((TodaslasCalif!N33)>0,(TodaslasCalif!N33),\"\")","v":""},{"$f":"IF((TodaslasCalif!D33)>0,(TodaslasCalif!D33),\"\")","v":""},{"$f":"IF((TodaslasCalif!C33)>0,(TodaslasCalif!C33),\"\")","v":""}]
[{"$f":"ExamenesParciales!A34","v":27},{"$f":"ExamenesParciales!B34","v":""},{"$f":"IF(ExamenesParciales!C34>0,ExamenesParciales!C34,\"\")","v":""},null,{"$f":"IF(ExamenesParciales!E34>0,ExamenesParciales!E34,\"\")","v":""},{"$f":"IF(ExamenesParciales!F34>0,ExamenesParciales!F34,\"\")","v":""},{"$f":"IF(ExamenesParciales!J34>0,ExamenesParciales!J34,\"\")","v":""},{"$f":"IF((SUM(Guias!#REF!))>0,(SUM(Guias!#REF!)),0)","v":{"$error":"#REF!"}},{"$f":"IF((SUM(Guias!G34:G34))>0,(SUM(Guias!G34:G34)),\"\")","v":""},{"$f":"IF((SUM(Guias!L34:N34))>0,(SUM(Guias!L34:N34)),\"\")","v":""},{"$f":"IF((SUM(Guias!Y34:AF34))>0,(SUM(Guias!Y34:AF34)),\"\")","v":""},{"$f":"IF((SUM(Asistencia!C34:M34))>0,(SUM(Asistencia!C34:M34)),\"\")","v":""},{"$f":"IF((SUM(Asistencia!N34:X34))>0,(SUM(Asistencia!N34:X34)),\"\")","v":""},{"$f":"IF((SUM(Asistencia!Y34:AH34))>0,(SUM(Asistencia!Y34:AH34)),\"\")","v":""},{"$f":"IF((SUM(Asistencia!BI34:BI34))>0,(SUM(Asistencia!BI34:BI34)),\"\")","v":""},{"$f":"IF((TodaslasCalif!N34)>0,(TodaslasCalif!N34),\"\")","v":""},{"$f":"IF((TodaslasCalif!D34)>0,(TodaslasCalif!D34),\"\")","v":""},{"$f":"IF((TodaslasCalif!C34)>0,(TodaslasCalif!C34),\"\")","v":""}]
[{"$f":"ExamenesParciales!A35","v":28},{"$f":"ExamenesParciales!B35","v":""},{"$f":"IF(ExamenesParciales!C35>0,ExamenesParciales!C35,\"\")","v":""},null,{"$f":"IF(ExamenesParciales!E35>0,ExamenesParciales!E35,\"\")","v":""},{"$f":"IF(ExamenesParciales!F35>0,ExamenesParciales!F35,\"\")","v":""},{"$f":"IF(ExamenesParciales!J35>0,ExamenesParciales!J35,\"\")","v":""},null,{"$f":"IF((SUM(Guias!#REF!))>0,(SUM(Guias!#REF!)),\"\")","v":{"$error":"#REF!"}},{"$f":"IF((SUM(Guias!#REF!))>0,(SUM(Guias!#REF!)),\"\")","v":{"$error":"#REF!"}},{"$f":"IF((SUM(Guias!#REF!))>0,(SUM(Guias!#REF!)),\"\")","v":{"$error":"#REF!"}},{"$f":"IF((SUM(Asistencia!C35:M35))>0,(SUM(Asistencia!C35:M35)),\"\")","v":""},{"$f":"IF((SUM(Asistencia!N35:X35))>0,(SUM(Asistencia!N35:X35)),\"\")","v":""},{"$f":"IF((SUM(Asistencia!Y35:AH35))>0,(SUM(Asistencia!Y35:AH35)),\"\")","v":""},{"$f":"IF((SUM(Asistencia!BI35:BI35))>0,(SUM(Asistencia!BI35:BI35)),\"\")","v":""},{"$f":"IF((TodaslasCalif!N35)>0,(TodaslasCalif!N35),\"\")","v":""},{"$f":"IF((TodaslasCalif!D35)>0,(TodaslasCalif!D35),\"\")","v":""},{"$f":"IF((TodaslasCalif!C35)>0,(TodaslasCalif!C35),\"\")","v":""}]
[{"$f":"ExamenesParciales!A36","v":29},{"$f":"ExamenesParciales!B36","v":""},{"$f":"IF(ExamenesParciales!C36>0,ExamenesParciales!C36,\"\")","v":""},null,{"$f":"IF(ExamenesParciales!E36>0,ExamenesParciales!E36,\"\")","v":""},{"$f":"IF(ExamenesParciales!F36>0,ExamenesParciales!F36,\"\")","v":""},{"$f":"IF(ExamenesParciales!J36>0,ExamenesParciales!J36,\"\")","v":""},null,{"$f":"IF((SUM(Guias!#REF!))>0,(SUM(Guias!#REF!)),\"\")","v":{"$error":"#REF!"}},{"$f":"IF((SUM(Guias!#REF!))>0,(SUM(Guias!#REF!)),\"\")","v":{"$error":"#REF!"}},{"$f":"IF((SUM(Guias!#REF!))>0,(SUM(Guias!#REF!)),\"\")","v":{"$error":"#REF!"}},{"$f":"IF((SUM(Asistencia!C36:M36))>0,(SUM(Asistencia!C36:M36)),\"\")","v":""},{"$f":"IF((SUM(Asistencia!N36:X36))>0,(SUM(Asistencia!N36:X36)),\"\")","v":""},{"$f":"IF((SUM(Asistencia!Y36:AH36))>0,(SUM(Asistencia!Y36:AH36)),\"\")","v":""},{"$f":"IF((SUM(Asistencia!BI36:BI36))>0,(SUM(Asistencia!BI36:BI36)),\"\")","v":""},{"$f":"IF((TodaslasCalif!N36)>0,(TodaslasCalif!N36),\"\")","v":""},{"$f":"IF((TodaslasCalif!D36)>0,(TodaslasCalif!D36),\"\")","v":""},{"$f":"IF((TodaslasCalif!C36)>0,(TodaslasCalif!C36),\"\")","v":""}]
[{"$f":"ExamenesParciales!A37","v":30},{"$f":"ExamenesParciales!B37","v":""},{"$f":"IF(ExamenesParciales!C37>0,ExamenesParciales!C37,\"\")","v":""},null,{"$f":"IF(ExamenesParciales!E37>0,ExamenesParciales!E37,\"\")","v":""},{"$f":"IF(ExamenesParciales!F37>0,ExamenesParciales!F37,\"\")","v":""},{"$f":"IF(ExamenesParciales!J37>0,ExamenesParciales!J37,\"\")","v":""},null,{"$f":"IF((SUM(Guias!#REF!))>0,(SUM(Guias!#REF!)),\"\")","v":{"$error":"#REF!"}},{"$f":"IF((SUM(Guias!#REF!))>0,(SUM(Guias!#REF!)),\"\")","v":{"$error":"#REF!"}},{"$f":"IF((SUM(Guias!#REF!))>0,(SUM(Guias!#REF!)),\"\")","v":{"$error":"#REF!"}},{"$f":"IF((SUM(Asistencia!C37:M37))>0,(SUM(Asistencia!C37:M37)),\"\")","v":""},{"$f":"IF((SUM(Asistencia!N37:X37))>0,(SUM(Asistencia!N37:X37)),\"\")","v":""},{"$f":"IF((SUM(Asistencia!Y37:AH37))>0,(SUM(Asistencia!Y37:AH37)),\"\")","v":""},{"$f":"IF((SUM(Asistencia!BI37:BI37))>0,(SUM(Asistencia!BI37:BI37)),\"\")","v":""},{"$f":"IF((TodaslasCalif!N37)>0,(TodaslasCalif!N37),\"\")","v":""},{"$f":"IF((TodaslasCalif!D37)>0,(TodaslasCalif!D37),\"\")","v":""},{"$f":"IF((TodaslasCalif!C37)>0,(TodaslasCalif!C37),\"\")","v":""}]
[{"$f":"ExamenesParciales!A38","v":31},{"$f":"ExamenesParciales!B38","v":""},{"$f":"IF(ExamenesParciales!C38>0,ExamenesParciales!C38,\"\")","v":""},null,{"$f":"IF(ExamenesParciales!E38>0,ExamenesParciales!E38,\"\")","v":""},{"$f":"IF(ExamenesParciales!F38>0,ExamenesParciales!F38,\"\")","v":""},{"$f":"IF(ExamenesParciales!J38>0,ExamenesParciales!J38,\"\")","v":""},null,{"$f":"IF((SUM(Guias!#REF!))>0,(SUM(Guias!#REF!)),\"\")","v":{"$error":"#REF!"}},{"$f":"IF((SUM(Guias!#REF!))>0,(SUM(Guias!#REF!)),\"\")","v":{"$error":"#REF!"}},{"$f":"IF((SUM(Guias!#REF!))>0,(SUM(Guias!#REF!)),\"\")","v":{"$error":"#REF!"}},{"$f":"IF((SUM(Asistencia!C38:M38))>0,(SUM(Asistencia!C38:M38)),\"\")","v":""},{"$f":"IF((SUM(Asistencia!N38:X38))>0,(SUM(Asistencia!N38:X38)),\"\")","v":""},{"$f":"IF((SUM(Asistencia!Y38:AH38))>0,(SUM(Asistencia!Y38:AH38)),\"\")","v":""},{"$f":"IF((SUM(Asistencia!BI38:BI38))>0,(SUM(Asistencia!BI38:BI38)),\"\")","v":""},{"$f":"IF((TodaslasCalif!N38)>0,(TodaslasCalif!N38),\"\")","v":""},{"$f":"IF((TodaslasCalif!D38)>0,(TodaslasCalif!D38),\"\")","v":""},{"$f":"IF((TodaslasCalif!C38)>0,(TodaslasCalif!C38),\"\")","v":""}]
[{"$f":"ExamenesParciales!A39","v":32},{"$f":"ExamenesParciales!B39","v":""},{"$f":"IF(ExamenesParciales!C39>0,ExamenesParciales!C39,\"\")","v":""},null,{"$f":"IF(ExamenesParciales!E39>0,ExamenesParciales!E39,\"\")","v":""},{"$f":"IF(ExamenesParciales!F39>0,ExamenesParciales!F39,\"\")","v":""},{"$f":"IF(ExamenesParciales!J39>0,ExamenesParciales!J39,\"\")","v":""},null,{"$f":"IF((SUM(Guias!#REF!))>0,(SUM(Guias!#REF!)),\"\")","v":{"$error":"#REF!"}},{"$f":"IF((SUM(Guias!#REF!))>0,(SUM(Guias!#REF!)),\"\")","v":{"$error":"#REF!"}},{"$f":"IF((SUM(Guias!#REF!))>0,(SUM(Guias!#REF!)),\"\")","v":{"$error":"#REF!"}},{"$f":"IF((SUM(Asistencia!C39:M39))>0,(SUM(Asistencia!C39:M39)),\"\")","v":""},{"$f":"IF((SUM(Asistencia!N39:X39))>0,(SUM(Asistencia!N39:X39)),\"\")","v":""},{"$f":"IF((SUM(Asistencia!Y39:AH39))>0,(SUM(Asistencia!Y39:AH39)),\"\")","v":""},{"$f":"IF((SUM(Asistencia!BI39:BI39))>0,(SUM(Asistencia!BI39:BI39)),\"\")","v":""},{"$f":"IF((TodaslasCalif!N39)>0,(TodaslasCalif!N39),\"\")","v":""},{"$f":"IF((TodaslasCalif!D39)>0,(TodaslasCalif!D39),\"\")","v":""},{"$f":"IF((TodaslasCalif!C39)>0,(TodaslasCalif!C39),\"\")","v":""}]
[{"$f":"ExamenesParciales!A40","v":33},{"$f":"ExamenesParciales!B40","v":""},{"$f":"IF(ExamenesParciales!C40>0,ExamenesParciales!C40,\"\")","v":""},null,{"$f":"IF(ExamenesParciales!E40>0,ExamenesParciales!E40,\"\")","v":""},{"$f":"IF(ExamenesParciales!F40>0,ExamenesParciales!F40,\"\")","v":""},{"$f":"IF(ExamenesParciales!J40>0,ExamenesParciales!J40,\"\")","v":""},null,{"$f":"IF((SUM(Guias!#REF!))>0,(SUM(Guias!#REF!)),\"\")","v":{"$error":"#REF!"}},{"$f":"IF((SUM(Guias!#REF!))>0,(SUM(Guias!#REF!)),\"\")","v":{"$error":"#REF!"}},{"$f":"IF((SUM(Guias!#REF!))>0,(SUM(Guias!#REF!)),\"\")","v":{"$error":"#REF!"}},{"$f":"IF((SUM(Asistencia!C40:M40))>0,(SUM(Asistencia!C40:M40)),\"\")","v":""},{"$f":"IF((SUM(Asistencia!N40:X40))>0,(SUM(Asistencia!N40:X40)),\"\")","v":""},{"$f":"IF((SUM(Asistencia!Y40:AH40))>0,(SUM(Asistencia!Y40:AH40)),\"\")","v":""},{"$f":"IF((SUM(Asistencia!BI40:BI40))>0,(SUM(Asistencia!BI40:BI40)),\"\")","v":""},{"$f":"IF((TodaslasCalif!N40)>0,(TodaslasCalif!N40),\"\")","v":""},{"$f":"IF((TodaslasCalif!D40)>0,(TodaslasCalif!D40),\"\")","v":""},{"$f":"IF((TodaslasCalif!C40)>0,(TodaslasCalif!C40),\"\")","v":""}]
[{"$f":"ExamenesParciales!A41","v":34},{"$f":"ExamenesParciales!B41","v":""},{"$f":"IF(ExamenesParciales!C41>0,ExamenesParciales!C41,\"\")","v":""},null,{"$f":"IF(ExamenesParciales!E41>0,ExamenesParciales!E41,\"\")","v":""},{"$f":"IF(ExamenesParciales!F41>0,ExamenesParciales!F41,\"\")","v":""},{"$f":"IF(ExamenesParciales!J41>0,ExamenesParciales!J41,\"\")","v":""},null,{"$f":"IF((SUM(Guias!#REF!))>0,(SUM(Guias!#REF!)),\"\")","v":{"$error":"#REF!"}},{"$f":"IF((SUM(Guias!#REF!))>0,(SUM(Guias!#REF!)),\"\")","v":{"$error":"#REF!"}},{"$f":"IF((SUM(Guias!#REF!))>0,(SUM(Guias!#REF!)),\"\")","v":{"$error":"#REF!"}},{"$f":"IF((SUM(Asistencia!C41:M41))>0,(SUM(Asistencia!C41:M41)),\"\")","v":""},{"$f":"IF((SUM(Asistencia!N41:X41))>0,(SUM(Asistencia!N41:X41)),\"\")","v":""},{"$f":"IF((SUM(Asistencia!Y41:AH41))>0,(SUM(Asistencia!Y41:AH41)),\"\")","v":""},{"$f":"IF((SUM(Asistencia!BI41:BI41))>0,(SUM(Asistencia!BI41:BI41)),\"\")","v":""},{"$f":"IF((TodaslasCalif!N41)>0,(TodaslasCalif!N41),\"\")","v":""},{"$f":"IF((TodaslasCalif!D41)>0,(TodaslasCalif!D41),\"\")","v":""},{"$f":"IF((TodaslasCalif!C41)>0,(TodaslasCalif!C41),\"\")","v":""}]
[{"$f":"ExamenesParciales!A42","v":35},{"$f":"ExamenesParciales!B42","v":""},{"$f":"IF(ExamenesParciales!C42>0,ExamenesParciales!C42,\"\")","v":""},null,{"$f":"IF(ExamenesParciales!E42>0,ExamenesParciales!E42,\"\")","v":""},{"$f":"IF(ExamenesParciales!F42>0,ExamenesParciales!F42,\"\")","v":""},{"$f":"IF(ExamenesParciales!J42>0,ExamenesParciales!J42,\"\")","v":""},null,{"$f":"IF((SUM(Guias!G35:I35))>0,(SUM(Guias!G35:I35)),\"\")","v":""},{"$f":"IF((SUM(Guias!J35:M35))>0,(SUM(Guias!J35:M35)),\"\")","v":""},{"$f":"IF((SUM(Guias!Y35:AF35))>0,(SUM(Guias!Y35:AF35)),\"\")","v":""},{"$f":"IF((SUM(Asistencia!C42:M42))>0,(SUM(Asistencia!C42:M42)),\"\")","v":""},{"$f":"IF((SUM(Asistencia!N42:X42))>0,(SUM(Asistencia!N42:X42)),\"\")","v":""},{"$f":"IF((SUM(Asistencia!Y42:AH42))>0,(SUM(Asistencia!Y42:AH42)),\"\")","v":""},{"$f":"IF((SUM(Asistencia!BI42:BI42))>0,(SUM(Asistencia!BI42:BI42)),\"\")","v":""},{"$f":"IF((TodaslasCalif!N42)>0,(TodaslasCalif!N42),\"\")","v":""},{"$f":"IF((TodaslasCalif!D42)>0,(TodaslasCalif!D42),\"\")","v":""},{"$f":"IF((TodaslasCalif!C42)>0,(TodaslasCalif!C42),\"\")","v":""}]
[{"$f":"ExamenesParciales!A43","v":36},{"$f":"ExamenesParciales!B43","v":""},{"$f":"IF(ExamenesParciales!C43>0,ExamenesParciales!C43,\"\")","v":""},null,{"$f":"IF(ExamenesParciales!E43>0,ExamenesParciales!E43,\"\")","v":""},{"$f":"IF(ExamenesParciales!F43>0,ExamenesParciales!F43,\"\")","v":""},{"$f":"IF(ExamenesParciales!J43>0,ExamenesParciales!J43,\"\")","v":""},null,{"$f":"IF((SUM(Guias!G36:I36))>0,(SUM(Guias!G36:I36)),\"\")","v":""},{"$f":"IF((SUM(Guias!J36:M36))>0,(SUM(Guias!J36:M36)),\"\")","v":""},{"$f":"IF((SUM(Guias!Y36:AF36))>0,(SUM(Guias!Y36:AF36)),\"\")","v":""},{"$f":"IF((SUM(Asistencia!C43:M43))>0,(SUM(Asistencia!C43:M43)),\"\")","v":""},{"$f":"IF((SUM(Asistencia!N43:X43))>0,(SUM(Asistencia!N43:X43)),\"\")","v":""},{"$f":"IF((SUM(Asistencia!Y43:AH43))>0,(SUM(Asistencia!Y43:AH43)),\"\")","v":""},{"$f":"IF((SUM(Asistencia!BI43:BI43))>0,(SUM(Asistencia!BI43:BI43)),\"\")","v":""},{"$f":"IF((TodaslasCalif!N43)>0,(TodaslasCalif!N43),\"\")","v":""},{"$f":"IF((TodaslasCalif!D43)>0,(TodaslasCalif!D43),\"\")","v":""},{"$f":"IF((TodaslasCalif!C43)>0,(TodaslasCalif!C43),\"\")","v":""}]
[{"$f":"ExamenesParciales!A44","v":37},{"$f":"ExamenesParciales!B44","v":""},{"$f":"IF(ExamenesParciales!C44>0,ExamenesParciales!C44,\"\")","v":""},null,{"$f":"IF(ExamenesParciales!E44>0,ExamenesParciales!E44,\"\")","v":""},{"$f":"IF(ExamenesParciales!F44>0,ExamenesParciales!F44,\"\")","v":""},{"$f":"IF(ExamenesParciales!J44>0,ExamenesParciales!J44,\"\")","v":""},null,{"$f":"IF((SUM(Guias!G37:I37))>0,(SUM(Guias!G37:I37)),\"\")","v":""},{"$f":"IF((SUM(Guias!J37:M37))>0,(SUM(Guias!J37:M37)),\"\")","v":""},{"$f":"IF((SUM(Guias!Y37:AF37))>0,(SUM(Guias!Y37:AF37)),\"\")","v":""},{"$f":"IF((SUM(Asistencia!C44:M44))>0,(SUM(Asistencia!C44:M44)),\"\")","v":""},{"$f":"IF((SUM(Asistencia!N44:X44))>0,(SUM(Asistencia!N44:X44)),\"\")","v":""},{"$f":"IF((SUM(Asistencia!Y44:AH44))>0,(SUM(Asistencia!Y44:AH44)),\"\")","v":""},{"$f":"IF((SUM(Asistencia!BI44:BI44))>0,(SUM(Asistencia!BI44:BI44)),\"\")","v":""},{"$f":"IF((TodaslasCalif!N44)>0,(TodaslasCalif!N44),\"\")","v":""},{"$f":"IF((TodaslasCalif!D44)>0,(TodaslasCalif!D44),\"\")","v":""},{"$f":"IF((TodaslasCalif!C44)>0,(TodaslasCalif!C44),\"\")","v":""}]
[{"$f":"ExamenesParciales!A45","v":38},{"$f":"ExamenesParciales!B45","v":""},{"$f":"IF(ExamenesParciales!C45>0,ExamenesParciales!C45,\"\")","v":""},null,{"$f":"IF(ExamenesParciales!E45>0,ExamenesParciales!E45,\"\")","v":""},{"$f":"IF(ExamenesParciales!F45>0,ExamenesParciales!F45,\"\")","v":""},{"$f":"IF(ExamenesParciales!J45>0,ExamenesParciales!J45,\"\")","v":""},null,{"$f":"IF((SUM(Guias!G38:I38))>0,(SUM(Guias!G38:I38)),\"\")","v":""},{"$f":"IF((SUM(Guias!J38:M38))>0,(SUM(Guias!J38:M38)),\"\")","v":""},{"$f":"IF((SUM(Guias!Y38:AF38))>0,(SUM(Guias!Y38:AF38)),\"\")","v":""},{"$f":"IF((SUM(Asistencia!C45:M45))>0,(SUM(Asistencia!C45:M45)),\"\")","v":""},{"$f":"IF((SUM(Asistencia!N45:X45))>0,(SUM(Asistencia!N45:X45)),\"\")","v":""},{"$f":"IF((SUM(Asistencia!Y45:AH45))>0,(SUM(Asistencia!Y45:AH45)),\"\")","v":""},{"$f":"IF((SUM(Asistencia!BI45:BI45))>0,(SUM(Asistencia!BI45:BI45)),\"\")","v":""},{"$f":"IF((TodaslasCalif!N45)>0,(TodaslasCalif!N45),\"\")","v":""},{"$f":"IF((TodaslasCalif!D45)>0,(TodaslasCalif!D45),\"\")","v":""},{"$f":"IF((TodaslasCalif!C45)>0,(TodaslasCalif!C45),\"\")","v":""}]
[{"$f":"ExamenesParciales!A46","v":39},{"$f":"ExamenesParciales!B46","v":""},{"$f":"IF(ExamenesParciales!C46>0,ExamenesParciales!C46,\"\")","v":""},null,{"$f":"IF(ExamenesParciales!E46>0,ExamenesParciales!E46,\"\")","v":""},{"$f":"IF(ExamenesParciales!F46>0,ExamenesParciales!F46,\"\")","v":""},{"$f":"IF(ExamenesParciales!J46>0,ExamenesParciales!J46,\"\")","v":""},null,{"$f":"IF((SUM(Guias!G39:I39))>0,(SUM(Guias!G39:I39)),\"\")","v":""},{"$f":"IF((SUM(Guias!J39:M39))>0,(SUM(Guias!J39:M39)),\"\")","v":""},{"$f":"IF((SUM(Guias!Y39:AF39))>0,(SUM(Guias!Y39:AF39)),\"\")","v":""},{"$f":"IF((SUM(Asistencia!C46:M46))>0,(SUM(Asistencia!C46:M46)),\"\")","v":""},{"$f":"IF((SUM(Asistencia!N46:X46))>0,(SUM(Asistencia!N46:X46)),\"\")","v":""},{"$f":"IF((SUM(Asistencia!Y46:AH46))>0,(SUM(Asistencia!Y46:AH46)),\"\")","v":""},{"$f":"IF((SUM(Asistencia!BI46:BI46))>0,(SUM(Asistencia!BI46:BI46)),\"\")","v":""},{"$f":"IF((TodaslasCalif!N46)>0,(TodaslasCalif!N46),\"\")","v":""},{"$f":"IF((TodaslasCalif!D46)>0,(TodaslasCalif!D46),\"\")","v":""},{"$f":"IF((TodaslasCalif!C46)>0,(TodaslasCalif!C46),\"\")","v":""}]
[{"$f":"ExamenesParciales!A47","v":40},{"$f":"ExamenesParciales!B47","v":""},{"$f":"IF(ExamenesParciales!C47>0,ExamenesParciales!C47,\"\")","v":""},null,{"$f":"IF(ExamenesParciales!E47>0,ExamenesParciales!E47,\"\")","v":""},{"$f":"IF(ExamenesParciales!F47>0,ExamenesParciales!F47,\"\")","v":""},{"$f":"IF(ExamenesParciales!J47>0,ExamenesParciales!J47,\"\")","v":""},null,{"$f":"IF((SUM(Guias!G40:I40))>0,(SUM(Guias!G40:I40)),\"\")","v":""},{"$f":"IF((SUM(Guias!J40:M40))>0,(SUM(Guias!J40:M40)),\"\")","v":""},{"$f":"IF((SUM(Guias!Y40:AF40))>0,(SUM(Guias!Y40:AF40)),\"\")","v":""},{"$f":"IF((SUM(Asistencia!C47:M47))>0,(SUM(Asistencia!C47:M47)),\"\")","v":""},{"$f":"IF((SUM(Asistencia!N47:X47))>0,(SUM(Asistencia!N47:X47)),\"\")","v":""},{"$f":"IF((SUM(Asistencia!Y47:AH47))>0,(SUM(Asistencia!Y47:AH47)),\"\")","v":""},{"$f":"IF((SUM(Asistencia!BI47:BI47))>0,(SUM(Asistencia!BI47:BI47)),\"\")","v":""},{"$f":"IF((TodaslasCalif!N47)>0,(TodaslasCalif!N47),\"\")","v":""},{"$f":"IF((TodaslasCalif!D47)>0,(TodaslasCalif!D47),\"\")","v":""},{"$f":"IF((TodaslasCalif!C47)>0,(TodaslasCalif!C47),\"\")","v":""}]
[{"$f":"ExamenesParciales!A48","v":41},{"$f":"ExamenesParciales!B48","v":""},{"$f":"IF(ExamenesParciales!C48>0,ExamenesParciales!C48,\"\")","v":""},null,{"$f":"IF(ExamenesParciales!E48>0,ExamenesParciales!E48,\"\")","v":""},{"$f":"IF(ExamenesParciales!F48>0,ExamenesParciales!F48,\"\")","v":""},{"$f":"IF(ExamenesParciales!J48>0,ExamenesParciales!J48,\"\")","v":""},null,{"$f":"IF((SUM(Guias!G41:I41))>0,(SUM(Guias!G41:I41)),\"\")","v":""},{"$f":"IF((SUM(Guias!J41:M41))>0,(SUM(Guias!J41:M41)),\"\")","v":""},{"$f":"IF((SUM(Guias!Y41:AF41))>0,(SUM(Guias!Y41:AF41)),\"\")","v":""},{"$f":"IF((SUM(Asistencia!C48:M48))>0,(SUM(Asistencia!C48:M48)),\"\")","v":""},{"$f":"IF((SUM(Asistencia!N48:X48))>0,(SUM(Asistencia!N48:X48)),\"\")","v":""},{"$f":"IF((SUM(Asistencia!Y48:AH48))>0,(SUM(Asistencia!Y48:AH48)),\"\")","v":""},{"$f":"IF((SUM(Asistencia!BI48:BI48))>0,(SUM(Asistencia!BI48:BI48)),\"\")","v":""},{"$f":"IF((TodaslasCalif!N48)>0,(TodaslasCalif!N48),\"\")","v":""},{"$f":"IF((TodaslasCalif!D48)>0,(TodaslasCalif!D48),\"\")","v":""},{"$f":"IF((TodaslasCalif!C48)>0,(TodaslasCalif!C48),\"\")","v":""}]
[{"$f":"ExamenesParciales!A49","v":42},{"$f":"ExamenesParciales!B49","v":""},{"$f":"IF(ExamenesParciales!C49>0,ExamenesParciales!C49,\"\")","v":""},null,{"$f":"IF(ExamenesParciales!E49>0,ExamenesParciales!E49,\"\")","v":""},{"$f":"IF(ExamenesParciales!F49>0,ExamenesParciales!F49,\"\")","v":""},{"$f":"IF(ExamenesParciales!J49>0,ExamenesParciales!J49,\"\")","v":""},null,{"$f":"IF((SUM(Guias!G42:I42))>0,(SUM(Guias!G42:I42)),\"\")","v":""},{"$f":"IF((SUM(Guias!J42:M42))>0,(SUM(Guias!J42:M42)),\"\")","v":""},{"$f":"IF((SUM(Guias!Y42:AF42))>0,(SUM(Guias!Y42:AF42)),\"\")","v":""},{"$f":"IF((SUM(Asistencia!C49:M49))>0,(SUM(Asistencia!C49:M49)),\"\")","v":""},{"$f":"IF((SUM(Asistencia!N49:X49))>0,(SUM(Asistencia!N49:X49)),\"\")","v":""},{"$f":"IF((SUM(Asistencia!Y49:AH49))>0,(SUM(Asistencia!Y49:AH49)),\"\")","v":""},{"$f":"IF((SUM(Asistencia!BI49:BI49))>0,(SUM(Asistencia!BI49:BI49)),\"\")","v":""},{"$f":"IF((TodaslasCalif!N49)>0,(TodaslasCalif!N49),\"\")","v":""},{"$f":"IF((TodaslasCalif!D49)>0,(TodaslasCalif!D49),\"\")","v":""},{"$f":"IF((TodaslasCalif!C49)>0,(TodaslasCalif!C49),\"\")","v":""}]
[{"$f":"ExamenesParciales!A50","v":43},{"$f":"ExamenesParciales!B50","v":""},{"$f":"IF(ExamenesParciales!C50>0,ExamenesParciales!C50,\"\")","v":""},null,{"$f":"IF(ExamenesParciales!E50>0,ExamenesParciales!E50,\"\")","v":""},{"$f":"IF(ExamenesParciales!F50>0,ExamenesParciales!F50,\"\")","v":""},{"$f":"IF(ExamenesParciales!J50>0,ExamenesParciales!J50,\"\")","v":""},null,{"$f":"IF((SUM(Guias!G43:I43))>0,(SUM(Guias!G43:I43)),\"\")","v":""},{"$f":"IF((SUM(Guias!J43:M43))>0,(SUM(Guias!J43:M43)),\"\")","v":""},{"$f":"IF((SUM(Guias!Y43:AF43))>0,(SUM(Guias!Y43:AF43)),\"\")","v":""},{"$f":"IF((SUM(Asistencia!C50:M50))>0,(SUM(Asistencia!C50:M50)),\"\")","v":""},{"$f":"IF((SUM(Asistencia!N50:X50))>0,(SUM(Asistencia!N50:X50)),\"\")","v":""},{"$f":"IF((SUM(Asistencia!Y50:AH50))>0,(SUM(Asistencia!Y50:AH50)),\"\")","v":""},{"$f":"IF((SUM(Asistencia!BI50:BI50))>0,(SUM(Asistencia!BI50:BI50)),\"\")","v":""},{"$f":"IF((TodaslasCalif!N50)>0,(TodaslasCalif!N50),\"\")","v":""},{"$f":"IF((TodaslasCalif!D50)>0,(TodaslasCalif!D50),\"\")","v":""},{"$f":"IF((TodaslasCalif!C50)>0,(TodaslasCalif!C50),\"\")","v":""}]
[{"$f":"ExamenesParciales!A51","v":44},{"$f":"ExamenesParciales!B51","v":""},{"$f":"IF(ExamenesParciales!C51>0,ExamenesParciales!C51,\"\")","v":""},null,{"$f":"IF(ExamenesParciales!E51>0,ExamenesParciales!E51,\"\")","v":""},{"$f":"IF(ExamenesParciales!F51>0,ExamenesParciales!F51,\"\")","v":""},{"$f":"IF(ExamenesParciales!J51>0,ExamenesParciales!J51,\"\")","v":""},null,{"$f":"IF((SUM(Guias!G44:I44))>0,(SUM(Guias!G44:I44)),\"\")","v":""},{"$f":"IF((SUM(Guias!J44:M44))>0,(SUM(Guias!J44:M44)),\"\")","v":""},{"$f":"IF((SUM(Guias!Y44:AF44))>0,(SUM(Guias!Y44:AF44)),\"\")","v":""},{"$f":"IF((SUM(Asistencia!C51:M51))>0,(SUM(Asistencia!C51:M51)),\"\")","v":""},{"$f":"IF((SUM(Asistencia!N51:X51))>0,(SUM(Asistencia!N51:X51)),\"\")","v":""},{"$f":"IF((SUM(Asistencia!Y51:AH51))>0,(SUM(Asistencia!Y51:AH51)),\"\")","v":""},{"$f":"IF((SUM(Asistencia!BI51:BI51))>0,(SUM(Asistencia!BI51:BI51)),\"\")","v":""},{"$f":"IF((TodaslasCalif!N51)>0,(TodaslasCalif!N51),\"\")","v":""},{"$f":"IF((TodaslasCalif!D51)>0,(TodaslasCalif!D51),\"\")","v":""},{"$f":"IF((TodaslasCalif!C51)>0,(TodaslasCalif!C51),\"\")","v":""}]
[{"$f":"ExamenesParciales!A52","v":45},{"$f":"ExamenesParciales!B52","v":""},{"$f":"IF(ExamenesParciales!C52>0,ExamenesParciales!C52,\"\")","v":""},null,{"$f":"IF(ExamenesParciales!E52>0,ExamenesParciales!E52,\"\")","v":""},{"$f":"IF(ExamenesParciales!F52>0,ExamenesParciales!F52,\"\")","v":""},{"$f":"IF(ExamenesParciales!J52>0,ExamenesParciales!J52,\"\")","v":""},null,{"$f":"IF((SUM(Guias!G45:I45))>0,(SUM(Guias!G45:I45)),\"\")","v":""},{"$f":"IF((SUM(Guias!J45:M45))>0,(SUM(Guias!J45:M45)),\"\")","v":""},{"$f":"IF((SUM(Guias!Y45:AF45))>0,(SUM(Guias!Y45:AF45)),\"\")","v":""},{"$f":"IF((SUM(Asistencia!C52:M52))>0,(SUM(Asistencia!C52:M52)),\"\")","v":""},{"$f":"IF((SUM(Asistencia!N52:X52))>0,(SUM(Asistencia!N52:X52)),\"\")","v":""},{"$f":"IF((SUM(Asistencia!Y52:AH52))>0,(SUM(Asistencia!Y52:AH52)),\"\")","v":""},{"$f":"IF((SUM(Asistencia!BI52:BI52))>0,(SUM(Asistencia!BI52:BI52)),\"\")","v":""},{"$f":"IF((TodaslasCalif!N52)>0,(TodaslasCalif!N52),\"\")","v":""},{"$f":"IF((TodaslasCalif!D52)>0,(TodaslasCalif!D52),\"\")","v":""},{"$f":"IF((TodaslasCalif!C52)>0,(TodaslasCalif!C52),\"\")","v":""}]
[{"$f":"ExamenesParciales!A53","v":46},{"$f":"ExamenesParciales!B53","v":""},{"$f":"IF(ExamenesParciales!C53>0,ExamenesParciales!C53,\"\")","v":""},null,{"$f":"IF(ExamenesParciales!E53>0,ExamenesParciales!E53,\"\")","v":""},{"$f":"IF(ExamenesParciales!F53>0,ExamenesParciales!F53,\"\")","v":""},{"$f":"IF(ExamenesParciales!J53>0,ExamenesParciales!J53,\"\")","v":""},null,{"$f":"IF((SUM(Guias!G46:I46))>0,(SUM(Guias!G46:I46)),\"\")","v":""},{"$f":"IF((SUM(Guias!J46:M46))>0,(SUM(Guias!J46:M46)),\"\")","v":""},{"$f":"IF((SUM(Guias!Y46:AF46))>0,(SUM(Guias!Y46:AF46)),\"\")","v":""},{"$f":"IF((SUM(Asistencia!C53:M53))>0,(SUM(Asistencia!C53:M53)),\"\")","v":""},{"$f":"IF((SUM(Asistencia!N53:X53))>0,(SUM(Asistencia!N53:X53)),\"\")","v":""},{"$f":"IF((SUM(Asistencia!Y53:AH53))>0,(SUM(Asistencia!Y53:AH53)),\"\")","v":""},{"$f":"IF((SUM(Asistencia!BI53:BI53))>0,(SUM(Asistencia!BI53:BI53)),\"\")","v":""},{"$f":"IF((TodaslasCalif!N53)>0,(TodaslasCalif!N53),\"\")","v":""},{"$f":"IF((TodaslasCalif!D53)>0,(TodaslasCalif!D53),\"\")","v":""},{"$f":"IF((TodaslasCalif!C53)>0,(TodaslasCalif!C53),\"\")","v":""}]
[{"$f":"ExamenesParciales!A54","v":47},{"$f":"ExamenesParciales!B54","v":""},{"$f":"IF(ExamenesParciales!C54>0,ExamenesParciales!C54,\"\")","v":""},null,{"$f":"IF(ExamenesParciales!E54>0,ExamenesParciales!E54,\"\")","v":""},{"$f":"IF(ExamenesParciales!F54>0,ExamenesParciales!F54,\"\")","v":""},{"$f":"IF(ExamenesParciales!J54>0,ExamenesParciales!J54,\"\")","v":""},null,{"$f":"IF((SUM(Guias!G47:I47))>0,(SUM(Guias!G47:I47)),\"\")","v":""},{"$f":"IF((SUM(Guias!J47:M47))>0,(SUM(Guias!J47:M47)),\"\")","v":""},{"$f":"IF((SUM(Guias!Y47:AF47))>0,(SUM(Guias!Y47:AF47)),\"\")","v":""},{"$f":"IF((SUM(Asistencia!C54:M54))>0,(SUM(Asistencia!C54:M54)),\"\")","v":""},{"$f":"IF((SUM(Asistencia!N54:X54))>0,(SUM(Asistencia!N54:X54)),\"\")","v":""},{"$f":"IF((SUM(Asistencia!Y54:AH54))>0,(SUM(Asistencia!Y54:AH54)),\"\")","v":""},{"$f":"IF((SUM(Asistencia!BI54:BI54))>0,(SUM(Asistencia!BI54:BI54)),\"\")","v":""},{"$f":"IF((TodaslasCalif!N54)>0,(TodaslasCalif!N54),\"\")","v":""},{"$f":"IF((TodaslasCalif!D54)>0,(TodaslasCalif!D54),\"\")","v":""},{"$f":"IF((TodaslasCalif!C54)>0,(TodaslasCalif!C54),\"\")","v":""}]
[{"$f":"ExamenesParciales!A55","v":48},{"$f":"ExamenesParciales!B55","v":""},{"$f":"IF(ExamenesParciales!C55>0,ExamenesParciales!C55,\"\")","v":""},null,{"$f":"IF(ExamenesParciales!E55>0,ExamenesParciales!E55,\"\")","v":""},{"$f":"IF(ExamenesParciales!F55>0,ExamenesParciales!F55,\"\")","v":""},{"$f":"IF(ExamenesParciales!J55>0,ExamenesParciales!J55,\"\")","v":""},null,{"$f":"IF((SUM(Guias!G48:I48))>0,(SUM(Guias!G48:I48)),\"\")","v":""},{"$f":"IF((SUM(Guias!J48:M48))>0,(SUM(Guias!J48:M48)),\"\")","v":""},{"$f":"IF((SUM(Guias!Y48:AF48))>0,(SUM(Guias!Y48:AF48)),\"\")","v":""},{"$f":"IF((SUM(Asistencia!C55:M55))>0,(SUM(Asistencia!C55:M55)),\"\")","v":""},{"$f":"IF((SUM(Asistencia!N55:X55))>0,(SUM(Asistencia!N55:X55)),\"\")","v":""},{"$f":"IF((SUM(Asistencia!Y55:AH55))>0,(SUM(Asistencia!Y55:AH55)),\"\")","v":""},{"$f":"IF((SUM(Asistencia!BI55:BI55))>0,(SUM(Asistencia!BI55:BI55)),\"\")","v":""},{"$f":"IF((TodaslasCalif!N55)>0,(TodaslasCalif!N55),\"\")","v":""},{"$f":"IF((TodaslasCalif!D55)>0,(TodaslasCalif!D55),\"\")","v":""},{"$f":"IF((TodaslasCalif!C55)>0,(TodaslasCalif!C55),\"\")","v":""}]
[{"$f":"ExamenesParciales!A56","v":49},{"$f":"ExamenesParciales!B56","v":""},{"$f":"IF(ExamenesParciales!C56>0,ExamenesParciales!C56,\"\")","v":""},null,{"$f":"IF(ExamenesParciales!E56>0,ExamenesParciales!E56,\"\")","v":""},{"$f":"IF(ExamenesParciales!F56>0,ExamenesParciales!F56,\"\")","v":""},{"$f":"IF(ExamenesParciales!J56>0,ExamenesParciales!J56,\"\")","v":""},null,{"$f":"IF((SUM(Guias!G49:I49))>0,(SUM(Guias!G49:I49)),\"\")","v":""},{"$f":"IF((SUM(Guias!J49:M49))>0,(SUM(Guias!J49:M49)),\"\")","v":""},{"$f":"IF((SUM(Guias!Y49:AF49))>0,(SUM(Guias!Y49:AF49)),\"\")","v":""},{"$f":"IF((SUM(Asistencia!C56:M56))>0,(SUM(Asistencia!C56:M56)),\"\")","v":""},{"$f":"IF((SUM(Asistencia!N56:X56))>0,(SUM(Asistencia!N56:X56)),\"\")","v":""},{"$f":"IF((SUM(Asistencia!Y56:AH56))>0,(SUM(Asistencia!Y56:AH56)),\"\")","v":""},{"$f":"IF((SUM(Asistencia!BI56:BI56))>0,(SUM(Asistencia!BI56:BI56)),\"\")","v":""},{"$f":"IF((TodaslasCalif!N56)>0,(TodaslasCalif!N56),\"\")","v":""},{"$f":"IF((TodaslasCalif!D56)>0,(TodaslasCalif!D56),\"\")","v":""},{"$f":"IF((TodaslasCalif!C56)>0,(TodaslasCalif!C56),\"\")","v":""}]
[{"$f":"ExamenesParciales!A57","v":50},{"$f":"ExamenesParciales!B57","v":""},{"$f":"IF(ExamenesParciales!C57>0,ExamenesParciales!C57,\"\")","v":""},null,{"$f":"IF(ExamenesParciales!E57>0,ExamenesParciales!E57,\"\")","v":""},{"$f":"IF(ExamenesParciales!F57>0,ExamenesParciales!F57,\"\")","v":""},{"$f":"IF(ExamenesParciales!J57>0,ExamenesParciales!J57,\"\")","v":""},null,{"$f":"IF((SUM(Guias!G50:I50))>0,(SUM(Guias!G50:I50)),\"\")","v":""},{"$f":"IF((SUM(Guias!J50:M50))>0,(SUM(Guias!J50:M50)),\"\")","v":""},{"$f":"IF((SUM(Guias!Y50:AF50))>0,(SUM(Guias!Y50:AF50)),\"\")","v":""},{"$f":"IF((SUM(Asistencia!C57:M57))>0,(SUM(Asistencia!C57:M57)),\"\")","v":""},{"$f":"IF((SUM(Asistencia!N57:X57))>0,(SUM(Asistencia!N57:X57)),\"\")","v":""},{"$f":"IF((SUM(Asistencia!Y57:AH57))>0,(SUM(Asistencia!Y57:AH57)),\"\")","v":""},{"$f":"IF((SUM(Asistencia!BI57:BI57))>0,(SUM(Asistencia!BI57:BI57)),\"\")","v":""},{"$f":"IF((TodaslasCalif!N57)>0,(TodaslasCalif!N57),\"\")","v":""},{"$f":"IF((TodaslasCalif!D57)>0,(TodaslasCalif!D57),\"\")","v":""},{"$f":"IF((TodaslasCalif!C57)>0,(TodaslasCalif!C57),\"\")","v":""}]
[{"$f":"ExamenesParciales!A58","v":51},{"$f":"ExamenesParciales!B58","v":""},{"$f":"IF(ExamenesParciales!C58>0,ExamenesParciales!C58,\"\")","v":""},null,{"$f":"IF(ExamenesParciales!E58>0,ExamenesParciales!E58,\"\")","v":""},{"$f":"IF(ExamenesParciales!F58>0,ExamenesParciales!F58,\"\")","v":""},{"$f":"IF(ExamenesParciales!J58>0,ExamenesParciales!J58,\"\")","v":""},null,{"$f":"IF((SUM(Guias!G51:I51))>0,(SUM(Guias!G51:I51)),\"\")","v":""},{"$f":"IF((SUM(Guias!J51:M51))>0,(SUM(Guias!J51:M51)),\"\")","v":""},{"$f":"IF((SUM(Guias!Y51:AF51))>0,(SUM(Guias!Y51:AF51)),\"\")","v":""},{"$f":"IF((SUM(Asistencia!C58:M58))>0,(SUM(Asistencia!C58:M58)),\"\")","v":""},{"$f":"IF((SUM(Asistencia!N58:X58))>0,(SUM(Asistencia!N58:X58)),\"\")","v":""},{"$f":"IF((SUM(Asistencia!Y58:AH58))>0,(SUM(Asistencia!Y58:AH58)),\"\")","v":""},{"$f":"IF((SUM(Asistencia!BI58:BI58))>0,(SUM(Asistencia!BI58:BI58)),\"\")","v":""},{"$f":"IF((TodaslasCalif!N58)>0,(TodaslasCalif!N58),\"\")","v":""},{"$f":"IF((TodaslasCalif!D58)>0,(TodaslasCalif!D58),\"\")","v":""},{"$f":"IF((TodaslasCalif!C58)>0,(TodaslasCalif!C58),\"\")","v":""}]
[{"$f":"ExamenesParciales!A59","v":52},{"$f":"ExamenesParciales!B59","v":""},{"$f":"IF(ExamenesParciales!C59>0,ExamenesParciales!C59,\"\")","v":""},null,{"$f":"IF(ExamenesParciales!E59>0,ExamenesParciales!E59,\"\")","v":""},{"$f":"IF(ExamenesParciales!F59>0,ExamenesParciales!F59,\"\")","v":""},{"$f":"IF(ExamenesParciales!J59>0,ExamenesParciales!J59,\"\")","v":""},null,{"$f":"IF((SUM(Guias!G52:I52))>0,(SUM(Guias!G52:I52)),\"\")","v":""},{"$f":"IF((SUM(Guias!J52:M52))>0,(SUM(Guias!J52:M52)),\"\")","v":""},{"$f":"IF((SUM(Guias!Y52:AF52))>0,(SUM(Guias!Y52:AF52)),\"\")","v":""},{"$f":"IF((SUM(Asistencia!C59:M59))>0,(SUM(Asistencia!C59:M59)),\"\")","v":""},{"$f":"IF((SUM(Asistencia!N59:X59))>0,(SUM(Asistencia!N59:X59)),\"\")","v":""},{"$f":"IF((SUM(Asistencia!Y59:AH59))>0,(SUM(Asistencia!Y59:AH59)),\"\")","v":""},{"$f":"IF((SUM(Asistencia!BI59:BI59))>0,(SUM(Asistencia!BI59:BI59)),\"\")","v":""},{"$f":"IF((TodaslasCalif!N59)>0,(TodaslasCalif!N59),\"\")","v":""},{"$f":"IF((TodaslasCalif!D59)>0,(TodaslasCalif!D59),\"\")","v":""},{"$f":"IF((TodaslasCalif!C59)>0,(TodaslasCalif!C59),\"\")","v":""}]
[{"$f":"ExamenesParciales!A60","v":53},{"$f":"ExamenesParciales!B60","v":""},{"$f":"IF(ExamenesParciales!C60>0,ExamenesParciales!C60,\"\")","v":""},null,{"$f":"IF(ExamenesParciales!E60>0,ExamenesParciales!E60,\"\")","v":""},{"$f":"IF(ExamenesParciales!F60>0,ExamenesParciales!F60,\"\")","v":""},{"$f":"IF(ExamenesParciales!J60>0,ExamenesParciales!J60,\"\")","v":""},null,{"$f":"IF((SUM(Guias!G53:I53))>0,(SUM(Guias!G53:I53)),\"\")","v":""},{"$f":"IF((SUM(Guias!J53:M53))>0,(SUM(Guias!J53:M53)),\"\")","v":""},{"$f":"IF((SUM(Guias!Y53:AF53))>0,(SUM(Guias!Y53:AF53)),\"\")","v":""},{"$f":"IF((SUM(Asistencia!C60:M60))>0,(SUM(Asistencia!C60:M60)),\"\")","v":""},{"$f":"IF((SUM(Asistencia!N60:X60))>0,(SUM(Asistencia!N60:X60)),\"\")","v":""},{"$f":"IF((SUM(Asistencia!Y60:AH60))>0,(SUM(Asistencia!Y60:AH60)),\"\")","v":""},{"$f":"IF((SUM(Asistencia!BI60:BI60))>0,(SUM(Asistencia!BI60:BI60)),\"\")","v":""},{"$f":"IF((TodaslasCalif!N60)>0,(TodaslasCalif!N60),\"\")","v":""},{"$f":"IF((TodaslasCalif!D60)>0,(TodaslasCalif!D60),\"\")","v":""},{"$f":"IF((TodaslasCalif!C60)>0,(TodaslasCalif!C60),\"\")","v":""}]
[{"$f":"ExamenesParciales!A61","v":54},{"$f":"ExamenesParciales!B61","v":""},{"$f":"IF(ExamenesParciales!C61>0,ExamenesParciales!C61,\"\")","v":""},null,{"$f":"IF(ExamenesParciales!E61>0,ExamenesParciales!E61,\"\")","v":""},{"$f":"IF(ExamenesParciales!F61>0,ExamenesParciales!F61,\"\")","v":""},{"$f":"IF(ExamenesParciales!J61>0,ExamenesParciales!J61,\"\")","v":""},null,{"$f":"IF((SUM(Guias!G61:I61))>0,(SUM(Guias!G61:I61)),\"\")","v":""},{"$f":"IF((SUM(Guias!J61:M61))>0,(SUM(Guias!J61:M61)),\"\")","v":""},{"$f":"IF((SUM(Guias!Y61:AF61))>0,(SUM(Guias!Y61:AF61)),\"\")","v":""},{"$f":"IF((SUM(Asistencia!C61:M61))>0,(SUM(Asistencia!C61:M61)),\"\")","v":""},{"$f":"IF((SUM(Asistencia!N61:X61))>0,(SUM(Asistencia!N61:X61)),\"\")","v":""},{"$f":"IF((SUM(Asistencia!Y61:AH61))>0,(SUM(Asistencia!Y61:AH61)),\"\")","v":""},{"$f":"IF((SUM(Asistencia!BI61:BI61))>0,(SUM(Asistencia!BI61:BI61)),\"\")","v":""},{"$f":"IF((TodaslasCalif!N61)>0,(TodaslasCalif!N61),\"\")","v":""},{"$f":"IF((TodaslasCalif!D61)>0,(TodaslasCalif!D61),\"\")","v":""},{"$f":"IF((TodaslasCalif!C61)>0,(TodaslasCalif!C61),\"\")","v":""}]
[{"$f":"ExamenesParciales!A62","v":55},{"$f":"ExamenesParciales!B62","v":""},{"$f":"IF(ExamenesParciales!C62>0,ExamenesParciales!C62,\"\")","v":""},null,{"$f":"IF(ExamenesParciales!E62>0,ExamenesParciales!E62,\"\")","v":""},{"$f":"IF(ExamenesParciales!F62>0,ExamenesParciales!F62,\"\")","v":""},{"$f":"IF(ExamenesParciales!J62>0,ExamenesParciales!J62,\"\")","v":""},null,{"$f":"IF((SUM(Guias!G62:I62))>0,(SUM(Guias!G62:I62)),\"\")","v":""},{"$f":"IF((SUM(Guias!J62:M62))>0,(SUM(Guias!J62:M62)),\"\")","v":""},{"$f":"IF((SUM(Guias!Y62:AF62))>0,(SUM(Guias!Y62:AF62)),\"\")","v":""},{"$f":"IF((SUM(Asistencia!C62:M62))>0,(SUM(Asistencia!C62:M62)),\"\")","v":""},{"$f":"IF((SUM(Asistencia!N62:X62))>0,(SUM(Asistencia!N62:X62)),\"\")","v":""},{"$f":"IF((SUM(Asistencia!Y62:AH62))>0,(SUM(Asistencia!Y62:AH62)),\"\")","v":""},{"$f":"IF((SUM(Asistencia!BI62:BI62))>0,(SUM(Asistencia!BI62:BI62)),\"\")","v":""},{"$f":"IF((TodaslasCalif!N62)>0,(TodaslasCalif!N62),\"\")","v":""},{"$f":"IF((TodaslasCalif!D62)>0,(TodaslasCalif!D62),\"\")","v":""},{"$f":"IF((TodaslasCalif!C62)>0,(TodaslasCalif!C62),\"\")","v":""}]
[{"$f":"ExamenesParciales!A63","v":56},{"$f":"ExamenesParciales!B63","v":""},{"$f":"IF(ExamenesParciales!C63>0,ExamenesParciales!C63,\"\")","v":""},null,{"$f":"IF(ExamenesParciales!E63>0,ExamenesParciales!E63,\"\")","v":""},{"$f":"IF(ExamenesParciales!F63>0,ExamenesParciales!F63,\"\")","v":""},{"$f":"IF(ExamenesParciales!J63>0,ExamenesParciales!J63,\"\")","v":""},null,{"$f":"IF((SUM(Guias!G63:I63))>0,(SUM(Guias!G63:I63)),\"\")","v":""},{"$f":"IF((SUM(Guias!J63:M63))>0,(SUM(Guias!J63:M63)),\"\")","v":""},{"$f":"IF((SUM(Guias!Y63:AF63))>0,(SUM(Guias!Y63:AF63)),\"\")","v":""},{"$f":"IF((SUM(Asistencia!C63:M63))>0,(SUM(Asistencia!C63:M63)),\"\")","v":""},{"$f":"IF((SUM(Asistencia!N63:X63))>0,(SUM(Asistencia!N63:X63)),\"\")","v":""},{"$f":"IF((SUM(Asistencia!Y63:AH63))>0,(SUM(Asistencia!Y63:AH63)),\"\")","v":""},{"$f":"IF((SUM(Asistencia!BI63:BI63))>0,(SUM(Asistencia!BI63:BI63)),\"\")","v":""},{"$f":"IF((TodaslasCalif!N63)>0,(TodaslasCalif!N63),\"\")","v":""},{"$f":"IF((TodaslasCalif!D63)>0,(TodaslasCalif!D63),\"\")","v":""},{"$f":"IF((TodaslasCalif!C63)>0,(TodaslasCalif!C63),\"\")","v":""}]
[{"$f":"ExamenesParciales!A64","v":57},{"$f":"ExamenesParciales!B64","v":""},{"$f":"IF(ExamenesParciales!C64>0,ExamenesParciales!C64,\"\")","v":""},null,{"$f":"IF(ExamenesParciales!E64>0,ExamenesParciales!E64,\"\")","v":""},{"$f":"IF(ExamenesParciales!F64>0,ExamenesParciales!F64,\"\")","v":""},{"$f":"IF(ExamenesParciales!J64>0,ExamenesParciales!J64,\"\")","v":""},null,{"$f":"IF((SUM(Guias!G64:I64))>0,(SUM(Guias!G64:I64)),\"\")","v":""},{"$f":"IF((SUM(Guias!J64:M64))>0,(SUM(Guias!J64:M64)),\"\")","v":""},{"$f":"IF((SUM(Guias!Y64:AF64))>0,(SUM(Guias!Y64:AF64)),\"\")","v":""},{"$f":"IF((SUM(Asistencia!C64:M64))>0,(SUM(Asistencia!C64:M64)),\"\")","v":""},{"$f":"IF((SUM(Asistencia!N64:X64))>0,(SUM(Asistencia!N64:X64)),\"\")","v":""},{"$f":"IF((SUM(Asistencia!Y64:AH64))>0,(SUM(Asistencia!Y64:AH64)),\"\")","v":""},{"$f":"IF((SUM(Asistencia!BI64:BI64))>0,(SUM(Asistencia!BI64:BI64)),\"\")","v":""},{"$f":"IF((TodaslasCalif!N64)>0,(TodaslasCalif!N64),\"\")","v":""},{"$f":"IF((TodaslasCalif!D64)>0,(TodaslasCalif!D64),\"\")","v":""},{"$f":"IF((TodaslasCalif!C64)>0,(TodaslasCalif!C64),\"\")","v":""}]
[{"$f":"ExamenesParciales!A65","v":58},{"$f":"ExamenesParciales!B65","v":""},{"$f":"IF(ExamenesParciales!C65>0,ExamenesParciales!C65,\"\")","v":""},null,{"$f":"IF(ExamenesParciales!E65>0,ExamenesParciales!E65,\"\")","v":""},{"$f":"IF(ExamenesParciales!F65>0,ExamenesParciales!F65,\"\")","v":""},{"$f":"IF(ExamenesParciales!J65>0,ExamenesParciales!J65,\"\")","v":""},null,{"$f":"IF((SUM(Guias!G65:I65))>0,(SUM(Guias!G65:I65)),\"\")","v":""},{"$f":"IF((SUM(Guias!J65:M65))>0,(SUM(Guias!J65:M65)),\"\")","v":""},{"$f":"IF((SUM(Guias!Y65:AF65))>0,(SUM(Guias!Y65:AF65)),\"\")","v":""},{"$f":"IF((SUM(Asistencia!C65:M65))>0,(SUM(Asistencia!C65:M65)),\"\")","v":""},{"$f":"IF((SUM(Asistencia!N65:X65))>0,(SUM(Asistencia!N65:X65)),\"\")","v":""},{"$f":"IF((SUM(Asistencia!Y65:AH65))>0,(SUM(Asistencia!Y65:AH65)),\"\")","v":""},{"$f":"IF((SUM(Asistencia!BI65:BI65))>0,(SUM(Asistencia!BI65:BI65)),\"\")","v":""},{"$f":"IF((TodaslasCalif!N65)>0,(TodaslasCalif!N65),\"\")","v":""},{"$f":"IF((TodaslasCalif!D65)>0,(TodaslasCalif!D65),\"\")","v":""},{"$f":"IF((TodaslasCalif!C65)>0,(TodaslasCalif!C65),\"\")","v":""}]
[{"$f":"ExamenesParciales!A66","v":59},{"$f":"ExamenesParciales!B66","v":""},{"$f":"IF(ExamenesParciales!C66>0,ExamenesParciales!C66,\"\")","v":""},null,{"$f":"IF(ExamenesParciales!E66>0,ExamenesParciales!E66,\"\")","v":""},{"$f":"IF(ExamenesParciales!F66>0,ExamenesParciales!F66,\"\")","v":""},{"$f":"IF(ExamenesParciales!J66>0,ExamenesParciales!J66,\"\")","v":""},null,{"$f":"IF((SUM(Guias!G66:I66))>0,(SUM(Guias!G66:I66)),\"\")","v":""},{"$f":"IF((SUM(Guias!J66:M66))>0,(SUM(Guias!J66:M66)),\"\")","v":""},{"$f":"IF((SUM(Guias!Y66:AF66))>0,(SUM(Guias!Y66:AF66)),\"\")","v":""},{"$f":"IF((SUM(Asistencia!C66:M66))>0,(SUM(Asistencia!C66:M66)),\"\")","v":""},{"$f":"IF((SUM(Asistencia!N66:X66))>0,(SUM(Asistencia!N66:X66)),\"\")","v":""},{"$f":"IF((SUM(Asistencia!Y66:AH66))>0,(SUM(Asistencia!Y66:AH66)),\"\")","v":""},{"$f":"IF((SUM(Asistencia!BI66:BI66))>0,(SUM(Asistencia!BI66:BI66)),\"\")","v":""},{"$f":"IF((TodaslasCalif!N66)>0,(TodaslasCalif!N66),\"\")","v":""},{"$f":"IF((TodaslasCalif!D66)>0,(TodaslasCalif!D66),\"\")","v":""},{"$f":"IF((TodaslasCalif!C66)>0,(TodaslasCalif!C66),\"\")","v":""}]
[{"$f":"ExamenesParciales!A67","v":60},{"$f":"ExamenesParciales!B67","v":""},{"$f":"IF(ExamenesParciales!C67>0,ExamenesParciales!C67,\"\")","v":""},null,{"$f":"IF(ExamenesParciales!E67>0,ExamenesParciales!E67,\"\")","v":""},{"$f":"IF(ExamenesParciales!F67>0,ExamenesParciales!F67,\"\")","v":""},{"$f":"IF(ExamenesParciales!J67>0,ExamenesParciales!J67,\"\")","v":""},null,{"$f":"IF((SUM(Guias!G67:I67))>0,(SUM(Guias!G67:I67)),\"\")","v":""},{"$f":"IF((SUM(Guias!J67:M67))>0,(SUM(Guias!J67:M67)),\"\")","v":""},{"$f":"IF((SUM(Guias!Y67:AF67))>0,(SUM(Guias!Y67:AF67)),\"\")","v":""},{"$f":"IF((SUM(Asistencia!C67:M67))>0,(SUM(Asistencia!C67:M67)),\"\")","v":""},{"$f":"IF((SUM(Asistencia!N67:X67))>0,(SUM(Asistencia!N67:X67)),\"\")","v":""},{"$f":"IF((SUM(Asistencia!Y67:AH67))>0,(SUM(Asistencia!Y67:AH67)),\"\")","v":""},{"$f":"IF((SUM(Asistencia!BI67:BI67))>0,(SUM(Asistencia!BI67:BI67)),\"\")","v":""},{"$f":"IF((TodaslasCalif!N67)>0,(TodaslasCalif!N67),\"\")","v":""},{"$f":"IF((TodaslasCalif!D67)>0,(TodaslasCalif!D67),\"\")","v":""},{"$f":"IF((TodaslasCalif!C67)>0,(TodaslasCalif!C67),\"\")","v":""}]

{"sheet":"Directorio","index":17,"n_rows":61,"n_cols":6,"rows_kept":61,"hidden":true}
["NÚMERO","NÚMERO DE CUENTA","NOMBRE DEL ALUMNO","CORREO ELECTRÓNICO","TELÉFONO MOVIL","TELÉFONO FIJO"]
[1]
[2]
[3]
[4]
[5]
[6]
[7]
[8]
[9]
[10]
[11]
[12]
[13]
[14]
[15]
[16]
[17]
[18]
[19]
[20]
[21]
[22]
[23]
[24]
[25]
[26]
[27]
[28]
[29]
[30]
[31]
[32]
[33]
[34]
[35]
[36]
[37]
[38]
[39]
[40]
[41]
[42]
[43]
[44]
[45]
[46]
[47]
[48]
[49]
[50]
[51]
[52]
[53]
[54]
[55]
[56]
[57]
[58]
[59]
[60]

{"sheet":"Ponderadores","index":18,"n_rows":17,"n_cols":2,"rows_kept":17,"hidden":true}
["ELEMENTO","PONDERADOR"]
["ASISTENCIA",{"v":0.05,"d":"5%"}]
["GUÍAS DE ESTUDIO",{"v":0.06,"d":"6%"}]
["PARTICIPACIÓN EN CLASE",{"v":0.12,"d":"12%"}]
["MAPA MENTAL",{"v":0,"d":"0%"}]
["ENSAYO",{"v":0.1,"d":"10%"}]
["TAREAS",{"v":0.15,"d":"15%"}]
["PRIMER EXAMEN PARCIAL",{"v":0.1,"d":"10%"}]
["SEGUNDO EXAMEN PARCIAL",{"v":0.12,"d":"12%"}]
["TERCER EXAMEN PARCIAL",{"v":0.14,"d":"14%"}]
["CUARTO EXAMEN PARCIAL",{"v":0.16,"d":"16%"}]
["RECUPERACIÓN PRIMER PARCIAL",{"$f":"B8","v":{"v":0.1,"d":"10%"}}]
["RECUPERACIÓN SEGUNDO PARCIAL",{"$f":"B9","v":{"v":0.12,"d":"12%"}}]
["RECUPERACIÓN TERCER PARCIAL",{"$f":"B10","v":{"v":0.14,"d":"14%"}}]
["RECUPERACIÓN CUARTO PARCIAL",{"$f":"B11","v":{"v":0.16,"d":"16%"}}]
["TOTAL",{"$f":"SUM(B2:B11)","v":{"v":1,"d":"100%"}}]
[null,{"$f":"IF(B16>100%,\"EXCEDIDO\",IF(B16<100%,\"FALTANTE\",\"COMPLETO\"))","v":"COMPLETO"}]

{"sheet":"Asignatura","index":19,"n_rows":13,"n_cols":2,"rows_kept":13,"hidden":true}
["CRITERIO","DATOS"]
["SEMESTRE","Anotar el semestre lectivo"]
["ASIGNATURA","Nombre de asignatura"]
["CLAVE","Anotar la clave de asignagtura"]
["GRUPO","Insertar el grupo"]
["PROFESOR","Nombre del profesor"]
[]
["Espacio (no sobreescribir)","  "]
[]
[]
[]
[]
["FECHA INICIAL DEL CURSO","Fecha inicial de clases"]